Workbook

Sheet Anexo III
A1: PRÓ-REITORIA DE ADMINISTRAÇÃO
A2: COORDENAÇÃO DE MATERIAIS
A3: ANEXO III - PLANILHA ESTIMATIVA DE DESCRIÇÃO E PREÇOS
A5: ITEM LICITAÇÃO | B5: DESCRIÇÃO/ ESPECIFICAÇÃO | C5: UNIDADE DE MEDIDA | D5: SUGESTÃO DE CATMAT | E5: INFORMAÇÕES ADICIONAIS | F5: QUANTIDADE UFF | G5: QUANTIDADE UASG 926111 | H5: QUANTIDADE UASG 751212 | I5: VALOR UNITÁRIO | J5: VALOR TOTAL LICITAÇÃO | K5: EXCLUSIVO ME/EPP | L5: MODO DE DISPUTA | M5: INTERVALO LANCES
A6: 1 | B6: Alicate de bico fino 5" meia cana, solação elétrica de 1000V; Têmpera especial no gume de corte e mandíbulas. | C6: unidade | D6: 359961 | E6: CTF/APP: FTE - Categoria: Indústria Metalúrgica; Código: 3 | F6: 8 | G6: 8 | H6: 8 | I6: 50.78 | J6: =(F6+G6+H6)*I6 -> 1218.72 | K6: SIM | L6: Aberto | M6: =VLOOKUP(I6, Intervalos!$B$3:$C$8,2,TRUE) -> 0.1
A7: 2 | B7: Alicate de Corte Diagonal 6” - Forjado em aço cromo vanádio, acabamento acetinado cabeça e articulações polidas, têmpera total no corpo, têmpera por indução no gume de corte, isolação elétrica de 1000 V c.a, cabos com dupla injeção. | C7: unidade | D7: 336881 | E7: CTF/APP: FTE - Categoria: Indústria Metalúrgica; Código: 3 | F7: 7 | G7: 8 | H7: 7 | I7: 50.75 | J7: =(F7+G7+H7)*I7 -> 1116.5 | K7: SIM | L7: Aberto | M7: =VLOOKUP(I7, Intervalos!$B$3:$C$8,2,TRUE) -> 0.1
A8: 3 | B8: Alicate de crimpagem RJ-45, Acompanha lâminas de corte extra, Dimensões(L x A x C): 27,50 x 11,50 x 14cm | C8: unidade | D8: 624206 | E8: CTF/APP: FTE - Categoria: Indústria Metalúrgica; Código: 3 | F8: 20 | G8: 6 | H8: 3 | I8: 266.53 | J8: =(F8+G8+H8)*I8 -> 7729.37 | K8: SIM | L8: Aberto | M8: =VLOOKUP(I8, Intervalos!$B$3:$C$8,2,TRUE) -> 0,10%
A9: 4 | B9: Alicate de Pressão 10" ( 240 mm) - abertura regulável, alavanca para destravar, dureza diferenciada no gume de corte e no corpo, pode ser utilizada como prensa em trabalhos leves, abertura máxima da boca: 62 mm, mordente triangular, material aço cromo vanádio, cabo em chapas conformadas, acabamento cromado | C9: unidade | D9: 307420 | E9: CTF/APP: FTE - Categoria: Indústria Metalúrgica; Código: 3 | F9: 7 | G9: 6 | H9: 7 | I9: 66.18 | J9: =(F9+G9+H9)*I9 -> 1323.6 | K9: SIM | L9: Aberto | M9: =VLOOKUP(I9, Intervalos!$B$3:$C$8,2,TRUE) -> 0.1
A10: 5 | B10: Alicate Decapador Cortador, corta fios com um tamanho de 10-24 AWG, Material:Liga de aço, Borracha termoplástica, Material do cabo: Borracha e Tipo de empunhadura: Ergonômico | C10: unidade | D10: 393437 | E10: CTF/APP: FTE - Categoria: Indústria Metalúrgica; Código: 3 | F10: 15 | G10: 6 | H10: 6 | I10: 90 | J10: =(F10+G10+H10)*I10 -> 2430 | K10: SIM | L10: Aberto | M10: =VLOOKUP(I10, Intervalos!$B$3:$C$8,2,TRUE) -> 0.1
A11: 6 | B11: Alicate para Eletricista e Desencapador de fios 8" - para fios entre 10 e 24 AWG com ajuste para fios menores de 20 AWG, controla o tamanho a ser realizado, para diversos tamanhos: DE 10 A 22 AWG e terminais de 7 A 8 mm. | C11: unidade | D11: 616634 | E11: CTF/APP: FTE - Categoria: Indústria Metalúrgica; Código: 3 | F11: 8 | G11: 6 | H11: 3 | I11: 162.66 | J11: =(F11+G11+H11)*I11 -> 2765.22 | K11: SIM | L11: Aberto | M11: =VLOOKUP(I11, Intervalos!$B$3:$C$8,2,TRUE) -> 0,10%
A12: 7 | B12: Alicate pushdown Inserção Femea 314b P/ Keystone Rj45 Rj11, Lâmina feita de SNCM-21 e endurecida, Retenção de lâmina com pressão de 4 a 6Kg. | C12: Unidade | D12: 472099 | E12: CTF/APP: FTE - Categoria: Indústria Metalúrgica; Código: 3 | F12: 15 | I12: 42.59 | J12: =(F12+G12+H12)*I12 -> 638.85 | K12: SIM | L12: Aberto | M12: =VLOOKUP(I12, Intervalos!$B$3:$C$8,2,TRUE) -> 0.05
A13: 8 | B13: Alicate Rebitador Profissional - bocal estendido, ferramenta robusta durável e de fácil manuseio, estrutura em aço de alta resistência com tratamento térmico, cabo emborrachado e ergonômico e equipado com mola ejeta a haste do rebite, comprimento 10.5” (260 mm), com 04 bicos para rebite e 01 Alicate Rebitador Profissional - bocal estendido, ferramenta robusta durável e de fácil manuseio, estrutura em aço de alta resistência com tratamento térmico, cabo emborrachado e ergonômico e equipado com mola ejeta a haste do rebite, comprimento 10.5” (260 mm), com 04 bicos para rebite e 01 chave para troca dos bicos. | C13: unidade | D13: 441194 | E13: CTF/APP: FTE - Categoria: Indústria Metalúrgica; Código: 3 | F13: 3 | G13: 8 | H13: 3 | I13: 115.12 | J13: =(F13+G13+H13)*I13 -> 1611.68 | K13: SIM | L13: Aberto | M13: =VLOOKUP(I13, Intervalos!$B$3:$C$8,2,TRUE) -> 0,10%
A14: 9 | B14: Alicate Universal Super 8" - material forjado em aço cromo vanádio, tipo leve, material cabo plástico, tipo cabo isolado, tipo corte corte temperado por indução. | C14: unidade | D14: 614570 | E14: CTF/APP: FTE - Categoria: Indústria Metalúrgica; Código: 3 | F14: 4 | G14: 8 | H14: 4 | I14: 295.05 | J14: =(F14+G14+H14)*I14 -> 4720.8 | K14: SIM | L14: Aberto | M14: =VLOOKUP(I14, Intervalos!$B$3:$C$8,2,TRUE) -> 0,10%
A15: 10 | B15: Arco Serra, Lâmina Serra Standard 12 Polegadas, Material Cabo Alumínio, Tratamento Superficial Pintura Eletrostática, Tamanho 12, Características Adicionais Profundidade De Corte De 90 Mm | C15: unidade | D15: 311040 | E15: CTF/APP: FTE - Categoria: Indústria Metalúrgica; Código: 3 | F15: 19 | H15: 10 | I15: 57.09 | J15: =(F15+G15+H15)*I15 -> 1655.61 | K15: SIM | L15: Aberto | M15: =VLOOKUP(I15, Intervalos!$B$3:$C$8,2,TRUE) -> 0.1
A16: 11 | B16: BROCA HELICOIDAL 1/4" EM AÇO RÁPIDO É INDICADA PARA METAL. POSSUI CORTE À DIREITA. FABRICADA EM MATERIAL RESISTENTE, OFERECE ALTA DURABILIDADE. DIN 339 | C16: unidade | D16: 389064 | E16: CTF/APP: FTE - Categoria: Indústria Metalúrgica; Código: 3 | F16: 25 | H16: 4 | I16: 12.9 | J16: =(F16+G16+H16)*I16 -> 374.1 | K16: SIM | L16: Aberto | M16: =VLOOKUP(I16, Intervalos!$B$3:$C$8,2,TRUE) -> 0.03
A17: 12 | B17: Broca helicoidal 10mm em aço rápido. Indicada para metal. Possui corte à direita. Fabricada em material resistente. Alta durabilidade. Comprimento total: 133mm, comprimento canal: 87mm, DIN 338. Com encaixe SDS. | C17: Unidade | D17: 389996 | E17: CTF/APP: FTE - Categoria: Indústria Metalúrgica; Código: 3 | F17: 25 | I17: 31.01 | J17: =(F17+G17+H17)*I17 -> 775.25 | K17: SIM | L17: Aberto | M17: =VLOOKUP(I17, Intervalos!$B$3:$C$8,2,TRUE) -> 0.05
A18: 13 | B18: BROCA HELICOIDAL 11MM EM AÇO RÁPIDO É INDICADA PARA METAL. POSSUI CORTE À DIREITA. FABRICADA EM MATERIAL RESISTENTE, OFERECE ALTA DURABILIDADE.COMPRIMENTO TOTAL: 142MM, COMPRIMENTO CANAL: 94MM, DIN 338 | C18: unidade | D18: 389990 | E18: CTF/APP: FTE - Categoria: Indústria Metalúrgica; Código: 3 | F18: 25 | I18: 35.25 | J18: =(F18+G18+H18)*I18 -> 881.25 | K18: SIM | L18: Aberto | M18: =VLOOKUP(I18, Intervalos!$B$3:$C$8,2,TRUE) -> 0.05
A19: 14 | B19: BROCA HELICOIDAL 12MM EM AÇO RÁPIDO É INDICADA PARA METAL. POSSUI CORTE À DIREITA. FABRICADA EM MATERIAL RESISTENTE, OFERECE ALTA DURABILIDADE.COMPRIMENTO TOTAL: 151MM, DIN 338 | C19: unidade | D19: 481571 | E19: CTF/APP: FTE - Categoria: Indústria Metalúrgica; Código: 3 | F19: 13 | I19: 34.03 | J19: =(F19+G19+H19)*I19 -> 442.39 | K19: SIM | L19: Aberto | M19: =VLOOKUP(I19, Intervalos!$B$3:$C$8,2,TRUE) -> 0.05
A20: 15 | B20: Caixa Com Ferramentas Cargobox Modular / Baú 60 Peças; Marca Tramontina Pro Ou Similar. | C20: Unidade | D20: 628987 | E20: - | F20: 3 | G20: 4 | H20: 3 | I20: 1562.96 | J20: =(F20+G20+H20)*I20 -> 15629.6 | K20: SIM | L20: Aberto | M20: =VLOOKUP(I20, Intervalos!$B$3:$C$8,2,TRUE) -> 0,10%
A21: 16 | B21: Calibrador digital: Compressor de ar portátil com inflador de pneu mini com bateria recarregável de 4000 mAh, bomba de pneu sem fio 150 PSI, luz de emergência LED, bomba de ar calibre de pressão para carro bicicleta motocicleta bola inflável. Modelo referência: Baseus-Compressor de ar. | C21: Unidade | D21: 482910 | E21: CTF/APP: FTE - Categoria: Indústria Mecânica; Código: 4 | F21: 2 | H21: 2 | I21: 259.73 | J21: =(F21+G21+H21)*I21 -> 1038.92 | K21: SIM | L21: Aberto | M21: =VLOOKUP(I21, Intervalos!$B$3:$C$8,2,TRUE) -> 0,10%
A22: 17 | B22: Chave inglesa 18 polegadas. Ajustável, 450mm , Aço carbono cromado . | C22: Unidade | D22: 375978 | E22: CTF/APP: FTE - Categoria: Indústria Metalúrgica; Código: 3 | F22: 3 | G22: 6 | H22: 3 | I22: 189.74 | J22: =(F22+G22+H22)*I22 -> 2276.88 | K22: SIM | L22: Aberto | M22: =VLOOKUP(I22, Intervalos!$B$3:$C$8,2,TRUE) -> 0,10%
A23: 18 | B23: Chave Tipo Grifo , - comprimento 36”, ajustável para diversas medidas, capacidade de abertura 102mm, mordentes em aço liga e corpo em alumínio fundido, acabamento pintura eletrostática. | C23: unidade | D23: 615068 | E23: CTF/APP: FTE - Categoria: Indústria Metalúrgica; Código: 3 | F23: 2 | H23: 2 | I23: 213.37 | J23: =(F23+G23+H23)*I23 -> 853.48 | K23: SIM | L23: Aberto | M23: =VLOOKUP(I23, Intervalos!$B$3:$C$8,2,TRUE) -> 0,10%
A24: 19 | B24: Chave Tipo Grifo , - comprimento 48”, ajustável para diversas medidas, capacidade de abertura 140mm,mordentes aço cromo vanádio temperada e corpo em alumínio fundido, acabamento pintura eletrostática. | C24: unidade | D24: 429890 | E24: CTF/APP: FTE - Categoria: Indústria Metalúrgica; Código: 3 | F24: 2 | H24: 2 | I24: 413.37 | J24: =(F24+G24+H24)*I24 -> 1653.48 | K24: SIM | L24: Aberto | M24: =VLOOKUP(I24, Intervalos!$B$3:$C$8,2,TRUE) -> 0,10%
A25: 20 | B25: Controle Remoto Compatível Para Projetor Benq MS513PB | C25: unidade | D25: 362242 | E25: Margem de preferência normal código CFI ou PPB: 10% Margem de preferência adicional portaria DesIn: 10% | F25: 19 | I25: 68.9 | J25: =(F25+G25+H25)*I25 -> 1309.1 | K25: SIM | L25: Aberto | M25: =VLOOKUP(I25, Intervalos!$B$3:$C$8,2,TRUE) -> 0.1
A26: 21 | B26: Controle remoto compatível para projetor Epson, com pilhas, modelos: powerlite S5 S5 +,powerlite S6 S6 +, powerlite S8 S8 +, powerlite S10 S10 +, powerlite S11, powerlite S12 +, powerlite S18 +, powerlite S27 +, powerlite W11 +, powerlite W12 +, powerlite X12, powerlite X14 +, powerlite X36 +, powerlite X41 +, powerlite X39 +, powerlite W39 +, powerlite X29 +, powerlite X05 +, brightlink 425WI, brightlink 435WI, brightlink 475WI +, brightlink 485WI +, EX5210, powerlite 1870, powerlite 420W, powerlite 430, powerlite EX3212, powerlite home cinema 710HD | C26: unidade | D26: 362242 | E26: Margem de preferência normal código CFI ou PPB: 10% Margem de preferência adicional portaria DesIn: 10% | F26: 94 | I26: 67.86 | J26: =(F26+G26+H26)*I26 -> 6378.84 | K26: SIM | L26: Aberto | M26: =VLOOKUP(I26, Intervalos!$B$3:$C$8,2,TRUE) -> 0.1
A27: 22 | B27: Cooler para bebedouro e purificador: dimensões 92 × 92 × 25 mm. Conector 2pin (XH2.54), tensão nominal DC12V, corrente nominal: 0.18 ± 10% Amp, velocidade nominal 2400±10% rpm, fluxo de ar 43,5CFM, ruído 34,5±10% dBA, tipo de rolamento Sleeve, vida útil 20.000 horas. | C27: unidade | D27: 473430 | E27: - | F27: 75 | I27: 36.73 | J27: =(F27+G27+H27)*I27 -> 2754.75 | K27: SIM | L27: Aberto | M27: =VLOOKUP(I27, Intervalos!$B$3:$C$8,2,TRUE) -> 0.05
A28: 23 | B28: Esmeril Angular. 50 Hz/60Hz. Potência 2.600w. Tensão Alimentação 220v – 230v+. 230 mm. Rotação 6.500 RPM. Cabo de energia: 2,5m. Eixo: M14. | C28: unidade | D28: 605883 | E28: CTF/APP: FTE - Categoria: Indústria Mecânica; Código: 4 | F28: 2 | G28: 4 | H28: 2 | I28: 1232.06 | J28: =(F28+G28+H28)*I28 -> 9856.48 | K28: SIM | L28: Aberto | M28: =VLOOKUP(I28, Intervalos!$B$3:$C$8,2,TRUE) -> 0,10%
A29: 24 | B29: Estabilizador Bivolt/115V - Quantidade de tomadas: no mínimo 6 - Frequência: 60 Hz - Potência 1000 W . Certificado conforme a norma NBR 14373 do INMETRO. | C29: unidade | D29: 346722 | E29: Margem de preferência normal código CFI ou PPB: 10% Margem de preferência adicional portaria DesIn: 10% | F29: 64 | I29: 316.33 | J29: =(F29+G29+H29)*I29 -> 20245.12 | K29: SIM | L29: Aberto | M29: =VLOOKUP(I29, Intervalos!$B$3:$C$8,2,TRUE) -> 0,10%
A30: 25 | B30: Ferramenta de Crimpagem Rápida (Módulo V2). Possibilita a conexão simultânea de até 8 condutores metálicos isolados em terminais de conexão padrão 110 IDC. Compatibilidade Conector Fêmea U/UTP Cat.5e Multilan 90/180, em conformidade com a Diretiva Europeia RoHS. | C30: Unidade | D30: 278677 | E30: CTF/APP: FTE - Categoria: Indústria Metalúrgica; Código: 3 | F30: 5 | I30: 804.43 | J30: =(F30+G30+H30)*I30 -> 4022.15 | K30: SIM | L30: Aberto | M30: =VLOOKUP(I30, Intervalos!$B$3:$C$8,2,TRUE) -> 0,10%
A31: 26 | B31: FILTRO EXTERNO ROSCA 3/4 E 1/2 - VAZÃO INDICADA: 180L/H, CLASSE DE RETENÇÃO DE PARTÍCULAS: CLASSE III (5 A 15 MICRA), CLASSE DE REDUÇÃO DE CLORO LIVRE: CLASSE I (> 75%), TEMPERATURA DE OPERAÇÃO: 5 50ºC, PRESSÃO DE OPERAÇÃO: 2 40MCA, GRAU DE FILTRAÇÃO: 5 MICRA. DIMENSÕES: ALTURA: 248MM COM 15MM DE ROSCA. | C31: unidade | D31: 447843 | E31: - | F31: 38 | I31: 160.32 | J31: =(F31+G31+H31)*I31 -> 6092.16 | K31: SIM | L31: Aberto | M31: =VLOOKUP(I31, Intervalos!$B$3:$C$8,2,TRUE) -> 0,10%
A32: 27 | B32: Filtro interno para bebedouro tipo pressão – Tamanho: 20 x 2 ½ polegada – Vazão: 2.000 L/H. Uso no bebedouro tipo pressão: filtro de carvão ativado impregnado com prata que impede a proliferação de micro-organismos, elimina sabor e odor de cloro e reduz quantidade de cloro. | C32: unidade | D32: 604214 | E32: - | F32: 127 | I32: 96.02 | J32: =(F32+G32+H32)*I32 -> 12194.54 | K32: SIM | L32: Aberto | M32: =VLOOKUP(I32, Intervalos!$B$3:$C$8,2,TRUE) -> 0.1
A33: 28 | B33: Fonte de alimentação DC ajustável. Fonte de corrente contínua, tensão de entrada 110-220VAC, 50 A 60HZ; tensão de saída 0-30V, corrente de saída:0-3A. Modelo de referência: Minipa MPC-3003 | C33: unidade | D33: 300592 | E33: Margem de preferência normal código CFI ou PPB: 10% Margem de preferência adicional portaria DesIn: 10% | F33: 5 | I33: 1918.15 | J33: =(F33+G33+H33)*I33 -> 9590.75 | K33: SIM | L33: Aberto | M33: =VLOOKUP(I33, Intervalos!$B$3:$C$8,2,TRUE) -> 0,10%
A34: 29 | B34: Furadeira de Impacto Profissional. Características: Voltagem 127 V; Potência 760 W; Peso aproximado 2 Kg; Dimensões aproximadas 303x72x222mm; Rotação por minuto 0 - 2800; Mandril 13 mm; Impactos por Minuto 0 - 44.800 ipm; Incerteza K 2m/s²; Emissões de Vibrações 19 m/s². Características adicionais: - Dois modos de operação: "Simples rotação" e "Rotação com impacto"; - Design do punho em linha maximiza a potência de impacto; - Corpo emborrachado; - Velocidade variável; - Rotação Reversível; - Botão trava; - Dupla isolação. | C34: Unidade | D34: 631645 | E34: CTF/APP: FTE - Categoria: Indústria Mecânica; Código: 4 | F34: 7 | H34: 4 | I34: 502.84 | J34: =(F34+G34+H34)*I34 -> 5531.24 | K34: SIM | L34: Aberto | M34: =VLOOKUP(I34, Intervalos!$B$3:$C$8,2,TRUE) -> 0,10%
A35: 30 | B35: Furadeira e parafusadeira de impacto 12V, mandril de aperto rápido, torque 30Nm, controle de torque, 2 velocidades de rotação (alta e baixa), rotação baixa 0-450rpm, rotação alta 0-1700rpm, rotação reversível, bateria 12V íon de lítio, tensão de alimentação do carregador 127/220V. Fornecimento: 1 Furadeira e parafusadeira, 1 bateria 12V e 1 carregador. | C35: Unidade | D35: 438644 | E35: CTF/APP: FTE - Categoria: Indústria Mecânica; Código: 4_x000D_ | F35: 7 | H35: 5 | I35: 628.97 | J35: =(F35+G35+H35)*I35 -> 7547.64 | K35: SIM | L35: Aberto | M35: =VLOOKUP(I35, Intervalos!$B$3:$C$8,2,TRUE) -> 0,10%
A36: 31 | B36: Gerador portátil: Gerador com motor tipo monoclilíndrico, refrigerado a ar de 2 tempos de partida manual. Estimativa de tempo de operação contínua de 4,8 (H). Utiliza gasolina podendo suportando 4 litros. Com 63cc de cilindradas e frequência de 60Hz; Tensão de saída de12V (110 ou 220) e potência máxima de 1,5 kW. | C36: unidade | D36: 422792 | E36: CTF/APP: FTE - Categoria: Indústria de Material Elétrico, Eletrônico e Comunicações; Código: 5 | F36: 2 | I36: 1387.77 | J36: =(F36+G36+H36)*I36 -> 2775.54 | K36: SIM | L36: Aberto | M36: =VLOOKUP(I36, Intervalos!$B$3:$C$8,2,TRUE) -> 0,10%
A37: 32 | B37: Jogo Chave Canhão com 12 peças - Com haste em aço carbono, soquete usinado em aço cromo vanádio, ponta fosfatizada, acabamento cromado, cabo em PVC. contem: 1 chave canhão 10 mm; 1 chave canhão 11 mm; 1 chave canhão 12 mm; 1 chave canhão 13 mm; 1 chave canhão 14 mm; 1 chave canhão 3 mm; 1 chave canhão 4 mm; 1 chave canhão 5 mm; 1 chave canhão 6 mm; 1 chave canhão 7 mm; 1 chave canhão 8 mm; 1 chave canhão 9 mm | C37: Jogo | D37: 633637 | E37: CTF/APP: FTE - Categoria: Indústria Metalúrgica; Código: 3 | F37: 3 | G37: 6 | H37: 3 | I37: 263.34 | J37: =(F37+G37+H37)*I37 -> 3160.08 | K37: SIM | L37: Aberto | M37: =VLOOKUP(I37, Intervalos!$B$3:$C$8,2,TRUE) -> 0,10%
A38: 33 | B38: Jogo Chave Combinada Aço 6 a 22mm Boca E Estrela -12 Peças. Composto por 12 peças, nas medidas específicas: 6mm, 7mm, 8mm, 9mm, 10mm, 11mm, 12mm, 13mm,14mm, 17mm, 19mm e 22mm. Feitas de aço carbono. Chaves devem ser do tipo combinado, com boca e estrela, e revestido em aço cromado. Estojo para armazenamento. | C38: Unidade | D38: 341926 | E38: CTF/APP: FTE - Categoria: Indústria Metalúrgica; Código: 3 | F38: 12 | G38: 6 | H38: 5 | I38: 133.13 | J38: =(F38+G38+H38)*I38 -> 3061.99 | K38: SIM | L38: Aberto | M38: =VLOOKUP(I38, Intervalos!$B$3:$C$8,2,TRUE) -> 0,10%
A39: 34 | B39: Jogo de Brocas e Bits Composto Por 102 Peças: 41 bits de 25mm, sendo: 10 pozidrive (2 x pz0, 2 x pz1, 4 x pz2, 2 x pz3), 5 phillips (1 x ph1, 3 x ph2, 1 x ph3), 5 fenda (3, 4, 5, 6 e 8mm), 10 torx (1 x t8, 1 x t10, 2 x t15, 2 x t20, 1 x t25, 1 x t27, 1 x t30 e 1 x t40), 10 allen (2 x 3mm, 2 x 4mm, 2 x 5mm, 2 x 6mm, 2 x 7mm), 1 bit na chave catraca; 14 soquetes: 5, 6, 7, 8, 9, 10 e 11mm, 5/32, 7/32, 1/4, 9/32, 5/16, 3/8 e 7/16”; 1 chave allen: 2,5mm; 13 brocas hss-tin: 2 de 3mm, 1 de 3,5mm, 2 de 4mm, 1 de 4,5mm, 2 de 5mm, 1 de 5,5mm, 1 de 6mm, 1 de 6,5mm, 1 de 7mm, 1 de 8mm; 6 brocas para concreto: 4, 5, 5.5, 6, 7 e 8mm; 7 brocas 3 pontas para madeira: 2 x 3mm, 4mm, 5, 6, 7 e 8mm; 3 brocas chatas: 12, 16 e 22mm; 1 portas bits magnético; 1 chave catraca manual com porta bits; 1 nível 200mm; 4 serras copo: 32, 38, 45 e 54mm; 1 estilete de metal; 1 adaptador para serra copo; 1 trena 3,5 metros; 1 punção; 1 escareador; 1 maleta para acondicionamento dos itens; 4 suportes para bits. | C39: Unidade | D39: 457011 | F39: 2 | G39: 6 | H39: 2 | I39: 381.45 | J39: =(F39+G39+H39)*I39 -> 3814.5 | K39: SIM | L39: Aberto | M39: =VLOOKUP(I39, Intervalos!$B$3:$C$8,2,TRUE) -> 0,10%
A40: 35 | B40: Jogo de Chave Allen Curta de 2 A 10 mm | C40: jogo | D40: 446475 | F40: 8 | G40: 6 | H40: 4 | I40: 48.69 | J40: =(F40+G40+H40)*I40 -> 876.42 | K40: SIM | L40: Aberto | M40: =VLOOKUP(I40, Intervalos!$B$3:$C$8,2,TRUE) -> 0.05
A41: 36 | B41: Jogo de Chave Combinada Boca e Estrela 6 a 22 mm, fabricada em aço especial, acabamento niquelado | C41: jogo | D41: 341926 | E41: CTF/APP: FTE - Categoria: Indústria Metalúrgica; Código: 3 | F41: 12 | G41: 6 | H41: 5 | I41: 129.33 | J41: =(F41+G41+H41)*I41 -> 2974.59 | K41: SIM | L41: Aberto | M41: =VLOOKUP(I41, Intervalos!$B$3:$C$8,2,TRUE) -> 0,10%
...

Sheet Intervalos
B2: Valor Unitário Estimado (Faixa) | C2: Diferença Mínima de Valores / Percentuais de Lances | E2: Interpretação
B3: 0.01 | C3: 0.01 | E3: R$ 0,01 - R$ 5,00 => R$ 0,01
B4: 5 | C4: 0.02 | E4: R$ 5,01 - R$ 10,00 => R$ 0,02
B5: 10 | C5: 0.03 | E5: R$ 10,01 - R$ 20,00 => R$ 0,03
B6: 20 | C6: 0.05 | E6: R$ 20,01 - R$ 50,00 => R$ 0,05
B7: 50 | C7: 0.1 | E7: R$ 50,01 - R$ 100,00 => R$ 0,10
B8: 100 | C8: 0,10% | E8: Acima de R$ 100,00 => 0,10%
