Workbook

Sheet Anexo III
A1: PRÓ-REITORIA DE ADMINISTRAÇÃO
A2: COORDENAÇÃO DE MATERIAIS
A3: ANEXO III - PLANILHA ESTIMATIVA DE DESCRIÇÃO E PREÇOS
A5: ITEM | B5: DESCRIÇÃO/ ESPECIFICAÇÃO | C5: UNIDADE DE MEDIDA | D5: SUGESTÃO DE CATMAT | E5: QUANTIDADE | F5: VALOR UNITÁRIO | G5: VALOR TOTAL | H5: EXCLUSIVO ME/EPP | I5: MODO DE DISPUTA | J5: INTERVALO LANCES
A6: 1 | B6: Ágar Base para XLT4. Meio para isolamento seletivo e diferencial de Salmonella spp., (exceto S.typhi e S.paratyphi) | C6: frasco de 500g | D6: 411784 | E6: 8 | F6: 1091.22 | G6: =E6*ROUND(F6,2) -> 8729.76 | H6: SIM | I6: Aberto | J6: =VLOOKUP(F6,Intervalos!$B$3:$C$8,2,TRUE) -> 0,10%
A7: 2 | B7: Ágar batata dextrose (PDA). FRASCO C/500G | C7: frasco de 500g | D7: 326288 | E7: 19 | F7: 444.61 | G7: =E7*ROUND(F7,2) -> 8447.59 | H7: SIM | I7: Aberto | J7: =VLOOKUP(F7,Intervalos!$B$3:$C$8,2,TRUE) -> 0,10%
A8: 3 | B8: ÁGAR BILE VERMELHO VIOLETA VRBG. MEIO DE CULTURA., PÓ, COM GLICOSE | C8: frasco de 500g | D8: 387814 | E8: 2 | F8: 520.71 | G8: =E8*ROUND(F8,2) -> 1041.42 | H8: SIM | I8: Aberto | J8: =VLOOKUP(F8,Intervalos!$B$3:$C$8,2,TRUE) -> 0,10%
A9: 4 | B9: Ágar Czapeck-Dox. Matéria-prima grau farmacêutico. | C9: frasco de 500g | D9: 345611 | E9: 3 | F9: 571.9 | G9: =E9*ROUND(F9,2) -> 1715.7 | H9: SIM | I9: Aberto | J9: =VLOOKUP(F9,Intervalos!$B$3:$C$8,2,TRUE) -> 0,10%
A10: 5 | B10: Agar Infusão de Cérebro e Coração (BHI) | C10: frasco de 500g | D10: 326281 | E10: 13 | F10: 550 | G10: =E10*ROUND(F10,2) -> 7150 | H10: SIM | I10: Aberto | J10: =VLOOKUP(F10,Intervalos!$B$3:$C$8,2,TRUE) -> 0,10%
A11: 6 | B11: Ágar M17 - para o isolamento e enumeração dos estreptococos láctico no iogurte, queijo e outros produtos lácteos | C11: frasco de 500g | D11: 326293 | E11: 8 | F11: 959.11 | G11: =E11*ROUND(F11,2) -> 7672.88 | H11: SIM | I11: Aberto | J11: =VLOOKUP(F11,Intervalos!$B$3:$C$8,2,TRUE) -> 0,10%
A12: 7 | B12: Ágar MacConkey. Ágar MacConkey - FRASCO C/500G | C12: frasco de 500g | D12: 326284 | E12: 17 | F12: 447.76 | G12: =E12*ROUND(F12,2) -> 7611.92 | H12: SIM | I12: Aberto | J12: =VLOOKUP(F12,Intervalos!$B$3:$C$8,2,TRUE) -> 0,10%
A13: 8 | B13: Ágar Mycosel. Apresentação: pó. Meio de cultura, destinado ao isolamento e conservação de fungos patogênicos, principalmente dermatófitos . FRASCO 500 GR | C13: frasco de 500g | D13: 326866 | E13: 5 | F13: 1776.5 | G13: =E13*ROUND(F13,2) -> 8882.5 | H13: SIM | I13: Aberto | J13: =VLOOKUP(F13,Intervalos!$B$3:$C$8,2,TRUE) -> 0,10%
A14: 9 | B14: Ágar Sabouraud dextrose 2% FRASCO C/500G | C14: frasco de 500g | D14: 326298 | E14: 13 | F14: 1084.28 | G14: =E14*ROUND(F14,2) -> 14095.64 | H14: SIM | I14: Aberto | J14: =VLOOKUP(F14,Intervalos!$B$3:$C$8,2,TRUE) -> 0,10%
A15: 10 | B15: Ágar sal manitol FRASCO C/500G | C15: frasco de 500g | D15: 330218 | E15: 4 | F15: 433 | G15: =E15*ROUND(F15,2) -> 1732 | H15: SIM | I15: Aberto | J15: =VLOOKUP(F15,Intervalos!$B$3:$C$8,2,TRUE) -> 0,10%
A16: 11 | B16: Agar Sangue. Placas prontas 90 x 15 mm. Fornecimento em pacote com 10 unidades. | C16: Unidade | D16: 326923 | E16: 310 | F16: 8.77 | G16: =E16*ROUND(F16,2) -> 2718.7 | H16: SIM | I16: Aberto | J16: =VLOOKUP(F16,Intervalos!$B$3:$C$8,2,TRUE) -> 0.02
A17: 12 | B17: Ágar Triptona Soja. Frasco 500g | C17: frasco de 500g | D17: 435103 | E17: 7 | F17: 565.24 | G17: =E17*ROUND(F17,2) -> 3956.68 | H17: SIM | I17: Aberto | J17: =VLOOKUP(F17,Intervalos!$B$3:$C$8,2,TRUE) -> 0,10%
... A60: 55 | B60: Tiras reagentes para urinálise, determinação semiquantitativa com 10 parâmetros. Fornecimento em embalagem com 100 unidades. | C60: Unidade | D60: 339560 | E60: 6700 | F60: 0.93 | G60: =E60*ROUND(F60,2) -> 6231 | H60: SIM | I60: Aberto | J60: =VLOOKUP(F60,Intervalos!$B$3:$C$8,2,TRUE) -> 0.01
F61: VALOR TOTAL | G61: =SUM(G6:G60) -> 289125.6

Sheet Intervalos
B2: Valor Unitário Estimado (Faixa) | C2: Diferença Mínima de Valores / Percentuais de Lances | E2: Interpretação
B3: 0.01 | C3: 0.01 | E3: R$ 0,01 - R$ 5,00 => R$ 0,01
B4: 5 | C4: 0.02 | E4: R$ 5,01 - R$ 10,00 => R$ 0,02
B5: 10 | C5: 0.03 | E5: R$ 10,01 - R$ 20,00 => R$ 0,03
B6: 20 | C6: 0.05 | E6: R$ 20,01 - R$ 50,00 => R$ 0,05
B7: 50 | C7: 0.1 | E7: R$ 50,01 - R$ 100,00 => R$ 0,10
B8: 100 | C8: 0,10% | E8: Acima de R$ 100,00 => 0,10%
