Workbook

Sheet Anexo III
A1: PRÓ-REITORIA DE ADMINISTRAÇÃO
A2: COORDENAÇÃO DE MATERIAIS
A3: ANEXO III - PLANILHA ESTIMATIVA DE DESCRIÇÃO E PREÇOS
A5: GRUPO | B5: ITEM LICITAÇÃO | C5: DESCRIÇÃO/ ESPECIFICAÇÃO | D5: UNIDADE DE MEDIDA | E5: SUGESTÃO DE CATMAT | F5: INFORMAÇÕES ADICIONAIS | G5: QUANTIDADE | H5: VALOR UNITÁRIO | I5: VALOR TOTAL | J5: VALOR TOTAL DO GRUPO | K5: EXCLUSIVO ME/EPP | L5: MODO DE DISPUTA | M5: INTERVALO LANCES
A6: - | B6: 1 | C6: 1-naftol (alfa-naftol) P.A - Aspecto físico: pó cristalino ou escamas brancas a amareladas, Composição química: C10H8O, Peso molecular: 144,17, Grau de Pureza mínima: 99%, Número de referência química: CAS 90-15-3. Fornecimento em frasco de 100g | D6: Grama | E6: 376764 | F6: CTF/APP: FTE - Categoria: Indústria química; Código:15 | G6: 300 | H6: 1.18 | I6: =G6*ROUND(H6,2) -> 354 | J6: - | K6: SIM | L6: Aberto | M6: =VLOOKUP(H6,Intervalos!$B$3:$C$8,2,TRUE) -> 0.01
A7: - | B7: 2 | C7: 2-mercaptoetanol - Aspecto físico: líquido incolor, odor desagradável, Fórmula química C2H6SO, Peso molecular: 78,13, Pureza mínima: 99%, Número de referência química: CAS 60-24-2. Fornecimento em frasco de 1 litro. | D7: Litro | E7: 412799 | F7: CTF/APP: FTE - Categoria: Indústria Química; Código:15 | G7: 3 | H7: 267.2 | I7: =G7*ROUND(H7,2) -> 801.6 | J7: - | K7: SIM | L7: Aberto | M7: =VLOOKUP(H7,Intervalos!$B$3:$C$8,2,TRUE) -> 0,10%
A8: - | B8: 3 | C8: 4-metoxicinamato de 2-etilhexila (Octilmetoxicinamato ou Metoxicinamato de octila) -Aspecto físico: líquido límpido, levemente amarelado, fórmula química: C18H26O3, Peso molecular: 290,4 g,mol, Pureza mínima de 99%, Número de referência química: cas 5466-77-3. Fornecimento em frasco de 100ml. | D8: Mililitro | E8: 373026 | F8: CTF/APP: FTE - Categoria: Indústria química; Código:15 | G8: 1300 | H8: 4.91 | I8: =G8*ROUND(H8,2) -> 6383 | J8: - | K8: SIM | L8: Aberto | M8: =VLOOKUP(H8,Intervalos!$B$3:$C$8,2,TRUE) -> 0.01
A9: 1 | B9: 4 | C9: Acetato de amônio P.A A.C.S - Aspecto físico: Cristal branco, Peso molecular: 77,08 g/mol, Fórmula química: C2H7NO2, Pureza mínima: 98%, Número de referência química: CAS 631-61-8. Fornecimento em frasco de 500g | D9: Grama | E9: 366451 | F9: CTF/APP: FTE - Categoria: Indústria química; Código:15 | G9: 3500 | H9: 0.16 | I9: =G9*ROUND(H9,2) -> 560 | J9: =SUM(I9:I10) -> 1100 | K9: SIM | L9: Aberto | M9: =VLOOKUP(H9,Intervalos!$B$3:$C$8,2,TRUE) -> 0.01
B10: 5 | C10: Acetato de chumbo trihidratado P.A. A.C.S - Aspecto físico: Sólido branco, Peso molecular: 379,33 g/mol, Fórmula química: C4H6O4Pb.3H2O, Pureza mínima: 99%, Número de referência CAS: 6080-56-4. Fornecimento em frasco de 500g | D10: Grama | E10: 347136 | F10: CTF/APP: FTE - Categoria: Indústria química; Código:15 | G10: 2000 | H10: 0.27 | I10: =G10*ROUND(H10,2) -> 540 | L10: Aberto | M10: =VLOOKUP(H10,Intervalos!$B$3:$C$8,2,TRUE) -> 0.01
A11: - | B11: 6 | C11: Acetilacetona P.A - Aspecto físico: líquido incolor, Peso molecular: 100.12, Fórmula linear: CH3COCH2COCH3 (C5H8O2), Número de referência química: CAS 123-54-6 Sinônimo(s): ACAC, 2,4-Pentanedione. Fornecimento em frasco de 1L. | D11: Litro | E11: 382233 | F11: CTF/APP: FTE - Categoria: Indústria Química; Código:15 | G11: 5 | H11: 168.01 | I11: =G11*ROUND(H11,2) -> 840.05 | J11: - | K11: SIM | L11: Aberto | M11: =VLOOKUP(H11,Intervalos!$B$3:$C$8,2,TRUE) -> 0,10%
A12: - | B12: 7 | C12: Acetonitrila Uv/Hplc - Espectroscópico - Aspecto Físico: Líquido Incolor, Fórmula Química: C2h3n, Peso Molecular: 41,05 G/Mol, Pureza Mínima: 99,9%, Número De Referência Química: Cas 75-05-8. Fornecimento em frasco de 1 Litro | D12: Litro | E12: 347148 | F12: CTF/APP: FTE - Categoria: Indústria Química; Código:15 | G12: 35 | H12: 155.07 | I12: =G12*ROUND(H12,2) -> 5427.45 | J12: - | K12: SIM | L12: Aberto | M12: =VLOOKUP(H12,Intervalos!$B$3:$C$8,2,TRUE) -> 0,10%
A13: - | B13: 8 | C13: Ácido cítrico anidro PA - Aspecto físico: cristais translúcidos brancos. Fórmula química: C8H8O7, Peso molecular: 192,12g/mol, Pureza mínima: 99%, Número de referência química: 77-92-9. Fornecimento em frasco de 500g. | D13: Grama | E13: 351610 | F13: CTF/APP: FTE - Categoria: Indústria química; Código:15 | G13: 17000 | H13: 0.06 | I13: =G13*ROUND(H13,2) -> 1020 | J13: - | K13: SIM | L13: Aberto | M13: =VLOOKUP(H13,Intervalos!$B$3:$C$8,2,TRUE) -> 0.01
A14: - | B14: 9 | C14: Ácido etilenodiaminotetracético (EDTA) Sal dissódico dihidratado P.A. - Aspecto físico: Sólido Incolor, Peso molecular: 372,24 G/Mol, Fórmula química: C10h14n2o8na2.2h2o, Pureza mínima: 99%, Número de referência química Cas 6381-92-6. Fornecimento em frasco de 250g. | D14: Grama | E14: 366502 | F14: CTF/APP: FTE - Categoria: Indústria química; Código:15 | G14: 3750 | H14: 0.2 | I14: =G14*ROUND(H14,2) -> 750 | J14: - | K14: SIM | L14: Aberto | M14: =VLOOKUP(H14,Intervalos!$B$3:$C$8,2,TRUE) -> 0.01
A15: - | B15: 10 | C15: Ácido metafosfórico PA (para análise). Fórmula: (HPO3)n / Peso Molecular: (79,98)n / Teor (HPO3)N 33,5 – 36,5% / Teor (NaPO3)N 57,0 – 63,0% / Cloreto (Cl) MAx. 0,001% / Nitrato (NO3) MAx. 0,001% / Sulfato (SO4) MAx. 0,005% / Arsenico (As) MAx. 1 ppm / Metais pesados (como Pb) MAx. 0,005% / Ferro (Fe) MAx. 0,005%. CAS 37267-86-0 . ONU: 3260; Classe: 8; Número de Risco: 80; Embalagem: III. Apresentação: em bastão. Fornecimento em embalagens de 100g. | D15: Grama | E15: 393345 | F15: CTF/APP: FTE - Categoria: Indústria Química; Código:15 | G15: 400 | H15: 1.92 | I15: =G15*ROUND(H15,2) -> 768 | J15: - | K15: SIM | L15: Aberto | M15: =VLOOKUP(H15,Intervalos!$B$3:$C$8,2,TRUE) -> 0.01
A16: - | B16: 11 | C16: Ácido Tricloroacético P.A. A.C.S. - Aspecto físico: Sólido, Fórmula química: Cl3ccooh, Peso molecular: 163,39 G/Mol, Pureza: 99%, Número Referência Cas 76-03-9. Fornecimento Em Frasco De 100g. | D16: Grama | E16: 347504 | F16: CTF/APP: FTE - Categoria: Indústria química; Código:15 | G16: 1400 | H16: 0.37 | I16: =G16*ROUND(H16,2) -> 518 | J16: - | K16: SIM | L16: Aberto | M16: =VLOOKUP(H16,Intervalos!$B$3:$C$8,2,TRUE) -> 0.01
A17: - | B17: 12 | C17: Ácido trifluoracético (TFA) P.A - Aspecto físico: líquido incolor, odor característico, Fórmula química: CF3COOH, Peso molecular: 114,2, Pureza mínima: 99%, Número de Referência Química CAS 76-05-1. Fornecimento em frasco de 1L. | D17: Litro | E17: 363123 | F17: CTF/APP: FTE - Categoria: Indústria Química; Código:15 | G17: 2 | H17: 2270 | I17: =G17*ROUND(H17,2) -> 4540 | J17: - | K17: SIM | L17: Aberto | M17: =VLOOKUP(H17,Intervalos!$B$3:$C$8,2,TRUE) -> 0,10%
A18: - | B18: 13 | C18: Acrilamida. Aspecto físico: pó cristalino branco, inodoro. Fórmula química: CH2=CHCONH2 (PROP-2-ENAMIDA), Massa molar: 71,07, Grau de pureza mínima: 99%, Caracterísitca adicionar: reagente para eletroforese. Número de registro químico: CAS 79-06-1. Fornecimento em frasco de 100g | D18: Grama | E18: 407584 | F18: CTF/APP: FTE - Categoria: Indústria química; Código:15 | G18: 300 | H18: 1.99 | I18: =G18*ROUND(H18,2) -> 597 | J18: - | K18: SIM | L18: Aberto | M18: =VLOOKUP(H18,Intervalos!$B$3:$C$8,2,TRUE) -> 0.01
A19: 2 | B19: 14 | C19: Álcool etílico (etanol) P.A. - Aspecto físico líquido límpido, incolor, volátil, fórmula química c2h5oh, Peso molecular: 46,7, Grau de pureza mínima: 95% p/p, característica adicional reagente p.a., número de referência química cas 64-17-5. Fornecimento em Frasco de vidro de 1 litro. | D19: Litro | E19: 357786 | F19: CTF/APP: FTE - Categoria: Indústria Química; Código:15 | G19: 102 | H19: 31.07 | I19: =G19*ROUND(H19,2) -> 3169.14 | J19: =SUM(I19:I21) -> 40515.19 | K19: SIM | L19: Aberto | M19: =VLOOKUP(H19,Intervalos!$B$3:$C$8,2,TRUE) -> 0.05
B20: 15 | C20: Álcool Etílico (Etanol) Anidro Absoluto P.A. - Aspecto Físico Líquido Límpido, Incolor, Volátil, Teor Alcoólico Mínimo De 99,5¨Gl, Fórmula Química C2h5oh, Peso Molecular: 46,07 G/Mol, Grau De Pureza Mínimo De 99,7% P/P Inpm, Característica Adicional: Anidro, Absoluto, Número De Referência Química: Cas 64-17-5. Fornecimento em frasco de Vidro De 1 Litro | D20: Litro | E20: 379616 | F20: CTF/APP: FTE - Categoria: Indústria Química; Código:15 | G20: 779 | H20: 39.62 | I20: =G20*ROUND(H20,2) -> 30863.98 | L20: Aberto | M20: =VLOOKUP(H20,Intervalos!$B$3:$C$8,2,TRUE) -> 0.05
B21: 16 | C21: Álcool Etílico Absoluto Uv/Hplc - Aspecto Físico: Líquido Incolor, Fórmula Química: C2h5oh, Peso Molecular: 46,07 G/Mol, Pureza Mínima: 99,8%, Número De Referência Química Cas: 64-17-5. Fornecimento em Frasco de vidro de 1 Litro. | D21: Litro | E21: 349664 | F21: CTF/APP: FTE - Categoria: Indústria Química; Código:15 | G21: 63 | H21: 102.89 | I21: =G21*ROUND(H21,2) -> 6482.07 | L21: Aberto | M21: =VLOOKUP(H21,Intervalos!$B$3:$C$8,2,TRUE) -> 0,10%
A22: - | B22: 17 | C22: Álcool Etílico Comercial Hidratado 96 Gl (92,8 Inpm) - Aspecto Físico Líquido Límpido, Incolor, Volátil, Teor Alcoólico 95,1 A 96º Gl, Fórmula Química C2h5oh, Peso Molecular 46,7, Grau De Pureza 92,6% a 93,8% P/P Inpm, Característica Adicional Hidratado, Número De Referência Química Cas 64-17-5. Fornecimento em frasco de 1 Litro | D22: Litro | E22: 346632 | F22: CTF/APP: FTE - Categoria: Indústria Química; Código:15 | G22: 514 | H22: 14.28 | I22: =G22*ROUND(H22,2) -> 7339.92 | J22: - | K22: SIM | L22: Aberto | M22: =VLOOKUP(H22,Intervalos!$B$3:$C$8,2,TRUE) -> 0.03
A23: - | B23: 18 | C23: Álcool Isoamílico P.A. A.C.S - Aspecto Físico: Líquido, Fórmula Química: C5h12o, Peso Molecular: 88,15 G/Mol, Pureza Mínima: 98,5%, Número De Referência Química: Cas 123-51-3. Fornecimento em frasco de 1 Litro | D23: Litro | E23: 370365 | F23: CTF/APP: FTE - Categoria: Indústria Química; Código:15 | G23: 8 | H23: 73.07 | I23: =G23*ROUND(H23,2) -> 584.56 | J23: - | K23: SIM | L23: Aberto | M23: =VLOOKUP(H23,Intervalos!$B$3:$C$8,2,TRUE) -> 0.1
A24: 3 | B24: 19 | C24: Álcool Metílico (Metanol) Uv/Hplc: Aspecto Físico: Líquido Incolor, Fórmula Química: Ch4o, Peso Molecular: 32,04 G/Mol, Grau De Pureza: 99,8%, Número De Referência Química: Cas 67-56-1. Fornecimento Em Frasco de vidro De 1 Litro | D24: Litro | E24: 348267 | F24: CTF/APP: FTE - Categoria: Indústria Química; Código:15 | G24: 99 | H24: 57.79 | I24: =G24*ROUND(H24,2) -> 5721.21 | J24: =SUM(I24:I25) -> 13803.71 | K24: SIM | L24: Aberto | M24: =VLOOKUP(H24,Intervalos!$B$3:$C$8,2,TRUE) -> 0.1
B25: 20 | C25: Álcool metílico P.A - Aspecto físico: líquido límpido, incolor, odor característico, Fórmula química: CH4O anidro, Peso molecular: 32,04 g/mol, Pureza mínima: 99,8%, número de referência química: cas 67-56-1. Fornecimento em frasco de vidro de 1L. | D25: Litro | E25: 402694 | F25: CTF/APP: FTE - Categoria: Indústria Química; Código:15 | G25: 250 | H25: 32.33 | I25: =G25*ROUND(H25,2) -> 8082.5 | L25: Aberto | M25: =VLOOKUP(H25,Intervalos!$B$3:$C$8,2,TRUE) -> 0.05
A26: - | B26: 21 | C26: Álcool propílico (isopropílico ou iso-propanol) P.A A.C.S - Aspecto físico: líquido límpido, incolor, odor característico, Fórmula química: (ch3)2choh, Peso molecular: 60,10 g/mol, Grau de pureza mínima: 99,7%, Número de referência química: cas 67-63-0. Fornecimento em Frasco de 1 litro. | D26: Litro | E26: 380747 | F26: CTF/APP: FTE - Categoria: Indústria Química; Código:15 | G26: 93 | H26: 61.69 | I26: =G26*ROUND(H26,2) -> 5737.17 | J26: - | K26: SIM | L26: Aberto | M26: =VLOOKUP(H26,Intervalos!$B$3:$C$8,2,TRUE) -> 0.1
A27: - | B27: 22 | C27: Álcool terc-butílico - Aspecto físico: líquido límpido, incolor, odor forte característico, Peso molecular: 74,12 g/mol, Fórmula química: C4H9OH terciário (terc-butanol), grau de pureza mínima de 99%, Característica adicional: reagente P.A, número de referência química: cas 75-65-0. Fornecimento em frasco de vidro de 1L | D27: Litro | E27: 348259 | F27: CTF/APP: FTE - Categoria: Indústria Química; Código:15 | G27: 7 | H27: 118.11 | I27: =G27*ROUND(H27,2) -> 826.77 | J27: - | K27: SIM | L27: Aberto | M27: =VLOOKUP(H27,Intervalos!$B$3:$C$8,2,TRUE) -> 0,10%
A28: 4 | B28: 23 | C28: Azul de Bromotimol, Aspecto físico: Pó, Fórmula química: C27h28br2o5s , Peso molecular: 624,38 G/Mol, Número de referência química: Cas 7659-5. Fornecimento Em Frasco De 25g | D28: frasco de 25g | E28: 327396 | F28: CTF/APP: FTE - Categoria: Indústria química; Código:15 | G28: 15 | H28: 92.66 | I28: =G28*ROUND(H28,2) -> 1389.9 | J28: =SUM(I28:I30) -> 2084.68 | K28: SIM | L28: Aberto | M28: =VLOOKUP(H28,Intervalos!$B$3:$C$8,2,TRUE) -> 0.1
B29: 24 | C29: Azul de Coomassie Brilhante G-250 (C.I 42655) - Aspecto físico: sólido, Peso molecular: 854,04 g/mol, Fórmula química: C47H48N3NaO7S2, Número de referência química CAS: 6104-58-1. | D29: frasco de 25 g | E29: 358554 | F29: CTF/APP: FTE - Categoria: Indústria química; Código:15 | G29: 2 | H29: 180.22 | I29: =G29*ROUND(H29,2) -> 360.44 | L29: Aberto | M29: =VLOOKUP(H29,Intervalos!$B$3:$C$8,2,TRUE) -> 0,10%
B30: 25 | C30: Azul de Coomassie Brilhante R-250 (C.I 42660). Aspecto físico: sólido, Peso molecular: 825,99 g/mol, Fórmula química: C45H44N3NaO7S2, Número de referência química CAS: 6104-59-2. Fornecimento em frasco de 25g | D30: frasco de 25g | E30: 327539 | F30: CTF/APP: FTE - Categoria: Indústria química; Código:15 | G30: 2 | H30: 167.17 | I30: =G30*ROUND(H30,2) -> 334.34 | L30: Aberto | M30: =VLOOKUP(H30,Intervalos!$B$3:$C$8,2,TRUE) -> 0,10%
A31: - | B31: 26 | C31: Bismutato de sódio P.A. -Aspecto físico: sólido marrom claro, Fórmula química: NaBiO3, Pureza mínima: 80%, Peso molecular: 279,97 g/mol, Número de referência química: CAS 12232-99-4. Fornecimento em frasco de 100g. | D31: Grama | E31: 376161 | F31: CTF/APP: FTE - Categoria: Indústria Química; Código:15 | G31: 300 | H31: 3.7 | I31: =G31*ROUND(H31,2) -> 1110 | J31: - | K31: SIM | L31: Aberto | M31: =VLOOKUP(H31,Intervalos!$B$3:$C$8,2,TRUE) -> 0.01
A32: - | B32: 27 | C32: Brometo de Potássio P.A - Aspecto Físico: Sólido Cristalino Incolor, Fórmula Química: Kbr, Pureza Mínima: 99,0%, Peso Molecular: 119,00 G/Mol, Número De Referência Química: Cas 7758-02-3. Fornecimento em frasco de 500g. | D32: Grama | E32: 382315 | F32: CTF/APP: FTE - Categoria: Indústria Química; Código:15 | G32: 1500 | H32: 0.49 | I32: =G32*ROUND(H32,2) -> 735 | J32: - | K32: SIM | L32: Aberto | M32: =VLOOKUP(H32,Intervalos!$B$3:$C$8,2,TRUE) -> 0.01
A33: - | B33: 28 | C33: Calamina Extra Pura ≥98-105% - cas 8011-96-9 Pureza: 95% Aparência: pó rosa claro, CAS No.: 8011-96-9 Fórmula Molecular: Fe2O4Zn, Peso molecular: 241,0776. Fornecimento em frasco de 500g. | D33: Grama | E33: 626801 | F33: CTF/APP: FTE - Categoria: Indústria química; Código:15 | G33: 12000 | H33: 0.78 | I33: =G33*ROUND(H33,2) -> 9360 | J33: - | K33: SIM | L33: Aberto | M33: =VLOOKUP(H33,Intervalos!$B$3:$C$8,2,TRUE) -> 0.01
A34: - | B34: 29 | C34: Carbonato de Sódio Anidro P.A - Aspecto físico: pó branco, Fórmula química: Na3CO3, Peso molecular: 105,99 g/mol, Pureza mínima: 99,5%, Característica adicional: padrão primário, Número de referência química: CAS 497-19-8. Fornecimento em frasco de 500g. | D34: Grama | E34: 347959 | F34: CTF/APP: FTE - Categoria: Indústria química; Código:15 | G34: 14000 | H34: 0.05 | I34: =G34*ROUND(H34,2) -> 700 | J34: - | K34: SIM | L34: Aberto | M34: =VLOOKUP(H34,Intervalos!$B$3:$C$8,2,TRUE) -> 0.01
A35: - | B35: 30 | C35: Carboximetilcelulose sal sódico PA (CMC) - Éter carboximetílico de celulose, CAS 9004-32-4, Aspecto físico: sólido branco levemente amarelado. Principais usos: Análises químicas, agente de viscosidade e suspensão. Fornecimento em frasco de 500g. | D35: Grama | E35: 351917 | F35: CTF/APP: FTE - Categoria: Indústria química; Código:15 | G35: 6500 | H35: 0.13 | I35: =G35*ROUND(H35,2) -> 845 | J35: - | K35: SIM | L35: Aberto | M35: =VLOOKUP(H35,Intervalos!$B$3:$C$8,2,TRUE) -> 0.01
A36: - | B36: 31 | C36: Carvão ativo em pó P.A. - Aspecto fisico pó, Fórmula química::C Peso molecular: 12,01 g/mol, Numero de referência química: CAS 7440-44-0, informação adicional: purificado. Fornecimento em frasco de 500g. | D36: Grama | E36: 348073 | F36: CTF/APP: FTE - Categoria: Indústria química; Código:15 | G36: 11500 | H36: 0.05 | I36: =G36*ROUND(H36,2) -> 575 | J36: - | K36: SIM | L36: Aberto | M36: =VLOOKUP(H36,Intervalos!$B$3:$C$8,2,TRUE) -> 0.01
A37: - | B37: 32 | C37: Cloreto de 3-5-Dinitrobenzoíla, Aspecto físico Pó cristalino amarelo acastanhado, Peso molecular: 230,56, Fórmula química: (O2N)2C6H3COCL, Pureza mínima de 98%, Número de referência química CAS 99-33-2. Fornecimento em frasco de 100g. | D37: Grama | E37: 392934 | F37: CTF/APP: FTE - Categoria: Indústria química; Código:15 | G37: 300 | H37: 9.18 | I37: =G37*ROUND(H37,2) -> 2754 | J37: - | K37: SIM | L37: Aberto | M37: =VLOOKUP(H37,Intervalos!$B$3:$C$8,2,TRUE) -> 0.02
A38: 5 | B38: 33 | C38: Cloreto de Bário Dihidratado P.A. A.C.S - Aspecto Físico: Cristalino Branco, Peso Molecular: 244,26 G/Mol, Fórmula Química: Bacl2. 2H2o, Pureza Mínima: 99,5%, Número De Referência Química: Cas 10326-27-9. Fornecimento em frasco de 500g. | D38: Grama | E38: 366470 | F38: CTF/APP: FTE - Categoria: Indústria Química; Código:15 | G38: 9500 | H38: 0.16 | I38: =G38*ROUND(H38,2) -> 1520 | J38: =SUM(I38:I40) -> 4462.5 | K38: SIM | L38: Aberto | M38: =VLOOKUP(H38,Intervalos!$B$3:$C$8,2,TRUE) -> 0.01
B39: 34 | C39: Cloreto de cobalto(II) (oso) hexahidratado 6 H2O P.A. A.C.S, Aspecto físico: cristal rosa a vermelho, Peso molecular: 237,93, Fórmula química: CoCl2.6H2O, Pureza mínima: 99%, Número de referência química: CAS 7791-13-1. Fornecimento em frasco de 250g. | D39: Grama | E39: 400499 | F39: CTF/APP: FTE - Categoria: Indústria Química; Código:15 | G39: 3250 | H39: 0.67 | I39: =G39*ROUND(H39,2) -> 2177.5 | L39: Aberto | M39: =VLOOKUP(H39,Intervalos!$B$3:$C$8,2,TRUE) -> 0.01
B40: 35 | C40: Cloreto de cobre II dihidratado (ico) P.A. A.C.S. - Aspecto físico: sólido azul esverdeado, Fórmula química: CuCl2.2H2O, Pureza mínima: 99%, Peso Molecular: 170,48 g/mol, Número de referência química: CAS 7447-39-4. Fornecimento em frasco de 500g. | D40: Grama | E40: 437237 | F40: CTF/APP: FTE - Categoria: Indústria Química; Código:15 | G40: 1500 | H40: 0.51 | I40: =G40*ROUND(H40,2) -> 765 | L40: Aberto | M40: =VLOOKUP(H40,Intervalos!$B$3:$C$8,2,TRUE) -> 0.01
A41: 6 | B41: 36 | C41: Cloreto de Cromo (III) Hexahidratado 6 H2o P.A - Aspecto Físico: Cristal Preto Esverdeado À Violáceo, Fórmula Química: Crcl3.6h2o, Peso Molecular: 266,45 G/Mol, Pureza Mínima: 98%, Número De Referência Química Cas 10060-12-5. Fornecimento em frasco de 500g | D41: Grama | E41: 374566 | F41: CTF/APP: FTE - Categoria: Indústria Química; Código:15 | G41: 1500 | H41: 0.5 | I41: =G41*ROUND(H41,2) -> 750 | J41: =SUM(I41:I43) -> 1339.5 | K41: SIM | L41: Aberto | M41: =VLOOKUP(H41,Intervalos!$B$3:$C$8,2,TRUE) -> 0.01
...

Sheet Intervalos
B2: Valor Unitário Estimado (Faixa) | C2: Diferença Mínima de Valores / Percentuais de Lances | E2: Interpretação
B3: 0.01 | C3: 0.01 | E3: R$ 0,01 - R$ 5,00 => R$ 0,01
B4: 5 | C4: 0.02 | E4: R$ 5,01 - R$ 10,00 => R$ 0,02
B5: 10 | C5: 0.03 | E5: R$ 10,01 - R$ 20,00 => R$ 0,03
B6: 20 | C6: 0.05 | E6: R$ 20,01 - R$ 50,00 => R$ 0,05
B7: 50 | C7: 0.1 | E7: R$ 50,01 - R$ 100,00 => R$ 0,10
B8: 100 | C8: 0,10% | E8: Acima de R$ 100,00 => 0,10%
