Workbook

Sheet Anexo III
A1: PRÓ-REITORIA DE ADMINISTRAÇÃO
A2: COORDENAÇÃO DE MATERIAIS
A3: ANEXO III - PLANILHA ESTIMATIVA DE DESCRIÇÃO E PREÇOS
A5: GRUPO | B5: ITEM LICITAÇÃO | C5: DESCRIÇÃO/ ESPECIFICAÇÃO | D5: UNIDADE DE MEDIDA | E5: SUGESTÃO DE CATMAT | F5: INFORMAÇÕES ADICIONAIS | G5: QUANTIDADE | H5: VALOR UNITÁRIO | I5: VALOR TOTAL | J5: VALOR TOTAL DO GRUPO | K5: EXCLUSIVO ME/EPP | L5: MODO DE DISPUTA | M5: INTERVALO LANCES
A6: - | B6: 1 | C6: 1-naftol (alfa-naftol) P.A - Aspecto físico: pó cristalino ou escamas brancas a amareladas, Composição química: C10H8O, Peso molecular: 144,17, Grau de Pureza mínima: 99%, Número de referência química: CAS 90-15-3. Fornecimento em frasco de 100g | D6: Grama | E6: 376764 | F6: CTF/APP: FTE - Categoria: Indústria química; Código:15 | G6: 300 | H6: 1.18 | I6: =G6*ROUND(H6,2) -> 354 | J6: - | K6: SIM | L6: Aberto | M6: =VLOOKUP(H6,Intervalos!$B$3:$C$8,2,TRUE) -> 0.01
A7: - | B7: 2 | C7: 2-mercaptoetanol - Aspecto físico: líquido incolor, odor desagradável, Fórmula química C2H6SO, Peso molecular: 78,13, Pureza mínima: 99%, Número de referência química: CAS 60-24-2. Fornecimento em frasco de 1 litro. | D7: Litro | E7: 412799 | F7: CTF/APP: FTE - Categoria: Indústria Química; Código:15 | G7: 3 | H7: 267.2 | I7: =G7*ROUND(H7,2) -> 801.6 | J7: - | K7: SIM | L7: Aberto | M7: =VLOOKUP(H7,Intervalos!$B$3:$C$8,2,TRUE) -> 0,10%
A8: - | B8: 3 | C8: 4-metoxicinamato de 2-etilhexila (Octilmetoxicinamato ou Metoxicinamato de octila) -Aspecto físico: líquido límpido, levemente amarelado, fórmula química: C18H26O3, Peso molecular: 290,4 g,mol, Pureza mínima de 99%, Número de referência química: cas 5466-77-3. Fornecimento em frasco de 100ml. | D8: Mililitro | E8: 373026 | F8: CTF/APP: FTE - Categoria: Indústria química; Código:15 | G8: 1300 | H8: 4.91 | I8: =G8*ROUND(H8,2) -> 6383 | J8: - | K8: SIM | L8: Aberto | M8: =VLOOKUP(H8,Intervalos!$B$3:$C$8,2,TRUE) -> 0.01
A9: 1 | B9: 4 | C9: Acetato de amônio P.A A.C.S - Aspecto físico: Cristal branco, Peso molecular: 77,08 g/mol, Fórmula química: C2H7NO2, Pureza mínima: 98%, Número de referência química: CAS 631-61-8. Fornecimento em frasco de 500g | D9: Grama | E9: 366451 | F9: CTF/APP: FTE - Categoria: Indústria química; Código:15 | G9: 3500 | H9: 0.16 | I9: =G9*ROUND(H9,2) -> 560 | J9: =SUM(I9:I10) -> 1100 | K9: SIM | L9: Aberto | M9: =VLOOKUP(H9,Intervalos!$B$3:$C$8,2,TRUE) -> 0.01
B10: 5 | C10: Acetato de chumbo trihidratado P.A. A.C.S - Aspecto físico: Sólido branco, Peso molecular: 379,33 g/mol, Fórmula química: C4H6O4Pb.3H2O, Pureza mínima: 99%, Número de referência CAS: 6080-56-4. Fornecimento em frasco de 500g | D10: Grama | E10: 347136 | F10: CTF/APP: FTE - Categoria: Indústria química; Código:15 | G10: 2000 | H10: 0.27 | I10: =G10*ROUND(H10,2) -> 540 | L10: Aberto | M10: =VLOOKUP(H10,Intervalos!$B$3:$C$8,2,TRUE) -> 0.01
A11: - | B11: 6 | C11: Acetilacetona P.A - Aspecto físico: líquido incolor, Peso molecular: 100.12, Fórmula linear: CH3COCH2COCH3 (C5H8O2), Número de referência química: CAS 123-54-6 Sinônimo(s): ACAC, 2,4-Pentanedione. Fornecimento em frasco de 1L. | D11: Litro | E11: 382233 | F11: CTF/APP: FTE - Categoria: Indústria Química; Código:15 | G11: 5 | H11: 168.01 | I11: =G11*ROUND(H11,2) -> 840.05 | J11: - | K11: SIM | L11: Aberto | M11: =VLOOKUP(H11,Intervalos!$B$3:$C$8,2,TRUE) -> 0,10%
A12: - | B12: 7 | C12: Acetonitrila Uv/Hplc - Espectroscópico - Aspecto Físico: Líquido Incolor, Fórmula Química: C2h3n, Peso Molecular: 41,05 G/Mol, Pureza Mínima: 99,9%, Número De Referência Química: Cas 75-05-8. Fornecimento em frasco de 1 Litro | D12: Litro | E12: 347148 | F12: CTF/APP: FTE - Categoria: Indústria Química; Código:15 | G12: 35 | H12: 155.07 | I12: =G12*ROUND(H12,2) -> 5427.45 | J12: - | K12: SIM | L12: Aberto | M12: =VLOOKUP(H12,Intervalos!$B$3:$C$8,2,TRUE) -> 0,10%
A13: - | B13: 8 | C13: Ácido cítrico anidro PA - Aspecto físico: cristais translúcidos brancos. Fórmula química: C8H8O7, Peso molecular: 192,12g/mol, Pureza mínima: 99%, Número de referência química: 77-92-9. Fornecimento em frasco de 500g. | D13: Grama | E13: 351610 | F13: CTF/APP: FTE - Categoria: Indústria química; Código:15 | G13: 17000 | H13: 0.06 | I13: =G13*ROUND(H13,2) -> 1020 | J13: - | K13: SIM | L13: Aberto | M13: =VLOOKUP(H13,Intervalos!$B$3:$C$8,2,TRUE) -> 0.01
A14: - | B14: 9 | C14: Ácido etilenodiaminotetracético (EDTA) Sal dissódico dihidratado P.A. - Aspecto físico: Sólido Incolor, Peso molecular: 372,24 G/Mol, Fórmula química: C10h14n2o8na2.2h2o, Pureza mínima: 99%, Número de referência química Cas 6381-92-6. Fornecimento em frasco de 250g. | D14: Grama | E14: 366502 | F14: CTF/APP: FTE - Categoria: Indústria química; Código:15 | G14: 3750 | H14: 0.2 | I14: =G14*ROUND(H14,2) -> 750 | J14: - | K14: SIM | L14: Aberto | M14: =VLOOKUP(H14,Intervalos!$B$3:$C$8,2,TRUE) -> 0.01
A15: - | B15: 10 | C15: Ácido metafosfórico PA (para análise). Fórmula: (HPO3)n / Peso Molecular: (79,98)n / Teor (HPO3)N 33,5 – 36,5% / Teor (NaPO3)N 57,0 – 63,0% / Cloreto (Cl) MAx. 0,001% / Nitrato (NO3) MAx. 0,001% / Sulfato (SO4) MAx. 0,005% / Arsenico (As) MAx. 1 ppm / Metais pesados (como Pb) MAx. 0,005% / Ferro (Fe) MAx. 0,005%. CAS 37267-86-0 . ONU: 3260; Classe: 8; Número de Risco: 80; Embalagem: III. Apresentação: em bastão. Fornecimento em embalagens de 100g. | D15: Grama | E15: 393345 | F15: CTF/APP: FTE - Categoria: Indústria Química; Código:15 | G15: 400 | H15: 1.92 | I15: =G15*ROUND(H15,2) -> 768 | J15: - | K15: SIM | L15: Aberto | M15: =VLOOKUP(H15,Intervalos!$B$3:$C$8,2,TRUE) -> 0.01
A16: - | B16: 11 | C16: Ácido Tricloroacético P.A. A.C.S. - Aspecto físico: Sólido, Fórmula química: Cl3ccooh, Peso molecular: 163,39 G/Mol, Pureza: 99%, Número Referência Cas 76-03-9. Fornecimento Em Frasco De 100g. | D16: Grama | E16: 347504 | F16: CTF/APP: FTE - Categoria: Indústria química; Código:15 | G16: 1400 | H16: 0.37 | I16: =G16*ROUND(H16,2) -> 518 | J16: - | K16: SIM | L16: Aberto | M16: =VLOOKUP(H16,Intervalos!$B$3:$C$8,2,TRUE) -> 0.01
A17: - | B17: 12 | C17: Ácido trifluoracético (TFA) P.A - Aspecto físico: líquido incolor, odor característico, Fórmula química: CF3COOH, Peso molecular: 114,2, Pureza mínima: 99%, Número de Referência Química CAS 76-05-1. Fornecimento em frasco de 1L. | D17: Litro | E17: 363123 | F17: CTF/APP: FTE - Categoria: Indústria Química; Código:15 | G17: 2 | H17: 2270 | I17: =G17*ROUND(H17,2) -> 4540 | J17: - | K17: SIM | L17: Aberto | M17: =VLOOKUP(H17,Intervalos!$B$3:$C$8,2,TRUE) -> 0,10%
A18: - | B18: 13 | C18: Acrilamida. Aspecto físico: pó cristalino branco, inodoro. Fórmula química: CH2=CHCONH2 (PROP-2-ENAMIDA), Massa molar: 71,07, Grau de pureza mínima: 99%, Caracterísitca adicionar: reagente para eletroforese. Número de registro químico: CAS 79-06-1. Fornecimento em frasco de 100g | D18: Grama | E18: 407584 | F18: CTF/APP: FTE - Categoria: Indústria química; Código:15 | G18: 300 | H18: 1.99 | I18: =G18*ROUND(H18,2) -> 597 | J18: - | K18: SIM | L18: Aberto | M18: =VLOOKUP(H18,Intervalos!$B$3:$C$8,2,TRUE) -> 0.01
A19: 2 | B19: 14 | C19: Álcool etílico (etanol) P.A. - Aspecto físico líquido límpido, incolor, volátil, fórmula química c2h5oh, Peso molecular: 46,7, Grau de pureza mínima: 95% p/p, característica adicional reagente p.a., número de referência química cas 64-17-5. Fornecimento em Frasco de vidro de 1 litro. | D19: Litro | E19: 357786 | F19: CTF/APP: FTE - Categoria: Indústria Química; Código:15 | G19: 102 | H19: 31.07 | I19: =G19*ROUND(H19,2) -> 3169.14 | J19: =SUM(I19:I21) -> 40515.19 | K19: SIM | L19: Aberto | M19: =VLOOKUP(H19,Intervalos!$B$3:$C$8,2,TRUE) -> 0.05
B20: 15 | C20: Álcool Etílico (Etanol) Anidro Absoluto P.A. - Aspecto Físico Líquido Límpido, Incolor, Volátil, Teor Alcoólico Mínimo De 99,5¨Gl, Fórmula Química C2h5oh, Peso Molecular: 46,07 G/Mol, Grau De Pureza Mínimo De 99,7% P/P Inpm, Característica Adicional: Anidro, Absoluto, Número De Referência Química: Cas 64-17-5. Fornecimento em frasco de Vidro De 1 Litro | D20: Litro | E20: 379616 | F20: CTF/APP: FTE - Categoria: Indústria Química; Código:15 | G20: 779 | H20: 39.62 | I20: =G20*ROUND(H20,2) -> 30863.98 | L20: Aberto | M20: =VLOOKUP(H20,Intervalos!$B$3:$C$8,2,TRUE) -> 0.05
B21: 16 | C21: Álcool Etílico Absoluto Uv/Hplc - Aspecto Físico: Líquido Incolor, Fórmula Química: C2h5oh, Peso Molecular: 46,07 G/Mol, Pureza Mínima: 99,8%, Número De Referência Química Cas: 64-17-5. Fornecimento em Frasco de vidro de 1 Litro. | D21: Litro | E21: 349664 | F21: CTF/APP: FTE - Categoria: Indústria Química; Código:15 | G21: 63 | H21: 102.89 | I21: =G21*ROUND(H21,2) -> 6482.07 | L21: Aberto | M21: =VLOOKUP(H21,Intervalos!$B$3:$C$8,2,TRUE) -> 0,10%
A22: - | B22: 17 | C22: Álcool Etílico Comercial Hidratado 96 Gl (92,8 Inpm) - Aspecto Físico Líquido Límpido, Incolor, Volátil, Teor Alcoólico 95,1 A 96º Gl, Fórmula Química C2h5oh, Peso Molecular 46,7, Grau De Pureza 92,6% a 93,8% P/P Inpm, Característica Adicional Hidratado, Número De Referência Química Cas 64-17-5. Fornecimento em frasco de 1 Litro | D22: Litro | E22: 346632 | F22: CTF/APP: FTE - Categoria: Indústria Química; Código:15 | G22: 514 | H22: 14.28 | I22: =G22*ROUND(H22,2) -> 7339.92 | J22: - | K22: SIM | L22: Aberto | M22: =VLOOKUP(H22,Intervalos!$B$3:$C$8,2,TRUE) -> 0.03
A23: - | B23: 18 | C23: Álcool Isoamílico P.A. A.C.S - Aspecto Físico: Líquido, Fórmula Química: C5h12o, Peso Molecular: 88,15 G/Mol, Pureza Mínima: 98,5%, Número De Referência Química: Cas 123-51-3. Fornecimento em frasco de 1 Litro | D23: Litro | E23: 370365 | F23: CTF/APP: FTE - Categoria: Indústria Química; Código:15 | G23: 8 | H23: 73.07 | I23: =G23*ROUND(H23,2) -> 584.56 | J23: - | K23: SIM | L23: Aberto | M23: =VLOOKUP(H23,Intervalos!$B$3:$C$8,2,TRUE) -> 0.1
A24: 3 | B24: 19 | C24: Álcool Metílico (Metanol) Uv/Hplc: Aspecto Físico: Líquido Incolor, Fórmula Química: Ch4o, Peso Molecular: 32,04 G/Mol, Grau De Pureza: 99,8%, Número De Referência Química: Cas 67-56-1. Fornecimento Em Frasco de vidro De 1 Litro | D24: Litro | E24: 348267 | F24: CTF/APP: FTE - Categoria: Indústria Química; Código:15 | G24: 99 | H24: 57.79 | I24: =G24*ROUND(H24,2) -> 5721.21 | J24: =SUM(I24:I25) -> 13803.71 | K24: SIM | L24: Aberto | M24: =VLOOKUP(H24,Intervalos!$B$3:$C$8,2,TRUE) -> 0.1
B25: 20 | C25: Álcool metílico P.A - Aspecto físico: líquido límpido, incolor, odor característico, Fórmula química: CH4O anidro, Peso molecular: 32,04 g/mol, Pureza mínima: 99,8%, número de referência química: cas 67-56-1. Fornecimento em frasco de vidro de 1L. | D25: Litro | E25: 402694 | F25: CTF/APP: FTE - Categoria: Indústria Química; Código:15 | G25: 250 | H25: 32.33 | I25: =G25*ROUND(H25,2) -> 8082.5 | L25: Aberto | M25: =VLOOKUP(H25,Intervalos!$B$3:$C$8,2,TRUE) -> 0.05
A26: - | B26: 21 | C26: Álcool propílico (isopropílico ou iso-propanol) P.A A.C.S - Aspecto físico: líquido límpido, incolor, odor característico, Fórmula química: (ch3)2choh, Peso molecular: 60,10 g/mol, Grau de pureza mínima: 99,7%, Número de referência química: cas 67-63-0. Fornecimento em Frasco de 1 litro. | D26: Litro | E26: 380747 | F26: CTF/APP: FTE - Categoria: Indústria Química; Código:15 | G26: 93 | H26: 61.69 | I26: =G26*ROUND(H26,2) -> 5737.17 | J26: - | K26: SIM | L26: Aberto | M26: =VLOOKUP(H26,Intervalos!$B$3:$C$8,2,TRUE) -> 0.1
A27: - | B27: 22 | C27: Álcool terc-butílico - Aspecto físico: líquido límpido, incolor, odor forte característico, Peso molecular: 74,12 g/mol, Fórmula química: C4H9OH terciário (terc-butanol), grau de pureza mínima de 99%, Característica adicional: reagente P.A, número de referência química: cas 75-65-0. Fornecimento em frasco de vidro de 1L | D27: Litro | E27: 348259 | F27: CTF/APP: FTE - Categoria: Indústria Química; Código:15 | G27: 7 | H27: 118.11 | I27: =G27*ROUND(H27,2) -> 826.77 | J27: - | K27: SIM | L27: Aberto | M27: =VLOOKUP(H27,Intervalos!$B$3:$C$8,2,TRUE) -> 0,10%
A28: 4 | B28: 23 | C28: Azul de Bromotimol, Aspecto físico: Pó, Fórmula química: C27h28br2o5s , Peso molecular: 624,38 G/Mol, Número de referência química: Cas 7659-5. Fornecimento Em Frasco De 25g | D28: frasco de 25g | E28: 327396 | F28: CTF/APP: FTE - Categoria: Indústria química; Código:15 | G28: 15 | H28: 92.66 | I28: =G28*ROUND(H28,2) -> 1389.9 | J28: =SUM(I28:I30) -> 2084.68 | K28: SIM | L28: Aberto | M28: =VLOOKUP(H28,Intervalos!$B$3:$C$8,2,TRUE) -> 0.1
B29: 24 | C29: Azul de Coomassie Brilhante G-250 (C.I 42655) - Aspecto físico: sólido, Peso molecular: 854,04 g/mol, Fórmula química: C47H48N3NaO7S2, Número de referência química CAS: 6104-58-1. | D29: frasco de 25 g | E29: 358554 | F29: CTF/APP: FTE - Categoria: Indústria química; Código:15 | G29: 2 | H29: 180.22 | I29: =G29*ROUND(H29,2) -> 360.44 | L29: Aberto | M29: =VLOOKUP(H29,Intervalos!$B$3:$C$8,2,TRUE) -> 0,10%
B30: 25 | C30: Azul de Coomassie Brilhante R-250 (C.I 42660). Aspecto físico: sólido, Peso molecular: 825,99 g/mol, Fórmula química: C45H44N3NaO7S2, Número de referência química CAS: 6104-59-2. Fornecimento em frasco de 25g | D30: frasco de 25g | E30: 327539 | F30: CTF/APP: FTE - Categoria: Indústria química; Código:15 | G30: 2 | H30: 167.17 | I30: =G30*ROUND(H30,2) -> 334.34 | L30: Aberto | M30: =VLOOKUP(H30,Intervalos!$B$3:$C$8,2,TRUE) -> 0,10%
A31: - | B31: 26 | C31: Bismutato de sódio P.A. -Aspecto físico: sólido marrom claro, Fórmula química: NaBiO3, Pureza mínima: 80%, Peso molecular: 279,97 g/mol, Número de referência química: CAS 12232-99-4. Fornecimento em frasco de 100g. | D31: Grama | E31: 376161 | F31: CTF/APP: FTE - Categoria: Indústria Química; Código:15 | G31: 300 | H31: 3.7 | I31: =G31*ROUND(H31,2) -> 1110 | J31: - | K31: SIM | L31: Aberto | M31: =VLOOKUP(H31,Intervalos!$B$3:$C$8,2,TRUE) -> 0.01
A32: - | B32: 27 | C32: Brometo de Potássio P.A - Aspecto Físico: Sólido Cristalino Incolor, Fórmula Química: Kbr, Pureza Mínima: 99,0%, Peso Molecular: 119,00 G/Mol, Número De Referência Química: Cas 7758-02-3. Fornecimento em frasco de 500g. | D32: Grama | E32: 382315 | F32: CTF/APP: FTE - Categoria: Indústria Química; Código:15 | G32: 1500 | H32: 0.49 | I32: =G32*ROUND(H32,2) -> 735 | J32: - | K32: SIM | L32: Aberto | M32: =VLOOKUP(H32,Intervalos!$B$3:$C$8,2,TRUE) -> 0.01
A33: - | B33: 28 | C33: Calamina Extra Pura ≥98-105% - cas 8011-96-9 Pureza: 95% Aparência: pó rosa claro, CAS No.: 8011-96-9 Fórmula Molecular: Fe2O4Zn, Peso molecular: 241,0776. Fornecimento em frasco de 500g. | D33: Grama | E33: 626801 | F33: CTF/APP: FTE - Categoria: Indústria química; Código:15 | G33: 12000 | H33: 0.78 | I33: =G33*ROUND(H33,2) -> 9360 | J33: - | K33: SIM | L33: Aberto | M33: =VLOOKUP(H33,Intervalos!$B$3:$C$8,2,TRUE) -> 0.01
A34: - | B34: 29 | C34: Carbonato de Sódio Anidro P.A - Aspecto físico: pó branco, Fórmula química: Na3CO3, Peso molecular: 105,99 g/mol, Pureza mínima: 99,5%, Característica adicional: padrão primário, Número de referência química: CAS 497-19-8. Fornecimento em frasco de 500g. | D34: Grama | E34: 347959 | F34: CTF/APP: FTE - Categoria: Indústria química; Código:15 | G34: 14000 | H34: 0.05 | I34: =G34*ROUND(H34,2) -> 700 | J34: - | K34: SIM | L34: Aberto | M34: =VLOOKUP(H34,Intervalos!$B$3:$C$8,2,TRUE) -> 0.01
A35: - | B35: 30 | C35: Carboximetilcelulose sal sódico PA (CMC) - Éter carboximetílico de celulose, CAS 9004-32-4, Aspecto físico: sólido branco levemente amarelado. Principais usos: Análises químicas, agente de viscosidade e suspensão. Fornecimento em frasco de 500g. | D35: Grama | E35: 351917 | F35: CTF/APP: FTE - Categoria: Indústria química; Código:15 | G35: 6500 | H35: 0.13 | I35: =G35*ROUND(H35,2) -> 845 | J35: - | K35: SIM | L35: Aberto | M35: =VLOOKUP(H35,Intervalos!$B$3:$C$8,2,TRUE) -> 0.01
A36: - | B36: 31 | C36: Carvão ativo em pó P.A. - Aspecto fisico pó, Fórmula química::C Peso molecular: 12,01 g/mol, Numero de referência química: CAS 7440-44-0, informação adicional: purificado. Fornecimento em frasco de 500g. | D36: Grama | E36: 348073 | F36: CTF/APP: FTE - Categoria: Indústria química; Código:15 | G36: 11500 | H36: 0.05 | I36: =G36*ROUND(H36,2) -> 575 | J36: - | K36: SIM | L36: Aberto | M36: =VLOOKUP(H36,Intervalos!$B$3:$C$8,2,TRUE) -> 0.01
A37: - | B37: 32 | C37: Cloreto de 3-5-Dinitrobenzoíla, Aspecto físico Pó cristalino amarelo acastanhado, Peso molecular: 230,56, Fórmula química: (O2N)2C6H3COCL, Pureza mínima de 98%, Número de referência química CAS 99-33-2. Fornecimento em frasco de 100g. | D37: Grama | E37: 392934 | F37: CTF/APP: FTE - Categoria: Indústria química; Código:15 | G37: 300 | H37: 9.18 | I37: =G37*ROUND(H37,2) -> 2754 | J37: - | K37: SIM | L37: Aberto | M37: =VLOOKUP(H37,Intervalos!$B$3:$C$8,2,TRUE) -> 0.02
A38: 5 | B38: 33 | C38: Cloreto de Bário Dihidratado P.A. A.C.S - Aspecto Físico: Cristalino Branco, Peso Molecular: 244,26 G/Mol, Fórmula Química: Bacl2. 2H2o, Pureza Mínima: 99,5%, Número De Referência Química: Cas 10326-27-9. Fornecimento em frasco de 500g. | D38: Grama | E38: 366470 | F38: CTF/APP: FTE - Categoria: Indústria Química; Código:15 | G38: 9500 | H38: 0.16 | I38: =G38*ROUND(H38,2) -> 1520 | J38: =SUM(I38:I40) -> 4462.5 | K38: SIM | L38: Aberto | M38: =VLOOKUP(H38,Intervalos!$B$3:$C$8,2,TRUE) -> 0.01
B39: 34 | C39: Cloreto de cobalto(II) (oso) hexahidratado 6 H2O P.A. A.C.S, Aspecto físico: cristal rosa a vermelho, Peso molecular: 237,93, Fórmula química: CoCl2.6H2O, Pureza mínima: 99%, Número de referência química: CAS 7791-13-1. Fornecimento em frasco de 250g. | D39: Grama | E39: 400499 | F39: CTF/APP: FTE - Categoria: Indústria Química; Código:15 | G39: 3250 | H39: 0.67 | I39: =G39*ROUND(H39,2) -> 2177.5 | L39: Aberto | M39: =VLOOKUP(H39,Intervalos!$B$3:$C$8,2,TRUE) -> 0.01
B40: 35 | C40: Cloreto de cobre II dihidratado (ico) P.A. A.C.S. - Aspecto físico: sólido azul esverdeado, Fórmula química: CuCl2.2H2O, Pureza mínima: 99%, Peso Molecular: 170,48 g/mol, Número de referência química: CAS 7447-39-4. Fornecimento em frasco de 500g. | D40: Grama | E40: 437237 | F40: CTF/APP: FTE - Categoria: Indústria Química; Código:15 | G40: 1500 | H40: 0.51 | I40: =G40*ROUND(H40,2) -> 765 | L40: Aberto | M40: =VLOOKUP(H40,Intervalos!$B$3:$C$8,2,TRUE) -> 0.01
A41: 6 | B41: 36 | C41: Cloreto de Cromo (III) Hexahidratado 6 H2o P.A - Aspecto Físico: Cristal Preto Esverdeado À Violáceo, Fórmula Química: Crcl3.6h2o, Peso Molecular: 266,45 G/Mol, Pureza Mínima: 98%, Número De Referência Química Cas 10060-12-5. Fornecimento em frasco de 500g | D41: Grama | E41: 374566 | F41: CTF/APP: FTE - Categoria: Indústria Química; Código:15 | G41: 1500 | H41: 0.5 | I41: =G41*ROUND(H41,2) -> 750 | J41: =SUM(I41:I43) -> 1339.5 | K41: SIM | L41: Aberto | M41: =VLOOKUP(H41,Intervalos!$B$3:$C$8,2,TRUE) -> 0.01
B42: 37 | C42: Cloreto de estanho (II) Dihidratado P.A A.C.S - Aspecto físico: cristal finos brancos e fragmentos, Fórmula química: SnCl2.2H2O, Peso molecular: 225,65 g/mol, Pureza mínima: 98%, Número de referência química: CAS 10025-69-1. Fornecimento em frasco de 100g. | D42: Grama | E42: 366474 | F42: CTF/APP: FTE - Categoria: Indústria Química; Código:15 | G42: 300 | H42: 1.04 | I42: =G42*ROUND(H42,2) -> 312 | L42: Aberto | M42: =VLOOKUP(H42,Intervalos!$B$3:$C$8,2,TRUE) -> 0.01
B43: 38 | C43: Cloreto de estrôncio hexahidratado 6 H2O P.A A.C.S - Aspecto físico: cristalino branco, Fórmula química: SrCl2.6H2O, Peso molecular: 266,62 g/mol, Pureza mínima: 99%, Número de referência química: CAS 10025-70-4. Fornecimento em frasco de 250g. | D43: Grama | E43: 412997 | F43: CTF/APP: FTE - Categoria: Indústria Química; Código:15 | G43: 750 | H43: 0.37 | I43: =G43*ROUND(H43,2) -> 277.5 | L43: Aberto | M43: =VLOOKUP(H43,Intervalos!$B$3:$C$8,2,TRUE) -> 0.01
A44: 7 | B44: 39 | C44: Cloreto de ferro II (oso) Tetrahidratado 4 H2o P.A. A.C.S. Aspecto Físico: Sólido , Fórmula Química: Fecl2.4h2o, Peso Molecular: 198,91, Pureza Mínima: 99%, Número De Referência Química: Cas 13478-10-9. Fornecimento em frasco de 250g. | D44: Grama | E44: 359890 | F44: CTF/APP: FTE - Categoria: Indústria Química; Código:15 | G44: 750 | H44: 1.44 | I44: =G44*ROUND(H44,2) -> 1080 | J44: =SUM(I44:I45) -> 1425 | K44: SIM | L44: Aberto | M44: =VLOOKUP(H44,Intervalos!$B$3:$C$8,2,TRUE) -> 0.01
B45: 40 | C45: Cloreto de ferro III Hexahidratado P.A - Aspecto físico: pó cristalino, marrom amarelado, Composição: FeCl3·6H2O, Peso molecular: 270,30 g/mol, Pureza mínima: 99%, Número de referência química: CAS 10025-77-1. Fornecimento em frasco de 500g. | D45: Grama | E45: 415314 | F45: CTF/APP: FTE - Categoria: Indústria Química; Código:15 | G45: 1500 | H45: 0.23 | I45: =G45*ROUND(H45,2) -> 345 | L45: Aberto | M45: =VLOOKUP(H45,Intervalos!$B$3:$C$8,2,TRUE) -> 0.01
A46: - | B46: 41 | C46: Cloreto de Mercúrio (I) (Oso) P.A. A.C.S - Aspecto Físico: Sólido, Peso Molecular: 472.09 G/Mol, Fórmula Química: Hg2cl2 Pureza Mínima: 99,5%, Número De Referência Química: Cas 10112-91-1. Fornecimento em frasco de 100g | D46: Grama | E46: 352776 | F46: CTF/APP: FTE - Categoria: Indústria Química; Código:15 | G46: 300 | H46: 12.91 | I46: =G46*ROUND(H46,2) -> 3873 | J46: - | K46: SIM | L46: Aberto | M46: =VLOOKUP(H46,Intervalos!$B$3:$C$8,2,TRUE) -> 0.03
A47: 8 | B47: 42 | C47: Cloreto de litio P.A. A.C.S - Aspecto físico: cristais brancos, Peso molecular: 42,39 g/mol, Fórmula química: LiCl, Número de referência química: CAS 7447-41-8. Fornecimento em frasco de 250g | D47: Grama | E47: 352959 | F47: CTF/APP: FTE - Categoria: Indústria Química; Código:15 | G47: 1250 | H47: 2.45 | I47: =G47*ROUND(H47,2) -> 3062.5 | J47: =SUM(I47:I49) -> 4962.5 | K47: SIM | L47: Aberto | M47: =VLOOKUP(H47,Intervalos!$B$3:$C$8,2,TRUE) -> 0.01
B48: 43 | C48: Cloreto de potássio P.A A.C.S - Aspecto físico: pó ou cristal branco, Fórmula química: KCl, Peso molecular: 74,55 g/mol, Pureza mínima: 99%, Número de referência química CAS 7447-40-7. Fornecimento em frasco de 500g. | D48: Grama | E48: 357883 | F48: CTF/APP: FTE - Categoria: Indústria Química; Código:15 | G48: 14000 | H48: 0.08 | I48: =G48*ROUND(H48,2) -> 1120 | L48: Aberto | M48: =VLOOKUP(H48,Intervalos!$B$3:$C$8,2,TRUE) -> 0.01
B49: 44 | C49: Cloreto de Sódio P.A A.C.S - Aspecto Físico: Sólido Incolor, Fórmula Química: Nacl, Peso Molecular: 58,45 G/Mol, Pureza Mínima: 99%, Número De Referência Química Cas 7647-14-5. Fornecimento em frasco de 500g. | D49: Grama | E49: 347248 | F49: CTF/APP: FTE - Categoria: Indústria Química; Código:15 | G49: 26000 | H49: 0.03 | I49: =G49*ROUND(H49,2) -> 780 | L49: Aberto | M49: =VLOOKUP(H49,Intervalos!$B$3:$C$8,2,TRUE) -> 0.01
A50: 9 | B50: 45 | C50: Azul de Metileno Hidratado P.A - Aspecto físico: Pó Verde-Escuro, Fórmula química: C16h18cln3s. Xh20, Peso molecular: 319,86. Xh2o G/Mol, Características Adicionais: Ci52015, Número de referência química: Cas 122965-43-9. Fornecimento Em Frasco De 25g | D50: frasco de 25g | E50: 327396 | F50: CTF/APP: FTE - Categoria: Indústria química; Código:15 | G50: 45 | H50: 38.33 | I50: =G50*ROUND(H50,2) -> 1724.85 | J50: =SUM(I50:I53) -> 7292.39 | K50: SIM | L50: Aberto | M50: =VLOOKUP(H50,Intervalos!$B$3:$C$8,2,TRUE) -> 0.05
B51: 46 | C51: Azul de Timol P.A. - Aspecto físico: Sólido Cristalino Verde-Acastanhado, Formula química: C27h30o5s, Peso molecular: 466,59, Número de referência Cas: 76-61-9. Fornecimento Em Frasco De 25g | D51: frasco de 25g | E51: 374331 | F51: CTF/APP: FTE - Categoria: Indústria química; Código:15 | G51: 3 | H51: 125.33 | I51: =G51*ROUND(H51,2) -> 375.99 | L51: Aberto | M51: =VLOOKUP(H51,Intervalos!$B$3:$C$8,2,TRUE) -> 0,10%
B52: 47 | C52: Corante, tipo azul de toluidina - concentração solução a 1%, Característica adicional: CI 152040. Fornecimento em frasco de 1 litro | D52: Litro | E52: 433278 | F52: CTF/APP: FTE - Categoria: Indústria Química; Código:15 | G52: 13 | H52: 65.31 | I52: =G52*ROUND(H52,2) -> 849.03 | L52: Aberto | M52: =VLOOKUP(H52,Intervalos!$B$3:$C$8,2,TRUE) -> 0.1
B53: 48 | C53: Corante, Tipo Verde Bromocresol P.A A.C.S - Aspecto físico: Pó castanho claro, Fórmula química: C21H14Br4O5S, Peso molecular: 698,04 g/mol, Número de referência química: CAS 76-60-8. Fornecimento em frasco de 25g | D53: Frasco de 25g | E53: 327508 | F53: CTF/APP: FTE - Categoria: Indústria química; Código:15 | G53: 13 | H53: 334.04 | I53: =G53*ROUND(H53,2) -> 4342.52 | L53: Aberto | M53: =VLOOKUP(H53,Intervalos!$B$3:$C$8,2,TRUE) -> 0,10%
A54: - | B54: 49 | C54: D (+) Glicose (Dextrose) Anidra P.A A.C.S. - Aspecto físico: Pó Branco, Fórmula química: C6h12o6, Peso molecular: 108,16 G/Mol, Pureza mínima: 99,5%, Número de referência química: Cas 50-99-7. Fornecimento em frasco de 500g | D54: Grama | E54: 399022 | F54: CTF/APP: FTE - Categoria: Indústria química; Código:15 | G54: 9000 | H54: 0.06 | I54: =G54*ROUND(H54,2) -> 540 | J54: - | K54: SIM | L54: Aberto | M54: =VLOOKUP(H54,Intervalos!$B$3:$C$8,2,TRUE) -> 0.01
A55: - | B55: 50 | C55: Dimetilsulfóxido (Dmso) P.A.-A.C.S. - Aspecto Físico: Líquido Cheiro Desagradável, Fórmula Química: (Ch3)2so, Peso Molecular: 78,13 G/Mol, Pureza Mínima: 99%, Número De Referência Química Cas: 67-68-5. Fornecimento em frasco de 1 Litro | D55: Litro | E55: 352803 | F55: CTF/APP: FTE - Categoria: Indústria Química; Código:15 | G55: 10 | H55: 204.72 | I55: =G55*ROUND(H55,2) -> 2047.2 | J55: - | K55: SIM | L55: Aberto | M55: =VLOOKUP(H55,Intervalos!$B$3:$C$8,2,TRUE) -> 0,10%
A56: - | B56: 51 | C56: Dióxido de silício amorfo (sílica, fumada) - Aspecto físico: pó. Fórmula molecular: SiO2. Peso molecular: 60,08 g/mol. Pureza mínima: 99,8%. Número de referência química: CAS 112945-52-5. Fornecimento em frasco de 100 g. | D56: Grama | E56: 261257 | F56: CTF/APP: FTE - Categoria: Indústria Química; Código:15 | G56: 300 | H56: 7.94 | I56: =G56*ROUND(H56,2) -> 2382 | J56: - | K56: NÃO | L56: Aberto | M56: =VLOOKUP(H56,Intervalos!$B$3:$C$8,2,TRUE) -> 0.02
A57: - | B57: 52 | C57: Dioxido de Titânio P.A. (Bióxido de titânio) - Aspecto Físico: Sólido Branco, Fórmula Química: TiO2,, Peso Molecular: 79,87 g/mol, Pureza Mínima: 98%, Número De Referência Química: Cas 13463-67-7. Fornecimento em frasco de 500g | D57: Grama | E57: 347586 | F57: CTF/APP: FTE - Categoria: Indústria Química; Código:15 | G57: 2500 | H57: 0.16 | I57: =G57*ROUND(H57,2) -> 400 | J57: - | K57: SIM | L57: Aberto | M57: =VLOOKUP(H57,Intervalos!$B$3:$C$8,2,TRUE) -> 0.01
A58: - | B58: 53 | C58: DPPH (2,2-Diphenyl-1-picryl-hidrazil) ou (2,2-Diphenyl-1-picrylhidrazil) ou (1,1-difenil-2-picrilhidrazil). Reagente sólido em pó de cor verde. Peso molecular 394,32. Fórmula molecular C18H12N5O6. Pureza mínima de 98,5%. CAS Number 1898-66-4. Fornecimento em frasco de vidro de 1g. | D58: Grama | E58: 471027 | F58: CTF/APP: FTE - Categoria: Indústria Química; Código:15 | G58: 4 | H58: 1470.21 | I58: =G58*ROUND(H58,2) -> 5880.84 | J58: - | K58: SIM | L58: Aberto | M58: =VLOOKUP(H58,Intervalos!$B$3:$C$8,2,TRUE) -> 0,10%
A59: - | B59: 54 | C59: Eugenol [2-metoxi-4-(2-propen-1-il)fenol], Aspecto físico: líquido incolor à levemente amarelado, Fórmula química: C10H12O2, Peso molecular: 164,20, Pureza mínima: 99%, Número de referência química: CAS 97-53-0. Fornecimento em frasco de 1L. | D59: Litro | E59: 366987 | F59: CTF/APP: FTE - Categoria: Indústria Química; Código:15 | G59: 5 | H59: 496 | I59: =G59*ROUND(H59,2) -> 2480 | J59: - | K59: SIM | L59: Aberto | M59: =VLOOKUP(H59,Intervalos!$B$3:$C$8,2,TRUE) -> 0,10%
A60: - | B60: 55 | C60: Ferrocianeto de potássio trihidratado P.A A.C.S - Aspecto físico: Sólido cristalino amarelo claro, Fórmula química: K4Fe(CN)6.3H20, Peso molecular: 422,39 g/mol, Pureza mínima: 98,5%, Número de referência química: CAS 14459-95-1. Fornecimento em frasco de 500g. | D60: Grama | E60: 380603 | F60: CTF/APP: FTE - Categoria: Indústria química; Código:15 | G60: 1500 | H60: 0.27 | I60: =G60*ROUND(H60,2) -> 405 | J60: - | K60: SIM | L60: Aberto | M60: =VLOOKUP(H60,Intervalos!$B$3:$C$8,2,TRUE) -> 0.01
A61: - | B61: 56 | C61: Fluoresceína ácida – CI: 45350 - Aspecto físico: Pó Vermelho, Peso molecular: 332,32, Fórmula química: C20h12o5, Número de referência química: Cas 2321-07-5. Fornecimento em frasco de 100g. | D61: frasco de 100g | E61: 400534 | F61: CTF/APP: FTE - Categoria: Indústria química; Código:15 | G61: 3 | H61: 160.98 | I61: =G61*ROUND(H61,2) -> 482.94 | J61: - | K61: SIM | L61: Aberto | M61: =VLOOKUP(H61,Intervalos!$B$3:$C$8,2,TRUE) -> 0,10%
A62: - | B62: 57 | C62: Formaldeído (Formol), Aspecto Físico Líquido Incolor. Límpido, Fórmula Química H2co, Peso Molecular: 30,3, Pureza Mínima De 36,5%, Característica Adicional Reagente P.A. Acs, Número De Referência Química Cas 50-00-0. Fornecimento em frasco de 1 Litro | D62: Litro | E62: 380946 | F62: CTF/APP: FTE - Categoria: Indústria Química; Código:15 | G62: 153 | H62: 24.42 | I62: =G62*ROUND(H62,2) -> 3736.26 | J62: - | K62: SIM | L62: Aberto | M62: =VLOOKUP(H62,Intervalos!$B$3:$C$8,2,TRUE) -> 0.05
A63: - | B63: 58 | C63: Fosfato de Sódio Dibásico Anidro P.A A.C.S - Aspecto Físico: Pó Branco, Fórmula Química: Na2hpo4, Peso Molecular: 141,96 G/Mol, Pureza Mínima: 99%, Número De Referência Química Cas 7558-79-4. Fornecimento em frasco de 500g. | D63: Grama | E63: 347723 | F63: CTF/APP: FTE - Categoria: Indústria Química; Código:15 | G63: 4500 | H63: 0.09 | I63: =G63*ROUND(H63,2) -> 405 | J63: - | K63: SIM | L63: Aberto | M63: =VLOOKUP(H63,Intervalos!$B$3:$C$8,2,TRUE) -> 0.01
A64: - | B64: 59 | C64: Glicerina P.A A.C.S (Glicerol) - Aspecto Físico: Viscosa, Fórmula Química: C3h5(Oh)3, Peso Molecular: 92,10 G/Mol, Pureza Mínima: 99,5%, Número De Referência Química Cas: 56-81-5. Fornecimento em frasco de 1 Litro | D64: Litro | E64: 353077 | F64: CTF/APP: FTE - Categoria: Indústria Química; Código:15 | G64: 93 | H64: 53.09 | I64: =G64*ROUND(H64,2) -> 4937.37 | J64: - | K64: SIM | L64: Aberto | M64: =VLOOKUP(H64,Intervalos!$B$3:$C$8,2,TRUE) -> 0.1
A65: - | B65: 60 | C65: Hexanitrocobaltato de Sódio P.A A.C.S (Nitrito de sódio e cobalto III) - Aspecto Físico: Pó Amarelo-Escuro, Peso Molecular: 403,94 G/Mol, Fórmula Química: Con6na3o12, Pureza Mínima: 99%, Número De Referência Química: Cas 13600-98-1. Fornecimento em frasco de 25g. | D65: Grama | E65: 413284 | F65: CTF/APP: FTE - Categoria: Indústria Química; Código:15 | G65: 125 | H65: 3.73 | I65: =G65*ROUND(H65,2) -> 466.25 | J65: - | K65: SIM | L65: Aberto | M65: =VLOOKUP(H65,Intervalos!$B$3:$C$8,2,TRUE) -> 0.01
... A67: - | B67: 62 | C67: Hidreto de cálcio P.A. - peso molecular 42,9, aspecto físico granulos acinzentados, fórmula química CaH2, grau de pureza teor mínimo de 95%, número de referência química cas 7789-78-8. Fornecimento em frasco de 100g | D67: Grama | E67: 381980 | F67: CTF/APP: FTE - Categoria: Indústria Química; Código:15 | G67: 400 | H67: 15.76 | I67: =G67*ROUND(H67,2) -> 6304 | J67: - | K67: NÃO | L67: Aberto | M67: =VLOOKUP(H67,Intervalos!$B$3:$C$8,2,TRUE) -> 0.03
A68: 10 | B68: 63 | C68: Iodato de Potássio Anidro P.A A.C.S - Aspecto Físico: Sólido Branco, Peso Molecular: 214,00 G/Mol, Fórmula Química: Kio3, Pureza Mínima: 99,5%, Número De Referência Química: Cas 7758-05-6. Fornecimento em frasco de 250g. | D68: Grama | E68: 374025 | F68: CTF/APP: FTE - Categoria: Indústria Química; Código:15 | G68: 500 | H68: 1.22 | I68: =G68*ROUND(H68,2) -> 610 | J68: =SUM(I68:I70) -> 15201 | K68: SIM | L68: Aberto | M68: =VLOOKUP(H68,Intervalos!$B$3:$C$8,2,TRUE) -> 0.01
B69: 64 | C69: Iodeto de Potássio P.A A.C.S - Aspecto Físico: Sólido Cristalino Branco, Fórmula Química: Ki, Peso Molecular: 166,00 G/Mol, Pureza Mínima: 99,0%, Número De Referência Química: Cas 7681-11-0. Fornecimento em frasco de 250g. | D69: Grama | E69: 353071 | F69: CTF/APP: FTE - Categoria: Indústria Química; Código:15 | G69: 5750 | H69: 2.02 | I69: =G69*ROUND(H69,2) -> 11615 | L69: Aberto | M69: =VLOOKUP(H69,Intervalos!$B$3:$C$8,2,TRUE) -> 0.01
B70: 65 | C70: Iodo Ressublimado P.A. A.C.S: Aspecto físico: Sólido preto/violeta, Peso molecular: 253,81 g/mol, Fórmula química: I2, Pureza mínima: 99,8%, Densidade: 4,93 g/cm3, Número de referência química: CAS 7553-56-2. Fornecimento em frasco de 100g | D70: Grama | E70: 353038 | F70: CTF/APP: FTE - Categoria: Indústria Química; Código:15 | G70: 1200 | H70: 2.48 | I70: =G70*ROUND(H70,2) -> 2976 | L70: Aberto | M70: =VLOOKUP(H70,Intervalos!$B$3:$C$8,2,TRUE) -> 0.01
A71: - | B71: 66 | C71: Kit com solução de Perclorato de Cobalto e NIquel para Calibração em espectrometria UV Vis de Absorbância e Verificação de Linearidade na região do Espectro Visível na faixa de 0 a 0,8 UA em três níveis de concentrações + Solução de zeragem (Branco). Com Certificado de Analise e Rastreabilidade NIST. O fornecimento deverá ser realizado em 4 frascos de 50 mL cada. | D71: Frasco 200 mL | E71: 636219 | F71: CTF/APP: FTE - Categoria: Indústria Química; Código:15 | G71: 2 | H71: 659.67 | I71: =G71*ROUND(H71,2) -> 1319.34 | J71: - | K71: NÃO | L71: Aberto | M71: =VLOOKUP(H71,Intervalos!$B$3:$C$8,2,TRUE) -> 0,10%
A72: - | B72: 67 | C72: Magnésio Em Aparas Puro - Aspecto Físico Raspas Prateadas, Fórmula Química Mg, Peso Molecular: 24,31, Grau De Pureza Pureza Mínima De 99,8%, Número De Referência Química Cas 7439-95-4. Fornecimento em frasco de 250g | D72: Grama | E72: 374793 | F72: CTF/APP: FTE - Categoria: Indústria Química; Código:15 | G72: 1750 | H72: 0.55 | I72: =G72*ROUND(H72,2) -> 962.5 | J72: - | K72: SIM | L72: Aberto | M72: =VLOOKUP(H72,Intervalos!$B$3:$C$8,2,TRUE) -> 0.01
A73: - | B73: 68 | C73: Molibdato de amônio Tetrahidratado P.A A.C.S - Aspecto físico: Sólido cristalino branco, Peso molecular: 1235,86 g/mol, Fórmula química (NH4)6Mo7O24·4H2O, Pureza mínima de 99,0%, Número de referência química CAS 12054-85-2. Fornecimento em frasco de 250g. | D73: Grama | E73: 403993 | F73: CTF/APP: FTE - Categoria: Indústria Química; Código:15 | G73: 1250 | H73: 1.21 | I73: =G73*ROUND(H73,2) -> 1512.5 | J73: - | K73: SIM | L73: Aberto | M73: =VLOOKUP(H73,Intervalos!$B$3:$C$8,2,TRUE) -> 0.01
A74: - | B74: 69 | C74: Monoleato de sorbitano (Span 80®) - Aspecto físico: líquido oleoso amarelo a âmbar, Fórmula química: C24H44O6 Grau farmacêutico, Número de referência química CAS 1338-43-8. Fornecimento em frasco de 1L. | D74: Litro | E74: 443969 | F74: CTF/APP: FTE - Categoria: Indústria Química; Código:15 | G74: 5 | H74: 2481.5 | I74: =G74*ROUND(H74,2) -> 12407.5 | J74: - | K74: NÃO | L74: Aberto | M74: =VLOOKUP(H74,Intervalos!$B$3:$C$8,2,TRUE) -> 0,10%
A75: - | B75: 70 | C75: N',N'-Metilenobis (Acrilamida), Aspecto físico: pó. Fórmula química: C7H10N2O2, Peso molecular: 154,17, Grau de Pureza mínima: 99%, Número de referência química: CAS 110-26-9. Fornecimento em frasco de 100g | D75: Grama | E75: 437294 | F75: CTF/APP: FTE - Categoria: Indústria química; Código:15 | G75: 3200 | H75: 4.11 | I75: =G75*ROUND(H75,2) -> 13152 | J75: - | K75: SIM | L75: Aberto | M75: =VLOOKUP(H75,Intervalos!$B$3:$C$8,2,TRUE) -> 0.01
A76: - | B76: 71 | C76: N,N,N,N-Tetrametil-etilenodiamina (TEMED) P.A - Aspecto físico: líquido claro, incolor, odor de amônia, inflamável. Fórmula química: C6H16N2, Peso molecular: 116,21 g/mol, Pureza mínima: 99%, Número de referência química: CAS 110-18-9. Fornecimento em Frasco de 100ml | D76: Mililitro | E76: 353601 | F76: CTF/APP: FTE - Categoria: Indústria Química; Código:15 | G76: 800 | H76: 3.42 | I76: =G76*ROUND(H76,2) -> 2736 | J76: - | K76: SIM | L76: Aberto | M76: =VLOOKUP(H76,Intervalos!$B$3:$C$8,2,TRUE) -> 0.01
A77: - | B77: 72 | C77: Óxido de chumbo II (monóxido) P.A. - Aspecto físico: Sólido amarelo alaranjado , Peso Molecular: 223,20 G/Mol, Fórmula química: PbO, Pureza Mínima: 98%, Número de referência química: CAS 1317-36-8. Fornecimento em frasco de 500g | D77: Grama | E77: 359374 | F77: CTF/APP: FTE - Categoria: Indústria Química; Código:15 | G77: 1500 | H77: 0.18 | I77: =G77*ROUND(H77,2) -> 270 | J77: - | K77: SIM | L77: Aberto | M77: =VLOOKUP(H77,Intervalos!$B$3:$C$8,2,TRUE) -> 0.01
A78: - | B78: 73 | C78: Óxido de európio (III) - Aspecto físico: pó branco, Peso molecular: 351,93, Fórmula linear: Eu2O3, Pureza mínima: 99,9%, Número de referência química: CAS 1308-96-9. Fornecimento em frasco de 5g. | D78: Grama | E78: 381582 | F78: CTF/APP: FTE - Categoria: Indústria Química; Código:15 | G78: 15 | H78: 388 | I78: =G78*ROUND(H78,2) -> 5820 | J78: - | K78: NÃO | L78: Aberto | M78: =VLOOKUP(H78,Intervalos!$B$3:$C$8,2,TRUE) -> 0,10%
A79: 11 | B79: 74 | C79: Peróxido de hidrogênio P.A - Aspecto físico: líquido incolor, instável, corrosivo, Composição básica: H2O2, Peso molecular: 34,01 g/mol, pureza mínima: teor de 35% (130 volumes), número de referência química: cas 7722-84-1. Fornecimento em frasco de 1L. | D79: Litro | E79: 412697 | F79: CTF/APP: FTE - Categoria: Indústria Química; Código:15 | G79: 85 | H79: 31.58 | I79: =G79*ROUND(H79,2) -> 2684.3 | J79: =SUM(I79:I80) -> 3741.02 | K79: SIM | L79: Aberto | M79: =VLOOKUP(H79,Intervalos!$B$3:$C$8,2,TRUE) -> 0.05
B80: 75 | C80: Peróxido de hidrogênio P.A.A.C.S - Aspecto físico: líquido incolor, Fórmula química: H2O2, Peso molecular: 34,01 G/mol, Teor mínimo: 30%, Número de referência química: CAS 7722-84-1. Fornecimento em frasco de 1 litro | D80: Litro | E80: 361166 | F80: CTF/APP: FTE - Categoria: Indústria Química; Código:15 | G80: 28 | H80: 37.74 | I80: =G80*ROUND(H80,2) -> 1056.72 | L80: Aberto | M80: =VLOOKUP(H80,Intervalos!$B$3:$C$8,2,TRUE) -> 0.05
A81: 12 | B81: 76 | C81: Polietilenoglicol 1500 P.A. (PEG 1500) - Formula molecular: HO(C2H4O)nH Peso molecular: 5400 - 6600 Aspecto: Flocos Brancos ou Quase Brancos, Aspecto em Solução: Solução Límpida Índice de Hidroxila (mg/KOH):16,00 – 22,00 Viscosidade à 100°C: (cSt)250,0 – 390,0 Densidade a 20°C: 1,1140 - 1,1390 Resíduos de ignição: Máx. 0,25% Metais pesados: Máx. 3,0 ppm Arsênico: Máx.0,25% 1,4 Dioxano: Máx.5,0 ppm pH (sol a 5%): 4,50 - 7,50 Umidade: Máx. 1,0% CAS: 25322-68-3. Fornecimento em frasco de 500 gramas. | D81: Grama | E81: 416786 | F81: CTF/APP: FTE - Categoria: Indústria química; Código:15 | G81: 1500 | H81: 0.2 | I81: =G81*ROUND(H81,2) -> 300 | J81: =SUM(I81:I82) -> 1093.44 | K81: SIM | L81: Aberto | M81: =VLOOKUP(H81,Intervalos!$B$3:$C$8,2,TRUE) -> 0.01
B82: 77 | C82: Polietilenoglicol 400 (PEG 400) - Aspecto físico: líquido límpido, higroscópico, Fórmula química: H(OCH2CH2)nOH, Grau farmacêutico, Número de referência química CAS 25322-68-3. Fornecimento em frasco de 1L. | D82: Litro | E82: 412418 | F82: CTF/APP: FTE - Categoria: Indústria Química; Código:15 | G82: 8 | H82: 99.18 | I82: =G82*ROUND(H82,2) -> 793.44 | L82: Aberto | M82: =VLOOKUP(H82,Intervalos!$B$3:$C$8,2,TRUE) -> 0.1
A83: - | B83: 78 | C83: Sódio Metálico - Aspecto físico: pedaços, cor acinzentada, inodoro, Peso molecular: 40,08, Fórmula química: Na, Grau de pureza mínima de 98%, Característica adicional: reagente, número de referência química cas 7440-23-05. Fornecimento em frasco de 250g | D83: Grama | E83: 381978 | F83: CTF/APP: FTE - Categoria: Indústria Química; Código:15 | G83: 750 | H83: 1.22 | I83: =G83*ROUND(H83,2) -> 915 | J83: - | K83: SIM | L83: Aberto | M83: =VLOOKUP(H83,Intervalos!$B$3:$C$8,2,TRUE) -> 0.01
A84: 13 | B84: 79 | C84: Padrão de condutividade: 146,9 µS/cm. Fornecimento em frasco de 250ml | D84: frasco de 250ml | E84: 352190 | F84: CTF/APP: FTE - Categoria: Indústria Química; Código:15 | G84: 5 | H84: 66.38 | I84: =G84*ROUND(H84,2) -> 331.9 | J84: =SUM(I84:I87) -> 1441.32 | K84: SIM | L84: Aberto | M84: =VLOOKUP(H84,Intervalos!$B$3:$C$8,2,TRUE) -> 0.1
B85: 80 | C85: Solução tampão (Buffer solution) - pH 10,00 +/- 0,01 a 25C +/- 0,2. Fornecimento em frasco de 500ml | D85: frasco de 500ml | E85: 289050 | F85: CTF/APP: FTE - Categoria: Indústria Química; Código:15 | G85: 12 | H85: 26.92 | I85: =G85*ROUND(H85,2) -> 323.04 | L85: Aberto | M85: =VLOOKUP(H85,Intervalos!$B$3:$C$8,2,TRUE) -> 0.05
B86: 81 | C86: Solução tampão (Buffer solution) - pH 4,00 +/- 0,02 a 25C +/- 0,2. Fornecimento em frasco de 500ml | D86: frasco de 500ml | E86: 234416 | F86: CTF/APP: FTE - Categoria: Indústria Química; Código:15 | G86: 28 | H86: 18.96 | I86: =G86*ROUND(H86,2) -> 530.88 | L86: Aberto | M86: =VLOOKUP(H86,Intervalos!$B$3:$C$8,2,TRUE) -> 0.03
B87: 82 | C87: Solução tampão (Buffer solution) - pH 7,00 +/- 0,02 a 25C +/- 0,2. Fornecimento em frasco de 500ml | D87: frasco de 500ml | E87: 234417 | F87: CTF/APP: FTE - Categoria: Indústria Química; Código:15 | G87: 14 | H87: 18.25 | I87: =G87*ROUND(H87,2) -> 255.5 | L87: Aberto | M87: =VLOOKUP(H87,Intervalos!$B$3:$C$8,2,TRUE) -> 0.03
A88: 14 | B88: 83 | C88: Sulfato de cobre II (ico) pentahidratado P.A A.C.S - Aspecto físico: Sólido cristalino azul, Fórmula química: CuSO4.5H2O, Peso molecular: 249,68 g/mol, Pureza mínima: 98%, Número de referência química CAS 7758-99-8. Fornecimento em frasco de 250g. | D88: Grama | E88: 345770 | F88: CTF/APP: FTE - Categoria: Indústria Química; Código:15 | G88: 6000 | H88: 0.25 | I88: =G88*ROUND(H88,2) -> 1500 | J88: =SUM(I88:I89) -> 1780 | K88: SIM | L88: Aberto | M88: =VLOOKUP(H88,Intervalos!$B$3:$C$8,2,TRUE) -> 0.01
B89: 84 | C89: Sulfato de ferro (II) (Sulfato ferroso) Heptahidratado P.A A.C.S - Aspecto físico: Sólido, Fórmula química: FeSO4.7H2O, Peso molecular: 278,01 g/mol, Pureza mínima: 99%, Número de referência química: CAS 7782-63-0. Fornecimento em frasco de 500g. | D89: Grama | E89: 437245 | F89: CTF/APP: FTE - Categoria: Indústria Química; Código:15 | G89: 4000 | H89: 0.07 | I89: =G89*ROUND(H89,2) -> 280 | L89: Aberto | M89: =VLOOKUP(H89,Intervalos!$B$3:$C$8,2,TRUE) -> 0.01
A90: 15 | B90: 85 | C90: Sulfato de ferro III (ico) Hidratado P.A A.C.S - Aspecto físico: Sólido amarelo, Fórmula química: Fe2(SO4)3.XH2O, Peso molecular: 399,88 xH20 g/mol, Teor de ferro: 21-23%, Número de referência química CAS: 15244-10-7. Fornecimento em frasco de 500g | D90: Grama | E90: 437247 | F90: CTF/APP: FTE - Categoria: Indústria Química; Código:15 | G90: 1500 | H90: 0.29 | I90: =G90*ROUND(H90,2) -> 435 | J90: =SUM(I90:I91) -> 825 | K90: SIM | L90: Aberto | M90: =VLOOKUP(H90,Intervalos!$B$3:$C$8,2,TRUE) -> 0.01
B91: 86 | C91: Sulfato de magnésio anidro P.A A.C.S - Aspecto físico: Sólido (pó), Fórmula química: MgSO4, Peso molecular: 120,37 g/mol, Pureza mínima: 98%, Número de referência química: CAS 7487-88-9. Fornecimento em frasco de 500g. | D91: Grama | E91: 352214 | F91: CTF/APP: FTE - Categoria: Indústria Química; Código:15 | G91: 1500 | H91: 0.26 | I91: =G91*ROUND(H91,2) -> 390 | L91: Aberto | M91: =VLOOKUP(H91,Intervalos!$B$3:$C$8,2,TRUE) -> 0.01
A92: 16 | B92: 87 | C92: Sulfato de níquel hexahidratado P.A - Aspecto físico: Sólido cristalino azul-esverdeado, Fórmula química: NiSO4.6H2O Peso molecular: 262,85 g/mol, Pureza mínima: 98%, Número de referência química: CAS 10101-97-0. Fornecimento em frasco de 500g | D92: Grama | E92: 359284 | F92: CTF/APP: FTE - Categoria: Indústria Química; Código:15 | G92: 1500 | H92: 0.23 | I92: =G92*ROUND(H92,2) -> 345 | J92: =SUM(I92:I93) -> 705 | K92: SIM | L92: Aberto | M92: =VLOOKUP(H92,Intervalos!$B$3:$C$8,2,TRUE) -> 0.01
B93: 88 | C93: Sulfato de sódio anidro P.A. A.C.S - Aspecto Físico: Sólido branco, Peso Molecular: 142,04 g/mol, Fórmula Química: Na2SO4,Pureza Mínima: 99%, Número de Referência Química CAS 7757-82-6. Fornecimento em frasco de 500g. | D93: Grama | E93: 380910 | F93: CTF/APP: FTE - Categoria: Indústria Química; Código:15 | G93: 9000 | H93: 0.04 | I93: =G93*ROUND(H93,2) -> 360 | L93: Aberto | M93: =VLOOKUP(H93,Intervalos!$B$3:$C$8,2,TRUE) -> 0.01
A94: 17 | B94: 89 | C94: Sulfato de zinco - Aspecto físico: pó ou grânulos brancos cristalinos, higroscópicos. Fórmila química: ZnSO4.H2O, Massa molecular: 179,45 g/mol, Grau de pureza mínima: 98%, Número de referência química CAS 7446-19-7. Fornecimento em frasco de 1kg. | D94: Quilograma | E94: 369003 | F94: CTF/APP: FTE - Categoria: Indústria Química; Código:15 | G94: 9 | H94: 73.71 | I94: =G94*ROUND(H94,2) -> 663.39 | J94: =SUM(I94:I95) -> 1203.39 | K94: SIM | L94: Aberto | M94: =VLOOKUP(H94,Intervalos!$B$3:$C$8,2,TRUE) -> 0.1
B95: 90 | C95: Sulfato de Zinco heptahidratado P.A A.C.S - Aspecto físico: Sólido cristalino branco, Fórmula química: ZnSO4.7H2O Peso molecular: 287,56, Pureza mínima: 99%, Número de referência química: CAS 7446-20-0. Fornecimento em frasco de 500g. | D95: Grama | E95: 346778 | F95: CTF/APP: FTE - Categoria: Indústria Química; Código:15 | G95: 9000 | H95: 0.06 | I95: =G95*ROUND(H95,2) -> 540 | L95: Aberto | M95: =VLOOKUP(H95,Intervalos!$B$3:$C$8,2,TRUE) -> 0.01
A96: - | B96: 91 | C96: Sulfeto de amônio 20% p/p P.A Aspecto físico: líquido, Peso molecular: 68,14 g/mol, Fórmula química: (NH4)2.S, Teor: 19-21%, Número de referência química: CAS 12135-76-1. Fornecimento em frasco de 1L. | D96: Litro | E96: 360413 | F96: CTF/APP: FTE - Categoria: Indústria Química; Código:15 | G96: 10 | H96: 192.51 | I96: =G96*ROUND(H96,2) -> 1925.1 | J96: - | K96: SIM | L96: Aberto | M96: =VLOOKUP(H96,Intervalos!$B$3:$C$8,2,TRUE) -> 0,10%
A97: - | B97: 92 | C97: Sulfeto de ferro P.A - aspecto físico pó granular ou lascas, marrom escuro, Peso molecular: 87,92, fórmula química FeS, grau de pureza mínimo de 29% de enxofre, número de referência química cas 1317-37-9. Fornecimento em frasco de 500g | D97: Grama | E97: 360392 | F97: CTF/APP: FTE - Categoria: Indústria Química; Código:15 | G97: 1500 | H97: 0.28 | I97: =G97*ROUND(H97,2) -> 420 | J97: - | K97: SIM | L97: Aberto | M97: =VLOOKUP(H97,Intervalos!$B$3:$C$8,2,TRUE) -> 0.01
A98: - | B98: 93 | C98: Tioacetamida P.A A.C.S - Aspecto físico: Sólido cristalino, Fórmula química: C2H5NS, Peso molecular: 75,13 g/mol, Pureza mínima: 99%,Número de referência química: CAS 62-55-5. Fornecimento em frasco de 100g. | D98: Grama | E98: 371031 | F98: CTF/APP: FTE - Categoria: Indústria química; Código:15 | G98: 200 | H98: 3.6 | I98: =G98*ROUND(H98,2) -> 720 | J98: - | K98: SIM | L98: Aberto | M98: =VLOOKUP(H98,Intervalos!$B$3:$C$8,2,TRUE) -> 0.01
A99: 18 | B99: 94 | C99: Tiocianato de potássio P.A A.C.S - Aspecto físico: cristais incolores, Fórmula química: KSCN, Peso molecular: 97,18 g/mol, Pureza mínima: 99%, Número de referência química: CAS 333-20-0. Fornecimento em frasco de 500g | D99: Grama | E99: 437627 | F99: CTF/APP: FTE - Categoria: Indústria Química; Código:15 | G99: 2500 | H99: 0.33 | I99: =G99*ROUND(H99,2) -> 825 | J99: =SUM(I99:I100) -> 1095 | K99: SIM | L99: Aberto | M99: =VLOOKUP(H99,Intervalos!$B$3:$C$8,2,TRUE) -> 0.01
B100: 95 | C100: Tiossulfato de sódio anidro P.A. A.C.S. Aspecto físico: cristal branco, solúvel em água, inodoro. Fórmula química: Na2S2O3, Massa molar: 158,11 g/mol, Grau de pureza: mínima de 98%. Número de referência química: CAS: 7772-98-7. Fornecimento em frasco de 500g. | D100: Grama | E100: 347745 | F100: CTF/APP: FTE - Categoria: Indústria Química; Código:15 | G100: 1000 | H100: 0.27 | I100: =G100*ROUND(H100,2) -> 270 | L100: Aberto | M100: =VLOOKUP(H100,Intervalos!$B$3:$C$8,2,TRUE) -> 0.01
A101: - | B101: 96 | C101: Triton X-100 P.A: Reagente analítico, Dosagem: 98-100%, número de referência química CAS 9002-93-1. Fornecimento em Frasco de 1 litro. | D101: Litro | E101: 376492 | F101: CTF/APP: FTE - Categoria: Indústria Química; Código:15 | G101: 2 | H101: 234.85 | I101: =G101*ROUND(H101,2) -> 469.7 | J101: - | K101: SIM | L101: Aberto | M101: =VLOOKUP(H101,Intervalos!$B$3:$C$8,2,TRUE) -> 0,10%
A102: - | B102: 97 | C102: Trolox (6-Hidroxi-2,5,7,8-tetrametilchroman-2-Ácido carboxílico) ou 6-Hydroxy-2,5,7,8-Tetramethylchromane-2-Carboxylic Acid. Reagente sólido em pó. Peso molecular 250,29. Fórmula molecular C14H18O4. Pureza 97% CAS Number 53188-07-1. Fornecimento em frasco de vidro com 1g armazenado sob gás inerte. | D102: Grama | E102: 357729 | F102: CTF/APP: FTE - Categoria: Indústria química; Código:15 | G102: 3 | H102: 849 | I102: =G102*ROUND(H102,2) -> 2547 | J102: - | K102: SIM | L102: Aberto | M102: =VLOOKUP(H102,Intervalos!$B$3:$C$8,2,TRUE) -> 0,10%
...

Sheet Intervalos
B2: Valor Unitário Estimado (Faixa) | C2: Diferença Mínima de Valores / Percentuais de Lances | E2: Interpretação
B3: 0.01 | C3: 0.01 | E3: R$ 0,01 - R$ 5,00 => R$ 0,01
B4: 5 | C4: 0.02 | E4: R$ 5,01 - R$ 10,00 => R$ 0,02
B5: 10 | C5: 0.03 | E5: R$ 10,01 - R$ 20,00 => R$ 0,03
B6: 20 | C6: 0.05 | E6: R$ 20,01 - R$ 50,00 => R$ 0,05
B7: 50 | C7: 0.1 | E7: R$ 50,01 - R$ 100,00 => R$ 0,10
B8: 100 | C8: 0,10% | E8: Acima de R$ 100,00 => 0,10%
