Workbook

Sheet Anexo III
A1: PRÓ-REITORIA DE ADMINISTRAÇÃO
A2: COORDENAÇÃO DE MATERIAIS
A3: ANEXO III - PLANILHA ESTIMATIVA DE DESCRIÇÃO E PREÇOS
A5: GRUPO | B5: ITEM LICITAÇÃO | C5: DESCRIÇÃO/ ESPECIFICAÇÃO | D5: UNIDADE DE MEDIDA | E5: SUGESTÃO DE CATMAT | F5: INFORMAÇÕES ADICIONAIS | G5: QUANTIDADE | H5: VALOR UNITÁRIO | I5: VALOR TOTAL | J5: VALOR TOTAL DO GRUPO | K5: EXCLUSIVO ME/EPP | L5: MODO DE DISPUTA | M5: INTERVALO LANCES
A6: - | B6: 1 | C6: Avental confeccionado em não tecido TNT, 100% polipropileno, impermeável, atóxico, hipoalergênico, resistente, confortável, maleável. Gramatura 30 g/m2 (especificada no rótulo), manga longa, punho em látex, fechamento no pescoço e na cintura através de tiras ou fita adesiva. Não velcro. Na cor branca. Dimensões: largura: 60 cm e comprimento: 90 cm. Não Estéril, descartável. Fornecimento em pacote com 10 unidades. | D6: Unidade | E6: 481513 | F6: Anvisa | G6: 4690 | H6: 3.18 | I6: =G6*ROUND(H6,2) -> 14914.2 | J6: - | K6: SIM | L6: Aberto | M6: =VLOOKUP(H6,Intervalos!$B$3:$C$8,2,TRUE()) -> 0.01
A7: - | B7: 2 | C7: Avental de proteção para quimioterapia, em 100% polipropileno, internamente em laminado e externamente laminado absorvível, medindo 110cm a 125cm de comprimento X 140cm a 160cm de largura, gramatura de 50 a 60g/m, com punho elástico, com 2 tiras no pescoço e 2 tiras na cintura, atóxico, hipoalergênico, descartável, de uso único. | D7: Unidade | E7: 481363 | F7: Anvisa | G7: 500 | H7: 20.21 | I7: =G7*ROUND(H7,2) -> 10105 | J7: - | K7: SIM | L7: Aberto | M7: =VLOOKUP(H7,Intervalos!$B$3:$C$8,2,TRUE()) -> 0.05
A8: - | B8: 3 | C8: Avental descartável manga longa Gramatura 20g; Confeccionado em TNT - Tecido Não Tecido; 100% polipropileno; com tiras para amarração; Material Descartável; Atóxico; Cor: Branco.; Gramatura: 20gr; Dimensões: largura: 60 cm e comprimento: 90 cm. | D8: Embalagem com 10 unidades | E8: 481513 | F8: Anvisa | G8: 13 | H8: 23.25 | I8: =G8*ROUND(H8,2) -> 302.25 | J8: - | K8: SIM | L8: Aberto | M8: =VLOOKUP(H8,Intervalos!$B$3:$C$8,2,TRUE()) -> 0.05
A9: - | B9: 4 | C9: Avental descartável sem manga TNT 20g. Confeccionado em TNT - Tecido Não Tecido 100% polipropileno. Material Descartável. Atóxico. Tamanho: único. Cor: Branco. Gramatura: 20gr. Fornecimento em pacotes com 10 unidades. | D9: Unidade | E9: 295034 | F9: Anvisa | G9: 180 | H9: 2.12 | I9: =G9*ROUND(H9,2) -> 381.6 | J9: - | K9: SIM | L9: Aberto | M9: =VLOOKUP(H9,Intervalos!$B$3:$C$8,2,TRUE()) -> 0.01
A10: - | B10: 5 | C10: Avental descartável, manga longa, gramatura 40, confeccionado com TNT, com tiras para amarração. Dimensões: largura: 60 cm e comprimento: 90 cm. Fornecimento em embalagem com 10 unidades. | D10: Unidade | E10: 481513 | F10: Anvisa | G10: 11820 | H10: 4.42 | I10: =G10*ROUND(H10,2) -> 52244.4 | J10: - | K10: SIM | L10: Aberto | M10: =VLOOKUP(H10,Intervalos!$B$3:$C$8,2,TRUE()) -> 0.01
A11: - | B11: 6 | C11: Avental emborrachado impermeável. Descrição: avental universal. Aplicação: barreira física contra respingos diversos. Características: dimensão de 66 cm de largura por 1 M de comprimento. Composição: couro sintético (PVC). Validade: indeterminada. Certificado de Aprovação (CA) emitido pelo Órgão competente. | D11: Unidade | E11: 318251 | F11: - | G11: 14 | H11: 27.57 | I11: =G11*ROUND(H11,2) -> 385.98 | J11: - | K11: SIM | L11: Aberto | M11: =VLOOKUP(H11,Intervalos!$B$3:$C$8,2,TRUE()) -> 0.05
A12: - | B12: 7 | C12: Avental impermeável de PVC com forro em tecido de poliéster, com alça no pescoço e tiras para regulagem soldadas eIetronicamente e utilizadas para ajuste nas costas. Tamanho: 1.20 m x 0.60 m. Certificado de Aprovação (CA) emitido pelo Órgão competente. | D12: Unidade | E12: 240136 | F12: - | G12: 15 | H12: 24.6 | I12: =G12*ROUND(H12,2) -> 369 | J12: - | K12: SIM | L12: Aberto | M12: =VLOOKUP(H12,Intervalos!$B$3:$C$8,2,TRUE()) -> 0.05
A13: - | B13: 8 | C13: Cartucho para Vapores Orgânicos e Gases Ácidos 6003 - compatível com máscara 3M (2 Unidades - par) - Filtro Químico para Vapores Orgânicos/Gases Ácidos; Embalagem com 2 unidades. Certificado de Aprovação (CA) emitido pelo Órgão competente. | D13: caixa com 2 unidades | E13: 377790 | G13: 3 | H13: 103.34 | I13: =G13*ROUND(H13,2) -> 310.02 | J13: - | K13: SIM | L13: Aberto | M13: =VLOOKUP(H13,Intervalos!$B$3:$C$8,2,TRUE()) -> 0,10%
A14: - | B14: 9 | C14: Cartucho químico multi gases para máscara respirador meia peça facial, contendo carvão ativado tratado. Aprovado para vapores orgânicos, amônia, metilamina, cloro cloreto de hidrogênio, bióxido de enxofre, bióxido de cloro, fluoreto de hidrogênio, formaldeído, e sulfeto de hidrogênio. Conformidade com as normas NBR 13694, 13696, 13697 / 96´.Certificado de Aprovação (CA) emitido pelo Órgão competente. | D14: Unidade | E14: 293572 | F14: - | G14: 10 | H14: 73.91 | I14: =G14*ROUND(H14,2) -> 739.1 | J14: - | K14: SIM | L14: Aberto | M14: =VLOOKUP(H14,Intervalos!$B$3:$C$8,2,TRUE()) -> 0.1
A15: - | B15: 10 | C15: Fechadura eletrônica com biometria, senha, cartão e chave. Material: aço inox. Tipo de pilha: 4 AAA – Alcalina. Componentes Inclusos: Chaves, máquina, kit de instalação, guia rápido. | D15: Unidade | E15: 286239 | F15: - | G15: 4 | H15: 1082.65 | I15: =G15*ROUND(H15,2) -> 4330.6 | J15: - | K15: SIM | L15: Aberto | M15: =VLOOKUP(H15,Intervalos!$B$3:$C$8,2,TRUE()) -> 0,10%
A16: - | B16: 11 | C16: Jaleco Industrial Brim Pesado Azul Manga Curta Tamanho G Especificações Técnicas: Material: 100 % algodão (Brim pesado profissional); Costura dupla em todo fechamento; Fechamento: botões; Manga: Curta; Tamanho: G. | D16: Unidade | E16: 257415 | F16: - | G16: 3 | H16: 92.76 | I16: =G16*ROUND(H16,2) -> 278.28 | J16: - | K16: NÃO | L16: Aberto | M16: =VLOOKUP(H16,Intervalos!$B$3:$C$8,2,TRUE()) -> 0.1
A17: - | B17: 12 | C17: Jaleco industrial brim pesado. Cor azul. Manga curta. Tamanho M. Material 100 % algodão (Brim pesado profissional). Costura dupla em todo fechamento. Fechamento: botões. Manga Curta. Tamanho M. | D17: Unidade | E17: 250134 | F17: - | G17: 5 | H17: 91.64 | I17: =G17*ROUND(H17,2) -> 458.2 | J17: - | K17: NÃO | L17: Aberto | M17: =VLOOKUP(H17,Intervalos!$B$3:$C$8,2,TRUE()) -> 0.1
A18: - | B18: 13 | C18: Jaleco, material TNT, descartável, tipo manga longa, características adicionais aberto na frente. Tamanho a definir. | D18: Embalagem c/ 10 unidades | E18: 321714 | F18: Anvisa | G18: 557 | H18: 29.9 | I18: =G18*ROUND(H18,2) -> 16654.3 | J18: - | K18: SIM | L18: Aberto | M18: =VLOOKUP(H18,Intervalos!$B$3:$C$8,2,TRUE()) -> 0.05
A19: - | B19: 14 | C19: Kit emergência ambiental - Contenção de vazamento para óleo e líquido químico - Bolsa 35 L. Conteúdo Kit Ambiental: 1 Bolsa 35 litros; 5 Mantas de contenção absorvente óleo e derivados branca; 5 Mantas de contenção absorvente líquido químico verde; 1 Cordão de contenção absorvente óleo e derivados branca; 1 Cordão de contenção absorvente líquido químico verde; 1 Travesseiro de contenção absorvente óleo e derivados branca; 1 Travesseiro de contenção absorvente líquido químico verde; 1,5Kg de turfa; 1 Fita de Sinalização Zebrada Amarelo e Preto; 1 Par de luva nitrílica AF15 TAM 10 com Certificado de Aprovação; 1 - Óculos de segurança com Certificado de Aprovação; 1 Saco plástico 100 litros; 1 Pá Antifaiscante; 1 Placa "Perigo Afaste-se". | D19: Unidade | E19: 605952 | F19: - | G19: 5 | H19: 399.03 | I19: =G19*ROUND(H19,2) -> 1995.15 | J19: - | K19: NÃO | L19: Aberto | M19: =VLOOKUP(H19,Intervalos!$B$3:$C$8,2,TRUE()) -> 0,10%
A20: 1 | B20: 15 | C20: Luva de proteção em PVC, palma e dorso antiderrapante, modelo 5 dedos, palma e dorso antiderrapante, forrada internamente com malha sintética felpuda ou algodão, punho reto sem antiderrapante. Tamanho P. Certificado de Aprovação (CA) emitido pelo Órgão competente. | D20: Par | E20: 273361 | F20: - | G20: 13 | H20: 21.39 | I20: =G20*ROUND(H20,2) -> 278.07 | J20: =SUM(I20:I22) -> 1197.84 | K20: SIM | L20: Aberto | M20: =VLOOKUP(H20,Intervalos!$B$3:$C$8,2,TRUE()) -> 0.05
B21: 16 | C21: Luva de proteção em PVC, palma e dorso antiderrapante, modelo 5 dedos, palma e dorso antiderrapante, forrada internamente com malha sintética felpuda ou algodão, punho reto sem antiderrapante. Tamanho G. Certificado de Aprovação (CA) emitido pelo Órgão competente. | D21: Par | E21: 250718 | F21: - | G21: 23 | H21: 21.39 | I21: =G21*ROUND(H21,2) -> 491.97 | L21: Aberto | M21: =VLOOKUP(H21,Intervalos!$B$3:$C$8,2,TRUE()) -> 0.05
B22: 17 | C22: Luva de proteção em PVC, palma e dorso antiderrapante, modelo 5 dedos, palma e dorso antiderrapante, forrada internamente com malha sintética felpuda ou algodão, punho reto sem antiderrapante. Tamanho M. Certificado de Aprovação (CA) emitido pelo Órgão competente. | D22: Par | E22: 318409 | F22: - | G22: 20 | H22: 21.39 | I22: =G22*ROUND(H22,2) -> 427.8 | L22: Aberto | M22: =VLOOKUP(H22,Intervalos!$B$3:$C$8,2,TRUE()) -> 0.05
A23: 2 | B23: 18 | C23: Luva cirúrgica estéril, descartável, látex natural, anatômica, textura homogênea, alta sensibilidade ao tato, boa elasticidade. Lubrificada com pó bioabsorvível e baixo teor de proteína (preferência menor que 100 µg/grama) e antiderrapante. Acondicionada em invólucro interno com dobras para abertura asséptica, dobradas conforme padrão hospitalar, identificando com fácil visualização a mão esquerda/direita e a posição do polegar. Embalada em papel grau cirúrgico e/ou filme termoplástico Nº 6.0. Deverá apresentar CA compatível com uso hospitalar, garantindo proteção para agentes biológicos. | D23: Par | E23: 620080 | F23: Anvisa | G23: 2878 | H23: 2.67 | I23: =G23*ROUND(H23,2) -> 7684.26 | J23: =SUM(I23:I26) -> 26045.85 | K23: SIM | L23: Aberto | M23: =VLOOKUP(H23,Intervalos!$B$3:$C$8,2,TRUE()) -> 0.01
B24: 19 | C24: Luva cirúrgica estéril, descartável, látex natural, anatômica, textura homogênea, alta sensibilidade ao tato, boa elasticidade. Lubrificada com pó bioabsorvível e baixo teor de proteína (preferência menor que 100 µg/grama) e antiderrapante. Acondicionada em invólucro interno com dobras para abertura asséptica, dobradas conforme padrão hospitalar, identificando com fácil visualização a mão esquerda/direita e a posição do polegar. Embalada em papel grau cirúrgico e/ou filme termoplástico Nº 6.5. Deverá apresentar CA compatível com uso hospitalar, garantindo proteção para agentes biológicos. | D24: Par | E24: 620081 | F24: Anvisa | G24: 3502 | H24: 2.67 | I24: =G24*ROUND(H24,2) -> 9350.34 | L24: Aberto | M24: =VLOOKUP(H24,Intervalos!$B$3:$C$8,2,TRUE()) -> 0.01
B25: 20 | C25: Luva cirúrgica estéril, descartável, látex natural, anatômica, textura homogênea, alta sensibilidade ao tato, boa elasticidade. Lubrificada com pó bioabsorvível e baixo teor de proteína (preferência menor que 100 µg/grama) e antiderrapante. Acondicionada em invólucro interno com dobras para abertura asséptica, dobradas conforme padrão hospitalar, identificando com fácil visualização a mão esquerda/direita e a posição do polegar. Embalada em papel grau cirúrgico e/ou filme termoplástico Nº 8.0. Deverá apresentar CA compatível com uso hospitalar, garantindo proteção para agentes biológicos. | D25: Par | E25: 620084 | F25: Anvisa | G25: 1750 | H25: 2.67 | I25: =G25*ROUND(H25,2) -> 4672.5 | L25: Aberto | M25: =VLOOKUP(H25,Intervalos!$B$3:$C$8,2,TRUE()) -> 0.01
B26: 21 | C26: Luva cirúrgica estéril, descartável, látex natural, anatômica, textura homogênea, alta sensibilidade ao tato, boa elasticidade. Lubrificada com pó bioabsorvível e baixo teor de proteína (preferência menor que 100 µg/grama) e antiderrapante. Acondicionada em invólucro interno com dobras para abertura asséptica, dobradas conforme padrão hospitalar, identificando com fácil visualização a mão esquerda/direita e a posição do polegar. Embalada em papel grau cirúrgico e/ou filme termoplástico Nº 8.5. Deverá apresentar CA compatível com uso hospitalar, garantindo proteção para agentes biológicos. | D26: Par | E26: 620085 | F26: Anvisa | G26: 1625 | H26: 2.67 | I26: =G26*ROUND(H26,2) -> 4338.75 | L26: Aberto | M26: =VLOOKUP(H26,Intervalos!$B$3:$C$8,2,TRUE()) -> 0.01
A27: 3 | B27: 22 | C27: Luva cirúrgica estéril, descartável, totalmente isenta de látex, anatômica, antiderrapante, textura homogênea, alta sensibilidade ao tato e boa elasticidade. Acondicionada em invólucro interno com dobras para abertura asséptica, dobradas conforme padrão hospitalar, identificando com fácil visualização a mão esquerda/direita e a posição do polegar. Embalada em papel grau cirúrgico e/ou filme termoplástico Nº 7.0. Deverá apresentar CA compatível com uso hospitalar, garantindo proteção para agentes biológicos. | D27: Par | E27: 620096 | F27: Anvisa | G27: 127 | H27: 19.33 | I27: =G27*ROUND(H27,2) -> 2454.91 | J27: =SUM(I27:I28) -> 4871.16 | K27: SIM | L27: Aberto | M27: =VLOOKUP(H27,Intervalos!$B$3:$C$8,2,TRUE()) -> 0.03
B28: 23 | C28: Luva cirúrgica estéril, descartável, totalmente isenta de látex, anatômica, antiderrapante, textura homogênea, alta sensibilidade ao tato e boa elasticidade. Acondicionada em invólucro interno com dobras para abertura asséptica, dobradas conforme padrão hospitalar, identificando com fácil visualização a mão esquerda/direita e a posição do polegar. Embalada em papel grau cirúrgico e/ou filme termoplástico Nº 6.5. Deverá apresentar CA compatível com uso hospitalar, garantindo proteção para agentes biológicos. | D28: Par | E28: 620095 | F28: Anvisa | G28: 125 | H28: 19.33 | I28: =G28*ROUND(H28,2) -> 2416.25 | L28: Aberto | M28: =VLOOKUP(H28,Intervalos!$B$3:$C$8,2,TRUE()) -> 0.03
A29: 4 | B29: 24 | C29: Luva confeccionada em borracha nitrílica, modelo 5 dedos, palma e dedos antiderrapante, sem forro, comprimento total 45 cm e cor verde. Tamanho G. Certificado de Aprovação (CA) emitido pelo Órgão competente. | D29: Par | E29: 302072 | F29: - | G29: 74 | H29: 27.38 | I29: =G29*ROUND(H29,2) -> 2026.12 | J29: =SUM(I29:I30) -> 4024.86 | K29: SIM | L29: Aberto | M29: =VLOOKUP(H29,Intervalos!$B$3:$C$8,2,TRUE()) -> 0.05
B30: 25 | C30: Luva confeccionada em borracha nitrílica, modelo 5 dedos, palma e dedos antiderrapante, sem forro, comprimento total 45 cm e cor verde. Tamanho M. Certificado de Aprovação (CA) emitido pelo Órgão competente. | D30: Par | E30: 302073 | F30: - | G30: 73 | H30: 27.38 | I30: =G30*ROUND(H30,2) -> 1998.74 | L30: Aberto | M30: =VLOOKUP(H30,Intervalos!$B$3:$C$8,2,TRUE()) -> 0.05
A31: 5 | B31: 26 | C31: Luva confeccionada em borracha nitrílica, modelo 5 dedos, palma e dedos antiderrapante, sem forro, comprimento total 33cm e cor verde. Tamanho G. Certificado de Aprovação (CA) emitido pelo Órgão competente. | D31: Par | E31: 399971 | F31: - | G31: 90 | H31: 9.09 | I31: =G31*ROUND(H31,2) -> 818.1 | J31: =SUM(I31:I33) -> 4363.2 | K31: SIM | L31: Aberto | M31: =VLOOKUP(H31,Intervalos!$B$3:$C$8,2,TRUE()) -> 0.02
B32: 27 | C32: Luva confeccionada em borracha nitrílica, modelo 5 dedos, palma e dedos antiderrapante, sem forro, comprimento total 33cm e cor verde. Tamanho M. Certificado de Aprovação (CA) emitido pelo Órgão competente. | D32: Par | E32: 399972 | F32: - | G32: 190 | H32: 9.09 | I32: =G32*ROUND(H32,2) -> 1727.1 | L32: Aberto | M32: =VLOOKUP(H32,Intervalos!$B$3:$C$8,2,TRUE()) -> 0.02
B33: 28 | C33: Luva confeccionada em borracha nitrílica, modelo 5 dedos, palma e dedos antiderrapante, sem forro, comprimento total 33cm e cor verde. Tamanhos P. Certificado de Aprovação (CA) emitido pelo Órgão competente. | D33: Par | E33: 399973 | F33: - | G33: 200 | H33: 9.09 | I33: =G33*ROUND(H33,2) -> 1818 | L33: Aberto | M33: =VLOOKUP(H33,Intervalos!$B$3:$C$8,2,TRUE()) -> 0.02
A34: - | B34: 29 | C34: Luva de palpação transretal - Tamanho médio - Caixa com 100 unidades. Material plástico resistente indicado para palpação, toque e exames. Luvas com alta sensibilidade para palpação e toque. Uso veterinário. | D34: caixa com 100 unidades | E34: 619861 | F34: - | G34: 275 | H34: 84.87 | I34: =G34*ROUND(H34,2) -> 23339.25 | J34: - | K34: SIM | L34: Aberto | M34: =VLOOKUP(H34,Intervalos!$B$3:$C$8,2,TRUE()) -> 0.1
A35: 6 | B35: 30 | C35: Luva de procedimento, não estéril, descartável, 100% látex natural, anatômica, textura homogênea, alta sensibilidade ao tato, boa elasticidade e resistente à tração, ambidestra, lubrificada com pó bioabsorvível, baixo teor de proteínas. Acondicionada em caixa com 100 unidades. Tamanho "G". Certificado de Aprovação (CA) emitido pelo Órgão competente. | D35: Caixa com 100 unidades | E35: 619842 | F35: Anvisa | G35: 327 | H35: 27.23 | I35: =G35*ROUND(H35,2) -> 8904.21 | J35: =SUM(I35:I37) -> 54912.29 | K35: SIM | L35: Aberto | M35: =VLOOKUP(H35,Intervalos!$B$3:$C$8,2,TRUE()) -> 0.05
B36: 31 | C36: Luva de procedimento, não estéril, descartável, 100% látex natural, anatômica, textura homogênea, alta sensibilidade ao tato, boa elasticidade e resistente à tração, ambidestra, lubrificada com pó bioabsorvível, baixo teor de proteínas. Acondicionada em caixa com 100 unidades. Tamanho "M". Certificado de Aprovação (CA) emitido pelo Órgão competente. | D36: Caixa com 100 unidades | E36: 619841 | F36: Anvisa | G36: 878 | H36: 25.65 | I36: =G36*ROUND(H36,2) -> 22520.7 | L36: Aberto | M36: =VLOOKUP(H36,Intervalos!$B$3:$C$8,2,TRUE()) -> 0.05
B37: 32 | C37: Luva de procedimento, não estéril, descartável, 100% látex natural, anatômica, textura homogênea, alta sensibilidade ao tato, boa elasticidade e resistente à tração, ambidestra, lubrificada com pó bioabsorvível, baixo teor de proteínas. Acondicionada em caixa com 100 unidades. Tamanho "P". Certificado de Aprovação (CA) emitido pelo Órgão competente. | D37: Caixa com 100 unidades | E37: 619840 | F37: Anvisa | G37: 889 | H37: 26.42 | I37: =G37*ROUND(H37,2) -> 23487.38 | L37: Aberto | M37: =VLOOKUP(H37,Intervalos!$B$3:$C$8,2,TRUE()) -> 0.05
A38: - | B38: 33 | C38: Luva de proteção em Protex K, tecido com tratamento retardante à chamas, impermeável e, atóxico, costuras em linha mista, com forro interno destacável para uma fácil higienização. Tamanho 45cm. Certificado de Aprovação (CA) emitido pelo Órgão competente. | D38: Par | E38: 444081 | F38: - | G38: 17 | H38: 151.27 | I38: =G38*ROUND(H38,2) -> 2571.59 | J38: - | K38: NÃO | L38: Aberto | M38: =VLOOKUP(H38,Intervalos!$B$3:$C$8,2,TRUE()) -> 0,10%
A39: 7 | B39: 34 | C39: Luva de segurança confeccionada em resina vinílica; não esterilizada, sem pulverização interna de pó bioabsorvível (amido de milho); ambidestra, superfície externa lisa. Tamanho G. | D39: Caixa com 100 unidades | E39: 619838 | F39: Anvisa | G39: 198 | H39: 21.67 | I39: =G39*ROUND(H39,2) -> 4290.66 | J39: =SUM(I39:I41) -> 14908.96 | K39: SIM | L39: Aberto | M39: =VLOOKUP(H39,Intervalos!$B$3:$C$8,2,TRUE()) -> 0.05
B40: 35 | C40: Luva de segurança confeccionada em resina vinílica; não esterilizada, sem pulverização interna de pó bioabsorvível (amido de milho); ambidestra, superfície externa lisa. Tamanho M. | D40: Caixa com 100 unidades | E40: 619837 | F40: Anvisa | G40: 265 | H40: 21.67 | I40: =G40*ROUND(H40,2) -> 5742.55 | L40: Aberto | M40: =VLOOKUP(H40,Intervalos!$B$3:$C$8,2,TRUE()) -> 0.05
B41: 36 | C41: Luva de segurança confeccionada em resina vinílica; não esterilizada, sem pulverização interna de pó bioabsorvível (amido de milho); ambidestra, superfície externa lisa. Tamanho P. | D41: Caixa com 100 unidades | E41: 619836 | F41: Anvisa | G41: 225 | H41: 21.67 | I41: =G41*ROUND(H41,2) -> 4875.75 | L41: Aberto | M41: =VLOOKUP(H41,Intervalos!$B$3:$C$8,2,TRUE()) -> 0.05
...

Sheet Intervalos
B2: Valor Unitário Estimado (Faixa) | C2: Diferença Mínima de Valores / Percentuais de Lances | E2: Interpretação
B3: 0.01 | C3: 0.01 | E3: R$ 0,01 - R$ 5,00 => R$ 0,01
B4: 5 | C4: 0.02 | E4: R$ 5,01 - R$ 10,00 => R$ 0,02
B5: 10 | C5: 0.03 | E5: R$ 10,01 - R$ 20,00 => R$ 0,03
B6: 20 | C6: 0.05 | E6: R$ 20,01 - R$ 50,00 => R$ 0,05
B7: 50 | C7: 0.1 | E7: R$ 50,01 - R$ 100,00 => R$ 0,10
B8: 100 | C8: 0,10% | E8: Acima de R$ 100,00 => 0,10%
