Workbook

Sheet Anexo III
A1: PRÓ-REITORIA DE ADMINISTRAÇÃO
A2: COORDENAÇÃO DE MATERIAIS
A3: ANEXO III - PLANILHA ESTIMATIVA DE DESCRIÇÃO E PREÇOS
A5: ITEM | B5: DESCRIÇÃO/ ESPECIFICAÇÃO | C5: UNIDADE DE MEDIDA | D5: SUGESTÃO DE CATMAT | E5: INFORMAÇÕES ADICIONAIS | F5: QUANTIDADE UASG 150182 GERENCIADORA - PROAD | G5: QUANTIDADE UASG 762400 - ESCOLA NAVAL | H5: QUANTIDADE UASG 762200 - CENTRO DE INSTRUCAO ALMIRANTE WANDENKOLK | I5: QUANTIDADE UASG 158487 - INST FED.EDUC.CIENC.TEC.RJ/CAMPUS SãO GONçALO | J5: VALOR UNITÁRIO | K5: QUANTIDADE TOTAL | L5: VALOR TOTAL | M5: EXCLUSIVO ME/EPP | N5: MODO DE DISPUTA | O5: INTERVALO LANCES
A6: 1 | B6: Ar condicionado de janela capacidade mínima 10.000 BTUs 220V: Aparelho condicionador de ar tipo janela, tensão 220V, monofásico, função frio, com capacidade de refrigeração mínima de 10.000 BTU/h. Dimensões aproximadas 56,0x37,5x65,0. Características adicionais: deve apresentar saída regulável de ar, função ventilação; filtro de ar removível com proteção ativa; compressor rotativo; gás ecológico. Serpentina de cobre. Equipamento com proteção anti-corrosão. Deve apresentar ENCE classe A ou B e Requisitos de Avaliação da Conformidade com base na Portaria INMETRO nº 269, de 22 de junho de 2021. Garantia mínima de 12 meses, a partir do recebimento definitivo. | C6: Unidade | D6: 320675 | E6: CTF/APP: FTE - Categoria: Indústria Mecânica; Código: 4 | F6: =195-39 -> 156 | G6: 0 | H6: 0 | I6: 0 | J6: 2178.61 | K6: =F6+G6+H6+I6 -> 156 | L6: =K6*J6 -> 339863.16 | M6: NÃO | N6: Aberto | O6: =VLOOKUP(J6,Intervalos!$B$3:$C$8,2,TRUE()) -> 0,10%
A7: 2 | B7: Ar condicionado de janela capacidade mínima 18.000 BTUs 220V: Aparelho condicionador de ar tipo janela, tensão 220V, monofásico, função frio, com capacidade de refrigeração mínima de 18.000 BTU/h. Dimensões aproximadas 66x43x76. Serpentina de cobre. Gás ecológico. Equipamento com proteção anti-corrosão. Deve apresentar ENCE classe A ou B e Requisitos de Avaliação da Conformidade com base na Portaria INMETRO nº 269, de 22 de junho de 2021. Garantia mínima de 12 meses, a partir do recebimento definitivo. | C7: Unidade | D7: 263520 | E7: CTF/APP: FTE - Categoria: Indústria Mecânica; Código: 4 | F7: =314-50-13 -> 251 | G7: 0 | H7: 0 | I7: 0 | J7: 3640.91 | K7: =F7+G7+H7+I7 -> 251 | L7: =K7*J7 -> 913868.41 | M7: NÃO | N7: Aberto | O7: =VLOOKUP(J7,Intervalos!$B$3:$C$8,2,TRUE()) -> 0,10%
A8: 3 | B8: Ar condicionado de janela capacidade mínima 27.000 BTUs 220V: Aparelho condicionador de ar tipo janela, tensão 220V, monofásico, função frio, com capacidade de refrigeração mínima de 27.000 BTU's. Dimensões aproximadas 66x43x76. Serpentina de cobre. Gás ecológico. Equipamento com proteção anti-corrosão. Deve apresentar ENCE de no mínimo classe C e Requisitos de Avaliação da Conformidade com base na Portaria INMETRO nº 269, de 22 de junho de 2021. Garantia mínima de 12 meses, a partir do recebimento definitivo. | C8: unidade | D8: 457606 | E8: CTF/APP: FTE - Categoria: Indústria Mecânica; Código: 4 | F8: =265-50-3 -> 212 | G8: 0 | H8: 0 | I8: 0 | J8: 5393.13 | K8: =F8+G8+H8+I8 -> 212 | L8: =K8*J8 -> 1143343.6 | M8: NÃO | N8: Aberto | O8: =VLOOKUP(J8,Intervalos!$B$3:$C$8,2,TRUE()) -> 0,10%
A9: 4 | B9: Ar condicionado de janela capacidade mínima 7.000 BTUs 220V: Aparelho condicionador de ar tipo janela, tensão 220V, monofásico, com capacidade de refrigeração mínima de 7.000 BTU/h, frequência 60 HZ. Características adicionais: refrigera, ventila, renova ar, 3 velocidades; filtro de ar removível com proteção ativa; compressor rotativo; gás ecológico. Serpentina de cobre. Equipamento com proteção anti-corrosão. Deve apresentar ENCE classe A e Requisitos de Avaliação da Conformidade com base na Portaria INMETRO nº 269, de 22 de junho de 2021. Garantia mínima de 12 meses, a partir do recebimento definitivo. | C9: Unidade | D9: 363526 | E9: CTF/APP: FTE - Categoria: Indústria Mecânica; Código: 4 | F9: =149-30 -> 119 | G9: 0 | H9: 0 | I9: 0 | J9: 1813.03 | K9: =F9+G9+H9+I9 -> 119 | L9: =K9*J9 -> 215750.57 | M9: NÃO | N9: Aberto | O9: =VLOOKUP(J9,Intervalos!$B$3:$C$8,2,TRUE()) -> 0,10%
A10: 5 | B10: Ar condicionado de janela capacidade mínima de 20.000 BTUs 220V: Aparelho condicionador de ar tipo janela, tensão 220V, monofásico, função frio, com capacidade de refrigeração mínima de 20.000 BTU/h. Dimensões aproximadas 66x43x76. Serpentina de cobre. Gás ecológico. Equipamento com proteção anti-corrosão. Deve apresentar ENCE classe A ou B e Requisitos de Avaliação da Conformidade com base na Portaria INMETRO nº 269, de 22 de junho de 2021. Garantia mínima de 12 meses, a partir do recebimento definitivo. | C10: unidade | D10: 289254 | E10: CTF/APP: FTE - Categoria: Indústria Mecânica; Código: 4 | F10: =277-50-6 -> 221 | G10: 0 | H10: 0 | I10: 0 | J10: 4921.89 | K10: =F10+G10+H10+I10 -> 221 | L10: =K10*J10 -> 1087737.7 | M10: NÃO | N10: Aberto | O10: =VLOOKUP(J10,Intervalos!$B$3:$C$8,2,TRUE()) -> 0,10%
A11: 6 | B11: Ar condicionado split 12.000 BTUs 220V: Aparelho condicionador de ar tipo split hi-wall, tensão 220V, monofásico, função frio, com capacidade de refrigeração de 12000 BTU/h. Características adicionais: presença de controle remoto sem fio, com funções de refrigeração, ventilação, termômetro, sleep, swing, turbo e memória, com alcance mínimo de cinco metros e display integrado; a unidade evaporadora deve possuir display com função temperatura e aletas móveis, além de possuir filtro eletrostático e antibacteriano, para eliminar odores no ar e com sistema instalado de aviso para limpar filtro; a unidade condensadora deve ser à prova de intempéries e com estrutura que permita a utilização de suportes individuais, com compressor rotativo; sistema inverter instalado; gás ecológico. Serpentina de cobre em ambas unidades. Equipamento com proteção anti-corrosão. Deve apresentar ENCE classe A e Requisitos de Avaliação da Conformidade com base na Portaria INMETRO nº 269, de 22 de junho de 2021. Garantia mínima de 12 meses, a partir do recebimento definitivo. | C11: Unidade | D11: 397100 | E11: CTF/APP: FTE - Categoria: Indústria Mecânica; Código: 4 | F11: =217-44 -> 173 | G11: 0 | H11: 0 | I11: 5 | J11: 1946.67 | K11: =F11+G11+H11+I11 -> 178 | L11: =K11*J11 -> 346507.26 | M11: NÃO | N11: Aberto | O11: =VLOOKUP(J11,Intervalos!$B$3:$C$8,2,TRUE()) -> 0,10%
A12: 7 | B12: Ar condicionado split 18.000 BTUs 220V: Aparelho condicionador de ar tipo split hi-wall, tensão 220V, monofásico, com capacidade de refrigeração de 18.000 BTU/h. Características adicionais: presença de controle remoto sem fio, com funções de refrigeração, ventilação, termômetro, sleep, swing, turbo e memória, com alcance mínimo de cinco metros e display integrado; a unidade evaporadora deve possuir display com função temperatura e aletas móveis, além de possuir filtro eletrostático e antibacteriano, para eliminar odores no ar e com sistema instalado de aviso para limpar filtro; a unidade condensadora deve ser à prova de intempéries e com estrutura que permita a utilização de suportes individuais, com compressor rotativo; sistema inverter instalado; gás ecológico; capacidade de refrigeração (Kw/h) 5,27; nível de ruído unidade interna (dB) 49/42/37/33; nível de ruído unidade externa (dB) 53. Serpentina de cobre em ambas unidades. Equipamento com proteção anti-corrosão. Deve apresentar ENCE classe A e Requisitos de Avaliação da Conformidade com base na Portaria INMETRO nº 269, de 22 de junho de 2021. Garantia mínima de 12 meses, a partir do recebimento definitivo. | C12: Unidade | D12: 355744 | E12: CTF/APP: FTE - Categoria: Indústria Mecânica; Código: 4 | F12: =267-50-4 -> 213 | G12: 0 | H12: 5 | I12: 0 | J12: 2789.33 | K12: =F12+G12+H12+I12 -> 218 | L12: =K12*J12 -> 608073.94 | M12: NÃO | N12: Aberto | O12: =VLOOKUP(J12,Intervalos!$B$3:$C$8,2,TRUE()) -> 0,10%
A13: 8 | B13: Ar condicionado split 24.000 BTUs 220V: Aparelho condicionador de ar tipo split hi-wall, tensão 220V, ciclo frio, com capacidade de refrigeração de 24.000 BTU/h. Características adicionais: presença de controle remoto sem fio, com funções de refrigeração, ventilação, termômetro, sleep, swing, turbo e memória, com alcance mínimo de cinco metros e display integrado; a unidade evaporadora deve possuir display com função temperatura e aletas móveis, além de possuir filtro eletrostático e antibacteriano, para eliminar odores no ar e com sistema instalado de aviso para limpar filtro; a unidade condensadora deve ser à prova de intempéries e com estrutura que permita a utilização de suportes individuais, com compressor rotativo; sistema inverter instalado, gás ecológico; frequência 60 Hz; evaporadora na cor branca; nível de ruído unidade interna 49/42/37/33 db (alta/média/baixa/mínima) ou inferior; nível de ruído unidade externa 53 db ou inferior. Serpentina de cobre em ambas unidades. Equipamento com proteção anti-corrosão. Deve apresentar ENCE classe A e Requisitos de Avaliação da Conformidade com base na Portaria INMETRO nº 269, de 22 de junho de 2021. Garantia mínima de 12 meses, a partir do recebimento definitivo. | C13: Unidade | D13: 355741 | E13: CTF/APP: FTE - Categoria: Indústria Mecânica; Código: 4 | F13: =162-33 -> 129 | G13: 0 | H13: 10 | I13: 14 | J13: 4434.67 | K13: =F13+G13+H13+I13 -> 153 | L13: =K13*J13 -> 678504.51 | M13: NÃO | N13: Aberto | O13: =VLOOKUP(J13,Intervalos!$B$3:$C$8,2,TRUE()) -> 0,10%
A14: 9 | B14: Ar condicionado split 30.000 BTUs 220V: Aparelho condicionador de ar tipo split hi-wall, tensão 220V, monofásico, função frio, com capacidade de refrigeração de 30.000 BTU/h. Características adicionais: presença de controle remoto sem fio, com funções de refrigeração, ventilação, termômetro, sleep, swing, turbo e memória, com alcance mínimo de cinco metros e display integrado; a unidade evaporadora deve possuir display com função temperatura e aletas móveis, além de possuir filtro eletrostático e antibacteriano, para eliminar odores no ar e com sistema instalado de aviso para limpar filtro; a unidade condensadora deve ser à prova de intempéries e com estrutura que permita a utilização de suportes individuais, com compressor rotativo; sistema inverter instalado; gás ecológico. Serpentina de cobre em ambas unidades. Equipamento com proteção anti-corrosão. Deve apresentar ENCE classe A e Requisitos de Avaliação da Conformidade com base na Portaria INMETRO nº 269, de 22 de junho de 2021. Garantia mínima de 12 meses, a partir do recebimento definitivo. | C14: Unidade | D14: 399654 | E14: CTF/APP: FTE - Categoria: Indústria Mecânica; Código: 4 | F14: =159-32 -> 127 | G14: 0 | H14: 7 | I14: 0 | J14: 5334 | K14: =F14+G14+H14+I14 -> 134 | L14: =K14*J14 -> 714756 | M14: NÃO | N14: Aberto | O14: =VLOOKUP(J14,Intervalos!$B$3:$C$8,2,TRUE()) -> 0,10%
A15: 10 | B15: Ar condicionado split 9.000 BTUs 220V: Aparelho condicionador de ar tipo split hi-wall, tensão 220V, monofásico, função frio, com capacidade de refrigeração de 9.000 BTU/h. Características adicionais: presença de controle remoto sem fio, com funções de refrigeração, ventilação, termômetro, sleep, swing, turbo e memória, com alcance mínimo de cinco metros e display integrado; a unidade evaporadora deve possuir display com função temperatura e aletas móveis, além de possuir filtro eletrostático e antibacteriano, para eliminar odores no ar e com sistema instalado de aviso para limpar filtro; a unidade condensadora deve ser à prova de intempéries e com estrutura que permita a utilização de suportes individuais, com compressor rotativo; sistema inverter instalado; gás ecológico. Serpentina de cobre em ambas unidades. Equipamento com proteção anti-corrosão. Deve apresentar ENCE classe A e Requisitos de Avaliação da Conformidade com base na Portaria INMETRO nº 269, de 22 de junho de 2021. Garantia mínima de 12 meses, a partir do recebimento definitivo. | C15: Unidade | D15: 397101 | E15: CTF/APP: FTE - Categoria: Indústria Mecânica; Código: 4 | F15: 72 | G15: 0 | H15: 0 | I15: 0 | J15: 1767 | K15: =F15+G15+H15+I15 -> 72 | L15: =K15*J15 -> 127224 | M15: NÃO | N15: Aberto | O15: =VLOOKUP(J15,Intervalos!$B$3:$C$8,2,TRUE()) -> 0,10%
A16: 11 | B16: Ar condicionado split piso/teto 36.000 BTUs 220V Bifásico: Aparelho condicionador de ar tipo split piso/teto, tensão 220V, bifásico, função frio, com capacidade de refrigeração de 36.000 BTU/h. Características adicionais: presença de controle remoto sem fio, com funções de refrigeração, ventilação, termômetro, sleep, swing, turbo e memória, com alcance mínimo de cinco metros e display integrado; a unidade evaporadora deve possuir display com função temperatura e aletas móveis, além de possuir filtro eletrostático e antibacteriano, para eliminar odores no ar e com sistema instalado de aviso para limpar filtro; a unidade condensadora deve ser à prova de intempéries e com estrutura que permita a utilização de suportes individuais, com compressor rotativo; sistema inverter instalado; gás ecológico. Serpentina de cobre em ambas unidades. Equipamento com proteção anti-corrosão. Deve apresentar ENCE classe A e Requisitos de Avaliação da Conformidade com base na Portaria INMETRO nº 269, de 22 de junho de 2021. Garantia mínima de 12 meses, a partir do recebimento definitivo. | C16: Unidade | D16: 355747 | E16: CTF/APP: FTE - Categoria: Indústria Mecânica; Código: 4 | F16: =144-29 -> 115 | G16: 0 | H16: 0 | I16: 4 | J16: 7999.33 | K16: =F16+G16+H16+I16 -> 119 | L16: =K16*J16 -> 951920.27 | M16: NÃO | N16: Aberto | O16: =VLOOKUP(J16,Intervalos!$B$3:$C$8,2,TRUE()) -> 0,10%
A17: 12 | B17: Ar condicionado split piso/teto 60.000 BTUs 220V: Aparelho condicionador de ar tipo split piso/teto, tensão 220V, monofásico, ciclo frio, com capacidade de refrigeração de 60.000 BTU/h. Características adicionais: tecnologia inverter; frequência (Fz) 60; capacidade de refrigeração (Kw/h) 15,82; nível de ruído unidade interna (dB) 48/47/45; nível de ruído unidade externa (dB) 55 ou inferior; gás ecológico. Serpentina de cobre em ambas unidades. Equipamento com proteção anti-corrosão. Deve apresentar ENCE classe A ou B e Requisitos de Avaliação da Conformidade com base na Portaria INMETRO nº 269, de 22 de junho de 2021. Garantia mínima de 12 meses, a partir do recebimento definitivo. | C17: Unidade | D17: 450747 | E17: CTF/APP: FTE - Categoria: Indústria Mecânica; Código: 4 | F17: =155-31 -> 124 | G17: 0 | H17: 0 | I17: 5 | J17: 10295.43 | K17: =F17+G17+H17+I17 -> 129 | L17: =K17*J17 -> 1328110.5 | M17: NÃO | N17: Aberto | O17: =VLOOKUP(J17,Intervalos!$B$3:$C$8,2,TRUE()) -> 0,10%
A18: 13 | B18: Ar condicionado split piso/teto capacidade mínima 47.000 BTUs 220V: Aparelho condicionador de ar tipo split piso/teto, tensão 220V, com capacidade de refrigeração mínima de 47.000 BTU/h. Características adicionais: sistema inverter instalado; presença de controle remoto sem fio, com funções de refrigeração, ventilação, termômetro, sleep, swing, turbo e memória, com alcance mínimo de cinco metros e display integrado; a unidade evaporadora deve possuir display com função temperatura e aletas móveis, além de possuir filtro eletrostático e antibacteriano, para eliminar odores no ar e com sistema instalado de aviso para limpar filtro; a unidade condensadora deve ser à prova de intempéries e com estrutura que permita a utilização de suportes individuais, com compressor rotativo; gás ecológico; frequência 60 HZ. Serpentina de cobre em ambas unidades. Equipamento com proteção anti-corrosão. Deve apresentar ENCE classe A e Requisitos de Avaliação da Conformidade com base na Portaria INMETRO nº 269, de 22 de junho de 2021. Garantia mínima de 12 meses, a partir do recebimento definitivo. | C18: Unidade | D18: 607317 | E18: CTF/APP: FTE - Categoria: Indústria Mecânica; Código: 4 | F18: =135-27 -> 108 | G18: 0 | H18: 0 | I18: 20 | J18: 8590 | K18: =F18+G18+H18+I18 -> 128 | L18: =K18*J18 -> 1099520 | M18: NÃO | N18: Aberto | O18: =VLOOKUP(J18,Intervalos!$B$3:$C$8,2,TRUE()) -> 0,10%
A19: 14 | B19: Ar condicionado split piso/teto capacidade mínima 54.000 BTUs 220V: Aparelho condicionador de ar tipo split piso/teto, tensão 220V, monofásico, ciclo frio, com capacidade de refrigeração mínima de 54.000 BTU/h. Características adicionais: sistema inverter instalado; presença de controle remoto sem fio, com funções de refrigeração, ventilação, termômetro, sleep, swing, turbo e memória, com alcance mínimo de cinco metros e display integrado; a unidade evaporadora deve possuir display com função temperatura e aletas móveis, além de possuir filtro eletrostático e antibacteriano, para eliminar odores no ar e com sistema instalado de aviso para limpar filtro; a unidade condensadora deve ser à prova de intempéries e com estrutura que permita a utilização de suportes individuais, com compressor rotativo; nível de ruído unidade interna 48/47/45 db ou inferior; nível de ruído unidade externa 55 db ou inferior; gás ecológico. Serpentina de cobre em ambas unidades. Equipamento com proteção anti-corrosão. Deve apresentar ENCE classe A e Requisitos de Avaliação da Conformidade com base na Portaria INMETRO nº 269, de 22 de junho de 2021. Garantia mínima de 12 meses, a partir do recebimento definitivo. | C19: Unidade | D19: 612490 | E19: CTF/APP: FTE - Categoria: Indústria Mecânica; Código: 4 | F19: =129-26 -> 103 | G19: 0 | H19: 0 | I19: 0 | J19: 10370 | K19: =F19+G19+H19+I19 -> 103 | L19: =K19*J19 -> 1068110 | M19: NÃO | N19: Aberto | O19: =VLOOKUP(J19,Intervalos!$B$3:$C$8,2,TRUE()) -> 0,10%
A20: 15 | B20: Aspirador de pó e Água Profissional. Potência mínima 1300w. Voltagem: 110v. Reservatório para poeira de 8L e outro para água de 20L. Rodízios para facilitar o transporte. Cabo: no mínimo de 5 Metros de Cabo elétrico. Bocal para Pisos, Bocal para Cantos e Frestas e Tubos Prolongadores. Garantia: 12 meses. Selo ruído, conforme Instrução Normativa Ibama nº 15, de 18 de fevereiro de 2004. Deve atender aos Requisitos de Avaliação da Conformidade conforme Portaria INMETRO nº 148 de 28/03/2022. | C20: Unidade | D20: 448227 | E20: CTF/APP: FTE - Categoria: Indústria Mecânica; Código: 4 OU FTE - Categoria: Indústria de Material Elétrico, Eletrônico e Comunicações; Código: 5. | F20: 5 | G20: 0 | H20: 0 | I20: 0 | J20: 599.15 | K20: =F20+G20+H20+I20 -> 5 | L20: =K20*J20 -> 2995.75 | M20: SIM | N20: Aberto | O20: =VLOOKUP(J20,Intervalos!$B$3:$C$8,2,TRUE()) -> 0,10%
A21: 16 | B21: Aspirador de pó e jateador de ar com tensão de alimentação de 110 V . Aspirador/jateador de ar com potência e bicos especialmente desenvolvidos para informática. Jateia eliminando as sujeiras mais difíceis a uma velocidade de fluxo de ar de até 80 Km/h. Características Técnicas: - Cor: branco - Comprimento do cabo: 1,5 m - Dimensões: aproximadamente 20 / 25 / 10 cm - Peso: aproximadamente 650 g Energia: - Tensão de alimentação: 110 V - Consumo de corrente máxima: 1 A - Potência nominal: 100 W Acompanha: - Aspirador/Jateador de ar - 2 bicos intercambiáveis - 2 jogos de filtros - 3 unidades sobressalentes de filtragem. Selo ruído, conforme Instrução Normativa Ibama nº 15, de 18 de fevereiro de 2004. Deve atender aos Requisitos de Avaliação da Conformidade conforme Portaria INMETRO nº 148 de 28/03/2022. | C21: Unidade | D21: 350624 | E21: CTF/APP: FTE - Categoria: Indústria Mecânica; Código: 4 OU FTE - Categoria: Indústria de Material Elétrico, Eletrônico e Comunicações; Código: 5. | F21: 3 | G21: 0 | H21: 0 | I21: 3 | J21: 324.07 | K21: =F21+G21+H21+I21 -> 6 | L21: =K21*J21 -> 1944.42 | M21: SIM | N21: Aberto | O21: =VLOOKUP(J21,Intervalos!$B$3:$C$8,2,TRUE()) -> 0,10%
A22: 17 | B22: Aspirador de pó/líquido portátil: Material plástico de alta resistência; Tipo Portátil; Tensão de 110V-240V com comprimento do cabo de alimentação de no mínimo 1m; Bateria de 2200MAH; Potência nominal de 120W; Velocidade nominal: 29000~31000rpm; Capacidade mínima do coletor de 800ml; Deve acompanhar o produto: 1x Bico de Fenda Plana, 1x EVA Alongar Mangueira Flexível, 1x Escova de Poeira, 1x Cabo USB, 1x Conector de mangueira e 1x Manual. Selo ruído, conforme Instrução Normativa Ibama nº 15, de 18 de fevereiro de 2004. Deve atender aos Requisitos de Avaliação da Conformidade conforme Portaria INMETRO nº 148 de 28/03/2022. | C22: Unidade | D22: 299678 | E22: CTF/APP: FTE - Categoria: Indústria Mecânica; Código: 4 OU FTE - Categoria: Indústria de Material Elétrico, Eletrônico e Comunicações; Código: 5. | F22: 14 | G22: 0 | H22: 0 | I22: 3 | J22: 689.9 | K22: =F22+G22+H22+I22 -> 17 | L22: =K22*J22 -> 11728.3 | M22: SIM | N22: Aberto | O22: =VLOOKUP(J22,Intervalos!$B$3:$C$8,2,TRUE()) -> 0,10%
A23: 18 | B23: Banqueta tipo escada 3 degraus em alumínio - cinza. Deve atender aos requisitos de avaliação da conformidade conforme portaria inmetro nº 219 de 06/05/2021. | C23: Unidade | D23: 386860 | E23: - | F23: 17 | G23: 0 | H23: 0 | I23: 0 | J23: 199.9 | K23: =F23+G23+H23+I23 -> 17 | L23: =K23*J23 -> 3398.3 | M23: SIM | N23: Aberto | O23: =VLOOKUP(J23,Intervalos!$B$3:$C$8,2,TRUE()) -> 0,10%
A24: 19 | B24: Bebedouro de água, tipo pressão, 2 saídas de água (1 para copo e 1 para boca), Voltagem 127 V, gabinete de aço inoxidável. Filtro incluso. Equipamento com proteção anti-corrosão. Deve atender aos Requisitos de Avaliação da Conformidade conforme Portaria INMETRO nº 102 de 22 de março de 2022. | C24: Unidade | D24: 408558 | E24: - | F24: 40 | G24: 10 | H24: 0 | I24: 0 | J24: 1086.67 | K24: =F24+G24+H24+I24 -> 50 | L24: =K24*J24 -> 54333.5 | M24: SIM | N24: Aberto | O24: =VLOOKUP(J24,Intervalos!$B$3:$C$8,2,TRUE()) -> 0,10%
A25: 20 | B25: Bebedouro garrafão; tipo coluna; duas torneiras. Água natural e gelada; torneiras em plástico abs de fácil manuseio e substituição pela parte frontal; capacidade de refrigeração mínima de 1,0 litro/hora; compressor de fabricante certificado e de qualidade assegurada; suportar garrafões de 10 ou 20 litros; reservatório de água em plástico atóxico (polietileno); pingadeira removível; termostato para controle de temperatura; baixo consumo de energia; pés antiderrapantes; laterais em chapa de aço tratada e pintada na cor branca; tensão de alimentação de 127v. Equipamento com proteção anti-corrosão. Deve atender aos Requisitos de Avaliação da Conformidade conforme Portaria INMETRO nº 102 de 22 de março de 2022. | C25: Unidade | D25: 400860 | E25: - | F25: 8 | G25: 0 | H25: 0 | I25: 0 | J25: 876.33 | K25: =F25+G25+H25+I25 -> 8 | L25: =K25*J25 -> 7010.64 | M25: SIM | N25: Aberto | O25: =VLOOKUP(J25,Intervalos!$B$3:$C$8,2,TRUE()) -> 0,10%
A26: 21 | B26: Bebedouro Industrial Inox (coluna). Capacidade de 100 Litros no reservatório. Filtro incluso. Atende até 150 pessoas/hora. Refrigeração de 180 L/h. 03 torneiras frontais cromadas. Aparador de água frontal em chapa de aço inox com dreno. Com revestimento externo em chapa de aço inox. Reservatório de água em aço inox ou polipropileno, alta resistência, fácil limpeza e material atóxico. Isolamento térmico injetado em poliuretano expandido. Serpentina interna em aço inox 304. Boia para regulagem do nível de água. Gás ecológico R 134 A. Motor hermético. Unidade condensadora de 1/5 HP. Baixo consumo de energia. Regulagem da temperatura da água. Tensão 127v.Equipamento com proteção anti-corrosão. Deve atender aos Requisitos de Avaliação da Conformidade conforme Portaria INMETRO nº 102 de 22 de março de 2022. | C26: Unidade | D26: 452767 | E26: - | F26: 28 | G26: 0 | H26: 4 | I26: 10 | J26: 2835.79 | K26: =F26+G26+H26+I26 -> 42 | L26: =K26*J26 -> 119103.18 | M26: NÃO | N26: Aberto | O26: =VLOOKUP(J26,Intervalos!$B$3:$C$8,2,TRUE()) -> 0,10%
A27: 22 | B27: Bebedouro industrial refrigerado. Capacidade de 200 litros no reservatório. Atende até 350 pessoas/hora. 04 torneiras frontais cromadas. Aparador de água frontal em chapa de aço inox com dreno. Com revestimento externo em chapa de aço inox. Reservatório de água em inox ou polipropileno, alta resistência, fácil limpeza e material atóxico. Isolamento térmico injetado em poliuretano expandido. Serpentina interna em aço inox 304. Gás ecológico R 134 A. Motor hermético. Tensão 127V. Baixo consumo de energia. Regulagem da temperatura da água. Filtro incluso. Equipamento com proteção anti-corrosão. Deve atender aos Requisitos de Avaliação da Conformidade conforme Portaria INMETRO nº 102 de 22 de março de 2022. | C27: Unidade | D27: 311387 | E27: - | F27: 27 | G27: 5 | H27: 8 | I27: 2 | J27: 3354.51 | K27: =F27+G27+H27+I27 -> 42 | L27: =K27*J27 -> 140889.42 | M27: NÃO | N27: Aberto | O27: =VLOOKUP(J27,Intervalos!$B$3:$C$8,2,TRUE()) -> 0,10%
A28: 23 | B28: Bicicletário composto por 5 suportes do tipo "U" invertido, fabricados em tubo de aço inoxidável A304. Dimensões: de 0 1.1/2'' x 2,5mm de espessura e 0 externo de 48,3mm, montadas sobre barras chatas em aço inoxidável A304 de 2''x 1/4" por meio de solda reforçada, acabamento decapado e sem pintura, preparado para ser fixado sobre piso por meio de pé-de-galinha, com furos de 10mm. Dimensões do suporte: altura de 75cm, distância dos pés de no mínimo 75cm e raio do meio circulo de 28cm ou mais. Distância entre suportes de 75cm. O suporte deve sustentar a bicicleta pelo quadro em 2 pontos de apoio, impedir que a bicicleta gire sobre a roda dianteira, permitir que a bicicleta seja presa pelo quadro e por uma ou ambas as rodas; ser adequado para bicicletas que não tenham quadro tipo "diamante", sem tubo superior (p.ex., bicicletas femininas ou infanto-juvenis); permitir que uma tranca "U" prenda a roda dianteira e o tubo inferior do quadro de uma bicicleta convencional; permitir que uma tranca "U" prenda a roda traseira e o tubo do selim do quadro de uma bicicleta convencional. | C28: Unidade | D28: 627710 | E28: - | F28: 19 | G28: 0 | H28: 0 | I28: 0 | J28: 2877.53 | K28: =F28+G28+H28+I28 -> 19 | L28: =K28*J28 -> 54673.07 | M28: SIM | N28: Aberto | O28: =VLOOKUP(J28,Intervalos!$B$3:$C$8,2,TRUE()) -> 0,10%
A29: 24 | B29: Bicicletário de chão para 5 bicicletas: leve, em aço 5/16 pintado de preto. Vagas para 5 bicicletas fixadas em canos galvanizados de 3/4 com 5cm de altura também na cor preta. Pode ser fixado no chão por parafusos e buchas que devem acompanhar o material. Medidas: 600mm de largura e 1500mm de comprimento. | C29: Unidade | D29: 601922 | E29: - | F29: 3 | G29: 0 | H29: 0 | I29: 0 | J29: 734.06 | K29: =F29+G29+H29+I29 -> 3 | L29: =K29*J29 -> 2202.18 | M29: SIM | N29: Aberto | O29: =VLOOKUP(J29,Intervalos!$B$3:$C$8,2,TRUE()) -> 0,10%
A30: 25 | B30: Bicicletário de Parede Leve para 5 vagas. Cor: preta. Características: Confeccionado em ferro com pintura eletrostática. Parafusado na parede. Acompanha parafusos e buchas. Capacidade para 05 vagas. As bicicletas são presas pela roda. Comprimento: 1,5 mts. Deve ser instalado a 0,30 cm do parede. | C30: Unidade | D30: 601922 | E30: - | F30: 13 | G30: 0 | H30: 0 | I30: 0 | J30: 907.71 | K30: =F30+G30+H30+I30 -> 13 | L30: =K30*J30 -> 11800.23 | M30: SIM | N30: Aberto | O30: =VLOOKUP(J30,Intervalos!$B$3:$C$8,2,TRUE()) -> 0,10%
A31: 26 | B31: Cafeteira elétrica com capacidade de no mínimo 1,2 litros; jarra térmica em aço inox. Alimentação: 110V/220V (a ser confirmado na entrega). Potência de no mínimo 750 W. Consumo (Kw/h) de no máximo 1,0Kw/h. Frequência: 50/60 Hz. Com sistema corta pingo e filtro articulado removível. Deve atender aos Requisitos de Avaliação da Conformidade conforme Portaria INMETRO nº 148 de 28/03/2022. | C31: Unidade | D31: 470922 | E31: - | F31: 47 | G31: 0 | H31: 0 | I31: 10 | J31: 238.63 | K31: =F31+G31+H31+I31 -> 57 | L31: =K31*J31 -> 13601.91 | M31: SIM | N31: Aberto | O31: =VLOOKUP(J31,Intervalos!$B$3:$C$8,2,TRUE()) -> 0,10%
... A48: 43 | B48: Fogão seis bocas, com mesa em inox, acendimento automático, botões removíveis, bivolt, capacidade mínima do forno 85 litros, forno com vidro frontal, sistema de bloqueio de gás, com pelo menos 2 queimadores rápidos e 2 semirrápidos, forno com prateleiras deslizantes, com botões posicionados na frente e não em cima da mesa em inox. Classificação de eficiência energética ´A´ expedida pelo INMETRO. Deve atender aos Requisitos de Avaliação da Conformidade conforme Portaria INMETRO nº 8 de 05/01/2022. Garantia mínima de 12 meses. | C48: Unidade | D48: 413060 | E48: CTF/APP: FTE - Categoria: Indústria de Material Elétrico, Eletrônico e Comunicações; Código: 5. | F48: 4 | G48: 0 | H48: 0 | I48: 0 | J48: 2213 | K48: =F48+G48+H48+I48 -> 4 | L48: =K48*J48 -> 8852 | M48: SIM | N48: Aberto | O48: =VLOOKUP(J48,Intervalos!$B$3:$C$8,2,TRUE()) -> 0,10%
A49: 44 | B49: Forno de micro-ondas de no mínimo 30L 110V/220V (a ser confirmado na entrega); Opções de temperatura automático; Potência de no mínimo 700W com vários níveis; Com prato giratório, opção de descongelamento e trava de segurança. Deve apresentar ENCE faixa A e Requisitos de Avaliação da Conformidade com base na Portaria nº 268, de 22 de junho de 2021. Luz interna em led. | C49: Unidade | D49: 391765 | E49: CTF/APP: FTE - Categoria: Indústria de Material Elétrico, Eletrônico e Comunicações; Código: 5. | F49: =92-5 -> 87 | G49: 0 | H49: 0 | I49: 20 | J49: 767.89 | K49: =F49+G49+H49+I49 -> 107 | L49: =K49*J49 -> 82164.23 | M49: NÃO | N49: Aberto | O49: =VLOOKUP(J49,Intervalos!$B$3:$C$8,2,TRUE()) -> 0,10%
A50: 45 | B50: Fragmentadora de Papel – Capacidade de folhas: mínimo de 15 folhas de papel de 75g/m²/Cartão/Cd/Dvd; Tipo de corte: corte em partículas de até 4x80mm por fragmento; Fenda: no mínimo 220Mm; Capacidade do cesto: mínimo 20L. Voltagem: 110V. Potência mínima: 300 watts. Função auto reverso (parada da máquina e reversão em caso de excesso de papel a fim de evitar atolamento de papel); Capacidade de cortar grampos deixados no papel; Nível de ruído abaixo de 65 dB, em atendimento a Lei Federal nº 6.514/77, NBR 10152 e NBR 95; Funcionamento contínuo mínimo de 25 minutos sem paradas para resfriamento do motor. | C50: unidade | D50: 618795 | E50: - | F50: 22 | G50: 5 | H50: 5 | I50: 0 | J50: 1467.02 | K50: =F50+G50+H50+I50 -> 32 | L50: =K50*J50 -> 46944.64 | M50: SIM | N50: Aberto | O50: =VLOOKUP(J50,Intervalos!$B$3:$C$8,2,TRUE()) -> 0,10%
A51: 46 | B51: Freezer Vertical 231 Litros, 1 porta, cor branca, 110V. Deve apresentar ENCE faixa A e Requisitos de Avaliação da Conformidade com base na Portaria n.º 332 de 02/08/2021. Garantia de 12 meses. | C51: Unidade | D51: 345341 | E51: CTF/APP: FTE - Categoria: Indústria de Material Elétrico, Eletrônico e Comunicações; Código: 5. | F51: 3 | G51: 0 | H51: 0 | I51: 5 | J51: 3431.13 | K51: =F51+G51+H51+I51 -> 8 | L51: =K51*J51 -> 27449.04 | M51: SIM | N51: Aberto | O51: =VLOOKUP(J51,Intervalos!$B$3:$C$8,2,TRUE()) -> 0,10%
A52: 47 | B52: Geladeira 240L - frost free (degelo fácil) - 127v: - 1 porta; - capacidade total de armazenamento: 240 litros (Armazenamento congelador mínimo de 16 litros); - Tensão (V): 127; - Pés ajustáveis; - cor: branca; - Peso líquido (kg): 39,5 aproximadamente; - Dimensões: Altura: 141,0 cm x Largura: 55,0 cm x Profundidade: 61,3 cm; - Consumo: 23,7kw/h. Deve apresentar ENCE faixa A e Requisitos de Avaliação da Conformidade com base na Portaria n.º 332 de 02/08/2021. | C52: Unidade | D52: 425202 | E52: CTF/APP: FTE - Categoria: Indústria de Material Elétrico, Eletrônico e Comunicações; Código: 5. | F52: =20-4 -> 16 | G52: 0 | H52: 4 | I52: 4 | J52: 1854 | K52: =F52+G52+H52+I52 -> 24 | L52: =K52*J52 -> 44496 | M52: SIM | N52: Aberto | O52: =VLOOKUP(J52,Intervalos!$B$3:$C$8,2,TRUE()) -> 0,10%
A53: 48 | B53: Geladeira duplex frost free 110V: com 02 portas independentes; Capacidade líquida total (freezer + refrigerador) mínima de 430 litros, sendo mínima do refrigerador em 320 litros; com termostato para refrigerador em no mínimo 3 níveis de regulagem; mínimo de 3 prateleiras internas em vidro temperado reguláveis e removíveis; gavetas para legumes/verduras multi-uso; porta ovos; Iluminação interna em led nos 2 compartimentos; Rodízios para facilitar a movimentação. Deve apresentar ENCE faixa A e Requisitos de Avaliação da Conformidade com base na Portaria n.º 332 de 02/08/2021. | C53: Unidade | D53: 403694 | E53: CTF/APP: FTE - Categoria: Indústria de Material Elétrico, Eletrônico e Comunicações; Código: 5. | F53: 33 | G53: 0 | H53: 5 | I53: 10 | J53: 3853 | K53: =F53+G53+H53+I53 -> 48 | L53: =K53*J53 -> 184944 | M53: NÃO | N53: Aberto | O53: =VLOOKUP(J53,Intervalos!$B$3:$C$8,2,TRUE()) -> 0,10%
A54: 49 | B54: Grill e sanduicheira elétrica. Consumo de energia máximo: 0,8 kW/h. Capacidade 02 Sanduíches em pão de forma; Potência mínima: 750W; Cor: Preto; 110V. Deve atender aos Requisitos de Avaliação da Conformidade conforme Portaria INMETRO nº 148 de 28/03/2022. | C54: Unidade | D54: 601739 | E54: CTF/APP: FTE - Categoria: Indústria de Material Elétrico, Eletrônico e Comunicações; Código: 5. | F54: 17 | G54: 0 | H54: 0 | I54: 10 | J54: 148.21 | K54: =F54+G54+H54+I54 -> 27 | L54: =K54*J54 -> 4001.67 | M54: SIM | N54: Aberto | O54: =VLOOKUP(J54,Intervalos!$B$3:$C$8,2,TRUE()) -> 0,10%
A55: 50 | B55: Guilhotina A4 Para Papel Até 10 Folhas Com Trava 32x25 Cm. | C55: unidade | D55: 328541 | E55: - | F55: 7 | G55: 0 | H55: 4 | I55: 0 | J55: 128.3 | K55: =F55+G55+H55+I55 -> 11 | L55: =K55*J55 -> 1411.3 | M55: SIM | N55: Aberto | O55: =VLOOKUP(J55,Intervalos!$B$3:$C$8,2,TRUE()) -> 0,10%
A56: 51 | B56: Liquidificador Doméstico: potência mínima 700W-127V, mínimo de 4 velocidades + função pulsar, copo dosador plástico transparente e resistente, capacidade mínima de 2 litros. Selo ruído, conforme Instrução Normativa MMA nº 3, de 7 de fevereiro de 2000. Deve atender aos Requisitos de Avaliação da Conformidade conforme Portaria INMETRO nº 148 de 28/03/2022. | C56: Unidade | D56: 439372 | E56: CTF/APP: FTE - Categoria: Indústria de Material Elétrico, Eletrônico e Comunicações; Código: 5. | F56: 10 | G56: 0 | H56: 0 | I56: 0 | J56: 162.01 | K56: =F56+G56+H56+I56 -> 10 | L56: =K56*J56 -> 1620.1 | M56: SIM | N56: Aberto | O56: =VLOOKUP(J56,Intervalos!$B$3:$C$8,2,TRUE()) -> 0,10%
A57: 52 | B57: Máquina de Lavar Automática 10kg 110V: Capacidade mínima de 10,0kg; Tensão 127V; Voltagem 110V; Funções de Lavagem Centrífuga, Enxágue, Molho; Material do Cesto Polipropileno; Cor Branca; Abertura da Tampa superior; Capacidade de Roupa Seca 10kg; Programas de Lavagem Normal e Rápido; Dimensões aproximadas (ALP) 103,5 x 59 x 64,5. Deve apresentar ENCE faixa A e Requisitos de Avaliação da Conformidade com base na Portaria n.º 121 de 24/03/2022. | C57: Unidade | D57: 350211 | E57: CTF/APP: FTE - Categoria: Indústria Mecânica; Código: 4 OU FTE - Categoria: Indústria de Material Elétrico, Eletrônico e Comunicações; Código: 5. | F57: 13 | G57: 0 | H57: 5 | I57: 0 | J57: 1995.28 | K57: =F57+G57+H57+I57 -> 18 | L57: =K57*J57 -> 35915.04 | M57: SIM | N57: Aberto | O57: =VLOOKUP(J57,Intervalos!$B$3:$C$8,2,TRUE()) -> 0,10%
...

Sheet Intervalos
B2: Valor Unitário Estimado (Faixa) | C2: Diferença Mínima de Valores / Percentuais de Lances | E2: Interpretação
B3: 0.01 | C3: 0.01 | E3: R$ 0,01 - R$ 5,00 => R$ 0,01
B4: 5 | C4: 0.02 | E4: R$ 5,01 - R$ 10,00 => R$ 0,02
B5: 10 | C5: 0.03 | E5: R$ 10,01 - R$ 20,00 => R$ 0,03
B6: 20 | C6: 0.05 | E6: R$ 20,01 - R$ 50,00 => R$ 0,05
B7: 50 | C7: 0.1 | E7: R$ 50,01 - R$ 100,00 => R$ 0,10
B8: 100 | C8: 0,10% | E8: Acima de R$ 100,00 => 0,10%
