Workbook

Sheet Anexo III
A1: PRÓ-REITORIA DE ADMINISTRAÇÃO
A2: COORDENAÇÃO DE MATERIAIS
A3: ANEXO III - PLANILHA ESTIMATIVA DE DESCRIÇÃO E PREÇOS
A5: ITEM LICITAÇÃO | B5: DESCRIÇÃO/ ESPECIFICAÇÃO | C5: UNIDADE DE MEDIDA | D5: SUGESTÃO DE CATMAT | E5: INFORMAÇÕES ADICIONAIS | F5: QUANTIDADE | G5: VALOR UNITÁRIO | H5: VALOR TOTAL | I5: EXCLUSIVO ME/EPP | J5: MODO DE DISPUTA | K5: INTERVALO LANCES
A6: 1 | B6: 1,10- Fenantrolina (Orto-Fenantrolina) P.A. A.C.S - Aspecto físico: Pó, Peso molecular: 198,23 g/mol, Fórmula química: C12H8N2.H2O, Pureza mínima: 99%, Número de referência química: CAS 5144-89-8. Fornecimento em frasco de 25 gramas. | C6: Grama | D6: 392002 | E6: CTF/APP: FTE - Categoria: Indústria Química; Código:15 | F6: 325 | G6: 11.81 | H6: =F6*ROUND(G6,2) -> 3838.25 | I6: SIM | J6: Aberto | K6: =VLOOKUP(G6, Intervalos!$B$3:$C$8,2,TRUE) -> 0.03
A7: 2 | B7: 2-Aminoetil Difenilborinato 97% para TLC - Número do CAS: 524-95-8; Formula: (C6H5)2BOCH2CH2NH2; Peso molecular: 225,09; Aspecto físico: sólido branco; Pureza > 97% - fornecimento em frasco de 5g. | C7: Grama | D7: 379728 | E7: CTF/APP: FTE - Categoria: Indústria Química; Código:15 | F7: 125 | G7: 245.87 | H7: =F7*ROUND(G7,2) -> 30733.75 | I7: SIM | J7: Aberto | K7: =VLOOKUP(G7, Intervalos!$B$3:$C$8,2,TRUE) -> 0,10%
A8: 3 | B8: 4-aminoantipirina, padrão analítico, peso molecular 203,42; numero CAS 83-07-8. Fornecimento em frasco com 100 miligramas. | C8: Miligrama | D8: 360798 | E8: CTF/APP: FTE - Categoria: Indústria Química; Código:15 | F8: =4*100 -> 400 | G8: =380/100 -> 3.8 | H8: =F8*ROUND(G8,2) -> 1520 | I8: SIM | J8: Aberto | K8: =VLOOKUP(G8, Intervalos!$B$3:$C$8,2,TRUE) -> 0.01
A9: 4 | B9: 8-Hidroxiquinolina, 99%, CAS 148-24-3. Fornecimento em frasco de 100 gramas. | C9: Grama | D9: 420508 | E9: CTF/APP: FTE - Categoria: Indústria Química; Código:15 | F9: 300 | G9: 2.22 | H9: =F9*ROUND(G9,2) -> 666 | I9: SIM | J9: Aberto | K9: =VLOOKUP(G9, Intervalos!$B$3:$C$8,2,TRUE) -> 0.01
A10: 5 | B10: Ácido 2,2′-azino-bis(3-etilbenzotiazolina-6-sulfônico). Reagente em sólido em pó. Fórmula molecular C18H24N6O6S4. Pureza ≥98%. CAS Number 30931-67-0. Peso molecular: 548,68. Fornecimento em frasco de 1g. | C10: Grama | D10: 356993 | E10: CTF/APP: FTE - Categoria: Indústria Química; Código:15 | F10: 3 | G10: 749.23 | H10: =F10*ROUND(G10,2) -> 2247.69 | I10: SIM | J10: Aberto | K10: =VLOOKUP(G10, Intervalos!$B$3:$C$8,2,TRUE) -> 0,10%
A11: 6 | B11: Ácido 2-metilhipurico, 98%, peso molecular 193,20; número CAS 42013-20-7; embalagem: frasco contendo 1 grama. | C11: Grama | D11: 435112 | E11: CTF/APP: FTE - Categoria: Indústria Química; Código:15 | F11: 9 | G11: 658.5 | H11: =F11*ROUND(G11,2) -> 5926.5 | I11: SIM | J11: Aberto | K11: =VLOOKUP(G11, Intervalos!$B$3:$C$8,2,TRUE) -> 0,10%
A12: 7 | B12: Ácido 3-cloroperbenzóico - Aspecto físico: Pó Ou Flocos Brancos Ou Esbranquiçados, Fórmula química: ClC6H4CO3H(Ácido 3-Cloroperbenzóico), Peso molecular: 172,57 g/mol, Grau De Pureza: Teor Em Torno De 75%, Número de referência química: CAS 937-14-4 - Fornecimento em frasco de 25 gramas. | C12: Grama | D12: 381842 | E12: CTF/APP: FTE - Categoria: Indústria Química; Código:15 | F12: 50 | G12: 23.78 | H12: =F12*ROUND(G12,2) -> 1189 | I12: SIM | J12: Aberto | K12: =VLOOKUP(G12, Intervalos!$B$3:$C$8,2,TRUE) -> 0.05
A13: 8 | B13: Ácido 3-metilhipurico, 98%, peso molecular 193,20; número CAS 27115-49-7; embalagem: frasco contendo 1 grama. | C13: Grama | D13: 435110 | E13: CTF/APP: FTE - Categoria: Indústria Química; Código:15 | F13: 4 | G13: 622.5 | H13: =F13*ROUND(G13,2) -> 2490 | I13: SIM | J13: Aberto | K13: =VLOOKUP(G13, Intervalos!$B$3:$C$8,2,TRUE) -> 0,10%
A14: 9 | B14: Ácido Aurintricarboxilico Amoníaco PA (Aluminon PA). CAS: 569-58-4. Fórmula: C22H23N3O9. Peso molecular: 473,43 g/mol. Fornecimento em frasco de 25 gramas. | C14: Grama | D14: 387365 | E14: CTF/APP: FTE - Categoria: Indústria Química; Código:15 | F14: 75 | G14: 7.81 | H14: =F14*ROUND(G14,2) -> 585.75 | I14: SIM | J14: Aberto | K14: =VLOOKUP(G14, Intervalos!$B$3:$C$8,2,TRUE) -> 0.02
A15: 10 | B15: Ácido cloroacético - Aspecto físico: pó cristalino / flocos brancos, odor característico, Fórmula química: C2H2ClO2, Peso molecular: 94,51, Grau de Pureza mínima: 98%, Número de referência química: CAS 79-11-8. Fornecimento em frasco de 500 gramas. | C15: Grama | D15: 393102 | E15: CTF/APP: FTE - Categoria: Indústria Química; Código:15 | F15: =25*500 -> 12500 | G15: =81.44/500 -> 0.16288 | H15: =F15*ROUND(G15,2) -> 2000 | I15: SIM | J15: Aberto | K15: =VLOOKUP(G15, Intervalos!$B$3:$C$8,2,TRUE) -> 0.01
A16: 11 | B16: Ácido L (+) Tartárico (2,3-Di-Hidroxibutanodioico) P.A. - A.C.S. - Aspecto físico: Sólido Cristalino Branco, Inodoro, Peso molecular: 150,9, Fórmula química: C4h6o6, Pureza: 99,0%, Número de referência química Cas 87-69-4. Fornecimento Em Frasco De 500 Gramas | C16: Grama | D16: 370125 | E16: CTF/APP: FTE - Categoria: Indústria Química; Código:15 | F16: 1500 | G16: 0.18 | H16: =F16*ROUND(G16,2) -> 270 | I16: SIM | J16: Aberto | K16: =VLOOKUP(G16, Intervalos!$B$3:$C$8,2,TRUE) -> 0.01
A17: 12 | B17: Alquilpoliglicosídeo - Lauril glucosídeo - Plantaren® 1200 N UP - alquil-poliglucósido (APG®) surfactantes não iônicos. CAS: 110615-47-9. Aspecto Físico: Pasta à liquido viscoso. Teor de Sólidos (%): 48,0 – 55,0. Substância Ativa (%): 48,0 – 52,0. Fornecimento em frasco de 1Kg. | C17: Quilograma | D17: 429626 | E17: CTF/APP: FTE - Categoria: Indústria Química; Código:15 | F17: 13 | G17: 69.96 | H17: =F17*ROUND(G17,2) -> 909.48 | I17: SIM | J17: Aberto | K17: =VLOOKUP(G17, Intervalos!$B$3:$C$8,2,TRUE) -> 0.1
A18: 13 | B18: Aminoácidos de seda - proteína hidrolisada da seda - Aspecto físico: líquido levemente amarelo a castanho. Indicação: formulação de shampoos, condicionadores, e outros produtos cosméticos. Fornecimento em frasco ou pacote de 100g. | C18: Grama | D18: 454459 | E18: CTF/APP: FTE - Categoria: Indústria Química; Código:15 | F18: 300 | G18: 18.4 | H18: =F18*ROUND(G18,2) -> 5520 | I18: SIM | J18: Aberto | K18: =VLOOKUP(G18, Intervalos!$B$3:$C$8,2,TRUE) -> 0.03
A19: 14 | B19: Anilina P.A.- A.C.S. Fórmula Química: C6h7n; Massa Molar: 93,13 g/MOL; Aspecto Físico: Líquido; Grau De Pureza*: Pureza Mínima De 99,5%; Número De Referência Química: Cas 62-53-3. Reagente fornecido em frasco de 1 litro. | C19: Litro | D19: 456243 | E19: CTF/APP: FTE - Categoria: Indústria Química; Código:15 | F19: 7 | G19: 130.34 | H19: =F19*ROUND(G19,2) -> 912.38 | I19: SIM | J19: Aberto | K19: =VLOOKUP(G19, Intervalos!$B$3:$C$8,2,TRUE) -> 0,10%
A20: 15 | B20: Anisol P.S - Aspecto Físico: Líquido Incolor, Fórmula Química: CH3OC6H5, Peso Molecular: 108,14 g/mol, Grau De Pureza: Pureza Mínima De 99%, Reagente para síntese, Número De Referência Química: CAS 100-66-3 - Fornecimento em frasco de 100 mL | C20: Mililitro | D20: 382238 | E20: CTF/APP: FTE - Categoria: Indústria Química; Código:15 | F20: 200 | G20: 6.52 | H20: =F20*ROUND(G20,2) -> 1304 | I20: SIM | J20: Aberto | K20: =VLOOKUP(G20, Intervalos!$B$3:$C$8,2,TRUE) -> 0.02
A21: 16 | B21: Arabinose L (+) - Aspecto físico: pó branco ou esbranquiçado, Peso molecular 150,13 g/mol, Fórmula química: C5H10O5, Grau de Pureza mínima de 99,5%, Número de referência química: CAS 5328-37-0. Fornecimento em frasco de 25g | C21: Grama | D21: 414404 | E21: CTF/APP: FTE - Categoria: Indústria Química; Código:15 | F21: 75 | G21: 7.71 | H21: =F21*ROUND(G21,2) -> 578.25 | I21: SIM | J21: Aberto | K21: =VLOOKUP(G21, Intervalos!$B$3:$C$8,2,TRUE) -> 0.02
A22: 17 | B22: Arbutina (4-Hidroxifenil-β-D-glucopyranoside, p -Arbutin, hidroquinona β- D-glucopiranósido), Apresentação: pó, Fórmula empírica: C12H16O7 Peso Molecular: 272.25, Pureza mínima de 98%, Número CAS: 497-76-7. Fornecimento em frasco de 25g. | C22: Grama | D22: 626764 | E22: CTF/APP: FTE - Categoria: Indústria Química; Código:15 | F22: =3*25 -> 75 | G22: =4393.5/25 -> 175.74 | H22: =F22*ROUND(G22,2) -> 13180.5 | I22: SIM | J22: Aberto | K22: =VLOOKUP(G22, Intervalos!$B$3:$C$8,2,TRUE) -> 0,10%
A23: 18 | B23: Beta-cariofileno (-)-trans-cariofileno 98%, mistura de enantiômeros (padrão analítico para CG). Aspecto Físico: Líquido Oleoso, Límpido, Incolor À Leve Amarelado; Fórmula Química: C15h24 (Beta-Cariofileno); Peso Molecular: 204,35 G/MOL; Grau De Pureza: Teor 98%; Número De Referência Química: CAS No.: 87-44-5. Padrão para análises quantitativas em óleos essenciais obtidos a partir de fontes vegetais. Fornecimento em frasco de 5 mL. | C23: Mililitro | D23: 380224 | E23: CTF/APP: FTE - Categoria: Indústria Química; Código:15 | F23: =5*5 -> 25 | G23: =2416.5/5 -> 483.3 | H23: =F23*ROUND(G23,2) -> 12082.5 | I23: SIM | J23: Aberto | K23: =VLOOKUP(G23, Intervalos!$B$3:$C$8,2,TRUE) -> 0,10%
A24: 19 | B24: Bicarbonato de sódio P.A A.C.S - Aspecto físico: sólido, Fórmula química: NaHCO3, Pureza mínima: 99,7%, Peso molecular: 84,01 g/mol, Número de referência química: CAS 144-55-8. Fornecimento em frasco de 500g | C24: Grama | D24: 401189 | E24: CTF/APP: FTE - Categoria: Indústria Química; Código:15 | F24: 16500 | G24: 0.03 | H24: =F24*ROUND(G24,2) -> 495 | I24: SIM | J24: Aberto | K24: =VLOOKUP(G24, Intervalos!$B$3:$C$8,2,TRUE) -> 0.01
A25: 20 | B25: Biftalato de potássio P.A (Ftalato Ácido) - Aspecto físico: sólido, Fórmula química: C8H5KO4, Pureza mínima: 99,9%, Peso molecular: 204,22 g/mol, Características adicionais: reagente padrão primário, Número de referência química: CAS 877-24-7. Fornecimento em frasco de 100g. | C25: Grama | D25: 347386 | E25: CTF/APP: FTE - Categoria: Indústria química; Código:15 | F25: 1000 | G25: 2.58 | H25: =F25*ROUND(G25,2) -> 2580 | I25: SIM | J25: Aberto | K25: =VLOOKUP(G25, Intervalos!$B$3:$C$8,2,TRUE) -> 0.01
A26: 21 | B26: Cálcio Metálico - Aspecto Físico Granulado, Cor Acinzentada, Inodoro, Peso Molecular 40,8, Fórmula Química Ca Puro, Grau De Pureza Pureza Mínima De 98%, Característica Adicional Reagente, Número De Referência Química Cas 7440-70-2. Fornecimento em frasco de 100g | C26: Grama | D26: 348061 | E26: CTF/APP: FTE - Categoria: Indústria Química; Código:15 | F26: 300 | G26: 650 | H26: =F26*ROUND(G26,2) -> 195000 | I26: NÃO | J26: Aberto | K26: =VLOOKUP(G26, Intervalos!$B$3:$C$8,2,TRUE) -> 0,10%
A27: 22 | B27: Carbômero 980 (Carbopol 980) - Polímero carboxivinílico. Ácido poliacrílico. Agente espessante, agente estabilizante de emulsões e modificador de fluxo. Formula molecular: [-CH2-CH(COOH)-]n, CAS 9003-01-4. Fornecimento em frasco de 500g. | C27: Grama | D27: 414033 | E27: CTF/APP: FTE - Categoria: Indústria Química; Código:15 | F27: =2*500 -> 1000 | G27: =230.52/500 -> 0.46104 | H27: =F27*ROUND(G27,2) -> 460 | I27: SIM | J27: Aberto | K27: =VLOOKUP(G27, Intervalos!$B$3:$C$8,2,TRUE) -> 0.01
A28: 23 | B28: Carbonato de Amônio P.A A.C.S - Aspecto físico: Pó Incolor, Fórmula química: Ch8n2o3, Peso molecular: 96,09 G/Mol, Teor Como Nh3: Mínimo 30%, Número de referência química: Cas 506-87-6. Fornecimento em frasco de 500g. | C28: Grama | D28: 375316 | E28: CTF/APP: FTE - Categoria: Indústria Química; Código:15 | F28: 3500 | G28: 0.09 | H28: =F28*ROUND(G28,2) -> 315 | I28: SIM | J28: Aberto | K28: =VLOOKUP(G28, Intervalos!$B$3:$C$8,2,TRUE) -> 0.01
A29: 24 | B29: Carbonato de Cálcio P.A. A.C.S - Aspecto físico: Pó Branco, Peso molecular: 100,09 G/Mol, Fórmula química: Caco3, Pureza mínima: 99%, Número de referência química: Cas 471-34-1. Fornecimento em frasco de 500g. | C29: Grama | D29: 347884 | E29: CTF/APP: FTE - Categoria: Indústria Química; Código:15 | F29: 15000 | G29: 0.03 | H29: =F29*ROUND(G29,2) -> 450 | I29: SIM | J29: Aberto | K29: =VLOOKUP(G29, Intervalos!$B$3:$C$8,2,TRUE) -> 0.01
A30: 25 | B30: Carbonato de potássio anidro P.A. A.C.S – Aspecto físico: pó cristalino branco , Fórmula química: K2CO3, Peso molecular: 138, 21 g/mol, Pureza: 99%, Densidade: 2, 43 g/cm3. Número de referência química: CAS 584-08-7. Fornecimento em frasco de 500g. | C30: Grama | D30: 347951 | E30: CTF/APP: FTE - Categoria: Indústria Química; Código:15 | F30: 3500 | G30: 0.08 | H30: =F30*ROUND(G30,2) -> 280 | I30: SIM | J30: Aberto | K30: =VLOOKUP(G30, Intervalos!$B$3:$C$8,2,TRUE) -> 0.01
A31: 26 | B31: Cera Lanette N (álcool cetoestarilico + cetil estearil sulfato de sódio). Matéria-prima grau farmacêutico. Cera emulsificante, Aspecto físico: mistura branca de cetil estearil sulfato de sódio e, aplicação cremes e emulsões, tipo lanette N. | C31: frasco de 500g | D31: 307435 | E31: CTF/APP: FTE - Categoria: Indústria Química; Código:15 | F31: 2 | G31: 183.59 | H31: =F31*ROUND(G31,2) -> 367.18 | I31: SIM | J31: Aberto | K31: =VLOOKUP(G31, Intervalos!$B$3:$C$8,2,TRUE) -> 0,10%
A32: 27 | B32: Ciclohexano P.A. A.C.S - Aspecto Físico: Liquido Incolor, Peso Molecular: 84,16 G/Mol, Fórmula Química: C6h12, Pureza Mínima: 99,5%, Número De Referência Química Cas: 110-82-7. Fornecimento em frasco de 1 Litro | C32: Litro | D32: 348089 | E32: CTF/APP: FTE - Categoria: Indústria Química; Código:15 | F32: 5 | G32: 70.77 | H32: =F32*ROUND(G32,2) -> 353.85 | I32: SIM | J32: Aberto | K32: =VLOOKUP(G32, Intervalos!$B$3:$C$8,2,TRUE) -> 0.1
A33: 28 | B33: Ciclohexanol - Aspecto Físico: Líquido Incolor, Higroscópico, Odor Característico, Peso Molecular: 100,16 g/mol, Fórmula Química: C6H11OH, Grau De Pureza: Pureza Mínima De 99%, Característica Adicional: Reagente para síntese. Número De Referência Química: CAS 108-93-0. | C33: Litro | D33: 412964 | E33: CTF/APP: FTE - Categoria: Indústria Química; Código:15 | F33: 7 | G33: 448.31 | H33: =F33*ROUND(G33,2) -> 3138.17 | I33: SIM | J33: Aberto | K33: =VLOOKUP(G33, Intervalos!$B$3:$C$8,2,TRUE) -> 0,10%
A34: 29 | B34: Ciclometicone (DC 344, Silicone volátil) Matéria-prima grau farmacêutico / cosmético | C34: Litro | D34: 368971 | E34: CTF/APP: FTE - Categoria: Indústria Química; Código:15 | F34: 15 | G34: 182.3 | H34: =F34*ROUND(G34,2) -> 2734.5 | I34: SIM | J34: Aberto | K34: =VLOOKUP(G34, Intervalos!$B$3:$C$8,2,TRUE) -> 0,10%
A35: 30 | B35: Citrato de sódio anidro USP/ FCC - Aspecto físico cristal fino, composição C6H5O7NA3 , Peso Molecular 258, 07, grau de pureza minima de 99%, número de referencia química CAS 68-04-2. Fornecimento em embalagem de 1Kg. | C35: Quilograma | D35: 397999 | E35: CTF/APP: FTE - Categoria: Indústria Química; Código:15 | F35: 25 | G35: =0.06*1000 -> 60 | H35: =F35*ROUND(G35,2) -> 1500 | I35: SIM | J35: Aberto | K35: =VLOOKUP(G35, Intervalos!$B$3:$C$8,2,TRUE) -> 0.1
A36: 31 | B36: Cloral Hidratado solução 10% - Aspecto físico líquido; CAS: 302-17-0; Fórmula Química: C2h3cl3o2; Peso Molecular: 165,40 G/MOL; concentração 10% (10g/100mL). Fornecimento em frasco de 1L. | C36: Litro | D36: 385476 | E36: CTF/APP: FTE - Categoria: Indústria Química; Código:15 | F36: 4 | G36: 537.91 | H36: =F36*ROUND(G36,2) -> 2151.64 | I36: SIM | J36: Aberto | K36: =VLOOKUP(G36, Intervalos!$B$3:$C$8,2,TRUE) -> 0,10%
A37: 32 | B37: Cloreto de Cálcio Dihidratado 2 H2o P.A -Aspecto Físico: Cristalino Branco, Fórmula Química: Cacl2.2h20, Peso Molecular: 147,01 G/Mol, Pureza Mínima: 99%, Número De Referência Química Cas: 10035-04-8. Fornecimento em frasco de 500g. | C37: Grama | D37: 412633 | E37: CTF/APP: FTE - Categoria: Indústria Química; Código:15 | F37: 5000 | G37: 0.06 | H37: =F37*ROUND(G37,2) -> 300 | I37: SIM | J37: Aberto | K37: =VLOOKUP(G37, Intervalos!$B$3:$C$8,2,TRUE) -> 0.01
A38: 33 | B38: Cloreto De Cetil Piridino monohidratado (H2O) P.A. - CAS 6004-24-6, Fórmula: C21H38NCl . H2O, Peso Molecular: 358,01, Aspecto físico: sólido branco. Fornecimento em frasco de 100g. | C38: Grama | D38: 353524 | E38: CTF/APP: FTE - Categoria: Indústria Química; Código:15 | F38: 500 | G38: 1.05 | H38: =F38*ROUND(G38,2) -> 525 | I38: SIM | J38: Aberto | K38: =VLOOKUP(G38, Intervalos!$B$3:$C$8,2,TRUE) -> 0.01
A39: 34 | B39: Cloreto de Cromo III (Ico) Anidro P.A - Aspecto Físico: Cristal Preto Esverdeado À Violáceo, Fórmula Química: Crcl3 Anidro, Peso Molecular: 158,36 G/Mol, Pureza Mínima: 98%, Número De Referência Química Cas 10025-73-7. Fornecimento em frasco de 250g. | C39: Grama | D39: 374564 | E39: CTF/APP: FTE - Categoria: Indústria Química; Código:15 | F39: 750 | G39: 67.83 | H39: =F39*ROUND(G39,2) -> 50872.5 | I39: SIM | J39: Aberto | K39: =VLOOKUP(G39, Intervalos!$B$3:$C$8,2,TRUE) -> 0.1
A40: 35 | B40: Cloreto de estanho IV anidro - Aspecto Físico: Líquido Incolor, Fórmula Química: SnCl4 (Cloreto De Estanho IV), Peso Molecular: 260,52 g/mol, Teor De Pureza: Pureza Mínima De 98%, Número De Referência Química: CAS 7646-78-8 - Fornecimento em frasco de 250 g | C40: Grama | D40: 381591 | E40: CTF/APP: FTE - Categoria: Indústria Química; Código:15 | F40: 500 | G40: 2.99 | H40: =F40*ROUND(G40,2) -> 1495 | I40: SIM | J40: Aberto | K40: =VLOOKUP(G40, Intervalos!$B$3:$C$8,2,TRUE) -> 0.01
A41: 36 | B41: Cloreto de fosforila (oxicloreto de fósforo V) - Fórmula Química: POCl3, Aspecto Físico: Líquido incolor, inodoro, Peso Molecular: 153,33 g/mol, Grau De Pureza: Pureza Mínima De 99% Característica Adicional: Reagente para síntese, Número De Referência Química: CAS 10025-87-3 - Fornecimento em frasco de 250 mL. | C41: Mililitro | D41: 381298 | E41: CTF/APP: FTE - Categoria: Indústria Química; Código:15 | F41: 500 | G41: 1.53 | H41: =F41*ROUND(G41,2) -> 765 | I41: SIM | J41: Aberto | K41: =VLOOKUP(G41, Intervalos!$B$3:$C$8,2,TRUE) -> 0.01
...

Sheet Intervalos
B2: Valor Unitário Estimado (Faixa) | C2: Diferença Mínima de Valores / Percentuais de Lances | E2: Interpretação
B3: 0.01 | C3: 0.01 | E3: R$ 0,01 - R$ 5,00 => R$ 0,01
B4: 5 | C4: 0.02 | E4: R$ 5,01 - R$ 10,00 => R$ 0,02
B5: 10 | C5: 0.03 | E5: R$ 10,01 - R$ 20,00 => R$ 0,03
B6: 20 | C6: 0.05 | E6: R$ 20,01 - R$ 50,00 => R$ 0,05
B7: 50 | C7: 0.1 | E7: R$ 50,01 - R$ 100,00 => R$ 0,10
B8: 100 | C8: 0,10% | E8: Acima de R$ 100,00 => 0,10%
