Workbook

Sheet Resumo
A11: RESUMO DA PLANILHA DE ORÇAMENTOS DE PROJETOS E OBRAS
A12: UFF- INSTITUTO DE ARTES E COMUNICAÇÃO SOCIAL - IACS | D12: PROCESSO: 23069.163323/2021/57
A13: LOCAL: Rua Prof. Lara Vilela, 126 - São Domingos, Niterói | D13: ARTs 13076784
A14: NOME DA OBRA: IACS | D14: BDI | E14: BDI EQUIP. | F14: SIAPE | G14: DATA | H14: REVISÃO
A15: BASE DE DADOS: BASES SINAPI , SBC ,EMOP , SCO /MÊS DE REFERÊNCIA DEZEMBRO/25 -ESTADO RJ - REGIME TRIBUTÁRIO : NÃO DESONERADO | D15: 0.2627 | E15: 0 | F15: 0000000 | G15: 46037 | H15: R04
A16: RESUMO
A17: Item | B17: Descrição | H17: Total | I17: Peso (%)
A18: 1 | B18: PROJETOS | H18: 2274.17 | I18: 0.0022365423
A19: 2 | B19: GERENCIAMENTO DE OBRAS / FISCALIZAÇÃO | H19: 115391.25 | I19: 0.11348202
A20: 3 | B20: SERVIÇOS PRELIMINARES | H20: 67176.47 | I20: 0.066064989
A21: 4 | B21: MOVIMENTO DE TERRA/BANCO DE DUTOS/CAIXAS SUBTERRANEAS | H21: 17834.09 | I21: 0.017539013
A22: 5 | B22: INFRAESTRUTURA: FUNDAÇÕES SIMPLES (OU DIRETAS ) | H22: 4106.45 | I22: 0.004038506
A23: 6 | B23: SUPERESTRUTURA | H23: 5541.7 | I23: 0.0054500088
A24: 7 | B24: ALVENARIA | H24: 2393.98 | I24: 0.00235437
A25: 8 | B25: ESQUADRIAS | H25: 57765.9 | I25: 0.056810124
A26: 9 | B26: INSTALAÇÕES ELÉTRICAS E SPDA | H26: 184404.65 | I26: 0.18135355
A27: 10 | B27: INSTALAÇOES DE COMBATE À INCÊNDIO | H27: 415192.86 | I27: 0.40832321
A28: 11 | B28: IMPERMEABILIZAÇÃO, ISOLAMENTO TÉRMICO E ACÚSTICO | H28: 1101.01 | I28: 0.001082793
A29: 12 | B29: PISO | H29: 30315.8 | I29: 0.029814204
... A33: 16 | B33: SERVIÇOS COMPLEMENTARES | H33: 19204.01 | I33: 0.018886267
E35: Total sem BDI | G35: 805360.96
E36: Total do BDI | G36: 211463.09
E37: Total Geral | G37: 1016824.1
A39: _______________________________________________________________ OTAVIANO CARAN Sócio/CEO/Proprietário

Sheet Planilha
A11: PLANILHA DE ORÇAMENTOS DE PROJETOS E OBRAS - SINTÉTICA
A12: =Resumo!A12 -> UFF- INSTITUTO DE ARTES E COMUNICAÇÃO SOCIAL - IACS | E12: =Resumo!D12 -> PROCESSO: 23069.163323/2021/57
A13: =Resumo!A13 -> LOCAL: Rua Prof. Lara Vilela, 126 - São Domingos, Niterói | E13: =Resumo!D13 -> ARTs 13076784
A14: =Resumo!A14 -> NOME DA OBRA: IACS | E14: =Resumo!D14 -> BDI | F14: =Resumo!E14 -> BDI EQUIP. | G14: =Resumo!F14 -> SIAPE | H14: =Resumo!G14 -> DATA | I14: =Resumo!H14 -> REVISÃO
A15: =Resumo!A15 -> BASE DE DADOS: BASES SINAPI , SBC ,EMOP , SCO /MÊS DE REFERÊNCIA DEZEMBRO/25 -ESTADO RJ - REGIME TRIBUTÁRIO : NÃO DESONERADO | E15: =Resumo!D15 -> 0.2627 | F15: =Resumo!E15 -> 0 | G15: =Resumo!F15 -> 0000000 | H15: =Resumo!G15 -> 46037 | I15: =Resumo!H15 -> R04
A16: ITEM | B16: CÓDIGO | C16: BASE DE DADOS | D16: DESCRIÇÃO | E16: UNIDADE | F16: QUANTIDADE | G16: CUSTO UNITÁRIO | H16: PREÇO UNIT c/ BDI | I16: PREÇO TOTAL | K16: DESCONTO OFERTADO
A17: 1 | D17: PROJETOS | I17: 2274.17 | J17: 0.0022365423
A18: 1.1 | B18: 1082-01.050.0840-1 | C18: Próprio | D18: PROJETO DE AS BUILT DE INSTALACAO DE INCENDIO E SPDA PARA PR EDIOS ESCOLARES E/OU ADMINISTRATIVOS ATE 500M2,APRESENTADO NOS PADROES DA CONTRATANTE 9%-DESPESAS ADMINISTRATIVAS E DE MATERIAIS | E18: m² | F18: 500 | G18: 0.96 | H18: 1.21 | I18: 605 | J18: 0.00059498986 | K18: =$I$264 -> 0 | L18: =I18-(I18*K18) -> 605
A19: 1.2 | B19: 1082-01.050.0841-0 | C19: Próprio | D19: PROJETO DE AS BUILT DE INSTALACAO DE INCENDIO E SPDA PARA PR EDIOS ESCOLARES E/OU ADMINISTRATIVOS DE 501 ATE 3000M2,APRES ENTADO NOS PADROES DA CONTRATANTE 9%-DESPESAS ADMINISTRATIVAS E DE MATERIAIS | E19: m² | F19: 2500 | G19: 0.52 | H19: 0.65 | I19: 1625 | J19: 0.0015981133 | K19: =$I$264 -> 0 | L19: =I19-(I19*K19) -> 1625
A20: 1.3 | B20: 1082-01.050.0842-0 | C20: Próprio | D20: PROJETO DE AS BUILT DE INSTALACAO DE INCENDIO E SPDA PARA PR EDIOS ESCOLARES E/OU ADMINISTRATIVOS ACIMA DE 3000M2,APRESEN TADO NOS PADROES DA CONTRATANTE 9%-DESPESAS ADMINISTRATIVAS E DE MATERIAIS | E20: m² | F20: 138.06 | G20: 0.26 | H20: 0.32 | I20: 44.17 | J20: 4.3439177e-05 | K20: =$I$264 -> 0 | L20: =I20-(I20*K20) -> 44.17
A21: 2 | D21: GERENCIAMENTO DE OBRAS / FISCALIZAÇÃO | I21: 115391.25 | J21: 0.11348202
A22: 2.1 | B22: 1082-COMP-ADM | C22: Próprio | D22: ADMINISTRAÇÃO LOCAL A SER PAGO PROPORCIONAL A EVOLUÇÃO DA OBRA | E22: und | F22: 1 | G22: 91384.54 | H22: 115391.25 | I22: 115391.25 | J22: 0.11348202 | K22: =$I$264 -> 0 | L22: =I22-(I22*K22) -> 115391.25
A23: 3 | D23: SERVIÇOS PRELIMINARES | I23: 67176.47 | J23: 0.066064989
A24: 3.1 | B24: 1083-COMP-TAXAS | C24: Próprio | D24: ART CONTRATO MAIOR QUE R$ 15.000,00 | E24: UN | F24: 1 | G24: 271.47 | H24: 342.78 | I24: 342.78 | J24: 0.00033710847 | K24: =$I$264 -> 0 | L24: =I24-(I24*K24) -> 342.78
A25: 3.2 | D25: DEMOLIÇÕES E REMOÇÕES | I25: 27888.69 | J25: 0.027427253
A26: 3.2.1 | B26: 1082-COMP-04.014.0095-0 | C26: Próprio | D26: RETIRADA DE ENTULHO DE OBRA COM CACAMBA DE ACO TIPO CONTAINE R COM 5M3 DE CAPACIDADE,INCLUSIVE CARREGAMENTO,TRANSPORTE E DESCARREGAMENTO.CUSTO POR UNIDADE DE CACAMBA E INCLUI A TAX A PARA DESCARGA EM LOCAIS AUTORIZADOS 3%-DESGASTE DE FERRAMENTAS E EPI | E26: UN | F26: 6 | G26: 379.13 | H26: 478.72 | I26: 2872.32 | J26: 0.0028247955 | K26: =$I$264 -> 0 | L26: =I26-(I26*K26) -> 2872.32
A27: 3.2.2 | B27: 1082-COMP-05.001.0086-0 | C27: Próprio | D27: REMOCAO DE TERRA OU ENTULHO,A PA,ATE A DISTANCIA HORIZONTAL DE 5,00M 3%- DESGASTE DE FERRAMENTAS E EPI | E27: m³ | F27: 35.37534 | G27: 47.83 | H27: 60.39 | I27: 2136.31 | J27: 0.0021009633 | K27: =$I$264 -> 0 | L27: =I27-(I27*K27) -> 2136.31
A28: 3.2.3 | B28: 104789 | C28: SINAPI | D28: DEMOLIÇÃO DE PISO DE CONCRETO SIMPLES, DE FORMA MANUAL, SEM REAPROVEITAMENTO. AF_09/2023 | E28: m³ | F28: 0.9375 | G28: 297.55 | H28: 375.71 | I28: 352.22 | J28: 0.00034639228 | K28: =$I$264 -> 0 | L28: =I28-(I28*K28) -> 352.22
A29: 3.2.4 | B29: 104758 | C29: SINAPI | D29: FURO MANUAL EM ALVENARIA, PARA INSTALAÇÕES ELÉTRICAS, DIÂMETROS MENORES OU IGUAIS A 40 MM. AF_09/2023 | E29: UN | F29: 122 | G29: 21.93 | H29: 27.69 | I29: 3378.18 | J29: 0.0033222857 | K29: =$I$264 -> 0 | L29: =I29-(I29*K29) -> 3378.18
A30: 3.2.5 | B30: 104769 | C30: SINAPI | D30: FURO MECANIZADO EM ALVENARIA, PARA INSTALAÇÕES HIDRÁULICAS, DIÂMETROS MAIORES QUE 40 MM E MENORES OU IGUAIS A 75 MM. AF_09/2023 | E30: UN | F30: 14 | G30: 2.37 | H30: 2.99 | I30: 41.86 | J30: 4.1167398e-05 | K30: =$I$264 -> 0 | L30: =I30-(I30*K30) -> 41.86
A31: 3.2.6 | B31: 90436 | C31: SINAPI | D31: FURO MANUAL EM ALVENARIA, PARA INSTALAÇÕES HIDRÁULICAS, DIÂMETROS MENORES OU IGUAIS A 40 MM. AF_09/2023 | E31: UN | F31: 3 | G31: 21 | H31: 26.51 | I31: 79.53 | J31: 7.8214122e-05 | K31: =$I$264 -> 0 | L31: =I31-(I31*K31) -> 79.53
A32: 3.2.7 | B32: 104774 | C32: SINAPI | D32: FURO MECANIZADO EM CONCRETO, COM PERFURATRIZ, PARA INSTALAÇÕES ELÉTRICAS, DIÂMETROS MENORES OU IGUAIS A 40 MM. AF_09/2023 | E32: UN | F32: 23 | G32: 3.18 | H32: 4.01 | I32: 92.23 | J32: 9.0703992e-05 | K32: =$I$264 -> 0 | L32: =I32-(I32*K32) -> 92.23
A33: 3.2.8 | B33: 104775 | C33: SINAPI | D33: FURO MECANIZADO EM CONCRETO, COM PERFURATRIZ, PARA INSTALAÇÕES HIDRÁULICAS, DIÂMETROS MAIORES QUE 40 MM E MENORES OU IGUAIS A 75 MM. AF_09/2023 | E33: UN | F33: 4 | G33: 8.15 | H33: 10.29 | I33: 41.16 | J33: 4.047898e-05 | K33: =$I$264 -> 0 | L33: =I33-(I33*K33) -> 41.16
A34: 3.2.9 | B34: 104786 | C34: SINAPI | D34: RASGO LINEAR MECANIZADO EM CONCRETO, PARA RAMAIS/ DISTRIBUIÇÃO DE INSTALAÇÕES HIDRÁULICAS, DIÂMETROS MENORES OU IGUAIS A 40 MM. AF_09/2023 | E34: M | F34: 335 | G34: 10.19 | H34: 12.86 | I34: 4308.1 | J34: 0.0042368195 | K34: =$I$264 -> 0 | L34: =I34-(I34*K34) -> 4308.1
A35: 3.2.10 | B35: 97641 | C35: SINAPI | D35: REMOÇÃO DE FORRO DE GESSO, DE FORMA MANUAL, SEM REAPROVEITAMENTO. AF_09/2023 | E35: m² | F35: 115.4405 | G35: 4.37 | H35: 5.51 | I35: 636.07 | J35: 0.00062554579 | K35: =$I$264 -> 0 | L35: =I35-(I35*K35) -> 636.07
A36: 3.2.11 | B36: 97622 | C36: SINAPI | D36: DEMOLIÇÃO DE ALVENARIA DE BLOCO FURADO, DE FORMA MANUAL, SEM REAPROVEITAMENTO. AF_09/2023 | E36: m³ | F36: 1.0455 | G36: 84.55 | H36: 106.76 | I36: 111.61 | J36: 0.00010976334 | K36: =$I$264 -> 0 | L36: =I36-(I36*K36) -> 111.61
A37: 3.2.12 | B37: 97628 | C37: SINAPI | D37: DEMOLIÇÃO DE LAJES, EM CONCRETO ARMADO, DE FORMA MANUAL, SEM REAPROVEITAMENTO. AF_09/2023 | E37: m³ | F37: 0.47875 | G37: 395.74 | H37: 499.7 | I37: 239.23 | J37: 0.00023527178 | K37: =$I$264 -> 0 | L37: =I37-(I37*K37) -> 239.23
... A45: 3.2.20 | B45: 97637 | C45: SINAPI | D45: REMOÇÃO DE TAPUME/ CHAPAS METÁLICAS E DE MADEIRA, DE FORMA MANUAL, SEM REAPROVEITAMENTO. AF_09/2023 | E45: m² | F45: 34.2 | G45: 4.51 | H45: 5.69 | I45: 194.59 | J45: 0.00019137038 | K45: =$I$264 -> 0 | L45: =I45-(I45*K45) -> 194.59
A46: 3.3 | D46: CANTEIRO DE OBRAS | I46: 36293.33 | J46: 0.035692832
A47: 3.3.1 | B47: 103689 | C47: SINAPI | D47: FORNECIMENTO E INSTALAÇÃO DE PLACA DE OBRA COM CHAPA GALVANIZADA E ESTRUTURA DE MADEIRA. AF_03/2022_PS | E47: m² | F47: 2 | G47: 481.11 | H47: 607.49 | I47: 1214.98 | J47: 0.0011948773 | K47: =$I$264 -> 0 | L47: =I47-(I47*K47) -> 1214.98
A48: 3.3.2 | B48: 1082-COMP-AD 20.20.0050 | C48: Próprio | D48: Instalacao e ligacao provisorias de alimentacao de energia eletrica, em baixa tensao (BT), para canteiro de obras, exclusive o fornecimento do medidor. | E48: un | F48: 1 | G48: 2437.19 | H48: 3077.43 | I48: 3077.43 | J48: 0.0030265118 | K48: =$I$264 -> 0 | L48: =I48-(I48*K48) -> 3077.43
A49: 3.3.3 | B49: 012057 | C49: SBC | D49: CONTAINER ESCRITORIO 6,05x2,44x2,57 COM ACABAMENTO EM PVC | E49: MES | F49: 6 | G49: 1530 | H49: 1931.93 | I49: 11591.58 | J49: 0.011399789 | K49: =$I$264 -> 0 | L49: =I49-(I49*K49) -> 11591.58
A50: 3.3.4 | B50: 04.005.0300-0 | C50: EMOP | D50: TRANSPORTE DE CONTAINER,SEGUNDO DESCRICAO DA FAMILIA 02.006, EXCLUSIVE CARGA E DESCARGA(VIDE ITEM 04.013.0015) | E50: UNXKM | F50: 30 | G50: 35.75 | H50: 45.14 | I50: 1354.2 | J50: 0.0013317938 | K50: =$I$264 -> 0 | L50: =I50-(I50*K50) -> 1354.2
A51: 3.3.5 | B51: 1082-COMP-04.013.0015-0 | C51: Próprio | D51: CARGA E DESCARGA DE CONTAINER,SEGUNDO DESCRICAO DA FAMILIA 0 2.006 3%-DESGASTE DE FERRAMENTAS E EPI | E51: UN | F51: 2 | G51: 106.74 | H51: 134.78 | I51: 269.56 | J51: 0.00026509995 | K51: =$I$264 -> 0 | L51: =I51-(I51*K51) -> 269.56
A52: 3.3.6 | B52: 05.006.0001-B | C52: EMOP | D52: LOCACAO DE ANDAIME COM ELEMENTOS TUBULARES SOBRE SAPATAS FIX AS,CONSIDERANDO-SE A AREA DA PROJECAO VERTICAL DO ANDAIME E PAGO PELO TEMPO NECESSARIO A SUA UTILIZACAO,EXCLUSIVE TRANSP ORTE DOS ELEMENTOS DO ANDAIME ATE A OBRA,PLATAFORMA OU PASSA RELA DE PINHO,MONTAGEM E DESMONTAGEM DOS ANDAIMES | E52: M2XMES | F52: 48 | G52: 38.9 | H52: 49.11 | I52: 2357.28 | J52: 0.0023182772 | K52: =$I$264 -> 0 | L52: =I52-(I52*K52) -> 2357.28
A53: 3.3.7 | B53: 1082-COMP-05.008.0009-0 | C53: Próprio | D53: MOVIMENTACAO HORIZONTAL DE ANDAIME COM ELEMENTOS TUBULARES T IPO TORRE 3%-DESGASTE DE FERRAMENTAS E EPI | E53: M | F53: 200 | G53: 0.31 | H53: 0.39 | I53: 78 | J53: 7.6709437e-05 | K53: =$I$264 -> 0 | L53: =I53-(I53*K53) -> 78
A54: 3.3.8 | B54: 04.020.0122-0 | C54: EMOP | D54: TRANSPORTE DE ANDAIME TUBULAR,CONSIDERANDO-SE A AREA DE PROJ ECAO VERTICAL DO ANDAIME,EXCLUSIVE CARGA,DESCARGA E TEMPO DE ESPERA DO CAMINHAO(VIDE ITEM 04.021.0010) | E54: M2XKM | F54: 1440 | G54: 0.2 | H54: 0.25 | I54: 360 | J54: 0.00035404355 | K54: =$I$264 -> 0 | L54: =I54-(I54*K54) -> 360
A55: 3.3.9 | B55: 98457 | C55: SINAPI | D55: TAPUME COM CHAPA METÁLICA. AF_03/2024 | E55: m² | F55: 34.2 | G55: 116.24 | H55: 146.77 | I55: 5019.53 | J55: 0.0049364784 | K55: =$I$264 -> 0 | L55: =I55-(I55*K55) -> 5019.53
A56: 3.3.10 | B56: 1083-COMP-9126 | C56: Próprio | D56: LINHA DE VIDA HORIZONTAL PROVISÓRIA EM CORDA PARA TRABALHOS EM COBERTURAS E TELHADOS | E56: M | F56: 125 | G56: 22.62 | H56: 28.56 | I56: 3570 | J56: 0.0035109319 | K56: =$I$264 -> 0 | L56: =I56-(I56*K56) -> 3570
A57: 3.3.11 | B57: 1082-COMP-MOB-01 | C57: Próprio | D57: MOBILIZACAO DE CANTEIRO | E57: UN | F57: 1 | G57: 1462.96 | H57: 1847.27 | I57: 1847.27 | J57: 0.0018167057 | K57: =$I$264 -> 0 | L57: =I57-(I57*K57) -> 1847.27
...

Sheet Composição
A11: PLANILHA DE COMPOSIÇÕES
A12: =Planilha!A12 -> UFF- INSTITUTO DE ARTES E COMUNICAÇÃO SOCIAL - IACS | G12: =Planilha!E12 -> PROCESSO: 23069.163323/2021/57
A13: =Planilha!A13 -> LOCAL: Rua Prof. Lara Vilela, 126 - São Domingos, Niterói | G13: =Planilha!E13 -> ARTs 13076784
A14: =Planilha!A14 -> NOME DA OBRA: IACS | G14: =Planilha!E14 -> BDI | H14: =Planilha!F14 -> BDI EQUIP. | J14: =Planilha!H14 -> DATA | K14: =Planilha!I14 -> REVISÃO
A15: =Planilha!A15 -> BASE DE DADOS: BASES SINAPI , SBC ,EMOP , SCO /MÊS DE REFERÊNCIA DEZEMBRO/25 -ESTADO RJ - REGIME TRIBUTÁRIO : NÃO DESONERADO | G15: =Planilha!E15 -> 0.2627 | H15: =Planilha!F15 -> 0 | J15: =Planilha!H15 -> 46037 | K15: =Planilha!I15 -> R04
A17: ITEM | B17: CÓDIGO | C17: BANCO | D17: DESCRIÇÃO | G17: UNIDADE | H17: COEFICIENTE | J17: CUSTO UNITÁRIO | K17: CUSTO TOTAL
A18: 1 | D18: PROJETOS | K18: 2274.17
A19: 1.1 | B19: Código | C19: Banco | D19: Descrição | E19: Tipo | G19: Und | H19: Quant. | I19: Porcent. | J19: Valor Unit | K19: Total
A20: Composição | B20: 1082-01.050.0840-1 | C20: Próprio | D20: PROJETO DE AS BUILT DE INSTALACAO DE INCENDIO E SPDA PARA PR EDIOS ESCOLARES E/OU ADMINISTRATIVOS ATE 500M2,APRESENTADO NOS PADROES DA CONTRATANTE 9%-DESPESAS ADMINISTRATIVAS E DE MATERIAIS | E20: 1 | G20: m² | H20: 1 | J20: 0.96 | K20: 0.96
A21: Composição Auxiliar | B21: 90777 | C21: SINAPI | D21: ENGENHEIRO CIVIL DE OBRA JUNIOR COM ENCARGOS COMPLEMENTARES | E21: Livro SINAPI: Cálculos e Parâmetros | G21: H | H21: 0.0066 | I21: 0 | J21: 146.11 | K21: 0.96
E22: MO sem LS => | F22: 0.42714983 | G22: LS => | H22: 0.48 | I22: MO com LS => | J22: 0.91
E23: Valor do BDI => | F23: 0.25 | H23: Valor com BDI => | J23: 1.21
G24: Quant. => | H24: 500 | I24: Preço Total => | J24: 605
A26: 1.2 | B26: Código | C26: Banco | D26: Descrição | E26: Tipo | G26: Und | H26: Quant. | I26: Porcent. | J26: Valor Unit | K26: Total
A27: Composição | B27: 1082-01.050.0841-0 | C27: Próprio | D27: PROJETO DE AS BUILT DE INSTALACAO DE INCENDIO E SPDA PARA PR EDIOS ESCOLARES E/OU ADMINISTRATIVOS DE 501 ATE 3000M2,APRES ENTADO NOS PADROES DA CONTRATANTE 9%-DESPESAS ADMINISTRATIVAS E DE MATERIAIS | E27: 1 | G27: m² | H27: 1 | J27: 0.52 | K27: 0.52
A28: Composição Auxiliar | B28: 90777 | C28: SINAPI | D28: ENGENHEIRO CIVIL DE OBRA JUNIOR COM ENCARGOS COMPLEMENTARES | E28: Livro SINAPI: Cálculos e Parâmetros | G28: H | H28: 0.0036 | I28: 0 | J28: 146.11 | K28: 0.52
E29: MO sem LS => | F29: 0.23469771 | G29: LS => | H29: 0.27 | I29: MO com LS => | J29: 0.5
E30: Valor do BDI => | F30: 0.13 | H30: Valor com BDI => | J30: 0.65
G31: Quant. => | H31: 2500 | I31: Preço Total => | J31: 1625
A33: 1.3 | B33: Código | C33: Banco | D33: Descrição | E33: Tipo | G33: Und | H33: Quant. | I33: Porcent. | J33: Valor Unit | K33: Total
A34: Composição | B34: 1082-01.050.0842-0 | C34: Próprio | D34: PROJETO DE AS BUILT DE INSTALACAO DE INCENDIO E SPDA PARA PR EDIOS ESCOLARES E/OU ADMINISTRATIVOS ACIMA DE 3000M2,APRESEN TADO NOS PADROES DA CONTRATANTE 9%-DESPESAS ADMINISTRATIVAS E DE MATERIAIS | E34: 1 | G34: m² | H34: 1 | J34: 0.26 | K34: 0.26
A35: Composição Auxiliar | B35: 90777 | C35: SINAPI | D35: ENGENHEIRO CIVIL DE OBRA JUNIOR COM ENCARGOS COMPLEMENTARES | E35: Livro SINAPI: Cálculos e Parâmetros | G35: H | H35: 0.0018 | I35: 0 | J35: 146.11 | K35: 0.26
E36: MO sem LS => | F36: 0.11734885 | G36: LS => | H36: 0.13 | I36: MO com LS => | J36: 0.25
E37: Valor do BDI => | F37: 0.06 | H37: Valor com BDI => | J37: 0.32
G38: Quant. => | H38: 138.06 | I38: Preço Total => | J38: 44.17
A40: 2 | D40: GERENCIAMENTO DE OBRAS / FISCALIZAÇÃO | K40: 115391.25
A41: 2.1 | B41: Código | C41: Banco | D41: Descrição | E41: Tipo | G41: Und | H41: Quant. | I41: Porcent. | J41: Valor Unit | K41: Total
A42: Composição | B42: 1082-COMP-ADM | C42: Próprio | D42: ADMINISTRAÇÃO LOCAL A SER PAGO PROPORCIONAL A EVOLUÇÃO DA OBRA | E42: CANT - CANTEIRO DE OBRAS | G42: und | H42: 1 | J42: 91384.54 | K42: 91384.54
A43: Composição Auxiliar | B43: 93572 | C43: SINAPI | D43: ENCARREGADO GERAL DE OBRAS COM ENCARGOS COMPLEMENTARES | E43: Livro SINAPI: Cálculos e Parâmetros | G43: MES | H43: 6 | I43: 0 | J43: 10490.3 | K43: 62941.8
A44: Composição Auxiliar | B44: 93567 | C44: SINAPI | D44: ENGENHEIRO CIVIL DE OBRA PLENO COM ENCARGOS COMPLEMENTARES | E44: Livro SINAPI: Cálculos e Parâmetros | G44: MES | H44: 1 | I44: 0 | J44: 28442.74 | K44: 28442.74
E45: MO sem LS => | F45: 37319.203 | G45: LS => | H45: 42185.63 | I45: MO com LS => | J45: 79504.83
E46: Valor do BDI => | F46: 24006.71 | H46: Valor com BDI => | J46: 115391.25
G47: Quant. => | H47: 1 | I47: Preço Total => | J47: 115391.25
A49: 3 | D49: SERVIÇOS PRELIMINARES | K49: 67176.47
A50: 3.1 | B50: Código | C50: Banco | D50: Descrição | E50: Tipo | G50: Und | H50: Quant. | I50: Porcent. | J50: Valor Unit | K50: Total
A51: Composição | B51: 1083-COMP-TAXAS | C51: Próprio | D51: ART CONTRATO MAIOR QUE R$ 15.000,00 | E51: SERT - SERVIÇOS TÉCNICOS | G51: UN | H51: 1 | J51: 271.47 | K51: 271.47
A52: Insumo | B52: 1083-TAXAS | C52: Próprio | D52: ART CONTRATO MAIOR QUE R$ 15.000,00 | E52: Taxas | G52: UN | H52: 1 | I52: 0 | J52: 271.47 | K52: 271.47
E53: MO sem LS => | F53: 0 | G53: LS => | H53: 0 | I53: MO com LS => | J53: 0
E54: Valor do BDI => | F54: 71.31 | H54: Valor com BDI => | J54: 342.78
G55: Quant. => | H55: 1 | I55: Preço Total => | J55: 342.78
...

Sheet Mem. Cálculo
A11: PLANILHA DE MEMÓRIA DE CÁLCULOS
A12: =Planilha!A12 -> UFF- INSTITUTO DE ARTES E COMUNICAÇÃO SOCIAL - IACS | G12: =Planilha!E12 -> PROCESSO: 23069.163323/2021/57
A13: =Planilha!A13 -> LOCAL: Rua Prof. Lara Vilela, 126 - São Domingos, Niterói | G13: =Planilha!E13 -> ARTs 13076784
A14: =Planilha!A14 -> NOME DA OBRA: IACS | G14: =Planilha!E14 -> BDI | H14: =Planilha!F14 -> BDI EQUIP. | I14: =Planilha!G14 -> SIAPE | J14: =Planilha!H14 -> DATA | R14: =Planilha!I14 -> REVISÃO
A15: =Planilha!A15 -> BASE DE DADOS: BASES SINAPI , SBC ,EMOP , SCO /MÊS DE REFERÊNCIA DEZEMBRO/25 -ESTADO RJ - REGIME TRIBUTÁRIO : NÃO DESONERADO | G15: =Planilha!E15 -> 0.2627 | H15: =Planilha!F15 -> 0 | I15: =Planilha!G15 -> 0000000 | J15: =Planilha!H15 -> 46037 | R15: =Planilha!I15 -> R04
A16: ITEM | B16: CÓDIGO | C16: FONTE | D16: INSTALAÇÃO | E16: DESCRIÇÃO | F16: UND | G16: QUANT. | H16: IMPLANTAÇÃO | I16: BLOCO A | L16: BLOCO B | N16: BLOCO C | S16: BLOCO D | U16: CMI | W16: OBSERVAÇÕES
I17: TÉRREO | J17: 2º PAV | K17: COBERTURA/DESCIDAS | L17: TÉRREO | M17: COBERTURA/DESCIDAS | N17: TÉRREO | O17: 2º PAV | P17: 3º PAV | Q17: 4º PAV | R17: COBERTURA/DESCIDAS | S17: TÉRREO | T17: COBERTURA/DESCIDAS | U17: TÉRREO | V17: COBERTURA/DESCIDAS
A18: 1 | E18: PROJETOS | G18: 1
A19: 1.1 | B19: 1082-01.050.0840-1 | C19: PROPRIA | D19: GERAL | E19: PROJETO DE AS BUILT DE INSTALACAO DE INCENDIO E SPDA PARA PR EDIOS ESCOLARES E/OU ADMINISTRATIVOS ATE 500M2,APRESENTADO NOS PADROES DA CONTRATANTE 9%-DESPESAS ADMINISTRATIVAS E DE MATERIAIS | F19: M2 | G19: =SUM(H19:V19) -> 500 | H19: 500 | W19: Área construída de 3.108,06m2
A20: 1.2 | B20: 1082-01.050.0841-0 | C20: PROPRIA | D20: GERAL | E20: PROJETO DE AS BUILT DE INSTALACAO DE INCENDIO E SPDA PARA PR EDIOS ESCOLARES E/OU ADMINISTRATIVOS DE 501 ATE 3000M2,APRES ENTADO NOS PADROES DA CONTRATANTE 9%-DESPESAS ADMINISTRATIVAS E DE MATERIAIS | F20: M2 | G20: =SUM(H20:V20) -> 2500 | H20: 2500 | W20: Área construída de 3.108,06m2
A21: 1.3 | B21: 1082-01.050.0842-0 | C21: PROPRIA | D21: GERAL | E21: PROJETO DE AS BUILT DE INSTALACAO DE INCENDIO E SPDA PARA PR EDIOS ESCOLARES E/OU ADMINISTRATIVOS ACIMA DE 3000M2,APRESEN TADO NOS PADROES DA CONTRATANTE 9%-DESPESAS ADMINISTRATIVAS E DE MATERIAIS | F21: M2 | G21: =SUM(H21:V21) -> 138.06 | H21: 138.06 | W21: Área construída de 3.108,06m2
A22: 2 | E22: GERENCIAMENTO DE OBRAS / FISCALIZAÇÃO | G22: 1
A23: 2.1 | B23: 1082-COMP-ADM | C23: PROPRIA | D23: GERAL | E23: ADMINISTRAÇÃO LOCAL A SER PAGO PROPORCIONAL A EVOLUÇÃO DA OBRA | F23: UND | G23: =SUM(H23:V23) -> 1 | H23: 1 | W23: ADMINISTRAÇÃO LOCAL DA OBRA CONSIDERANDO 1 ENCARREGADO ( DURANTE OS 6 MESES DE OBRA ) E 1 ENGENHEIRO ( CONSIDERADO EM 1 MÊS DE OBRA , DISTRIBUIDO PROPORCIONALMENTE À CADA MÊS ) .
A24: 3 | E24: SERVIÇOS PRELIMINARES | G24: 1
A25: 3.1 | B25: 1083-COMP-TAXAS | C25: PROPRIA | D25: GERAL | E25: ART CONTRATO MAIOR QUE R$ 15.000,00 | F25: UND | G25: =SUM(H25:V25) -> 1 | H25: 1 | W25: Cobrança tabela CREA
A26: 3.2 | E26: DEMOLIÇÕES E REMOÇÕES | G26: 1
A27: 3.2.1 | B27: 1082-COMP-04.014.0095-0 | C27: PROPRIA | D27: GERAL | E27: RETIRADA DE ENTULHO DE OBRA COM CACAMBA DE ACO TIPO CONTAINER COM 5M3 DE CAPACIDADE,INCLUSIVE CARREGAMENTO,TRANSPORTE E DESCARREGAMENTO.CUSTO POR UNIDADE DE CACAMBA E INCLUI A TAXA PARA DESCARGA EM LOCAIS AUTORIZADOS 3%-DESGASTE DE FERRAMENTAS E EPI | F27: UND | G27: =SUM(H27:V27) -> 6 | H27: 6 | W27: Considerado 1 caçamba a cada mês de Obra
A28: 3.2.2 | B28: 1082-COMP-05.001.0086-0 | C28: PROPRIA | D28: GERAL | E28: REMOCAO DE TERRA OU ENTULHO,A PA,ATE A DISTANCIA HORIZONTAL DE 5,00M 3%- DESGASTE DE FERRAMENTAS E EPI | F28: m3 | G28: =X37 -> 35.37534
W29: DEMOLIÇÃO DE PISO DE CONCRETO SIMPLES | X29: =H38 -> 0.9375
W30: FUROS MANUAL/MECANIZADOL EM ALVENARIA /CONCRETO(160 FUROS ) | X30: 1
W31: REMOÇÃO DE FORRO DE GESSO ( 13,00m2) | X31: =115.44*0.02 -> 2.3088
W32: RASGO LINEAR MECANIZADO EM CONCRETO ( 335,00m) , largura 30cm , profundidade 15cm | X32: =335*0.3*0.15 -> 15.075
W33: ESCAVAÇÃO MANUAL DE VALA ( 45,77m3) . Considerar sobra de 15% . | X33: =45.77*0.15 -> 6.8655
W34: ESCAVAÇÃO MANUAL PARA BLOCO DE COROAMENTO OU SAPATA ( 2,05m3 ) . Considerar sobra de 50%. | X34: =2.05*0.5 -> 1.025
W35: Soma | X35: =SUM(X29:X34) -> 27.2118
W36: Empolamento (30%) | X36: =X35*0.3 -> 8.16354
W37: Total dos entulhos | X37: =X35+X36 -> 35.37534
A38: 3.2.3 | B38: 104789 | C38: SINAPI | D38: INCÊNDIO | E38: DEMOLIÇÃO DE PISO DE CONCRETO SIMPLES, DE FORMA MANUAL, SEM REAPROVEITAMENTO. AF_09/2023 | F38: M3 | G38: =SUM(H38:V38) -> 0.9375 | H38: =1*6.25*0.15 -> 0.9375 | W38: Demolição do piso da Cantina existente (2,5x2,50) = 6,25m2 para piso , espessura 15cm .
A39: 3.2.4 | B39: 104758 | C39: SINAPI | D39: GERAL | E39: FURO MANUAL EM ALVENARIA, PARA INSTALAÇÕES ELÉTRICAS, DIÂMETROS MENORES OU IGUAIS A 40 MM. AF_09/2023 | F39: UN | G39: =SUM(G40:G42) -> 122
B40: 104758-a | C40: SINAPI | D40: INCÊNDIO | E40: FURO MANUAL EM ALVENARIA, PARA INSTALAÇÕES ELÉTRICAS, DIÂMETROS MENORES OU IGUAIS A 40 MM. AF_09/2023 | F40: UN | G40: =SUM(H40:V40) -> 33 | I40: 4 | J40: 3 | L40: 6 | N40: 4 | O40: 4 | P40: 4 | Q40: 2 | S40: 6 | W40: Considerado para passagem da tubulação elétrica da iluminaçao de emergência
B41: 104758-b | C41: SINAPI | D41: SDAI | E41: FURO MANUAL EM ALVENARIA, PARA INSTALAÇÕES ELÉTRICAS, DIÂMETROS MENORES OU IGUAIS A 40 MM. AF_09/2023 | F41: UN | G41: =SUM(H41:V41) -> 86 | I41: 14 | J41: 12 | L41: 10 | N41: 15 | O41: 12 | P41: 12 | Q41: 2 | S41: 6 | U41: 3 | W41: Considerado para passagem da tubulação elétrica de SDAI
B42: 104758-c | C42: SINAPI | D42: SPDA | E42: FURO MANUAL EM ALVENARIA, PARA INSTALAÇÕES ELÉTRICAS, DIÂMETROS MENORES OU IGUAIS A 40 MM. AF_09/2023 | F42: UN | G42: =SUM(H42:V42) -> 3 | J42: 1 | N42: 1 | S42: 1 | W42: Entrada do Cabo de ligação haste/BEP .Instalação de SPDA
A43: 3.2.5 | B43: 104769 | C43: SINAPI | D43: INCÊNDIO | E43: FURO MECANIZADO EM ALVENARIA, PARA INSTALAÇÕES HIDRÁULICAS, DIÂMETROS MAIORES QUE 40 MM E MENORES OU IGUAIS A 75 MM. AF_09/2023 | F43: UN | G43: =SUM(H43:V43) -> 14 | I43: 2 | N43: 3 | O43: 3 | P43: 3 | S43: 3 | W43: Passagem da tubulação do SHP
A44: 3.2.6 | B44: 90436 | C44: SINAPI | D44: INCÊNDIO | E44: FURO MANUAL EM ALVENARIA, PARA INSTALAÇÕES HIDRÁULICAS, DIÂMETROS MENORES OU IGUAIS A 40 MM. AF_09/2023 | F44: UN | G44: =SUM(H44:V44) -> 3 | U44: 3 | W44: Na CMI , para reloacão do Barrilete de Recalque e tubulação de escorva
A45: 3.2.7 | B45: 104774 | C45: SINAPI | D45: GERAL | E45: FURO MECANIZADO EM CONCRETO, COM PERFURATRIZ, PARA INSTALAÇÕES ELÉTRICAS, DIÂMETROS MENORES OU IGUAIS A 40 MM. AF_09/2023 | F45: UN | G45: =G46+G47 -> 23
B46: 104774-a | C46: SINAPI | D46: INCÊNDIO | E46: FURO MECANIZADO EM CONCRETO, COM PERFURATRIZ, PARA INSTALAÇÕES ELÉTRICAS, DIÂMETROS MENORES OU IGUAIS A 40 MM. AF_09/2023 | F46: UN | G46: =SUM(H46:V46) -> 16 | I46: 2 | J46: 2 | N46: 2 | O46: 2 | P46: 2 | Q46: 2 | S46: 4 | W46: Considerado para passagem da tubulação elétrica da iluminaçao de emergência
B47: 104774-b | C47: SINAPI | D47: SDAI | E47: FURO MECANIZADO EM CONCRETO, COM PERFURATRIZ, PARA INSTALAÇÕES ELÉTRICAS, DIÂMETROS MENORES OU IGUAIS A 40 MM. AF_09/2023 | F47: UN | G47: =SUM(H47:V47) -> 7 | I47: 1 | J47: 1 | L47: 1 | N47: 1 | O47: 1 | P47: 1 | S47: 1 | W47: Considerado 1 por pavimento . Para SDAI.
A48: 3.2.8 | B48: 104775 | C48: SINAPI | D48: INCÊNDIO | E48: FURO MECANIZADO EM CONCRETO, COM PERFURATRIZ, PARA INSTALAÇÕES HIDRÁULICAS, DIÂMETROS MAIORES QUE 40 MM E MENORES OU IGUAIS A 75 MM. AF_09/2023 | F48: UN | G48: =SUM(H48:U48) -> 4 | I48: 1 | N48: 1 | O48: 1 | P48: 1 | W48: Passagem da tubulação do SHP entre pavimentos.
A49: 3.2.9 | B49: 104786 | C49: SINAPI | D49: GERAL | E49: RASGO LINEAR MECANIZADO EM CONCRETO, PARA RAMAIS/ DISTRIBUIÇÃO DE INSTALAÇÕES HIDRÁULICAS, DIÂMETROS MENORES OU IGUAIS A 40 MM. AF_09/2023 | F49: m | G49: =H50+H51+H52 -> 335
B50: 104786-a | C50: SINAPI | D50: INCÊNDIO | E50: RASGO LINEAR MECANIZADO EM CONCRETO, PARA RAMAIS/ DISTRIBUIÇÃO DE INSTALAÇÕES HIDRÁULICAS, DIÂMETROS MENORES OU IGUAIS A 40 MM. AF_09/2023 | F50: m | G50: =SUM(H50:V50) -> 250 | H50: =100+150 -> 250 | W50: Passagem do SHP; Mediçao em planta
...

Sheet BDI
A11: PLANILHA DE MEMÓRIA DE CÁLCULO DE BDI - BÔNUS E DESPESAS INDIRETAS PRINCIPAL
A12: =Planilha!A12 -> UFF- INSTITUTO DE ARTES E COMUNICAÇÃO SOCIAL - IACS | E12: =Planilha!E12 -> PROCESSO: 23069.163323/2021/57
A13: =Planilha!A13 -> LOCAL: Rua Prof. Lara Vilela, 126 - São Domingos, Niterói | E13: =Planilha!E13 -> ARTs 13076784
A14: =Planilha!A14 -> NOME DA OBRA: IACS | E14: =Planilha!E14 -> BDI | F14: =Planilha!F14 -> BDI EQUIP. | G14: =Planilha!G14 -> SIAPE | H14: =Planilha!H14 -> DATA | I14: =Planilha!I14 -> REVISÃO
A15: =Planilha!A15 -> BASE DE DADOS: BASES SINAPI , SBC ,EMOP , SCO /MÊS DE REFERÊNCIA DEZEMBRO/25 -ESTADO RJ - REGIME TRIBUTÁRIO : NÃO DESONERADO | E15: =Planilha!E15 -> 0.2627 | F15: =Planilha!F15 -> 0 | G15: =Planilha!G15 -> 0000000 | H15: =Planilha!H15 -> 46037 | I15: =Planilha!I15 -> R04

Sheet BDI Equip.
A11: PLANILHA DE MEMÓRIA DE CÁLCULO DE BDI - BÔNUS DE DESPESAS INDIRETAS - FORNECIMENTO DE EQUIPAMENTOS
A12: =Planilha!A12 -> UFF- INSTITUTO DE ARTES E COMUNICAÇÃO SOCIAL - IACS | E12: =Planilha!E12 -> PROCESSO: 23069.163323/2021/57
A13: =Planilha!A13 -> LOCAL: Rua Prof. Lara Vilela, 126 - São Domingos, Niterói | E13: =Planilha!E13 -> ARTs 13076784
A14: =Planilha!A14 -> NOME DA OBRA: IACS | E14: =Planilha!E14 -> BDI | F14: =Planilha!F14 -> BDI EQUIP. | G14: =Planilha!G14 -> SIAPE | H14: =Planilha!H14 -> DATA | I14: =Planilha!I14 -> REVISÃO
A15: =Planilha!A15 -> BASE DE DADOS: BASES SINAPI , SBC ,EMOP , SCO /MÊS DE REFERÊNCIA DEZEMBRO/25 -ESTADO RJ - REGIME TRIBUTÁRIO : NÃO DESONERADO | E15: =Planilha!E15 -> 0.2627 | F15: =Planilha!F15 -> 0 | G15: =Planilha!G15 -> 0000000 | H15: =Planilha!H15 -> 46037 | I15: =Planilha!I15 -> R04
B37: Demonstração:
B38: AC = taxa de Administração Central
B39: S = taxa de Seguros
B40: R = taxa de Riscos
B41: G = taxa de Garantias
B42: DF = taxa de Despesas Financeiras
B43: L = taxa de Lucro/ remuneração
B44: I = taxa de incidência de Impostos (PIS, COFINS e ISS)
B46: Administração Central (AC)
B47: Considerado = x % (varia entre 3 a 5,50% do custo direto da obra)
B49: Seguro + Garantia (S + G)
B50: Considerado =x% (varia entre 0,8 a 1,0% do custo da obra)
... B61: Tributos sobre o faturamento (I)
B63: TRIBUTO | D63: ALIQUOTA
B64: COFINS | D64: 0.03
B65: PIS/PASEP | D65: 0.0065
B66: ISS (Niterói) | D66: 0.03
B67: TOTAL | D67: =SUM(D64:D66) -> 0.0665
B69: CPRB (INSS) | D69: 0.045
F73: TABELA DE ISS - UNIDADES UFF
F74: ISS (%) | G74: UF | H74: MUNICÍPIO
F75: 3 | G75: RJ | H75: Niterói
F76: 5 | G76: RJ | H76: Angra dos Reis
F77: 5 | G77: RJ | H77: Cachoeira de Macacú
F78: 2 | G78: RJ | H78: Santo Antônio de Pádua
F79: 5 | G79: RJ | H79: Campos dos Goytacazes
F80: 2 | G80: RJ | H80: Macaé
F81: 5 | G81: RJ | H81: Nova Friburgo
F82: 2.5 | G82: RJ | H82: Rio das Ostras
F83: 2 | G83: RJ | H83: Volta Redonda
F84: 3 | G84: RJ | H84: Petropolis
F85: 5 | G85: PA | H85: Oriximiná

Sheet Enc. Sociais
A11: PLANILHA DE ENCARGOS SOCIAIS
A12: =Planilha!A12 -> UFF- INSTITUTO DE ARTES E COMUNICAÇÃO SOCIAL - IACS | E12: =Planilha!E12 -> PROCESSO: 23069.163323/2021/57
A13: =Planilha!A13 -> LOCAL: Rua Prof. Lara Vilela, 126 - São Domingos, Niterói | E13: =Planilha!E13 -> ARTs 13076784
A14: =Planilha!A14 -> NOME DA OBRA: IACS | E14: =Planilha!E14 -> BDI | F14: =Planilha!F14 -> BDI EQUIP. | G14: =Planilha!G14 -> SIAPE | H14: =Planilha!H14 -> DATA | I14: =Planilha!I14 -> REVISÃO
A15: =Planilha!A15 -> BASE DE DADOS: BASES SINAPI , SBC ,EMOP , SCO /MÊS DE REFERÊNCIA DEZEMBRO/25 -ESTADO RJ - REGIME TRIBUTÁRIO : NÃO DESONERADO | E15: =Planilha!E15 -> 0.2627 | F15: =Planilha!F15 -> 0 | G15: =Planilha!G15 -> 0000000 | H15: =Planilha!H15 -> 46037 | I15: =Planilha!I15 -> R04

Sheet CRONOGRAMA
A11: PLANILHA DE CRONOGRAMA FÍSICO-FINANCEIRO
A12: =Planilha!A12 -> UFF- INSTITUTO DE ARTES E COMUNICAÇÃO SOCIAL - IACS | E12: =Planilha!E12 -> PROCESSO: 23069.163323/2021/57
A13: =Planilha!A13 -> LOCAL: Rua Prof. Lara Vilela, 126 - São Domingos, Niterói | E13: =Planilha!E13 -> ARTs 13076784
A14: =Planilha!A14 -> NOME DA OBRA: IACS | E14: =Planilha!E14 -> BDI | F14: =Planilha!F14 -> BDI EQUIP. | G14: =Planilha!G14 -> SIAPE | H14: =Planilha!H14 -> DATA | I14: =Planilha!I14 -> REVISÃO
A15: =Planilha!A15 -> BASE DE DADOS: BASES SINAPI , SBC ,EMOP , SCO /MÊS DE REFERÊNCIA DEZEMBRO/25 -ESTADO RJ - REGIME TRIBUTÁRIO : NÃO DESONERADO | E15: =Planilha!E15 -> 0.2627 | F15: =Planilha!F15 -> 0 | G15: =Planilha!G15 -> 0000000 | H15: =Planilha!H15 -> 46037 | I15: =Planilha!I15 -> R04
A16: CRONOGRAMA FÍSICO-FINANCEIRO
A17: Item | B17: Descrição | C17: Total Por Etapa | D17: MÊS 1 | E17: MÊS 2 | F17: MÊS 3 | G17: MÊS 4 | H17: MÊS 5 | I17: MÊS 6
A18: 1 | B18: PROJETOS | C18: 100,00% 2.274,17 | F18: 20,00% 454,83 | G18: 20,00% 454,83 | H18: 20,00% 454,83 | I18: 40,00% 909,67
A19: 2 | B19: GERENCIAMENTO DE OBRAS / FISCALIZAÇÃO | C19: 100,00% 115.391,25 | D19: 4,97% 5.734,95 | E19: 11,22% 12.946,90 | F19: 23,64% 27.278,49 | G19: 19,06% 21.993,57 | H19: 33,08% 38.171,43 | I19: 8,03% 9.265,92
A20: 3 | B20: SERVIÇOS PRELIMINARES | C20: 100,00% 67.176,47 | D20: 60,00% 40.305,88 | E20: 40,00% 26.870,59
A21: 4 | B21: MOVIMENTO DE TERRA/BANCO DE DUTOS/CAIXAS SUBTERRANEAS | C21: 100,00% 17.834,09 | D21: 25,00% 4.458,52 | E21: 50,00% 8.917,05 | F21: 25,00% 4.458,52
A22: 5 | B22: INFRAESTRUTURA: FUNDAÇÕES SIMPLES (OU DIRETAS ) | C22: 100,00% 4.106,45 | E22: 50,00% 2.053,23 | F22: 50,00% 2.053,23
A23: 6 | B23: SUPERESTRUTURA | C23: 100,00% 5.541,70 | E23: 50,00% 2.770,85 | F23: 50,00% 2.770,85
A24: 7 | B24: ALVENARIA | C24: 100,00% 2.393,98 | E24: 25,00% 598,50 | F24: 50,00% 1.196,99 | G24: 25,00% 598,50
A25: 8 | B25: ESQUADRIAS | C25: 100,00% 57.765,90 | F25: 50,00% 28.882,95 | G25: 25,00% 14.441,48 | H25: 25,00% 14.441,48
A26: 9 | B26: INSTALAÇÕES ELÉTRICAS E SPDA | C26: 100,00% 184.404,65 | E26: 10,00% 18.440,47 | F26: 20,00% 36.880,93 | G26: 20,00% 36.880,93 | H26: 40,00% 73.761,86 | I26: 10,00% 18.440,47
A27: 10 | B27: INSTALAÇOES DE COMBATE À INCÊNDIO | C27: 100,00% 415.192,86 | E27: 10,00% 41.519,29 | F27: 20,00% 83.038,57 | G27: 20,00% 83.038,57 | H27: 40,00% 166.077,14 | I27: 10,00% 41.519,29
A28: 11 | B28: IMPERMEABILIZAÇÃO, ISOLAMENTO TÉRMICO E ACÚSTICO | C28: 100,00% 1.101,01 | F28: 50,00% 550,51 | G28: 50,00% 550,51
A29: 12 | B29: PISO | C29: 100,00% 30.315,80 | F29: 50,00% 15.157,90 | G29: 25,00% 7.578,95 | H29: 25,00% 7.578,95
A30: 13 | B30: PINTURA E ACABAMENTOS | C30: 100,00% 62.775,53 | F30: 50,00% 31.387,77 | G30: 25,00% 15.693,88 | H30: 25,00% 15.693,88
A31: 14 | B31: FORROS | C31: 100,00% 26.779,24 | F31: 20,00% 5.355,85 | G31: 40,00% 10.711,70 | H31: 40,00% 10.711,70
A32: 15 | B32: REVESTIMENTOS DE PAREDE | C32: 100,00% 4.566,94 | F32: 20,00% 913,39 | G32: 40,00% 1.826,78 | H32: 40,00% 1.826,78
A33: 16 | B33: SERVIÇOS COMPLEMENTARES | C33: 100,00% 19.204,01 | H33: 40,00% 7.681,60 | I33: 60,00% 11.522,41
A34: Porcentagem | D34: 4,97% | E34: 11,22% | F34: 23,64% | G34: 19,06% | H34: 33,08% | I34: 8,03%
A35: Custo | D35: 50.499,34 | E35: 114.116,85 | F35: 240.380,77 | G35: 193.769,68 | H35: 336.399,64 | I35: 81.657,74
A36: Porcentagem Acumulado | D36: 4,97% | E36: 16,19% | F36: 39,83% | G36: 58,89% | H36: 91,97% | I36: 100,0%
A37: Custo Acumulado | D37: 50.499,34 | E37: 164.616,19 | F37: 404.996,96 | G37: 598.766,64 | H37: 935.166,28 | I37: 1.016.824,05
A40: _______________________________________________________________ OTAVIANO CARAN Sócio/CEO/Proprietário
C41: Otaviano Caran

Sheet Mapa Cotação
B11: PLANILHA DE COTAÇÕES DE ORÇAMENTOS
B12: =Planilha!A12 -> UFF- INSTITUTO DE ARTES E COMUNICAÇÃO SOCIAL - IACS | G12: =Planilha!E12 -> PROCESSO: 23069.163323/2021/57
B13: =Planilha!A13 -> LOCAL: Rua Prof. Lara Vilela, 126 - São Domingos, Niterói | G13: =Planilha!E13 -> ARTs 13076784
B14: =Planilha!A14 -> NOME DA OBRA: IACS | G14: =Planilha!E14 -> BDI | H14: =Planilha!F14 -> BDI EQUIP. | I14: =Planilha!G14 -> SIAPE | J14: =Planilha!H14 -> DATA | K14: =Planilha!I14 -> REVISÃO | L14: MEDIANA OU MENOR PREÇO DE ACORDO COM O ITEM
B15: =Planilha!A15 -> BASE DE DADOS: BASES SINAPI , SBC ,EMOP , SCO /MÊS DE REFERÊNCIA DEZEMBRO/25 -ESTADO RJ - REGIME TRIBUTÁRIO : NÃO DESONERADO | G15: =Planilha!E15 -> 0.2627 | H15: =Planilha!F15 -> 0 | I15: =Planilha!G15 -> 0000000 | J15: =Planilha!H15 -> 46037 | K15: =Planilha!I15 -> R04
A16: Nº DA COTAÇÃO | B16: ITEM PLANILHA | C16: CÓDIGO INSUMO | D16: DESCRIÇÃO | E16: und | F16: EMPRESA 1 | G16: EMPRESA 2 | H16: EMPRESA 3 | I16: EMPRESA 4 | J16: EMPRESA 5 | K16: VALOR (Mediana)
A17: 1 | B17: 9.2.1 | C17: 1082-SD-01 | D17: ADESIVO PARA SUPERFÍCIE POROSA, REF.: TEL 5904 TERMOTÉCNICA OU EQUIVALENTE | E17: kg | F17: ELETROMIL | G17: FETERLUZ | H17: STI | I17: Nome | J17: Nome | K17: =MEDIAN(F18:J18) -> 117
B18: Cotação | F18: 117 | G18: 118 | H18: 121 | I18: 0 | J18: 0
B19: Link
A20: 2
B21: 9.2.2 | C21: 1082-SPDA-10 | D21: BARRA CHATA EM ALUMINIO 7/8" X 1/8" X 3M (70MM2) TEL-771 | E21: m | F21: ELETROMIL | G21: FETERLUZ | H21: STI | I21: Nome | J21: Nome | K21: =MEDIAN(F22:J22) -> 15.666667
B22: Cotação | F22: =47/3 -> 15.666667 | G22: 18 | H22: 17 | I22: 0 | J22: 0
B23: Link
A24: 3
B25: 9.2.11 | C25: 1082-EL-10 | D25: CONJ PARAFUSO, PORCA E ARRUELA LATAO 1/4 X 1" | E25: und | F25: ELETROMIL | G25: FETERLUZ | H25: STI | I25: Nome | J25: Nome | K25: =MEDIAN(F26:J26) -> 8.7
B26: Cotação | F26: 8.7 | G26: 8.8 | H26: 9.5 | I26: 0 | J26: 0
B27: Link
A28: 4
B29: 9.2.13 | C29: 1082-SPDA-12 | D29: CURVA 90º BARRA CHATA ALUM 7/8"X1/8"X300MM TEL 778 | E29: und | F29: ELETROMIL | G29: FETERLUZ | H29: STI | I29: Nome | J29: Nome | K29: =MEDIAN(F30:J30) -> 16.7
B30: Cotação | F30: 16.7 | G30: 17 | H30: 18.3 | I30: 0 | J30: 0
B31: Link
A32: 5
B33: 9.2.17 | C33: 1082-SPDA-13-A | D33: ADESIVO POLIURETANO FLEXIVEL BISNAGA 300ML | E33: und | F33: DISTRIBUIDORA SIKA | G33: KENEDY | H33: FAST OBRA | I33: Nome | J33: Nome | K33: =MEDIAN(F34:J34) -> 61.09
B34: Cotação | F34: 96.19 | G34: 61.09 | H34: 68.07 | I34: 0 | J34: 0
B35: Link | F35: https://www.ferramentaskennedy.com.br/adesivo-selante-sikaflex-construction-cinza-300ml-sika-19194/p?idsku=14462&utm_source=google&utm%E2%80%A6 | G35: https://www.ferramentaskennedy.com.br/adesivo-selante-sikaflex-construction-cinza-300ml-sika-19194/p?idsku=14462&utm_source=google&utm%E2%80%A6 | H35: https://www.fastobra.com.br/selante-sikaflex-construction-cinza--cartucho-300-ml----sika/p?idsku=1114&pht=118981711480718340&gad_source=1&gad_campaignid=23220092390&gbraid=0AAAAAB-O6ifsrYUXYaIp7ossKAvJE-QW9&gclid=CjwKCAiAoNbIBhB5EiwAZFbYGJvbIaBitQJShlQB6X4YBE2a_vFz26cNqxJYLqP_GBT0S7UkF6yH1hoCwP0QAvD_BwE
A36: 6
B37: 9.2.17 | C37: 1082-SPDA-14 | D37: PRESILHA DE LATAO FURO Ø5MM PARA CABOS 35-50MM² - TEL-744 - TERMOTECNICA OU EQUIVALENTE | E37: und | F37: ELETROMIL | G37: FETERLUZ | H37: STI | I37: Nome | J37: Nome | K37: =MEDIAN(F38:J38) -> 2.2
B38: Cotação | F38: 2.2 | G38: 2.3 | H38: 2.7 | I38: 0 | J38: 0
B39: Link
A40: 7
B41: 9.2.19 | C41: 1082-SP-02 | D41: SUPORTE PLÁSTICO FIXATEL REF.: TEL 726 TERMOTÉCNICA OU EQUIVALENTE | E41: und | F41: ELETROMIL | G41: FETERLUZ | H41: STI | I41: Nome | J41: Nome | K41: =MEDIAN(F42:J42) -> 6.1
B42: Cotação | F42: 6.1 | G42: 6.2 | H42: 6.9 | I42: 0 | J42: 0
B43: Link
A44: 8
B45: 10.2.24 | C45: 1082-HS-04 | D45: Tanque de Pressurização/Cilindro de pressão 9 lts | F45: MAGAZINE LUIZA | G45: PANELA DE FERRO | H45: MADEIRA MADEIDA | I45: Nome | J45: Nome | K45: =MEDIAN(F46:J46) -> 355.07
B46: Cotação | F46: 419.16 | G46: 368.67 | H46: 355.07 | I46: 0 | J46: 0
B47: Link | F47: https://www.magazineluiza.com.br/tanque-de-pressao-para-incendio-agua-560x167mm-9-litros-metasal/p/djjj90hjek/cj/tqpp/?&seller_id=lojawebco… | G47: https://www.paneladeferrofundido.com.br/checkout/cart?session_id=vrlbjc4v911cgrphp1s48ib4os&store_id=728886#carrinho | H47: https://www.madeiramadeira.com.br/carrinho/entrega
A48: 9
B49: 10.2.37 | C49: 1082-QCMI | D49: QUADRO ELÉTRICO PARA 2 BOMBAS CENTRÍFUGAS TRIFÁSICAS 7,5 CV | F49: ELETROMIL | G49: FETERLUZ | H49: STI | I49: Nome | J49: Nome | K49: =MEDIAN(F50:J50) -> 3500 | L49: Duvida se sai ou fica
B50: Cotação | F50: 3500 | G50: 3700 | H50: 3980 | I50: 0 | J50: 0
...

Sheet ABC SERVIÇOS
A11: CURVA ABC SERVIÇOS
A12: =Planilha!A12 -> UFF- INSTITUTO DE ARTES E COMUNICAÇÃO SOCIAL - IACS | E12: =Planilha!E12 -> PROCESSO: 23069.163323/2021/57
A13: =Planilha!A13 -> LOCAL: Rua Prof. Lara Vilela, 126 - São Domingos, Niterói | E13: =Planilha!E13 -> ARTs 13076784
A14: =Planilha!A14 -> NOME DA OBRA: IACS | E14: =Planilha!E14 -> BDI | F14: =Planilha!F14 -> BDI EQUIP. | G14: =Planilha!G14 -> SIAPE | H14: =Planilha!H14 -> DATA | I14: =Planilha!I14 -> REVISÃO
A15: =Planilha!A15 -> BASE DE DADOS: BASES SINAPI , SBC ,EMOP , SCO /MÊS DE REFERÊNCIA DEZEMBRO/25 -ESTADO RJ - REGIME TRIBUTÁRIO : NÃO DESONERADO | E15: =Planilha!E15 -> 0.2627 | F15: =Planilha!F15 -> 0 | G15: =Planilha!G15 -> 0000000 | H15: =Planilha!H15 -> 46037 | I15: =Planilha!I15 -> R04
A16: Curva ABC de Serviços
A17: 1082-COMP-ADM | B17: Próprio | C17: ADMINISTRAÇÃO LOCAL A SER PAGO PROPORCIONAL A EVOLUÇÃO DA OBRA | D17: CANT - CANTEIRO DE OBRAS | E17: und | F17: 1,0 | G17: 115.391,25 | H17: 115.391,25 | I17: 11,35 | J17: 11,35
A18: 1082-COMP-99856 | B18: Próprio | C18: CORRIMÃO SIMPLES, DIÂMETRO EXTERNO = 1 1/2", EM AÇO INOX. | D18: Guarda-Corpo, Corrimão e Grade para Esquadrias | E18: M | F18: 117,0 | G18: 429,73 | H18: 50.278,41 | I18: 4,94 | J18: 16,29
A19: 1082-COMP-104407 | B19: Próprio | C19: ELETRODUTO RIGIDO, EM ACO ZINCADO OU GALVANIZADO, TIPO PESADO, DN=1", APARENTE - FORNECIMENTO E INSTALAÇÃO. | D19: Instalações Elétricas - Eletrodutos, Conexões e Conduletes Aparentes | E19: M | F19: 676,0 | G19: 69,06 | H19: 46.684,56 | I19: 4,59 | J19: 20,88
A20: 92367 | B20: SINAPI | C20: TUBO DE AÇO GALVANIZADO COM COSTURA, CLASSE MÉDIA, DN 65 (2 1/2"), CONEXÃO ROSQUEADA, INSTALADO EM REDE DE ALIMENTAÇÃO PARA HIDRANTE - FORNECIMENTO E INSTALAÇÃO. AF_10/2020 | D20: Instalações de Gás e Incêndio em Aço e Ferro Galvanizado | E20: M | F20: 279,0 | G20: 141,94 | H20: 39.601,26 | I20: 3,89 | J20: 24,78
A21: 88496 | B21: SINAPI | C21: EMASSAMENTO COM MASSA LÁTEX, APLICAÇÃO EM TETO, DUAS DEMÃOS, LIXAMENTO MANUAL. AF_04/2023 | D21: Pintura Interna | E21: m² | F21: 705,8565 | G21: 55,65 | H21: 39.280,91 | I21: 3,86 | J21: 28,64
A22: 1082-COMP-067880 | B22: Próprio | C22: LUMINARIA LUZ EMERGENCIA LED 400 LUMENS FAROIS EMBUTIDOS P3 | D22: 67 | E22: UN | F22: 124,0 | G22: 314,89 | H22: 39.046,36 | I22: 3,84 | J22: 32,48
A23: 1082-COMP-SPDA-10 | B23: Próprio | C23: Barra chata em alumínio 7/8"x1/8" (70mm²), com furos diâmetro 7 mm ref. TEL-771, marca de referência Termotécnica ou equivalente | D23: 1603 | E23: m | F23: 790,0 | G23: 47,74 | H23: 37.714,60 | I23: 3,71 | J23: 36,19
A24: 1082-COMP-071842 | B24: Próprio | C24: DETECTOR (SENSOR) DE FUMACA COM BASE - ENDERECAVEL DTI-700 J | D24: 71 | E24: UN | F24: 111,0 | G24: 337,79 | H24: 37.494,69 | I24: 3,69 | J24: 39,88
A25: 1082-COMP-IN-01 | B25: Próprio | C25: Hidrante de parede, com abrigo em chapa, 80x90x17cm, com suporte e mangueiras 2 x 15m 38mm, adaptador rosca fêmea e engate rápido, esguicho em latão regulavel, registro globo angular 45º/ 38mm | D25: INES - INSTALAÇÕES ESPECIAIS | E25: und | F25: 10,0 | G25: 3.403,65 | H25: 34.036,50 | I25: 3,35 | J25: 43,23
A26: 1082-COMP-EL-21 | B26: Próprio | C26: PONTO TOMADA EM CONDULETE DUTO 3/4"-MATERIAL APARENTE PVC | D26: INEL - INSTALAÇÃO ELÉTRICA/ELETRIFICAÇÃO E ILUMINAÇÃO EXTERNA | E26: UN | F26: 124,0 | G26: 257,02 | H26: 31.870,48 | I26: 3,13 | J26: 46,36
A27: 101750 | B27: SINAPI | C27: PISO CIMENTADO, TRAÇO 1:3 (CIMENTO E AREIA), ACABAMENTO RÚSTICO, ESPESSURA 4,0 CM, PREPARO MECÂNICO DA ARGAMASSA. AF_09/2020 | D27: Pisos | E27: m² | F27: 406,0 | G27: 74,00 | H27: 30.044,00 | I27: 2,95 | J27: 49,31
A28: 1082-COMP-SD-19 | B28: Próprio | C28: CABO FORMADO POR 04 CONDUTORES FLEXIVEIS, TEMPERA MOLE, ISOLAÇÃO EM PVC CLASSE 70° ANTICHAMA, 600V, CONFORME NBR-9441, SENDO DOIS CONDUTORES DE 1,50mm2 IDENTIFICADOS NAS CORES AZ E BC E DOIS CONDUTORES DE 1,50mm2 IDENTIFICADOS NAS CORES PT E VM, CAPA EXTERNA EM PVC 105°C ANTICHAMA NA COR VERMELHA | D28: INES - INSTALAÇÕES ESPECIAIS | E28: M | F28: 1.732,0 | G28: 17,16 | H28: 29.721,12 | I28: 2,92 | J28: 52,24
A29: 96977 | B29: SINAPI | C29: CORDOALHA DE COBRE NU 50 MM², ENTERRADA - FORNECIMENTO E INSTALAÇÃO. AF_08/2023 | D29: Sistema de Proteção contra Descargas Atmosféricas - SPDA | E29: M | F29: 370,0 | G29: 74,48 | H29: 27.557,60 | I29: 2,71 | J29: 54,95
A30: 1082-COMP-EQ 35.15.0470 | B30: Próprio | C30: Bomba hidraulica centrifuga, trifasica, motor eletrico de 7,5CV, modelo DS9, WEG ou similar, exclusive acessorios. Fornecimento e colocacao. | D30: EQ | E30: un | F30: 2,0 | G30: 10.611,59 | H30: 21.223,18 | I30: 2,09 | J30: 57,03
A31: 1082-COMP-EL-10-A | B31: Próprio | C31: CONJ PARAFUSO SEXTAVADO E PORCA EM ALUMÍNIO 1/4 X 1" | D31: INEL - INSTALAÇÃO ELÉTRICA/ELETRIFICAÇÃO E ILUMINAÇÃO EXTERNA | E31: und | F31: 1.622,0 | G31: 11,28 | H31: 18.296,16 | I31: 1,80 | J31: 58,83
A32: 104757 | B32: SINAPI | C32: FORRO EM FIBRA MINERAL, PARA AMBIENTES COMERCIAIS, INCLUSIVE ESTRUTURA DE FIXAÇÃO. AF_08/2023_PS | D32: Forros | E32: m² | F32: 107,316825 | G32: 167,05 | H32: 17.927,27 | I32: 1,76 | J32: 60,60
A33: 1082-COMP-070567 | B33: Próprio | C33: BOX CURVO 3/4"" | D33: 70 | E33: UN | F33: 162,0 | G33: 95,70 | H33: 15.503,40 | I33: 1,52 | J33: 62,12
A34: 92378 | B34: SINAPI | C34: LUVA, EM FERRO GALVANIZADO, DN 65 (2 1/2"), CONEXÃO ROSQUEADA, INSTALADO EM REDE DE ALIMENTAÇÃO PARA HIDRANTE - FORNECIMENTO E INSTALAÇÃO. AF_10/2020 | D34: Instalações de Gás e Incêndio em Aço e Ferro Galvanizado | E34: UN | F34: 97,0 | G34: 151,61 | H34: 14.706,17 | I34: 1,45 | J34: 63,57
A35: 104639 | B35: SINAPI | C35: PINTURA LÁTEX ACRÍLICA ECONÔMICA, APLICAÇÃO MANUAL EM TETO, DUAS DEMÃOS. AF_04/2023 | D35: Pintura Interna | E35: m² | F35: 705,8565 | G35: 19,95 | H35: 14.081,83 | I35: 1,38 | J35: 64,95
A36: 012057 | B36: SBC | C36: CONTAINER ESCRITORIO 6,05x2,44x2,57 COM ACABAMENTO EM PVC | D36: INSTALACOES PROVISORIAS | E36: MES | F36: 6,0 | G36: 1.931,93 | H36: 11.591,58 | I36: 1,14 | J36: 66,09
A37: 1082-COMP-SP-02 | B37: Próprio | C37: SUPORTE PLÁSTICO FIXATEL REF.: TEL 726 TERMOTÉCNICA OU EQUIVALENTE | D37: INEL - INSTALAÇÃO ELÉTRICA/ELETRIFICAÇÃO E ILUMINAÇÃO EXTERNA | E37: UN | F37: 678,0 | G37: 17,07 | H37: 11.573,46 | I37: 1,14 | J37: 67,23
A38: 100329 | B38: SINAPI | C38: RETIRADA E RECOLOCAÇÃO DE TELHA CERÂMICA DE ENCAIXE, COM MAIS DE DUAS ÁGUAS, INCLUSO IÇAMENTO. AF_07/2019 | D38: Telhamento para Cobertura | E38: m² | F38: 280,665 | G38: 37,26 | H38: 10.457,57 | I38: 1,03 | J38: 68,26
A39: 1082-COMP-ADM-02 | B39: Próprio | C39: ELABORAÇÃO DE LAUDO TÉCNICO CIRCUNSTANCIADO E PLANO DE EMERGÊNCIA PARA APRESENTAÇÃO AO CBMERJ. | D39: SEES - SERVIÇOS ESPECIAIS | E39: und | F39: 1,0 | G39: 10.420,64 | H39: 10.420,64 | I39: 1,02 | J39: 69,28
A40: 1082-COMP-055863 | B40: Próprio | C40: EXTINTOR PO QUIMICO SECO 6kg ABC NBR 15808:2017 | D40: 55 | E40: UN | F40: 36,0 | G40: 257,28 | H40: 9.262,08 | I40: 0,91 | J40: 70,20
A41: 96113 | B41: SINAPI | C41: FORRO EM PLACAS DE GESSO, PARA AMBIENTES COMERCIAIS. AF_08/2023_PS | D41: Forros | E41: m² | F41: 115,4405 | G41: 76,68 | H41: 8.851,97 | I41: 0,87 | J41: 71,07
A42: 92982 | B42: SINAPI | C42: CABO DE COBRE FLEXÍVEL ISOLADO, 16 MM², ANTI-CHAMA 0,6/1,0 KV, PARA DISTRIBUIÇÃO - FORNECIMENTO E INSTALAÇÃO. AF_10/2020 | D42: Instalações Elétricas - Quadros, Cabos, Disjuntores, Contatores e Barramentos Blindados | E42: M | F42: 400,0 | G42: 21,81 | H42: 8.724,00 | I42: 0,86 | J42: 71,92
A43: 1082-COMP-IN-33 | B43: Próprio | C43: Proteção anticorrosiva, com fita adesiva, para ramais sob a terra, com DN acima de 2´ até 3´ , Rolo de 30m | D43: 32.1 | E43: UN | F43: 10,0 | G43: 825,70 | H43: 8.257,00 | I43: 0,81 | J43: 72,74
A44: 1082-COMP-058006 | B44: Próprio | C44: CAIXA FERRO ESMALTADA 4x4"" OCTOGONAL FUNDO MOVEL | D44: 58 | E44: UN | F44: 112,0 | G44: 73,32 | H44: 8.211,84 | I44: 0,81 | J44: 73,54
A45: 1082-COMP-18.038.0038-0 | B45: Próprio | C45: CENTRAL DE ALARME ENDERECAV EL,PARA ATE 500 DISPOSITIVOS DIVIDIDOS EM 2 LACOS 3%-DESGASTE DE FERRAMENTAS E EPI | D45: 18 | E45: UN | F45: 1,0 | G45: 8.208,39 | H45: 8.208,39 | I45: 0,81 | J45: 74,35
A46: 95796 | B46: SINAPI | C46: CONDULETE DE ALUMÍNIO, TIPO T, PARA ELETRODUTO DE AÇO GALVANIZADO DN 25 MM (1''), APARENTE - FORNECIMENTO E INSTALAÇÃO. AF_10/2022 | D46: Instalações Elétricas - Eletrodutos, Conexões e Conduletes Aparentes | E46: UN | F46: 108,0 | G46: 71,34 | H46: 7.704,72 | I46: 0,76 | J46: 75,11
A47: 93358 | B47: SINAPI | C47: ESCAVAÇÃO MANUAL DE VALA. AF_09/2024 | D47: Escavação de Valas | E47: m³ | F47: 45,765 | G47: 159,27 | H47: 7.288,99 | I47: 0,72 | J47: 75,83
A48: 101795 | B48: SINAPI | C48: CAIXA ENTERRADA PARA INSTALAÇÕES TELEFÔNICAS TIPO R1, EM ALVENARIA COM BLOCOS DE CONCRETO, DIMENSÕES INTERNAS: 0,35X0,60X0,60 M, EXCLUINDO TAMPÃO. AF_12/2020 | D48: Caixas Enterradas | E48: UN | F48: 8,0 | G48: 862,29 | H48: 6.898,32 | I48: 0,68 | J48: 76,50
A49: 92390 | B49: SINAPI | C49: JOELHO 90 GRAUS, EM FERRO GALVANIZADO, DN 65 (2 1/2"), CONEXÃO ROSQUEADA, INSTALADO EM REDE DE ALIMENTAÇÃO PARA HIDRANTE - FORNECIMENTO E INSTALAÇÃO. AF_10/2020 | D49: Instalações de Gás e Incêndio em Aço e Ferro Galvanizado | E49: UN | F49: 31,0 | G49: 219,96 | H49: 6.818,76 | I49: 0,67 | J49: 77,17
A50: 1082-COMP-SPDA-01 | B50: Próprio | C50: ADESIVO PARA SUPERFÍCIE POROSA, REF.: TEL 5904 TERMOTÉCNICA OU EQUIVALENTE | D50: INEL - INSTALAÇÃO ELÉTRICA/ELETRIFICAÇÃO E ILUMINAÇÃO EXTERNA | E50: kg | F50: 19,65 | G50: 335,34 | H50: 6.589,43 | I50: 0,65 | J50: 77,82
...

Sheet ABC  INSUMO
A11: CURVA ABC SERVIÇOS
A12: =Planilha!A12 -> UFF- INSTITUTO DE ARTES E COMUNICAÇÃO SOCIAL - IACS | E12: =Planilha!E12 -> PROCESSO: 23069.163323/2021/57
A13: =Planilha!A13 -> LOCAL: Rua Prof. Lara Vilela, 126 - São Domingos, Niterói | E13: =Planilha!E13 -> ARTs 13076784
A14: =Planilha!A14 -> NOME DA OBRA: IACS | E14: =Planilha!E14 -> BDI | F14: =Planilha!F14 -> BDI EQUIP. | G14: =Planilha!G14 -> SIAPE | H14: =Planilha!H14 -> DATA | I14: =Planilha!I14 -> REVISÃO
A15: =Planilha!A15 -> BASE DE DADOS: BASES SINAPI , SBC ,EMOP , SCO /MÊS DE REFERÊNCIA DEZEMBRO/25 -ESTADO RJ - REGIME TRIBUTÁRIO : NÃO DESONERADO | E15: =Planilha!E15 -> 0.2627 | F15: =Planilha!F15 -> 0 | G15: =Planilha!G15 -> 0000000 | H15: =Planilha!H15 -> 46037 | I15: =Planilha!I15 -> R04
A16: Curva ABC de Insumos
A17: Código | B17: Banco | C17: Descrição | D17: Tipo | E17: Und | F17: Quantidade | H17: Valor Unitário | J17: Total | M17: Peso | N17: Valor Acumulado | O17: Peso Acumulado
F18: Operativa | G18: Improdutiva | H18: Operativa | I18: Improdutiva | J18: Operativa | K18: Improdutiva | L18: Geral
A19: 00002436 | B19: SINAPI | C19: ELETRICISTA (HORISTA) | D19: Mão de Obra | E19: H | F19: 1.933,1710263 | H19: 37,38 | J19: 72.261,93 | L19: 72261.933 | M19: 7,11% | N19: 72261.933 | O19: 7,11%
A20: 00040818 | B20: SINAPI | C20: ENCARREGADO GERAL DE OBRAS (MENSALISTA) | D20: Mão de Obra | E20: MES | F20: 6,0958200 | H20: 10.856,24 | J20: 66.177,68 | L20: 66177.685 | M20: 6,51% | N20: 138439.62 | O20: 13,61%
A21: 00037370 | B21: SINAPI | C21: ALIMENTACAO - HORISTA (COLETADO CAIXA - ENCARGOS COMPLEMENTARES) | D21: Encargos Complementares | E21: H | F21: 7.734,4090780 | H21: 6,11 | J21: 47.257,24 | L21: 47257.239 | M21: 4,65% | N21: 185696.86 | O21: 18,26%
A22: 00000247 | B22: SINAPI | C22: AJUDANTE DE ELETRICISTA (HORISTA) | D22: Mão de Obra | E22: H | F22: 1.574,6996860 | H22: 28,58 | J22: 45.004,92 | L22: 45004.917 | M22: 4,43% | N22: 230701.77 | O22: 22,69%
A23: 036594 | B23: SBC | C23: TUBO ACO INOX AISI 304 REDONDO 1 1/2" (38,10mm) ESPESSURA DA PAREDE 1,2 mm | D23: Material | E23: M | F23: 120,3930000 | H23: 319,41 | J23: 38.454,73 | L23: 38454.728 | M23: 3,78% | N23: 269156.5 | O23: 26,47%
A24: 00040813 | B24: SINAPI | C24: ENGENHEIRO CIVIL DE OBRA PLENO (MENSALISTA) | D24: Mão de Obra | E24: MES | F24: 1,0111200 | H24: 33.836,83 | J24: 34.213,10 | L24: 34213.096 | M24: 3,36% | N24: 303369.6 | O24: 29,84%
A25: 00007701 | B25: SINAPI | C25: TUBO ACO GALVANIZADO COM COSTURA, CLASSE MEDIA, DN 2.1/2", E = *3,65* MM, PESO *6,51* KG/M (NBR 5580) | D25: Material | E25: M | F25: 289,8810000 | H25: 115,37 | J25: 33.443,57 | L25: 33443.571 | M25: 3,29% | N25: 336813.17 | O25: 33,12%
A26: 00006111 | B26: SINAPI | C26: SERVENTE DE OBRAS (HORISTA) | D26: Mão de Obra | E26: H | F26: 1.174,7941359 | H26: 27,16 | J26: 31.907,41 | L26: 31907.409 | M26: 3,14% | N26: 368720.58 | O26: 36,26%
A27: 00004783 | B27: SINAPI | C27: PINTOR (HORISTA) | D27: Mão de Obra | E27: H | F27: 781,9179063 | H27: 37,48 | J27: 29.306,28 | L27: 29306.283 | M27: 2,88% | N27: 398026.86 | O27: 39,14%
A28: 050378 | B28: SBC | C28: LUMINARIA LUZ EMERGENCIA LED 400 LUMENS FAROIS EMBUTIDOS P3 | D28: Material | E28: UN | F28: 124,0000000 | H28: 220,95 | J28: 27.397,80 | L28: 27397.8 | M28: 2,69% | N28: 425424.66 | O28: 41,84%
A29: 00000867 | B29: SINAPI | C29: CABO DE COBRE NU 50 MM2 MEIO-DURO | D29: Material | E29: M | F29: 388,5000000 | H29: 68,00 | J29: 26.418,00 | L29: 26418 | M29: 2,60% | N29: 451842.66 | O29: 44,44%
A30: 036404 | B30: SBC | C30: ELETRODUTO GALVANIZADO (SEMI PESADO) NBR 5598 25mm 1" | D30: Material | E30: M | F30: 676,0000000 | H30: 37,12 | J30: 25.093,12 | L30: 25093.12 | M30: 2,47% | N30: 476935.78 | O30: 46,90%
... A421: 00041316 | B421: SINAPI | C421: PULVERIZADOR DE TINTA ELETRICO AIRLESS, VAZAO *2* L/MIN | D421: Material | E421: UN | F421: 0,0000375 | H421: 1,26 | J421: 0,00 | L421: 4.725e-05 | M421: 0,00% | N421: 1016615.1 | O421: 99,98%
L423: Totais por Tipo
L424: Equipamento | O424: R$ 21.208,94
L425: Equipamento para Aquisição Permanente | O425: R$ 1.135,50
L426: Mão de Obra | O426: R$ 374.433,96
L427: Material | O427: R$ 506.159,76
L428: Serviços | O428: R$ 0,00
L429: Taxas | O429: R$ 685,56
L430: Administração | O430: R$ 0,00
L431: Aluguel | O431: R$ 0,00
L432: Verba | O432: R$ 0,00
L433: Transporte | O433: R$ 0,00
L434: Encargos Complementares | O434: R$ 112.856,59
L435: Franquia | O435: R$ 127,33
L436: Outros | O436: R$ 7,50
K438: Total sem BDI | M438: 805360.96
K439: Total do BDI | M439: 211463.09
K440: Total Geral | M440: 1016824.1
A442: _______________________________________________________________ OTAVIANO CARAN Sócio/CEO/Proprietário
F443: Otaviano Caran
