Workbook

Sheet Anexo III
A1: PRÓ-REITORIA DE ADMINISTRAÇÃO
A2: COORDENAÇÃO DE MATERIAIS
A3: ANEXO III - PLANILHA ESTIMATIVA DE DESCRIÇÃO E PREÇOS
A5: GRUPO | B5: ITEM LICITAÇÃO | C5: DESCRIÇÃO/ ESPECIFICAÇÃO | D5: UNIDADE DE MEDIDA | E5: SUGESTÃO DE CATMAT | F5: INFORMAÇÕES ADICIONAIS | G5: QUANTIDADE | H5: VALOR UNITÁRIO | I5: VALOR TOTAL | J5: VALOR TOTAL DO GRUPO | K5: EXCLUSIVO ME/EPP | L5: MODO DE DISPUTA | M5: INTERVALO LANCES
A6: - | B6: 1 | C6: Argila Preta - 10kg. 100% Limpa. Própria para uso em torno, modelagem e moldagem. Secagem ao forno ou à sombra. Embalagem de 10kg. | D6: Unidade | E6: 626740 | F6: - | G6: 2 | H6: 190 | I6: =G6*ROUND(H6,2) -> 380 | J6: - | K6: SIM | L6: Aberto | M6: =VLOOKUP(H6, Intervalos!$B$3:$C$8,2,TRUE) -> 0,10%
A7: - | B7: 2 | C7: Lupa de leitura portátil. Formato retangular, dobrável, iluminação de 5 lâmpadas de led, faixa de zoom 2 vezes, alimentação 3 pilhas AAA, material do cabo plástico PVC, material da lente resina acrílica com alta definição, medidas aproximadas 24 x 8,5 x 2 cm. | D7: Unidade | E7: 478712 | F7: CTF/APP: FTE - Categoria: Indústria de Material Elétrico, Eletrônico e Comunicações; Código: 5 | G7: 19 | H7: 68.63 | I7: =G7*ROUND(H7,2) -> 1303.97 | J7: - | K7: SIM | L7: Aberto | M7: =VLOOKUP(H7, Intervalos!$B$3:$C$8,2,TRUE) -> 0.1
A8: - | B8: 3 | C8: Alfabeto Ilustrado. Material: MDF. Quantidade: 69 Peças. Características Adicionais: Encaixadas em 3 partes formando 23 placas. Tamanho: 11,5 x 5,0 x 0,28 cm. Certificação INMETRO: Deve atender aos Requisitos de Avaliação da Conformidade conforme Portaria INMETRO nº 302 de 12 de julho de 2021. | D8: Unidade | E8: 622428 | F8: - | G8: 3 | H8: 84.63 | I8: =G8*ROUND(H8,2) -> 253.89 | J8: - | K8: SIM | L8: Aberto | M8: =VLOOKUP(H8, Intervalos!$B$3:$C$8,2,TRUE) -> 0.1
A9: - | B9: 4 | C9: Bancada de Ferramentas Infantil. Feita de tábua de Pinus Blank maciça. Acabamento selador incolor e lustração especial. Acompanha kit de ferramentas (cerrote, régua, parafusos, chave de fenda e esquadro). Uma bancada de trabalho para a criança brincar com as ferramentas, estimulando o faz de conta. Trabalha noções de posição, associação, coordenação motora, coordenação viso-motora e a percepção de intensidade de força. Certificação INMETRO: Deve atender aos Requisitos de Avaliação da Conformidade conforme Portaria INMETRO nº 302 de 12 de julho de 2021. | D9: unidade | E9: 477066 | G9: 5 | H9: 199 | I9: =G9*ROUND(H9,2) -> 995 | J9: - | K9: SIM | L9: Aberto | M9: =VLOOKUP(H9, Intervalos!$B$3:$C$8,2,TRUE) -> 0,10%
A10: - | B10: 5 | C10: Baú Organizador Infantil em MDF. Multicolor. Dimensões: 54 x 63 x 40,5 cm. Características Adicionais: Rodízios em Plástico. Tipo Caixa de Brinquedos. Certificação INMETRO: Deve atender aos Requisitos de Avaliação da Conformidade conforme Portaria INMETRO nº 302 de 12 de julho de 2021. | D10: unidade | E10: 476107 | F10: - | G10: 3 | H10: 369.33 | I10: =G10*ROUND(H10,2) -> 1107.99 | J10: - | K10: SIM | L10: Aberto | M10: =VLOOKUP(H10, Intervalos!$B$3:$C$8,2,TRUE) -> 0,10%
A11: - | B11: 6 | C11: Blocos de montar 500 peças - Brinquedo Didático Infantil. Com diversos tamanhos, ótimo encaixe e pinos grandes os quais permitem uma montagem sem dificuldade para as crianças. Indicado a melhorar a coordenação motora, percepção de espaço e tamanho, é indicado para todas as idades. Algumas peças vão com rodinhas. Medidas das peças: Blocos com 4 Pinos - 3,0 x 3,0 x 1,5 cm; Blocos com 8 Pinos - 6,0 x 3,0 x 1,5 cm; Blocos com 12 Pinos - 9,0 x 3,0 x 1,5 cm; Telhado para 8 encaixes - 6,0 x 3,0 x 1,5 cm; Rampa para 3 encaixes - 4,5 x 3,0 x 2,0 cm; Eixos para 2 encaixes - 1,5 x 6,5 x 2,5 cm; Rodas - 3,0 x 3,0 cm; Menina - 4,5 x 3,0 cm; Menino - 4,5 x 3,0 cm. Indicação: Maiores de 3 anos. Cores: Sortidas. Composição: Plástico. Certificação INMETRO: Deve atender aos Requisitos de Avaliação da Conformidade conforme Portaria INMETRO nº 302 de 12 de julho de 2021. | D11: Unidade | E11: 621568 | F11: - | G11: 3 | H11: 210 | I11: =G11*ROUND(H11,2) -> 630 | J11: - | K11: SIM | L11: Aberto | M11: =VLOOKUP(H11, Intervalos!$B$3:$C$8,2,TRUE) -> 0,10%
A12: - | B12: 7 | C12: Casa De Boneca em MDF. Dimensões aproximadas: 45A x 48L x 30P cm. Características Adicionais: 4 Ambientes. Certificação INMETRO: Deve atender aos Requisitos de Avaliação da Conformidade conforme Portaria INMETRO nº 302 de 12 de julho de 2021. | D12: unidade | E12: 610163 | F12: - | G12: 3 | H12: 82.61 | I12: =G12*ROUND(H12,2) -> 247.83 | J12: - | K12: SIM | L12: Aberto | M12: =VLOOKUP(H12, Intervalos!$B$3:$C$8,2,TRUE) -> 0.1
A13: - | B13: 8 | C13: Cabana Infantil do tipo tenda em tecido de algodão cru. Medidas aproximadas: Largura: 90 cm Altura: 120cm Profundidade: 90cm. Certificação INMETRO: Deve atender aos Requisitos de Avaliação da Conformidade conforme Portaria INMETRO nº 302 de 12 de julho de 2021. | D13: unidade | E13: 609018 | F13: - | G13: 3 | H13: 162.39 | I13: =G13*ROUND(H13,2) -> 487.17 | J13: - | K13: SIM | L13: Aberto | M13: =VLOOKUP(H13, Intervalos!$B$3:$C$8,2,TRUE) -> 0,10%
A14: - | B14: 9 | C14: Caminhão Coletor de Lixo infantil. Cor: Multicolor. Dimensões aproximadas: 50 x 22 x 22 cm. Componentes: Cesto de Lixo e Caçamba. Características Adicionais: Peças de Encaixe. Certificação INMETRO: Deve atender aos Requisitos de Avaliação da Conformidade conforme Portaria INMETRO nº 302 de 12 de julho de 2021. | D14: unidade | E14: 476061 | F14: - | G14: 3 | H14: 71.63 | I14: =G14*ROUND(H14,2) -> 214.89 | J14: - | K14: SIM | L14: Aberto | M14: =VLOOKUP(H14, Intervalos!$B$3:$C$8,2,TRUE) -> 0.1
A15: - | B15: 10 | C15: Placa de Chave de Fenda Montessori Educacional para crianças de 3 a 6 anos. Brinquedo Sensorial Ônibus Ocupado Jogo Classificador de Parafuso. Acompanha: Base de Ônibus de Madeira Maciça; 6 parafusos; Chave de Fenda; Chave Hexagonal e Chave Inglesa. Certificação INMETRO: Deve atender aos Requisitos de Avaliação da Conformidade conforme Portaria INMETRO nº 302 de 12 de julho de 2021. | D15: conjunto | E15: 617430 | F15: - | G15: 3 | H15: 184.34 | I15: =G15*ROUND(H15,2) -> 553.02 | J15: - | K15: SIM | L15: Aberto | M15: =VLOOKUP(H15, Intervalos!$B$3:$C$8,2,TRUE) -> 0,10%
A16: - | B16: 11 | C16: Ciclo de vida placa, kit biologia ciência educação brinquedos para crianças bandeja sensorial figura animal ciclo de vida triagem brinquedo de madeira Tema Animais & Natureza. Placa de classificação montessori brinquedo insetos biologia ciência aprendizagem e educação brinquedos para crianças brinquedos sensoriais de madeira. um conjunto contém 40 microplaquetas de madeira redondas, 10 adesivos ajustados, um saco de pano e uma bandeja de exibição. Certificação INMETRO: Deve atender aos Requisitos de Avaliação da Conformidade conforme Portaria INMETRO nº 302 de 12 de julho de 2021. | D16: Unidade | E16: 628101 | F16: - | G16: 3 | H16: 70.86 | I16: =G16*ROUND(H16,2) -> 212.58 | J16: - | K16: SIM | L16: Aberto | M16: =VLOOKUP(H16, Intervalos!$B$3:$C$8,2,TRUE) -> 0.1
A17: - | B17: 12 | C17: Kit de Dinossauros de brinquedo com 8 ou mais peças. Tamanho aproximado de cada animal:12cm, 15cm, 18cm. Material: borracha ou semelhante. Certificação INMETRO: Deve atender aos Requisitos de Avaliação da Conformidade conforme Portaria INMETRO nº 302 de 12 de julho de 2021. | D17: Unidade | E17: 477111 | F17: - | G17: 3 | H17: 79.6 | I17: =G17*ROUND(H17,2) -> 238.8 | J17: - | K17: SIM | L17: Aberto | M17: =VLOOKUP(H17, Intervalos!$B$3:$C$8,2,TRUE) -> 0.1
A18: - | B18: 13 | C18: Família Terapêutica - negra - pequena - sem órgãos sexuais. Família terapêutica para uso em atendimento infantil ou para brincar. Bonecos de panos de aproximadamente 14 centímetros, com acabamento delicado. Uso em intervenção clínica e em sala de aula. Composição: Pai, Mãe, Filha, Bebê, Avô, Avó, Cachorro. Certificação INMETRO: Deve atender aos Requisitos de Avaliação da Conformidade conforme Portaria INMETRO nº 302 de 12 de julho de 2021. | D18: kit | E18: 622761 | F18: - | G18: 2 | H18: 146.67 | I18: =G18*ROUND(H18,2) -> 293.34 | J18: - | K18: SIM | L18: Aberto | M18: =VLOOKUP(H18, Intervalos!$B$3:$C$8,2,TRUE) -> 0,10%
A19: - | B19: 14 | C19: Conjunto escolar componentes - mesa e cadeira. Material Madeira e Ferro: tamanho infantil. Colorida. 1 Mesa com 4 Cadeiras; Medidas aproximadas da mesa: AxLxP 55x60x60cm. Certificação INMETRO: Deve atender aos Requisitos de Avaliação da Conformidade conforme Portaria INMETRO nº 302 de 12 de julho de 2021. | D19: Unidade | E19: 453664 | F19: - | G19: 3 | H19: 806.85 | I19: =G19*ROUND(H19,2) -> 2420.55 | J19: - | K19: SIM | L19: Aberto | M19: =VLOOKUP(H19, Intervalos!$B$3:$C$8,2,TRUE) -> 0,10%
A20: - | B20: 15 | C20: Conjunto Mesa e cadeira Cubo. Cor: Madeira Clara. Características Adicionais: Fixação da parte estrutural com cavilhas e parafusos. Mesa Tamanho: 40cm x 40cm x 40cm. Características Adicionais Cadeira: Assento com opção de 3 posições. Tamanho: 35cm x 35cm x 35cm. Baseado no Método Educacional Montessori. Certificação INMETRO: Deve atender aos Requisitos de Avaliação da Conformidade conforme Portaria INMETRO nº 302 de 12 de julho de 2021. | D20: Conjunto | E20: 453664 | F20: - | G20: 3 | H20: 295.19 | I20: =G20*ROUND(H20,2) -> 885.57 | J20: - | K20: SIM | L20: Aberto | M20: =VLOOKUP(H20, Intervalos!$B$3:$C$8,2,TRUE) -> 0,10%
A21: - | B21: 16 | C21: Geladeira de plástico. Cor: Rosa. Componentes: 4 Ovinhos, 1 Forminha Para Picolé, 4 Picolés. Características Adicionais: 2 Prateleiras Móveis, Diversos Adesivos. Tamanho: 21 x 50 x 31 cm. Certificação INMETRO: Deve atender aos Requisitos de Avaliação da Conformidade conforme Portaria INMETRO nº 302 de 12 de julho de 2021. | D21: unidade | E21: 618504 | F21: - | G21: 3 | H21: 109.83 | I21: =G21*ROUND(H21,2) -> 329.49 | J21: - | K21: SIM | L21: Aberto | M21: =VLOOKUP(H21, Intervalos!$B$3:$C$8,2,TRUE) -> 0,10%
... A27: - | B27: 22 | C27: Brinquedo Educativo Quebra Cabeça. Blocos Magnéticos 120 Peças em acrílico com imã. Peças que permitem que as crianças construam objetos em 2D ou 3D, incentivando o exercício da capacidade criativa e ampliando a curiosidade na exploração de novas experiências e sensações. 120 peças, incluindo 30 triângulos, 28 quadrados, 2 hexágonos, 2 semicírculos, 2 retângulos, 4 triângulos isósceles, 4 losangos, 2 trapézios, 26 cartas do alfabeto (não magnéticas), 16 cartas numéricas (não magnéticas), 1 roda gigante, 2 rodas e 1 bolsa de transporte. Certificação INMETRO: Deve atender aos Requisitos de Avaliação da Conformidade conforme Portaria INMETRO nº 302 de 12 de julho de 2021. | D27: Unidade | E27: 621567 | F27: - | G27: 3 | H27: 257.67 | I27: =G27*ROUND(H27,2) -> 773.01 | J27: - | K27: SIM | L27: Aberto | M27: =VLOOKUP(H27, Intervalos!$B$3:$C$8,2,TRUE) -> 0,10%
A28: 1 | B28: 23 | C28: Caneleira de 3 Kg (par) - para uso durante a prática de exercícios físicos. Confeccionada com material de revestimento em courvin emborrachado. Costuras reforçadas e fechamento em velcro. | D28: par | E28: 261463 | F28: - | G28: 2 | H28: 118.76 | I28: =G28*ROUND(H28,2) -> 237.52 | J28: =SUM(I28:I30) -> 777.42 | K28: SIM | L28: Aberto | M28: =VLOOKUP(H28, Intervalos!$B$3:$C$8,2,TRUE) -> 0,10%
B29: 24 | C29: Caneleira de 4 Kg (par) - para uso durante a prática de exercícios físicos. Confeccionada com material de revestimento em courvin emborrachado. Costuras reforçadas e fechamento em velcro. | D29: par | E29: 261460 | F29: - | G29: 2 | H29: 127.05 | I29: =G29*ROUND(H29,2) -> 254.1 | L29: Aberto | M29: =VLOOKUP(H29, Intervalos!$B$3:$C$8,2,TRUE) -> 0,10%
B30: 25 | C30: Caneleira de 5 Kg (par) - para uso durante a prática de exercícios físicos. Confeccionada com material de revestimento em courvin emborrachado. Costuras reforçadas e fechamento em velcro. | D30: par | E30: 405846 | F30: - | G30: 2 | H30: 142.9 | I30: =G30*ROUND(H30,2) -> 285.8 | L30: Aberto | M30: =VLOOKUP(H30, Intervalos!$B$3:$C$8,2,TRUE) -> 0,10%
A31: - | B31: 26 | C31: Kit de minibands com 3 resistências leve/médio/forte. Com três faixas elásticas circulares de diferentes intensidades (leve,médio e forte), que possibilitam a realização de diversos exercícios multifuncionais para o corpo inteiro. Ideais para fortalecimento e ativação muscular, melhora do condicionamento e resistência física, coordenação motora, reabilitação e prevenção de lesões. Indicações: Fortalecimento muscular, melhora da coordenação motora, aumento da mobilidade e flexibilidade, reabilitação e prevenção de lesões. Características: Kit com 3 peças: leve - Verde (0,05mm): 2,5kg de resistência; médio Cinza (0,07mm): 5kg de resistência; forte Preto (0,09mm): 8kg de resistência. | D31: Unidade | E31: 618143 | F31: - | G31: 2 | H31: 121.67 | I31: =G31*ROUND(H31,2) -> 243.34 | J31: - | K31: SIM | L31: Aberto | M31: =VLOOKUP(H31, Intervalos!$B$3:$C$8,2,TRUE) -> 0,10%
A32: - | B32: 27 | C32: Acetato Transparente A4 para Embalagens e Artesanato PET Cristal - 20 Micras (10 folhas). Folhas de Acetato 21x29,7cm (A4) transparente. 20 Micras. PET Cristal Transparente. | D32: Unidade | E32: 378598 | F32: CTF/APP: FTE - Categoria: Indústria de Produtos de Matéria Plástica; Código: 12 | G32: 13 | H32: 22.96 | I32: =G32*ROUND(H32,2) -> 298.48 | J32: - | K32: SIM | L32: Aberto | M32: =VLOOKUP(H32, Intervalos!$B$3:$C$8,2,TRUE) -> 0.05
A33: - | B33: 28 | C33: Bombona Galão com capacidade de 25 Litros para armazenamento de combustível (gasolina e óleo diesel) . Cor Azul. Com certificação Inmetro | D33: Und. | E33: 633995 | F33: CTF/APP: FTE - Categoria: Indústria de Produtos de Matéria Plástica; Código: 12 | G33: 8 | H33: 68.06 | I33: =G33*ROUND(H33,2) -> 544.48 | J33: - | K33: SIM | L33: Aberto | M33: =VLOOKUP(H33, Intervalos!$B$3:$C$8,2,TRUE) -> 0.1
A34: - | B34: 29 | C34: Caixa organizadora - material resistente para suportar as peças e o formol com tampa e rodinha - Capacidade 50 litros. | D34: unidade | E34: 416057 | F34: - | G34: 59 | H34: 66.99 | I34: =G34*ROUND(H34,2) -> 3952.41 | J34: - | K34: SIM | L34: Aberto | M34: =VLOOKUP(H34, Intervalos!$B$3:$C$8,2,TRUE) -> 0.1
A35: - | B35: 30 | C35: Caixa organizadora de plástico c/tampa com trava, preta. 56 litros - dimensões aproximadas do produto: 34,5C x 26L x 72A centímetros | D35: Unidade | E35: 440739 | F35: CTF/APP: FTE - Categoria: Indústria de Produtos de Matéria Plástica; Código: 12 | G35: 25 | H35: 69.48 | I35: =G35*ROUND(H35,2) -> 1737 | J35: - | K35: SIM | L35: Aberto | M35: =VLOOKUP(H35, Intervalos!$B$3:$C$8,2,TRUE) -> 0.1
A36: - | B36: 31 | C36: Caixa organizadora de plástico polipropileno transparente. Contendo tampa que trava com grampos de fechamento que prendem a tampa firmemente à caixa plástica. Com capacidade de 2,3L de Dimensão aproximada de: 8,5x17,7x26,2 cm | D36: unidade | E36: 314497 | F36: CTF/APP: FTE - Categoria: Indústria de Produtos de Matéria Plástica; Código: 12 | G36: 35 | H36: 28.76 | I36: =G36*ROUND(H36,2) -> 1006.6 | J36: - | K36: SIM | L36: Aberto | M36: =VLOOKUP(H36, Intervalos!$B$3:$C$8,2,TRUE) -> 0.05
A37: - | B37: 32 | C37: Caixa organizadora de plástico polipropileno transparente. Contendo tampa que trava com grampos de fechamento que prendem a tampa firmemente à caixa plástica. Com capacidade de 4,3L de Dimensão aproximada de: 21 x 17 x 30 cm | D37: unidade | E37: 320456 | F37: CTF/APP: FTE - Categoria: Indústria de Produtos de Matéria Plástica; Código: 12 | G37: 33 | H37: 32.23 | I37: =G37*ROUND(H37,2) -> 1063.59 | J37: - | K37: SIM | L37: Aberto | M37: =VLOOKUP(H37, Intervalos!$B$3:$C$8,2,TRUE) -> 0.05
A38: - | B38: 33 | C38: Caixa organizadora de plástico polipropileno transparente. Contendo tampa que trava com grampos de fechamento que prendem a tampa firmemente à caixa plástica. Com capacidade de 8,6L de Dimensão aproximada de: 40 x 27 x 13.3 cm | D38: unidade | E38: 314498 | F38: CTF/APP: FTE - Categoria: Indústria de Produtos de Matéria Plástica; Código: 12 | G38: 28 | H38: 42.23 | I38: =G38*ROUND(H38,2) -> 1182.44 | J38: - | K38: SIM | L38: Aberto | M38: =VLOOKUP(H38, Intervalos!$B$3:$C$8,2,TRUE) -> 0.05
A39: - | B39: 34 | C39: Caixa organizadora média alta cristal 30L. Especificações Organizador médio alto, Cor Cristal, plastico Super resistente, Lavável, Com tampa. Dimensões aproximadas A x C x L:42,5 x 30,7 x 30,5cm. | D39: unidade | E39: 416085 | F39: CTF/APP: FTE - Categoria: Indústria de Produtos de Matéria Plástica; Código: 12 | G39: 114 | H39: 60.13 | I39: =G39*ROUND(H39,2) -> 6854.82 | J39: - | K39: SIM | L39: Aberto | M39: =VLOOKUP(H39, Intervalos!$B$3:$C$8,2,TRUE) -> 0.1
A40: - | B40: 35 | C40: Caixa plástica organizadora transparente 50 litros, com travas de segurança na tampa, polipropileno, dimensões 57,5cm x 39,5cm x 32cm. | D40: Unidade | E40: 416057 | F40: CTF/APP: FTE - Categoria: Indústria de Produtos de Matéria Plástica; Código: 12 | G40: 32 | H40: 75.23 | I40: =G40*ROUND(H40,2) -> 2407.36 | J40: - | K40: SIM | L40: Aberto | M40: =VLOOKUP(H40, Intervalos!$B$3:$C$8,2,TRUE) -> 0.1
A41: - | B41: 36 | C41: Caixa plástica tipo hortifruti - 46L: Caixa Plástica confeccionada com material de alta densidade, com laterais e fundo vazados, ombreira para facilitar o carregamento, com uma capacidade de 46 litros. Dimensões aproximadas : Comprimento: 55 cm Largura: 35 CM Altura: 30 CM | D41: unidade | E41: 469824 | F41: CTF/APP: FTE - Categoria: Indústria de Produtos de Matéria Plástica; Código: 12 | G41: 13 | H41: 60.94 | I41: =G41*ROUND(H41,2) -> 792.22 | J41: - | K41: SIM | L41: Aberto | M41: =VLOOKUP(H41, Intervalos!$B$3:$C$8,2,TRUE) -> 0.1
A42: - | B42: 37 | C42: Filme de policloreto de vinila com tecido. Cor Preta. Espessura: 0,30 MM. Largura: 140 CM. Rolo 50 M. Tipo Uso: Revestimento. Aplicação: Plástico emborrachado para forração de pranchetas de desenho. | D42: Unidade | E42: 315531 | F42: CTF/APP: FTE - Categoria: Indústria de Produtos de Matéria Plástica; Código: 12 | G42: 7 | H42: 2778.38 | I42: =G42*ROUND(H42,2) -> 19448.66 | J42: - | K42: SIM | L42: Aberto | M42: =VLOOKUP(H42, Intervalos!$B$3:$C$8,2,TRUE) -> 0,10%
... A47: - | B47: 42 | C47: Matriz fixação botão pressão. Material: metal. Componentes: 4 partes: 2 para colocação do macho e 2 para colocação da fêmea. Aplicação: balancim manual. Nº 100 (15mm). | D47: unidade | E47: 619260 | F47: - | G47: 13 | H47: 61.23 | I47: =G47*ROUND(H47,2) -> 795.99 | J47: - | K47: SIM | L47: Aberto | M47: =VLOOKUP(H47, Intervalos!$B$3:$C$8,2,TRUE) -> 0.1
A48: 2 | B48: 43 | C48: Matriz para forrar bombê n.14. Material: metal. Aplicação: balancim manual | D48: unidade | E48: 619257 | F48: - | G48: 13 | H48: 46.15 | I48: =G48*ROUND(H48,2) -> 599.95 | J48: =SUM(I48:I49) -> 1420.12 | K48: SIM | L48: Aberto | M48: =VLOOKUP(H48, Intervalos!$B$3:$C$8,2,TRUE) -> 0.05
B49: 44 | C49: Matriz para forrar bombê n.24. Material: metal. Aplicação: balancim manual | D49: unidade | E49: 619258 | F49: - | G49: 13 | H49: 63.09 | I49: =G49*ROUND(H49,2) -> 820.17 | L49: Aberto | M49: =VLOOKUP(H49, Intervalos!$B$3:$C$8,2,TRUE) -> 0.1
A50: 3 | B50: 45 | C50: Matriz para ilhoes nº 0-10 mm. Material: metal. Componentes: com arruela para balancim. 2 partes. Aplicação: balancim manual. | D50: unidade | E50: 619259 | F50: - | G50: 13 | H50: 44.43 | I50: =G50*ROUND(H50,2) -> 577.59 | J50: =I50+I51 -> 1508.39 | K50: SIM | L50: Aberto | M50: =VLOOKUP(H50, Intervalos!$B$3:$C$8,2,TRUE) -> 0.05
B51: 46 | C51: Matriz para ilhoes nº 5-20 mm. Material: metal. Componentes: com arruela para balancim. 2 partes. Aplicação: balancim manual | D51: unidade | E51: 619261 | F51: - | G51: 13 | H51: 71.6 | I51: =G51*ROUND(H51,2) -> 930.8 | L51: Aberto | M51: =VLOOKUP(H51, Intervalos!$B$3:$C$8,2,TRUE) -> 0.1
A52: - | B52: 47 | C52: Coleção HTP (House, Tree, Person) -Técnica projetiva gráfica de base psicodinâmica restrita a psicólogos e voltada à investigação da personalidade. Composição: 1 livro de Instruções Vol. 1 (manual) e 1 livro de avaliação Vol. 2 conjunto com 10 unidades (descartável). Autoras: Leila Salomão de la Plata Cury Tardivo, Maria Cecilia de Vilhena Moraes, Adele de Miguel Marques, Silésia Maria Veneroso Delphino Tosi | D52: Unidade | E52: 621005 | F52: - | G52: 2 | H52: 362.32 | I52: =G52*ROUND(H52,2) -> 724.64 | J52: - | K52: SIM | L52: Aberto | M52: =VLOOKUP(H52, Intervalos!$B$3:$C$8,2,TRUE) -> 0,10%
A53: - | B53: 48 | C53: EBADEP-IJ - Escala Baptista de Depressão – Versão Infanto-juvenil. Composição kit: 1 manual técnico – livro de instruções; 1 bloco de folhas de resposta – livro de aplicação (com 25 folhas); 25 licenças para correção on-line (gratuita). | D53: Unidade | E53: 605487 | F53: - | G53: 2 | H53: 228.33 | I53: =G53*ROUND(H53,2) -> 456.66 | J53: - | K53: SIM | L53: Aberto | M53: =VLOOKUP(H53, Intervalos!$B$3:$C$8,2,TRUE) -> 0,10%
A54: - | B54: 49 | C54: FDT - Teste dos Cinco Dígitos - Bloco de respostas com 25 folhas de resposta. | D54: Unidade | E54: 621205 | F54: - | G54: 4 | H54: 75 | I54: =G54*ROUND(H54,2) -> 300 | J54: - | K54: SIM | L54: Aberto | M54: =VLOOKUP(H54, Intervalos!$B$3:$C$8,2,TRUE) -> 0.1
A55: - | B55: 50 | C55: Profiles - O Jogo da Personalidade - Composição: Livro de instruções (manual); 180 cartas de jogo, sendo: 4 cartas para cada um dos 15 traços com orientação EU, totalizando 60 cartas; 4 cartas para cada um dos 15 traços com orientação OUTROS, totalizando 60 cartas; 2 cartas para cada um dos 15 traços com orientação EU/OUTROS, totalizando 30 cartas; 30 cartas de objetivos pessoais, sendo 6 por domínio (3 com orientação EU e 3 com orientação OUTROS). | D55: Unidade | E55: 621004 | F55: - | G55: 2 | H55: 365.8 | I55: =G55*ROUND(H55,2) -> 731.6 | J55: - | K55: SIM | L55: Aberto | M55: =VLOOKUP(H55, Intervalos!$B$3:$C$8,2,TRUE) -> 0,10%
A56: - | B56: 51 | C56: R-PAS – Sistema de Avaliação por Performance de Rorschach (Coleção)- Autores: Gregory J. Meyer, Donald J. Viglione, Joni L. Mihura, Robert E. Erard e Philip Erdberg. Coleção (materiais): 01 manual; 01 guia portátil; 01 bloco de 25 protocolos de aplicação; 01 folha de referência; 01 conjunto de pranchas; 01 caixa. | D56: Unidade | E56: 620763 | F56: - | G56: 2 | H56: 1918.62 | I56: =G56*ROUND(H56,2) -> 3837.24 | J56: - | K56: SIM | L56: Aberto | M56: =VLOOKUP(H56, Intervalos!$B$3:$C$8,2,TRUE) -> 0,10%
A57: 4 | B57: 52 | C57: SON-R 2½-7 [a] - Caderno Subteste Padrões. | D57: Unidade | E57: 622920 | F57: - | G57: 50 | H57: 14.27 | I57: =G57*ROUND(H57,2) -> 713.5 | J57: =SUM(I57:I60) -> 18303 | K57: SIM | L57: Aberto | M57: =VLOOKUP(H57, Intervalos!$B$3:$C$8,2,TRUE) -> 0.03
B58: 53 | C58: SON-R 2½-7 [a] - Formulário de Registro (bloco de respostas). Conjunto de Folhas de Respostas contendo 50 unidades em cada bloco. | D58: Unidade | E58: 623722 | F58: - | G58: 50 | H58: 100.33 | I58: =G58*ROUND(H58,2) -> 5016.5 | L58: Aberto | M58: =VLOOKUP(H58, Intervalos!$B$3:$C$8,2,TRUE) -> 0,10%
B59: 54 | C59: SON-R 6-40 - Formulário de Registro (bloco de resposta). Bloco com 50 Formulários de Registro. | D59: Unidade | E59: 634427 | F59: - | G59: 50 | H59: 231 | I59: =G59*ROUND(H59,2) -> 11550 | L59: Aberto | M59: =VLOOKUP(H59, Intervalos!$B$3:$C$8,2,TRUE) -> 0,10%
B60: 55 | C60: SON-R 6-40 - Subteste Padrões (folhas de aplicação padrões) | D60: Unidade | E60: 634428 | F60: - | G60: 50 | H60: 20.46 | I60: =G60*ROUND(H60,2) -> 1023 | L60: Aberto | M60: =VLOOKUP(H60, Intervalos!$B$3:$C$8,2,TRUE) -> 0.05
A61: 5 | B61: 56 | C61: SRS-2 Conjunto de protocolos. 40 formulários, sendo 10 escolar; 10 pré-escolar; 10 adulto - heterorrelato; 10 adulto – autorrelato. | D61: Unidade | E61: 626299 | F61: - | G61: 4 | H61: 332.75 | I61: =G61*ROUND(H61,2) -> 1331 | J61: =SUM(I61:I62) -> 2363.6 | K61: SIM | L61: Aberto | M61: =VLOOKUP(H61, Intervalos!$B$3:$C$8,2,TRUE) -> 0,10%
B62: 57 | C62: SSRS - Inventário de Habilidades Sociais – kit de reposição. | D62: Unidade | E62: 623505 | F62: - | G62: 3 | H62: 344.2 | I62: =G62*ROUND(H62,2) -> 1032.6 | L62: Aberto | M62: =VLOOKUP(H62, Intervalos!$B$3:$C$8,2,TRUE) -> 0,10%
A63: 6 | B63: 58 | C63: WAIS III - Escala de Inteligência Wechsler para Adultos - Protocolo de registro geral. | D63: Unidade | E63: 634424 | F63: - | G63: 50 | H63: 25.27 | I63: =G63*ROUND(H63,2) -> 1263.5 | J63: =I63+I64 -> 2210.5 | K63: SIM | L63: Aberto | M63: =VLOOKUP(H63, Intervalos!$B$3:$C$8,2,TRUE) -> 0.05
B64: 59 | C64: WAIS III - Escala de Inteligência Wechsler para Adultos - Protocolo procurar símbolos. | D64: Unidade | E64: 634419 | F64: - | G64: 50 | H64: 18.94 | I64: =G64*ROUND(H64,2) -> 947 | L64: Aberto | M64: =VLOOKUP(H64, Intervalos!$B$3:$C$8,2,TRUE) -> 0.03
A65: 7 | B65: 60 | C65: WISC IV - Escala Wechsler de Inteligência para Crianças - Protocolo cancelamento | D65: Unidade | E65: 621011 | F65: - | G65: 50 | H65: 33.17 | I65: =G65*ROUND(H65,2) -> 1658.5 | J65: =SUM(I65:I67) -> 5789.5 | K65: SIM | L65: Aberto | M65: =VLOOKUP(H65, Intervalos!$B$3:$C$8,2,TRUE) -> 0.05
B66: 61 | C66: WISC IV - Escala Wechsler de Inteligência para Crianças - Protocolo de registro geral. | D66: Unidade | E66: 621012 | F66: - | G66: 50 | H66: 49.86 | I66: =G66*ROUND(H66,2) -> 2493 | L66: Aberto | M66: =VLOOKUP(H66, Intervalos!$B$3:$C$8,2,TRUE) -> 0.05
B67: 62 | C67: WISC IV - Escala Wechsler de Inteligência para Crianças - Protocolo procurar símbolos | D67: Unidade | E67: 621013 | F67: - | G67: 50 | H67: 32.76 | I67: =G67*ROUND(H67,2) -> 1638 | L67: Aberto | M67: =VLOOKUP(H67, Intervalos!$B$3:$C$8,2,TRUE) -> 0.05
H68: VALOR TOTAL | I68: =SUM(I6:I67) -> 102220.39

Sheet Intervalos
B2: Valor Unitário Estimado (Faixa) | C2: Diferença Mínima de Valores / Percentuais de Lances | E2: Interpretação
B3: 0.01 | C3: 0.01 | E3: R$ 0,01 - R$ 5,00 => R$ 0,01
B4: 5 | C4: 0.02 | E4: R$ 5,01 - R$ 10,00 => R$ 0,02
B5: 10 | C5: 0.03 | E5: R$ 10,01 - R$ 20,00 => R$ 0,03
B6: 20 | C6: 0.05 | E6: R$ 20,01 - R$ 50,00 => R$ 0,05
B7: 50 | C7: 0.1 | E7: R$ 50,01 - R$ 100,00 => R$ 0,10
B8: 100 | C8: 0,10% | E8: Acima de R$ 100,00 => 0,10%
