Workbook

Sheet Anexo III
A1: PRÓ-REITORIA DE ADMINISTRAÇÃO
A2: COORDENAÇÃO DE MATERIAIS
A3: ANEXO III - PLANILHA ESTIMATIVA DE DESCRIÇÃO E PREÇOS
A5: GRUPO | B5: ITEM LICITAÇÃO | C5: DESCRIÇÃO/ ESPECIFICAÇÃO | D5: UNIDADE DE MEDIDA | E5: SUGESTÃO DE CATMAT | F5: INFORMAÇÕES ADICIONAIS | G5: QUANTIDADE UFF | H5: QUANTIDADE UASG 762200 | I5: QUANTIDADE UASG 927255 | J5: QUANTIDADE TOTAL | K5: VALOR UNITÁRIO | L5: VALOR TOTAL | M5: VALOR TOTAL DO GRUPO | N5: EXCLUSIVO ME/EPP | O5: MODO DE DISPUTA | P5: INTERVALO LANCES
A6: - | B6: 1 | C6: Apoio ergonômico para os pés LxPxH: 45x30x7-14cm com plataforma em material polipropileno de alta resistência e textura antiderrapante; não deve apresentar quinas vivas, dimensões da plataforma aproximadamente de 45cm x 30cm (podendo variar em +/- 10%); ajuste fácil de altura variando de aproximadamente 7cm a 14cm e ajuste fácil de inclinação de até 25º; pés antiderrapantes. | D6: unidade | E6: 326126 | F6: - | G6: 217 | H6: 17 | I6: 0 | J6: =SUM(G6:I6) -> 234 | K6: 63.26 | L6: =J6*ROUND(K6,2) -> 14802.84 | M6: - | N6: SIM | O6: Aberto | P6: =VLOOKUP(K6, Intervalos!$B$3:$C$8,2,TRUE) -> 0.1
A7: - | B7: 2 | C7: Armário baixo com duas portas LxPxH: 80x45x75cm. Armário fabricado em MDP com no mín. 18mm, com fita de bordo nos tampos e demais topos aparentes, contando com acabamento em laminado de baixa pressão (BP). Dobradiças metálicas e puxadores cromados. Prateleira centralizada. Deve possuir fechadura reforçada ou em chave tetra. | D7: unidade | E7: 458657 | F7: CTF/APP: FTE - Categoria: Indústria da Madeira; Código: 7 | G7: 4 | H7: 0 | I7: 986 | J7: =SUM(G7:I7) -> 990 | K7: 667.89 | L7: =J7*ROUND(K7,2) -> 661211.1 | M7: - | N7: NÃO | O7: Aberto | P7: =VLOOKUP(K7, Intervalos!$B$3:$C$8,2,TRUE) -> 0,10%
A8: - | B8: 3 | C8: Armário baixo com portas LxPxH: 80x45x75cm. Armário fabricado em MDP com no mín. 18mm, com fita de bordo nos tampos e demais topos aparentes, contando com acabamento em laminado de baixa pressão (BP). Deve possuir duas portas de correr, que correm sobre trilhos localizados na parte inferior e superior, dotadas de puxadores metálicos embutidos. Prateleira centralizada com reforço estrutural central. Deve possuir fechadura. | D8: unidade | E8: 458657 | F8: CTF/APP: FTE - Categoria: Indústria da Madeira; Código: 7 | G8: 2 | H8: 0 | I8: 0 | J8: =SUM(G8:I8) -> 2 | K8: 1411.68 | L8: =J8*ROUND(K8,2) -> 2823.36 | M8: - | N8: SIM | O8: Aberto | P8: =VLOOKUP(K8, Intervalos!$B$3:$C$8,2,TRUE) -> 0,10%
A9: - | B9: 4 | C9: Armário baixo com quatro portas LxPxH: 180x45x75cm. Cor a definir. Estrutura, portas, prateleiras, fundo e laterais em MDP com no mín. 18mm de espessura, revestida em laminado melamínico de baixa pressão texturizado em ambas as faces. Todas as bordas, por todo perímetro, com acabamento em fita de bordo na espessura do MDP, colada a quente pelo sistema tipo hot-melt, com curvatura de raio mínimo de 2,5 mm. Laterais com regulagens para prateleiras a cada 32 mm aprox. através de no mín. 04 pinos metálicos fixado às laterais do armário. Rodapé com sapatas reguladoras de nível encaixada e fixada na base através de parafuso permitindo a regulagem da mesma tanto na parte interna como externa do armário. 04 portas de abrir com giro mínimo de 270ẃ (mín. de 02 dobradiças em cada porta). Desmontável. Garantia de no mín. 5 anos. | D9: unidade | E9: 237341 | F9: CTF/APP: FTE - Categoria: Indústria da Madeira; Código: 7 | G9: 29 | H9: 0 | I9: 0 | J9: =SUM(G9:I9) -> 29 | K9: 1381.33 | L9: =J9*ROUND(K9,2) -> 40058.57 | M9: - | N9: SIM | O9: Aberto | P9: =VLOOKUP(K9, Intervalos!$B$3:$C$8,2,TRUE) -> 0,10%
A10: - | B10: 5 | C10: Armário com duas portas alto LxPxH: 100x50x160cm. Cor a definir. Estrutura, portas laterais, base inferior, prateleiras, tampo, fundo em MDP de no mín. 18mm de espessura, revestida em laminado melamínico de baixa pressão texturizado em ambas as faces. Borda frontal e posterior com acabamento em fita de bordo da espessura do MDP, colada a quente pelo sistema tipo hot-melt, com raio mínimo de 2,5 mm em todo seu perímetro. Bordas transversais com acabamento em fita de bordo na espessura do MDP, colada a quente pelo sistema tipo hot-melt, em todo seu perímetro. Laterais com regulagens para prateleiras através de no mín. 04 pinos metálicos nas laterais do armário. Rodapé com sapatas reguladoras de nível encaixada e fixada na base através de parafuso permitindo a regulagem da mesma tanto na parte interna como externa do armário. Deve possuir 02 portas de abrir com giro de 270ẃ com no mín 04 dobradiças em cada porta. Fechadura com travamento simultâneo superior e inferior tipo cremona. Puxadores do tipo Zamak niquelado redondo com forma côncava com aproximadamente 110 mm de comprimento. Deve possuir três prateleiras. As laterais, fundo, tampo e base inferior são ligados entre si por sistema que possibilite a montagem e desmontagem. Partes metálicas com pré-tratamento antiferruginoso e acabamento em pintura epóxi-pó. | D10: unidade | E10: 458707 | F10: CTF/APP: FTE - Categoria: Indústria da Madeira; Código: 7 | G10: 3 | H10: 0 | I10: 986 | J10: =SUM(G10:I10) -> 989 | K10: 1166 | L10: =J10*ROUND(K10,2) -> 1153174 | M10: - | N10: NÃO | O10: Aberto | P10: =VLOOKUP(K10, Intervalos!$B$3:$C$8,2,TRUE) -> 0,10%
A11: - | B11: 6 | C11: Armário com duas portas de correr LxPxH: 90x50x160cm. Confeccionado em MDP com no mín. 18mm de espessura, revestido em ambas as faces em laminado melamínico de baixa pressão (BP), com acabamento de borda com fita de bordo coladas com adesivo hot-melt em todo o contorno. As portas devem correr sobre trilhos. Deve possuir três prateleiras.As laterais devem ter furação para regulagem de altura das prateleiras, que devem ser apoiadas cada uma em no mínimo quatro suportes. Base retangular fechada. Acabamento com sapatas articuláveis, com sistema regulável após montagem. | D11: unidade | E11: 294773 | F11: CTF/APP: FTE - Categoria: Indústria da Madeira; Código: 7 | G11: 25 | H11: 0 | I11: 0 | J11: =SUM(G11:I11) -> 25 | K11: 2261.22 | L11: =J11*ROUND(K11,2) -> 56530.5 | M11: - | N11: SIM | O11: Aberto | P11: =VLOOKUP(K11, Intervalos!$B$3:$C$8,2,TRUE) -> 0,10%
A12: - | B12: 7 | C12: Armário com duas portas extra-alto LxPxH: 60x50x210cm. Cor a definir. Estrutura, portas laterais, base inferior, prateleiras, tampo, fundo em MDP de no mín. 18mm de espessura, revestida em laminado melamínico de baixa pressão texturizado em ambas as faces. Borda frontal e posterior com acabamento em fita de bordo da espessura do MDP, colada a quente pelo sistema tipo hot-melt, com raio mínimo de 2,5 mm em todo seu perímetro. Bordas transversais com acabamento em fita de bordo na espessura do MDP, colada a quente pelo sistema tipo hot-melt, em todo seu perímetro. Laterais com regulagens para prateleiras através de no mín. 04 pinos metálicos nas laterais do armário. Rodapé com sapatas reguladoras de nível encaixada e fixada na base através de parafuso permitindo a regulagem da mesma tanto na parte interna como externa do armário. Deve possuir 02 portas de abrir com giro de 270ẃ com no mín 04 dobradiças em cada porta. Fechadura com travamento simultâneo superior e inferior tipo cremona. Puxadores do tipo Zamak niquelado redondo com forma côncava com aproximadamente 110 mm de comprimento. Deve possuir quatro prateleiras. As laterais, fundo, tampo e base inferior são ligados entre si por sistema que possibilite a montagem e desmontagem. Partes metálicas com pré-tratamento antiferruginoso e acabamento em pintura epóxi-pó. | D12: unidade | E12: 623625 | F12: CTF/APP: FTE - Categoria: Indústria da Madeira; Código: 7 | G12: 13 | H12: 0 | I12: 0 | J12: =SUM(G12:I12) -> 13 | K12: 1549.26 | L12: =J12*ROUND(K12,2) -> 20140.38 | M12: - | N12: SIM | O12: Aberto | P12: =VLOOKUP(K12, Intervalos!$B$3:$C$8,2,TRUE) -> 0,10%
A13: - | B13: 8 | C13: Armário com duas portas extra-alto LxPxH: 80x50x210cm. Cor a definir. Estrutura, portas laterais, base inferior, prateleiras, tampo, fundo em MDP de no mín. 18mm de espessura, revestida em laminado melamínico de baixa pressão texturizado em ambas as faces. Borda frontal e posterior com acabamento em fita de bordo da espessura do MDP, colada a quente pelo sistema tipo hot-melt, com raio mínimo de 2,5 mm em todo seu perímetro. Bordas transversais com acabamento em fita de bordo na espessura do MDP, colada a quente pelo sistema tipo hot-melt, em todo seu perímetro. Laterais com regulagens para prateleiras através de no mín. 04 pinos metálicos nas laterais do armário. Rodapé com sapatas reguladoras de nível encaixada e fixada na base através de parafuso permitindo a regulagem da mesma tanto na parte interna como externa do armário. Deve possuir 02 portas de abrir com giro de 270ẃ com no mín 04 dobradiças em cada porta. Fechadura com travamento simultâneo superior e inferior tipo cremona. Puxadores do tipo Zamak niquelado redondo com forma côncava com aproximadamente 110 mm de comprimento. Deve possuir quatro prateleiras. As laterais, fundo, tampo e base inferior são ligados entre si por sistema que possibilite a montagem e desmontagem. Partes metálicas com pré-tratamento antiferruginoso e acabamento em pintura epóxi-pó. | D13: unidade | E13: 611262 | F13: CTF/APP: FTE - Categoria: Indústria da Madeira; Código: 7 | G13: 29 | H13: 0 | I13: 0 | J13: =SUM(G13:I13) -> 29 | K13: 1518.92 | L13: =J13*ROUND(K13,2) -> 44048.68 | M13: - | N13: SIM | O13: Aberto | P13: =VLOOKUP(K13, Intervalos!$B$3:$C$8,2,TRUE) -> 0,10%
A14: - | B14: 9 | C14: Armário com duas portas médio LxPxH: 90x50x120cm. Cor a definir. Estrutura, portas laterais, base inferior, prateleiras, tampo, fundo em MDP de no mín. 18mm de espessura, revestida em laminado melamínico de baixa pressão texturizado em ambas as faces. Borda frontal e posterior com acabamento em fita de bordo da espessura do MDP, colada a quente pelo sistema tipo hot-melt, com raio mínimo de 2,5 mm em todo seu perímetro. Bordas transversais com acabamento em fita de bordo na espessura do MDP, colada a quente pelo sistema tipo hot-melt, em todo seu perímetro. Laterais com regulagens para prateleiras através de no mín. 04 pinos metálicos nas laterais do armário. Rodapé com sapatas reguladoras de nível encaixada e fixada na base através de parafuso permitindo a regulagem da mesma tanto na parte interna como externa do armário. Deve possuir 02 portas de abrir com giro de 270ẃ com no mín 04 dobradiças em cada porta. Fechadura com travamento simultâneo superior e inferior tipo cremona. Puxadores do tipo Zamak niquelado redondo com forma côncava com aproximadamente 110 mm de comprimento. Deve possuir duas prateleiras. As laterais, fundo, tampo e base inferior são ligados entre si por sistema que possibilite a montagem e desmontagem. Partes metálicas com pré-tratamento antiferruginoso e acabamento em pintura epóxi-pó. | D14: unidade | E14: 346502 | F14: CTF/APP: FTE - Categoria: Indústria da Madeira; Código: 7 | G14: 4 | H14: 0 | I14: 0 | J14: =SUM(G14:I14) -> 4 | K14: 785 | L14: =J14*ROUND(K14,2) -> 3140 | M14: - | N14: SIM | O14: Aberto | P14: =VLOOKUP(K14, Intervalos!$B$3:$C$8,2,TRUE) -> 0,10%
A15: - | B15: 10 | C15: Armário de aço 3 portas tipo guarda volumes médio para guarda de mochilas. Em aço galvanizado, tratamento anti-corrosivo e fosfatizante, pintura eletrostática, com fechadura de aço tipo soprano, fecho lingueta em aço, com no mínimo 2 chaves, abertura da porta LxA: 29,5x55cm, ou próximo (variação aceitável de até 5cm), tamanho total L 35 X A 185 X P 45 cm. Para guarda em bibliotecas de materiais com maiores dimensões, como mochilas e capacetes. | D15: unidade | E15: 239105 | F15: - | G15: 12 | H15: 5 | I15: 0 | J15: =SUM(G15:I15) -> 17 | K15: 558 | L15: =J15*ROUND(K15,2) -> 9486 | M15: - | N15: SIM | O15: Aberto | P15: =VLOOKUP(K15, Intervalos!$B$3:$C$8,2,TRUE) -> 0,10%
A16: - | B16: 11 | C16: Armário de aço com duas portas LxPxH: 76x33x150cm. Chapas de aço SAE 1010/1020: corpo e portas em chapa de no mín. 24; Prateleiras e reforço das portas em chapa de no mín. 20; Base em chapa de no mín. 18; Dobradiças em chapa de no mín. 14. Contando de quatro prateleiras removíveis e ajustáveis (permitem o ajuste em distâncias de até 100 mm). Dobradiças internas de no mín. 75 mm de altura e no mín. três unidades por porta. Puxadores inteiramente metálicos, de liga não-ferrosa. Fechadura de tambor cilíndrico com uma duplicata da chave. Partes metálicas devem receber pré-tratamento antiferruginoso e acabamento em pintura eletrostática epóxi-pó em cor a ser definida. | D16: unidade | E16: 408869 | F16: - | G16: 4 | H16: 2 | I16: 0 | J16: =SUM(G16:I16) -> 6 | K16: 877.8 | L16: =J16*ROUND(K16,2) -> 5266.8 | M16: - | N16: SIM | O16: Aberto | P16: =VLOOKUP(K16, Intervalos!$B$3:$C$8,2,TRUE) -> 0,10%
A17: - | B17: 12 | C17: Armário de aço com duas portas LxPxH: 90x45x198cm. Chapas de aço SAE 1010/1020: corpo e portas em chapa de no mín. 24; Prateleiras e reforço das portas em chapa de no mín. 20; Base em chapa de no mín. 18; Dobradiças em chapa de no mín. 14. Contando de quatro prateleiras removíveis e ajustáveis (permitem o ajuste em distâncias de até 100 mm.). Dobradiças internas de no mín. 75 mm de altura e no mín. três unidades por porta. Puxadores inteiramente metálicos, de liga não-ferrosa. Fechadura de tambor cilíndrico com uma duplicata da chave. Partes metálicas devem receber pré-tratamento antiferruginoso e acabamento em pintura eletrostática epóxi-pó em cor a ser definida. | D17: unidade | E17: 629233 | F17: - | G17: 7 | H17: 2 | I17: 986 | J17: =SUM(G17:I17) -> 995 | K17: 1050.37 | L17: =J17*ROUND(K17,2) -> 1045118.1 | M17: - | N17: NÃO | O17: Aberto | P17: =VLOOKUP(K17, Intervalos!$B$3:$C$8,2,TRUE) -> 0,10%
... A21: - | B21: 16 | C21: Armário em aço com duas portas LxPxH: 90x45x185cm na cor cinza com portas na cor a definir, totalmente confeccionada em chapa de aço com pré-tratamento antiferruginoso e pintura eletrostática epóxi-pó. Deverá possuir 02 (duas) portas, uma com trincos internos (superior e inferior) e outra com fechadura com chave e cópia, as portas deverão possuir dobras enroladas e reforço do tipo cartola garantindo assim maior resistência ao conjunto e também sistema de ventilação dos compartimentos. 03 (três) prateleiras com sistema de fixação por encaixe. 02 (duas) gavetas para pastas suspensas com sistema de deslizamento por corrediças telescópicas e puxador estampado na própria gaveta. Prateleiras, portas, fundo e laterais confeccionadas em chapa de aço com espessura de 0,65mm, rodapé e reforço interno em chapa de aço com espessura de 1,25mm. Sapatas para nivelamento. Dimensões aproximadas (LAP): 90x185x45cm. | D21: unidade | E21: 458662 | F21: - | G21: 4 | H21: 0 | I21: 0 | J21: =SUM(G21:I21) -> 4 | K21: 1506.33 | L21: =J21*ROUND(K21,2) -> 6025.32 | M21: - | N21: SIM | O21: Aberto | P21: =VLOOKUP(K21, Intervalos!$B$3:$C$8,2,TRUE) -> 0,10%
A22: - | B22: 17 | C22: Armário guarda-volumes triplo com 15 portas. Dimensões aproximadas: 105 x 45 x 185cm (LxPxH). Estrutura em aço galvanizado, tratamento anti-corrosivo e fosfatizante, pintura eletrostática a pó, quadro frontal, 15 portas, abertura da porta LxH: 29,5x30,6cm, fechamento triplo (com chave e pitão), cabide barra. Cor: Estrutura: Cinza, Porta: Azul Royal. Garantia de cinco anos. Referência: Linha Multi-Biccateca BC3335. | D22: unidade | E22: 458662 | F22: - | G22: =39-3 -> 36 | H22: 1 | I22: 0 | J22: =SUM(G22:I22) -> 37 | K22: 3008.45 | L22: =J22*ROUND(K22,2) -> 111312.65 | M22: - | N22: NÃO | O22: Aberto | P22: =VLOOKUP(K22, Intervalos!$B$3:$C$8,2,TRUE) -> 0,10%
A23: - | B23: 18 | C23: Arquivo frontal de aço para pasta suspensa com 04 gavetas LxPxH: 45x70x135cm. Gavetas com corrediças metálicas sobre trilhos telescópicos com abertura total. Puxadores inteiramente metálicos, de liga não-ferrosa. Fechadura de tambor cilíndrico com sistema de travamento simultâneo das gavetas. Chaves com 01 duplicata. Porta-etiquetas estampado ou sobreposto, sendo este último exclusivamente de liga metálica não ferrosa. Elementos em aço com pré-tratamento antiferruginoso e pintura eletrostática epóxi-pó | D23: unidade | E23: 275191 | F23: - | G23: 2 | H23: 0 | I23: 0 | J23: =SUM(G23:I23) -> 2 | K23: 1761.33 | L23: =J23*ROUND(K23,2) -> 3522.66 | M23: - | N23: SIM | O23: Aberto | P23: =VLOOKUP(K23, Intervalos!$B$3:$C$8,2,TRUE) -> 0,10%
A24: - | B24: 19 | C24: Balcão de atendimento reto acessível LxPxH: 240-260x85x75,5-110cm em MDF com espaço para 02 postos de trabalho e duas alturas. Largura total variando de 240cm a 260cm e profundidade total de 80cm. O balcão deve possuir duas alturas, sendo de 75,5cm na parte de menor altura e de 110cm na parte de maior altura. Medidas dos balcões consideradas a partir do topo dos tampos. Na parte do balcão onde estiver localizado o tampo de maior altura deverá ter também, internamente, a continuidade do tampo de menor altura de forma que este sirva de bancada para os dois postos de trabalho. Essa bancada deve possuir passa-fios e calha central para fiação.O tampo localizado a 75,5 cm do chão deve possuir 80cm de profundidade e largura podendo variar de 240 a 260cm, fixado sobre a estrutura, painéis laterais e central. Este tampo possui em seu canto mais lateral e frontal forma arredondada com raio de 15cm. O tampo localizado a 110cm do chão deve possuir 30cm de profundidade acompanhando a largura do painel frontal no qual estará fixado. Os tampos devem estar apoiados sobre elementos estruturais, deixando livre 5cm de balanço na parte frontal para aproximação. O painel frontal da parte do balcão de maior altura deve possuir com 107,5 cm de altura na parte de maior altura, com largura podendo variar entre 120 e 160cm. O painel frontal da parte de menor altura deve estar localizado a 47,5cm do chão, possuir 25cm de altura e estar recuado 25cm em relação ao painel frontal do painel frontal do da parte do balcão de maior altura. Ambas laterais do balcão devem ser vedadas, em MDF, tendo a lateral da parte do balcão de maior altura um acréscimo, acima do tampo de menor altura para vedar a parte inferior ao tampo de maior altura. Painel central, alinhado com o fim do tampo superior, no qual será apoiado o tampo de menor altura, tendo 80cm de profundidade e 73cm de altura. Todos os MDF devem ser revestidos com laminado de alta pressão em ambas as faces com superfície opaca, texturizada e com acabamento de todas as bordas em fita de PVC, colada a quente pelo sistema hot-melt, com raio mínimo de 2,5 mm em todo seu perímetro, na mesma cor do revestimento das faces. Os tampos e elementos em MDF que possuírem função estrutural devem possuir no mínimo 25mm de espessura e demais elementos no mínimo 18mm de espessura. Cor a definir. Estrutura em aço carbono SAE 1010/1020 com quatro apoios reguláveis no piso em polipropileno ou nylon injetado. A área do balcão acessível deve possuir largura mínima de 90cm e altura entre 75 a 85cm, assegurando-se largura livre mínima sob a superfície de 80cm. O balcão deve ser acessível tanto para o posto de trabalho quanto para o usuário a ser atendido. Devem ser asseguradas altura livre sob o tampo de no mínimo 73cm e profundidade de 30cm para aproximação frontal de pessoa com cadeira de rodas. | D24: unidade | E24: 619547 | F24: CTF/APP: FTE - Categoria: Indústria da Madeira; Código: 7 | G24: 2 | H24: 0 | I24: 0 | J24: =SUM(G24:I24) -> 2 | K24: 1915.76 | L24: =J24*ROUND(K24,2) -> 3831.52 | M24: - | N24: SIM | O24: Aberto | P24: =VLOOKUP(K24, Intervalos!$B$3:$C$8,2,TRUE) -> 0,10%
A25: - | B25: 20 | C25: Bancada para laboratório de informática LxPxH: 180x90x75cm, para monitor de LCD. Revestido em BP texturizado nas 02 faces, fosco, cor a definir, em MDF de 25 mm. O acabamento da borda frontal deve ser arredondado com raio mínimo de 2,5mm. Estrutura confeccionada em aço carbono com quatro apoios reguláveis no piso em polipropileno ou nylon injetado. Elementos em aço com pré-tratamento antiferruginoso e pintura eletrostática epóxi-pó. Cor a definir. | D25: unidade | E25: 480179 | F25: CTF/APP: FTE - Categoria: Indústria da Madeira; Código: 7 | G25: 7 | H25: 5 | I25: 339 | J25: =SUM(G25:I25) -> 351 | K25: 753.71 | L25: =J25*ROUND(K25,2) -> 264552.21 | M25: - | N25: NÃO | O25: Aberto | P25: =VLOOKUP(K25, Intervalos!$B$3:$C$8,2,TRUE) -> 0,10%
A26: - | B26: 21 | C26: Banco de jardim de madeira plástica LxPxH: 200x40-45cm. Banco com largura de 200cm e altura e profundidade do assento entre 40 e 45cm. Ângulo do encosto em relação ao assento entre 100° e 110°. Deve suportar carga mínima de 250kg. Garantia mínima de 5 anos. | D26: unidade | E26: 603286 | F26: - | G26: 22 | H26: 7 | I26: 0 | J26: =SUM(G26:I26) -> 29 | K26: 1566.39 | L26: =J26*ROUND(K26,2) -> 45425.31 | M26: - | N26: SIM | O26: Aberto | P26: =VLOOKUP(K26, Intervalos!$B$3:$C$8,2,TRUE) -> 0,10%
A27: - | B27: 22 | C27: Banco de madeira para jardim LxP:150x45-50cm com 13 ripas de madeira e estrutura em aço cavalinho. Altura do assento e profundidade entre 40 e 45cm. Ângulo do encosto em relação ao assento entre 100º a 110º. Cor do verniz das ripas a definir. | D27: unidade | E27: 603374 | F27: CTF/APP: FTE - Categoria: Indústria da Madeira; Código: 7 | G27: 20 | H27: 5 | I27: 0 | J27: =SUM(G27:I27) -> 25 | K27: 816 | L27: =J27*ROUND(K27,2) -> 20400 | M27: - | N27: SIM | O27: Aberto | P27: =VLOOKUP(K27, Intervalos!$B$3:$C$8,2,TRUE) -> 0,10%
A28: - | B28: 23 | C28: Banco para laboratório em aço inox com assento redondo. Estrutura tubular em aço, com altura de 65cm, pés tubulares, com aro para apoio dos pés. Assento: dimensões entre 30 e 53cm de diâmetro, sem encosto e sem braços. Acabamento: polido espelhado. Capacidade para suportar no mínimo 120Kg. | D28: unidade | E28: 621401 | F28: - | G28: =77-6 -> 71 | H28: 10 | I28: 0 | J28: =SUM(G28:I28) -> 81 | K28: 448 | L28: =J28*ROUND(K28,2) -> 36288 | M28: - | N28: SIM | O28: Aberto | P28: =VLOOKUP(K28, Intervalos!$B$3:$C$8,2,TRUE) -> 0,10%
A29: - | B29: 24 | C29: Cadeira alta giratória estofada com rodízios. Espaldar pequeno, sem braços, com assento e encosto em compensado laminado de alta qualidade, em múltiplas lâminas com tratamento imunizante de 15 mm de espessura, prensada a quente, moldada anatomicamente, com alma de aço fixada ao assento. Estofamento em espuma injetada em poliuretano de alta resistência, densidade média de 55 kg/m moldada anatomicamente, com apoio lombar, bordas arredondadas e sem grampos aparentes com seu contorno em perfil de abs do tipo macho e fêmea. Espessura média da espuma 70mm. Revestimento em couro sintético com cor a definir. Ajuste da altura do encosto. Coluna com sistema de regulagem de altura (altura mínima de 64 cm e altura máxima entre 73 e 76 cm), através de pistão a gás (hidropneumático). Ajuste lombar. Coluna alta com apoia-pés regulável, contornando todo o alojamento do pistão. Base giratória com 5 hastes/patas sustentadas por rodízios em poliuretano. Medidas mínimas: assento: largura 40 cm e profundidade 38 cm; encosto: largura 30,5 cm. Capacidade para suportar no mínimo 120 kg. Garantia de 5 anos. | D29: unidade | E29: 629806 | F29: - | G29: 22 | H29: 0 | I29: 0 | J29: =SUM(G29:I29) -> 22 | K29: 465.37 | L29: =J29*ROUND(K29,2) -> 10238.14 | M29: - | N29: SIM | O29: Aberto | P29: =VLOOKUP(K29, Intervalos!$B$3:$C$8,2,TRUE) -> 0,10%
A30: - | B30: 25 | C30: Cadeira de plástico sem braços LxP:43x43cm (+/- 2cm). Cadeira fabricada em plástico polipropileno, na cor branca. Dimensões mínimas: Largura do assento: 34 cm x Altura do assento até o chão: 38 cm. Classe B. Capacidade para suportar até 182Kg. Uso irrestrito: para qualquer tipo de ambiente, de uso interno e externo. Deve apresentar certificação Inmetro em atendimento aos Requisitos de Avaliação da Conformidade com base na Portaria n.º 166 de 14/04/2021. | D30: unidade | E30: 287945 | F30: - | G30: 113 | H30: 500 | I30: 0 | J30: =SUM(G30:I30) -> 613 | K30: 64.26 | L30: =J30*ROUND(K30,2) -> 39391.38 | M30: - | N30: SIM | O30: Aberto | P30: =VLOOKUP(K30, Intervalos!$B$3:$C$8,2,TRUE) -> 0.1
A31: - | B31: 26 | C31: Cadeira diretor giratória estofada com espaldar em tela, com rodízios e apoio de braços. Assento: interno em compensado multilâminas de madeira moldada anatomicamente a quente. Espuma em poliuretano flexível HR, com densidade mínima de 50kg/m³ e moldada anatomicamente com espessura mínima de 50mm. Capa de proteção e acabamento em polipropileno texturizado e borda frontal arredondada, que dispensam o uso do perfil de PVC. Revestimento em couro sintético ou poliéster na cor a ser definida. Dimensões do assento: Profundidade mínima de 47cm e máxima de 50cm, largura mínima de 48cm e máxima de 58cm. Regulagem de altura a gás, com variação mínima do curso de 100mm, coluna classe 4. Encosto: em tela conformado anatomicamente na cor a ser definida. Dimensões do encosto: Altura mínima de 46cm e máxima de 56cm, largura mínima de 45cm e máxima de 58cm. Suporte do encosto com mecanismo regulável de inclinação e travamento. Braços (ou apoia-braços): em poliuretano, texturizado. Suporte regulável, injetado em termoplástico composto texturizado e alma de aço estrutural. Deve possuir regulagem vertical com no mínimo 3 estágios e curso mínimo de 5,5cm. Dimensões: Comprimento mínimo de 21cm e máximo de 27cm, largura mínima de 6cm e máxima de 9cm. Base equipada com cinco patas confeccionadas em nylon. Acabamento texturizado, totalmente em aço. Rodízios duplos com duplo giro com rodas de 5cm de diâmetro em nylon 6. Eixo horizontal em aço trefilado 1010/1020 com diâmetro de 8mm. Pintura: as partes metálicas devem possuir acabamento em pintura eletrostática em epóxi na cor a ser definida com pré-tratamento antiferruginoso. Deve possuir movimento sincronizado entre o encosto e o assento com proporção de deslocamento de aproximadamente 2:1 respectivamente com possibilidade de travamento em no mínimo quatro posições ou desarticulado entre o encosto e o assento com inclinação do encosto variando entre 85º e 120º, por meio de alavanca posicionada na parte inferior do assento e sistema anti-impacto que impede o choque deste com o usuário ao ser desbloqueado. Garantia de cinco anos. Capacidade para suportar no mínimo 120 kg. | D31: unidade | E31: 629805 | F31: - | G31: 94 | H31: 8 | I31: 1473 | J31: =SUM(G31:I31) -> 1575 | K31: 773.7 | L31: =J31*ROUND(K31,2) -> 1218577.5 | M31: - | N31: NÃO | O31: Aberto | P31: =VLOOKUP(K31, Intervalos!$B$3:$C$8,2,TRUE) -> 0,10%
A32: - | B32: 27 | C32: Cadeira fixa com encosto em aço inox - Cadeira com encosto possui assento e encosto retangular, pés tubulares resistentes, próprio para utilização em ambientes como "área limpa" por seu material em aço inoxidável, e ser usados ainda em clinicas, laboratórios e hospitais. Características: Com altura total de 90cm: Altura do chão até o assento: 77cm Tamanho do encosto 30cm x 15cm Tamanho do acento: 30 cm x 40cm Acabamento: Polido Espelhado. Modelo de Referência: BEINOX Marca THERJ. | D32: unidade | E32: 340244 | F32: - | G32: 15 | H32: 5 | I32: 0 | J32: =SUM(G32:I32) -> 20 | K32: 1029.33 | L32: =J32*ROUND(K32,2) -> 20586.6 | M32: - | N32: SIM | O32: Aberto | P32: =VLOOKUP(K32, Intervalos!$B$3:$C$8,2,TRUE) -> 0,10%
A33: - | B33: 28 | C33: Cadeira fixa em couro sintético empilhável sem braços. Base metálica. Medidas: altura do assento entre 40-46cm. Assento: largura mínima 41cm x profundidade mínima 46cm. Encosto: altura mínima 36cm x largura mínima 31cm. Cor a definir. Garantia mínima de 5 anos. Capacidade para suportar no mínimo 120kg. | D33: unidade | E33: 468762 | F33: - | G33: 113 | H33: 6 | I33: 0 | J33: =SUM(G33:I33) -> 119 | K33: 298 | L33: =J33*ROUND(K33,2) -> 35462 | M33: - | N33: SIM | O33: Aberto | P33: =VLOOKUP(K33, Intervalos!$B$3:$C$8,2,TRUE) -> 0,10%
A34: - | B34: 29 | C34: Cadeira fixa em polipropileno empilhável sem braços. Encosto: Fundido em polipropileno com alta pressão, aditivado. Deve possuir respiradores quadrados medindo aproximadamente 10x10 mm, na quantidade de 08 (oito) por fileira, e possuindo no mínimo 04 (quatro) fileiras. Distância entre os furos de no mínimo 40 mm. Moldado em contorno vertebral com encaixes retangulares na estrutura, travamento com pino tampão no mesmo polipropileno aditivado. Medidas mínimas: largura 460 mm, altura 250 mm no eixo central da sua curvatura e espessura de 5 mm. Assento: Fundido em polipropileno com alta pressão, aditivado. Deve possuir respiradores quadrados medindo aproximadamente 10x10 mm, na quantidade de 08 (oito) por fileira, e possuindo no mínimo 01 (uma) fileira. Distância entre os furos de no mínimo 40 mm. Moldados com contornos ergonômicos. Fixado na estrutura através de presilhas já fundidas no próprio assento, além da fixação com parafusos e rebites. Medidas mínimas: largura 460 mm e 410 mm de profundidade e espessura de 5 mm. Estrutura: 04 pés, confeccionadas em tubos de secção oblonga 16x30 em chapa de aço #16 (1,50 mm) é em chapa de aço #18 (1,20 mm). Tubo para sustentação do encosto recebe, na dobra, um reforço de tubo de secção circular ½ em chapa de aço #18 (1,20 mm). Peças soldados pelo processo MIG. Acabamentos dos tubos de aço com ponteira interna. Deve ser dotada de mecanismo de união com outras cadeiras. Capacidade para suportar no mínimo 120 kg. | D34: unidade | E34: 288544 | F34: - | G34: =644-29 -> 615 | H34: 12 | I34: 0 | J34: =SUM(G34:I34) -> 627 | K34: 225.67 | L34: =J34*ROUND(K34,2) -> 141495.09 | M34: - | N34: NÃO | O34: Aberto | P34: =VLOOKUP(K34, Intervalos!$B$3:$C$8,2,TRUE) -> 0,10%
A35: - | B35: 30 | C35: Cadeira fixa estofada para Pessoa Obesa sem braço LxP:75x56cm. Profundidade do assento mínima de 47cm e máxima de 51cm, medida entre a sua parte frontal e o ponto mais frontal do encosto tomado no eixo de simetria; largura do assento mínima de 75cm, medida entre as bordas laterais no terço mais próximo do encosto. Altura do assento mínima de 41cm e máxima de 45 cm, medida na sua parte mais alta e frontal; ângulo de inclinação do assento em relação ao plano horizontal, de 2° a 5°; ângulo entre assento e encosto de 100° a 105°. Madeira anatômica em compensado laminado de alta qualidade, em múltiplas lâminas com tratamento imunizante de 15 mm de espessura, prensada a quente, e, com alma de aço fixada ao assento. Estofamento em espuma injetada em poliuretano de alta resistência, densidade média de 55 kg/m moldada anatomicamente, com apoio lombar, bordas arredondadas e sem grampos. Espessura mínima da espuma 50mm. Cor a definir. Os assentos devem suportar uma carga de 250 kg. Garantia de cinco anos. | D35: unidade | E35: 469126 | F35: - | G35: 27 | H35: 2 | I35: 0 | J35: =SUM(G35:I35) -> 29 | K35: 1485.75 | L35: =J35*ROUND(K35,2) -> 43086.75 | M35: - | N35: SIM | O35: Aberto | P35: =VLOOKUP(K35, Intervalos!$B$3:$C$8,2,TRUE) -> 0,10%
A36: - | B36: 31 | C36: Cadeira giratória estofada com espaldar alto e apoia-braços em couro sintético com rodízios. Assento: interno em compensado multilâminas de madeira moldada anatomicamente a quente. Espuma em poliuretano flexível HR,com densidade mínima de 50kg/m³ e moldada anatomicamente com espessura mínima de 50mm. Capa de proteção e acabamento em polipropileno texturizado e borda frontal arredondada, que dispensam o uso do perfil de PVC. Revestimento em couro sintético ou poliéster na cor a ser definida. Dimensões do assento: Profundidade mínima de 47cm e máxima de 50cm, largura mínima de 48cm e máxima de 58cm. Regulagem de altura a gás, com variação mínima do curso de 100mm, coluna classe 4. Encosto: interno em polipropileno, conformado anatomicamente. Espuma em poliuretano flexível HR com densidade mínima de 45kg/m³ e moldada anatomicamente e espessura mínima de 40mm. Revestimento em couro sintético na cor a ser definida. Dimensões do encosto: Altura mínima de 70cm e máxima de 78cm, largura mínima de 48cm e máxima de 58cm. Suporte do encosto com mecanismo regulável de inclinação e travamento. Braços (ou apoia-braços): em poliuretano, texturizado. Suporte regulável, injetado em termoplástico composto texturizado e alma de aço estrutural. Deve possuir regulagem vertical com no mínimo 3 estágios e curso mínimo de 5,5cm. Dimensões: Comprimento mínimo de 23cm e máximo de 27cm, largura mínima de 6cm e máxima de 9cm. Base equipada com cinco patas confeccionadas em nylon. Acabamento texturizado, totalmente em aço. Rodízios duplos com duplo giro com rodas de 5cm de diâmetro em nylon 6. Eixo horizontal em aço trefilado 1010/1020 com diâmetro de 8mm. Pintura: as partes metálicas devem possuir acabamento em pintura eletrostática em epóxi na cor a ser definida com pré-tratamento antiferruginoso. Deve possuir movimento sincronizado entre o encosto e o assento com proporção de deslocamento de aproximadamente 2:1 respectivamente com possibilidade de travamento em no mínimo quatro posições ou desarticulado entre o encosto e o assento com inclinação do encosto variando entre 85º e 120º, por meio de alavanca posicionada na parte inferior do assento e sistema anti-impacto que impede o choque deste com o usuário ao ser desbloqueado. Garantia de cinco anos. Capacidade para suportar no mínimo 120 kg. | D36: unidade | E36: 390178 | F36: - | G36: =218-14 -> 204 | H36: 16 | I36: 2447 | J36: =SUM(G36:I36) -> 2667 | K36: 805.67 | L36: =J36*ROUND(K36,2) -> 2148721.9 | M36: - | N36: NÃO | O36: Aberto | P36: =VLOOKUP(K36, Intervalos!$B$3:$C$8,2,TRUE) -> 0,10%
A37: - | B37: 32 | C37: Cadeira giratória estofada com espaldar médio e apoia-braços com rodízios em couro sintético. Assento: interno em compensado multilâminas de madeira moldada anatomicamente.. Espuma em poliuretano flexível HR, com densidade mínima de 50kg/mġ e moldada anatomicamente com espessura mínima de 50mm. Capa de acabamento em polipropileno texturizado e borda frontal arredondada, que dispensam o uso do perfil de PVC. Revestimento em couro sintético na cor a ser definida. Regulagem da profundidade do assento com variação de 50mm em no mínimo quatro posições, sem que o usuário precise levantar-se da cadeira. Dimensões do assento: 48x47cm. Regulagem de altura a gás, com variação mínima do curso de 100mm, coluna classe 4. Encosto: interno em polipropileno, conformado anatomicamente. Espuma em poliuretano flexível HR, com densidade mínima de 45kg/mġ e moldada anatomicamente e espessura mínima de 40mm. Revestimento em couro sintético na cor a ser definida.- Dimensões do encosto: 47x51cm. Suporte do encosto com regulagem de altura. Braços (ou apoia-braços): em poliuretano texturizado. Suporte regulável, injetado em termoplástico composto texturizado e alma de aço estrutural. Deve possuir regulagem vertical com no mínimo 7 estágios e curso mínimo de 5,5cm, e regulagem para distância interna entre os braços. Dimensões: Comprimento mínimo de 20cm e máximo de 25cm, largura mínima de 4cm e máxima de 9cm. Base equipada com cinco patas confeccionadas em nylon. Acabamento texturizado, totalmente em aço. Rodízios duplos com duplo giro com rodas de 5cm de diâmetro em nylon 6. Eixo horizontal em aço trefilado 1010/1020 com diâmetro de 8mm. As partes metálicas devem possuir acabamento em pintura eletrostática em epóxi na cor a ser definida com pré-tratamento antiferruginoso. Deve possuir movimento sincronizado entre o encosto e o assento com proporção de deslocamento de aproximadamente 2:1 respectivamente com possibilidade de travamento em no mínimo quatro posições ou desarticulado entre o encosto e o assento com inclinação do encosto variando entre 85º e 120º, por meio de alavanca posicionada na parte inferior do assento e sistema anti-impacto que impede o choque deste com o usuário ao ser desbloqueado. Garantia de cinco anos. Capacidade para suportar no mínimo 120 kg. | D37: unidade | E37: 629806 | F37: - | G37: =854-71-50 -> 733 | H37: 4 | I37: 0 | J37: =SUM(G37:I37) -> 737 | K37: 600 | L37: =J37*ROUND(K37,2) -> 442200 | M37: - | N37: NÃO | O37: Aberto | P37: =VLOOKUP(K37, Intervalos!$B$3:$C$8,2,TRUE) -> 0,10%
A38: - | B38: 33 | C38: Cadeira giratória para Pessoa Obesa com rodízios LxP:85x56cm. Em couro sintético (cor a definir). Itens básicos: rodízio, apoio para braços, encosto, regulagem de altura do assento, do encosto e do apoio para braços. Assento em madeira anatômica em compensado laminado de alta qualidade, em múltiplas lâminas com tratamento imunizante de no mín. 15 mm de espessura, prensada a quente e com alma de aço fixada ao assento. Estofamento em espuma injetada em poliuretano de alta resistência e alta densidade moldada anatomicamente, com apoio lombar, bordas arredondadas e sem grampos. Espessura mínima da espuma 50mm. Dimensões: Profundidade mínima de 47cm e máxima de 51cm, medida entre a sua parte frontal e o ponto mais frontal do encosto tomado no eixo de simetria; largura mínima de 75 cm, medida entre as bordas laterais no terço mais próximo do encosto. Altura do assento mínima de 41cm e máxima de 45cm, medida na sua parte mais alta e frontal; ângulo de inclinação do assento em relação ao plano horizontal, de 2° a 5°; ângulo entre assento e encosto de 100° a 105°. Regulagem da profundidade do assento. Regulagem de altura a gás. Encosto: interno em polipropileno injetado estrutural de grande resistência mecânica, conformado anatomicamente. Espuma em poliuretano flexível HR, isenta de CFC, alta resistência a propagação de rasgo, baixa deformação permanente, com densidade mínima de 45kg/mġ e moldada anatomicamente com saliência para apoio lombar e espessura mínima de 40mm. Revestimento em couro sintético na cor a ser definida. Suporte do encosto com regulagem de altura. Braços (ou apoia-braços): suporte regulável, injetado em termoplástico composto texturizado e alma de aço estrutural. Deve possuir regulagem vertical com no mínimo 7 estágios e curso mínimo de 5,5cm, e regulagem para distância interna entre os braços. Altura em relação ao assento: mínimo de 23cm, máximo de 27cm. Base: equipada com cinco patas confeccionadas em nylon. Acabamento texturizado, totalmente em aço. Rodízios duplos com duplo giro. As partes metálicas devem possuir pré-tratamento antiferruginoso e acabamento em pintura eletrostática epóxi-pó na cor a ser definida. Os assentos devem suportar uma carga mín. de 250 kg. Garantia de cinco anos. | D38: unidade | E38: 305422 | F38: - | G38: =63-8 -> 55 | H38: 2 | I38: 0 | J38: =SUM(G38:I38) -> 57 | K38: 2429.99 | L38: =J38*ROUND(K38,2) -> 138509.43 | M38: - | N38: NÃO | O38: Aberto | P38: =VLOOKUP(K38, Intervalos!$B$3:$C$8,2,TRUE) -> 0,10%
A39: - | B39: 34 | C39: Carrinho anatômico para transporte de livros LxPxH:58X75X126cm. Deve conter 04 rodízios giratórios e braços laterais, 3 prateleiras e laterais em aço. | D39: unidade | E39: 486437 | F39: - | G39: =30-4 -> 26 | H39: 2 | I39: 0 | J39: =SUM(G39:I39) -> 28 | K39: 1607.85 | L39: =J39*ROUND(K39,2) -> 45019.8 | M39: - | N39: SIM | O39: Aberto | P39: =VLOOKUP(K39, Intervalos!$B$3:$C$8,2,TRUE) -> 0,10%
A40: - | B40: 35 | C40: Carteira universitária em polipropileno com prancheta escamoteável frontal. Padrão dimensional 6. Deve possuir porta-livros abaixo do assento. Prancheta com dimensões mínimas de LxP: 42x29,7cm, superfície de cor clara e acabamento fosco. A altura da prancheta ao chão na região de apoio do cotovelo deve ser de aproximadamente 685 mm e a mesma deve permitir inclinação em torno de 10° com o plano horizontal. Assento com largura mínima 38cm e profundidade mínima de 39cm e encosto com largura mínima 33cm e altura mínima de 34cm, ambos em polipropileno moldado anatomicamente com espessura mínima de 4mm. A estrutura deve ser fabricada em aço 1010/1020. Todas as peças da estrutura metálica devem ser unidas por solda MIG, passar por pré-tratamento antiferruginoso com acabamento em pintura eletrostática epóxi-pó, todas as pontas dos tubos devem ter acabamento com bucha plástica. Capacidade para suportar no mínimo 120Kg. No ato do empenho poderá ser solicitada cadeira para canhoto. Cor do polipropileno a definir. Garantia mínima de 5 anos. | D40: unidade | E40: 623611 | F40: - | G40: =638-78-20 -> 540 | H40: 100 | I40: 0 | J40: =SUM(G40:I40) -> 640 | K40: 310.52 | L40: =J40*ROUND(K40,2) -> 198732.8 | M40: - | N40: NÃO | O40: Aberto | P40: =VLOOKUP(K40, Intervalos!$B$3:$C$8,2,TRUE) -> 0,10%
A41: - | B41: 36 | C41: Carteira universitária em polipropileno com prancheta escamoteável lateral. Padrão dimensional 6. Deve possuir porta-livros abaixo do assento. Prancheta com dimensões mínimas de LxP: 21x29,7cm, superfície de cor clara e acabamento fosco. A altura da prancheta ao chão na região de apoio do cotovelo deve ser de aproximadamente 685 mm e a mesma deve permitir inclinação em torno de 10° com o plano horizontal. Assento com largura mínima 38cm e profundidade mínima de 39cm e encosto com largura mínima 33cm e altura mínima de 34cm, ambos em polipropileno moldado anatomicamente com espessura mínima de 4mm. A estrutura deve ser fabricada em aço 1010/1020. Todas as peças da estrutura metálica devem ser unidas por solda MIG, passar por pré-tratamento antiferruginoso com acabamento em pintura eletrostática epóxi-pó, todas as pontas dos tubos devem ter acabamento com bucha plástica. Capacidade para suportar no mínimo 120Kg. No ato do empenho poderá ser solicitada cadeira para canhoto. Cor do polipropileno a definir. Garantia mínima de 5 anos. | D41: unidade | E41: 623611 | F41: - | G41: =750-100-20 -> 630 | H41: 20 | I41: 0 | J41: =SUM(G41:I41) -> 650 | K41: 375.5 | L41: =J41*ROUND(K41,2) -> 244075 | M41: - | N41: NÃO | O41: Aberto | P41: =VLOOKUP(K41, Intervalos!$B$3:$C$8,2,TRUE) -> 0,10%
A42: - | B42: 37 | C42: Carteira universitária em polipropileno com prancheta lateral fixa. Padrão dimensional 6. Prancheta lateral fixa acoplada à estrutura. Composta por estrutura metálica, assento, encosto, porta-livros e prancheta em cor a definir. Prancheta em ABS injetado com contra-tampo também injetado em Polipropileno nas dimensões de no mínimo 50cm de comprimento por 25cm de largura. A altura da prancheta ao chão na região de apoio do cotovelo deve ser de aproximadamente 685 mm e a mesma deve possuir uma inclinação em torno de 10° com o plano horizontal. O assento deve ser confeccionado em polipropileno e moldado anatomicamente com acabamento texturizado. Suas dimensões aproximadas devem ser 465mm de largura, 420mm de profundidade com 5mm de espessura de parede. Deve possuir cantos arredondados e unir-se à estrutura por meio de parafusos para plástico. A altura do assento até o chão deve ser de 460 mm aproximadamente. O encosto deve ser fabricado em polipropileno e moldado anatomicamente com acabamento texturizado, com dimensões aproximadas de 460mm de largura por 330mm de altura, com espessura de parede de 5mm e cantos arredondados O encosto deve possuir furos para ventilação. . A estrutura deve ser fabricada em aço 1010/1020. Todas as peças da estrutura metálica devem ser unidas por solda MIG, passar por pré-tratamento antiferruginoso com acabamento em pintura eletrostática epóxi-pó, todas as pontas dos tubos devem ter acabamento com bucha plástica. Capacidade para suportar no mínimo 120 kg. No ato do empenho poderá ser solicitada cadeira para canhoto. Garantia mínima de 5 anos. | D42: unidade | E42: 627414 | F42: - | G42: =1800-350-10 -> 1440 | H42: 0 | I42: 0 | J42: =SUM(G42:I42) -> 1440 | K42: 229.63 | L42: =J42*ROUND(K42,2) -> 330667.2 | M42: - | N42: NÃO | O42: Aberto | P42: =VLOOKUP(K42, Intervalos!$B$3:$C$8,2,TRUE) -> 0,10%
A43: - | B43: 38 | C43: Carteira universitária estofada com prancheta escamoteável lateral. Padrão dimensional 6. Cadeira com espaldar médio, com estrutura universitária palito, braço corsa P.U. com prancheta escamoteável/basculante e porta livros, estofamento revestido com couro sintético de cor a definir. Assento e encosto anatômico com espuma injetada, de madeira compensada multilaminado, moldado a quente com espessura de 10 mm, espuma injetada anatômica com densidade controlada de 50 a 60 Kg/m3, contra encosto forrado com vinil, bordas do assento e encosto protegidas por PVC, estrutura 4 pés em aço com braço corsa em P.U. para prancheta escamoteável. Prancheta em BP com espessura mín. de 15 mm com bordas com fita retas, superfície de cor clara e acabamento fosco; largura mínima do tampo de 21cm e profundidade mínima de 29,7cm. Medidas: Assento: largura mínima 38cm. Encosto: largura mínima 33cm. Capacidade para suportar no mínimo 120Kg. No ato do empenho poderá ser solicitada cadeira para canhoto. Garantia mínima de 5 anos. | D43: unidade | E43: 232339 | F43: - | G43: =175-35 -> 140 | H43: 0 | I43: 0 | J43: =SUM(G43:I43) -> 140 | K43: 779.51 | L43: =J43*ROUND(K43,2) -> 109131.4 | M43: - | N43: NÃO | O43: Aberto | P43: =VLOOKUP(K43, Intervalos!$B$3:$C$8,2,TRUE) -> 0,10%
A44: - | B44: 39 | C44: Cavalete flip-chart com quadro branco LxH:70X175cm. Pernas retráteis com estrutura de aço com acabamento em pintura eletrostática de alumínio, visando adaptação ao solo e regulagem de altura. Tela em MDF com acabamento UV para uso como quadro branco de medidas aproximadas de altura x largura de 100x70cm, com suporte para apagador e caneta, e com fixação para bloco de flip-chart com 50 folhas. Medidas aproximadas: A x L 175 x 68cm. | D44: unidade | E44: 444245 | F44: - | G44: 10 | H44: 3 | I44: 0 | J44: =SUM(G44:I44) -> 13 | K44: 222.72 | L44: =J44*ROUND(K44,2) -> 2895.36 | M44: - | N44: SIM | O44: Aberto | P44: =VLOOKUP(K44, Intervalos!$B$3:$C$8,2,TRUE) -> 0,10%
A45: - | B45: 40 | C45: Claviculário 100 chaves LxPxH:52X9X40cm. Com chaveiros e suportes numerados, e índice para identificação de cada chaveiro; fechaduras com duas chaves; corpo e portas em aço; com pintura epóxi na cor cinza; Capacidade: 100 chaves; Peso liq. aproximado do produto: 5,520kg | D45: unidade | E45: 259533 | F45: - | G45: 10 | H45: 5 | I45: 0 | J45: =SUM(G45:I45) -> 15 | K45: 706.94 | L45: =J45*ROUND(K45,2) -> 10604.1 | M45: - | N45: SIM | O45: Aberto | P45: =VLOOKUP(K45, Intervalos!$B$3:$C$8,2,TRUE) -> 0,10%
A46: - | B46: 41 | C46: Claviculário com capacidade para 30 chaves. Dimensões aproximadas 17cmx30cmx7cm (LxAXP) com variações em +/- 20%. Corpo e porta em aço. Fechadura tipo yale e duas chaves. Com chaveiros e suportes numerados e com índice de identificação para cada chaveiro. Pintura eletrostática em epóxi. Cor a definir. Garantia: 1 ano. | D46: unidade | E46: 245681 | F46: - | G46: 4 | H46: 5 | I46: 131 | J46: =SUM(G46:I46) -> 140 | K46: 315.67 | L46: =J46*ROUND(K46,2) -> 44193.8 | M46: - | N46: SIM | O46: Aberto | P46: =VLOOKUP(K46, Intervalos!$B$3:$C$8,2,TRUE) -> 0,10%
A47: - | B47: 42 | C47: Encosto/Apoio de cadeira para lombar. Composição: Fios de ferro, Nylon e Polipropileno. Com sistema de ajustes. Dimensões aproximadas (AxLxP) 44cmx39cmx10cm. Cor a definir. Garantia: 1 ano. | D47: unidade | E47: 234164 | F47: - | G47: 37 | H47: 12 | I47: 0 | J47: =SUM(G47:I47) -> 49 | K47: 44 | L47: =J47*ROUND(K47,2) -> 2156 | M47: - | N47: SIM | O47: Aberto | P47: =VLOOKUP(K47, Intervalos!$B$3:$C$8,2,TRUE) -> 0.05
A48: - | B48: 43 | C48: Estação de trabalho dupla LxPxH: 140x140x75cm. Tampo em MDP com 25 mm de espessura, revestida em laminado melamínico de baixa pressão (BP) fosco e texturizado em ambas as faces. O acabamento da borda frontal deve ser arredondado com raio mínimo de 2,5mm em fita de bordo da espessura da placa utilizada, colada a quente pelo sistema hot-melt, em todo o seu perímetro. Deve conter calha horizontal ao longo da largura da mesa, para passagem de fiação sob o tampo e acessório “passa cabo” embutido no tampo. Estrutura lateral em aço, em forma “C” “I” ou “L”, na cor preta ou cinza, com passagem vertical para fios que permita conexão com a calha horizontal para fios. Deve possuir sistema de acoplamento para mesas múltiplas, de forma a ter apoio único entre mesas. Todas as peças metálicas devem possuir tratamento anti-ferruginoso e pintura eletrostática epóxi-pó com acabamento preto liso. Cor do MDP a definir. Garantia de cinco anos. | D48: unidade | E48: 612073 | F48: CTF/APP: FTE - Categoria: Indústria da Madeira; Código: 7 | G48: 3 | H48: 10 | I48: 0 | J48: =SUM(G48:I48) -> 13 | K48: 1122.3 | L48: =J48*ROUND(K48,2) -> 14589.9 | M48: - | N48: SIM | O48: Aberto | P48: =VLOOKUP(K48, Intervalos!$B$3:$C$8,2,TRUE) -> 0,10%
A49: - | B49: 44 | C49: Estante baixa em aço LxPxH:92X30X90cm. Estrutura com 04 colunas. Deve conter 03 prateleiras. A posição das prateleiras deve ser regulável. Elementos metálicos devem receber pré-tratamento antiferruginoso e acabamento em pintura eletrostática epóxi-pó em cor a ser definida. | D49: unidade | E49: 275333 | F49: - | G49: 10 | H49: 0 | I49: 0 | J49: =SUM(G49:I49) -> 10 | K49: 220.95 | L49: =J49*ROUND(K49,2) -> 2209.5 | M49: - | N49: SIM | O49: Aberto | P49: =VLOOKUP(K49, Intervalos!$B$3:$C$8,2,TRUE) -> 0,10%
A50: - | B50: 45 | C50: Estante biblioteca face dupla LxPxH: 100x58x200cm na cor a definir (com disponibilidade na cor azul royal), totalmente confeccionada em chapa de aço de baixo teor de carbono, sem arestas cortantes e rebarbas, com pré-tratamento antiferruginoso e acabamento em pintura eletrostática epóxi- pó. Contendo: 01 base em formato retangular, fechada, confeccionada em chapa nº 20, com altura de 17,5 cm; 01 reforço interno em “Omega” confeccionado em chapa nº 20 e soldado na extensão da mesma; 02 anteparos laterais soldados a base e fixados nas laterais da estante através de 06 parafusos 3/8” de cada lado. 01 travessa superior horizontal (chapéu), confeccionado em chapa nº 20 e dobrado em forma de “U” com altura de 7,0cm; 02 anteparos laterais em chapa nº 16 soldados a travessa e fixado nas laterais da estante através de 06 parafusos 3/8” de cada lado. 02 Laterais de sustentação, com altura de 200cm e largura de 58 cm, confeccionadas em chapa nº 18 . Cada lateral deverá possuir 09 linhas retas de 04 fendas cada, com dimensões de 2,8 cm de altura por 10,5 cm de largura, permitindo encaixe das bandejas em passos de 17,5 cm. 08 prateleiras com dimensões de 93 cm de comprimento e 23,5 cm de profundidade, confeccionadas em chapa nº 20, com dobras nas laterais que permitem as mesmas a união as laterais pelo sistema de encaixe (sem parafusos). Modelo de Referência: Estante SLIT Face Dupla Azul Royal Biccateca Modelo 7010. | D50: unidade | E50: 631574 | F50: - | G50: =170-24-5 -> 141 | H50: 3 | I50: 0 | J50: =SUM(G50:I50) -> 144 | K50: 2783.62 | L50: =J50*ROUND(K50,2) -> 400841.28 | M50: - | N50: NÃO | O50: Aberto | P50: =VLOOKUP(K50, Intervalos!$B$3:$C$8,2,TRUE) -> 0,10%
A51: - | B51: 46 | C51: Estante biblioteca face simples em aço LxPxH: 100cmx31,5x200cm. Painel de acabamento com 315 mm na cor a definir. Estrutura em Aço carbono - SAE 1006 a 1012, Tampo, base, prateleiras, painel de acabamento e painel sinalizador com no mín. 0,90 mm de espessura, Anteparos de fechamento da base e tampo, fixador da base e do tampo com no mín. 1,50 mm de espessura e painel interno de sustentação com no mín. 1,2 mm de espessura. Com 6 prateleiras. | D51: unidade | E51: 631574 | F51: - | G51: =29-4 -> 25 | H51: 2 | I51: 0 | J51: =SUM(G51:I51) -> 27 | K51: 1860.99 | L51: =J51*ROUND(K51,2) -> 50246.73 | M51: - | N51: SIM | O51: Aberto | P51: =VLOOKUP(K51, Intervalos!$B$3:$C$8,2,TRUE) -> 0,10%
A52: - | B52: 47 | C52: Estante de aço LxPxH: 92x40x198cm. Quantidade de Prateleiras: 06 a 07 prateleiras. Prateleiras em Chapa de no mín. #26 / 0,45 mm. Colunas em chapa mín. #18 - L2 30 x 30.Furação padrão. Deve ter capacidade mín de sustentação de 40kg por prateleira, sendo as mesmas reguláveis. A estrutura deve ser desmontável e possuir reforço em “X” e em Ômega. Parafusos: Sextavado com porca UNC ¼" X ½" Pintura: Epóxi Pó | D52: unidade | E52: 460829 | F52: - | G52: 4 | H52: 0 | I52: 0 | J52: =SUM(G52:I52) -> 4 | K52: 1126.33 | L52: =J52*ROUND(K52,2) -> 4505.32 | M52: - | N52: SIM | O52: Aberto | P52: =VLOOKUP(K52, Intervalos!$B$3:$C$8,2,TRUE) -> 0,10%
A53: - | B53: 48 | C53: Estante desmontável de aço LxPxH: 92,5x60x198cm. Com 01 reforço de fundo e 02 em cada lateral, Colunas em aço SAE 1010/1020, perfil L , com espessura mínima de 1,9 mm. Com seis prateleiras removíveis e ajustáveis, com espessura de 0,90mm, com dobras triplas em todo o perímetro, fixadas com parafusos e porcas. | D53: unidade | E53: 601268 | F53: - | G53: =48-10 -> 38 | H53: 0 | I53: 0 | J53: =SUM(G53:I53) -> 38 | K53: 914.33 | L53: =J53*ROUND(K53,2) -> 34744.54 | M53: - | N53: SIM | O53: Aberto | P53: =VLOOKUP(K53, Intervalos!$B$3:$C$8,2,TRUE) -> 0,10%
A54: - | B54: 49 | C54: Estante desmontável de aço LxPxH: 92,5x60x243cm. Com 01 reforço de fundo e 02 em cada lateral, Colunas em aço SAE 1010/1020, perfil L , com espessura mínima de 1,9 mm. Com seis prateleiras removíveis e ajustáveis, com espessura de 0,90mm, com dobras triplas em todo o perímetro, fixadas com parafusos e porcas. | D54: unidade | E54: 271892 | F54: - | G54: =44-9 -> 35 | H54: 0 | I54: 0 | J54: =SUM(G54:I54) -> 35 | K54: 997.97 | L54: =J54*ROUND(K54,2) -> 34928.95 | M54: - | N54: SIM | O54: Aberto | P54: =VLOOKUP(K54, Intervalos!$B$3:$C$8,2,TRUE) -> 0,10%
A55: - | B55: 50 | C55: Estante em aço com 5 prateleiras reguláveis LxPxH: 80x25x160cm(LPA). Serão aceitas propostas com variação de +/- 3cm. Com 01 reforço de fundo e 02 em cada lateral. Com cinco prateleiras removíveis e ajustáveis, com dobras triplas nas laterais, fixadas com parafusos e porcas. Desmontável. Acabamento: Pintura eletrostática a pó. Cor a definir | D55: unidade | E55: 630636 | F55: - | G55: =38-5 -> 33 | H55: 0 | I55: 0 | J55: =SUM(G55:I55) -> 33 | K55: 700 | L55: =J55*ROUND(K55,2) -> 23100 | M55: - | N55: SIM | O55: Aberto | P55: =VLOOKUP(K55, Intervalos!$B$3:$C$8,2,TRUE) -> 0,10%
A56: - | B56: 51 | C56: Estante em aço inox com 5 prateleiras LxPxH: 80x40x200cm. Prateleiras em aço inox AISI 201, chapa lisa com espessura de 0,8mm, acabamento polido ou escovado. Fixação das prateleiras por parafusos. Colunas de estrutura tubular com espessura do tubo 1mm e diâmetro do tubo de uma polegada e meia. Sapatas niveladoras em polietileno. Capacidade de carga: 80 kg/prateleira (Total:400kg). | D56: unidade | E56: 207358 | F56: - | G56: =39-5 -> 34 | H56: 0 | I56: 0 | J56: =SUM(G56:I56) -> 34 | K56: 2099 | L56: =J56*ROUND(K56,2) -> 71366 | M56: - | N56: SIM | O56: Aberto | P56: =VLOOKUP(K56, Intervalos!$B$3:$C$8,2,TRUE) -> 0,10%
A57: - | B57: 52 | C57: Estante expositora de livros, periódicos e demais acervos. Deve possuir, no mínimo, 3 prateleiras inclinadas, com borda de suporte elevada. L 100 x A 150 x P 44,5 cm. Totalmente confeccionada em chapa de aço de baixo teor de carbono, sem arestas cortantes e rebarbas, com pré-tratamento antiferruginoso e acabamento em pintura eletrostática epóxi-pó. Cor Azul Royal. Modelo de referência: Biccateca Slit expositor baixo, código 7520. | D57: unidade | E57: 611482 | F57: - | G57: 5 | H57: 3 | I57: 0 | J57: =SUM(G57:I57) -> 8 | K57: 491.48 | L57: =J57*ROUND(K57,2) -> 3931.84 | M57: - | N57: SIM | O57: Aberto | P57: =VLOOKUP(K57, Intervalos!$B$3:$C$8,2,TRUE) -> 0,10%
A58: - | B58: 53 | C58: Gaveteiro com rodízios com 4 gavetas LxPxH: 30x51x71,5cm. Corpo, gaveteiro e frentes confeccionados em MDP com espessura mín. de 18 mm, revestido em ambas as faces em laminado melamínico baixa pressão (BP), sendo os bordos ao longo de todo o seu perímetro encabeçados com fita de bordo da espessura do MDP, colada a quente em sistema hot-melt. O gaveteiro é dotado de frente fixa de aprox. 60 mm, sendo ela com uma fechadura com trava simultânea das gavetas, duas chaves dobráveis. As quatro gavetas deslizam sobre corrediças metálicas telescópicas e devem possuir puxador frontal tipo alça. Gavetas confeccionadas em chapa metálica dobrada. Gaveteiro sob rodízios. Todas as peças metálicas devem receber pré-tratamento antiferruginoso e pintura eletrostática epóxi-pó. | D58: unidade | E58: 483353 | F58: CTF/APP: FTE - Categoria: Indústria da Madeira; Código: 7 | G58: 17 | H58: 0 | I58: 0 | J58: =SUM(G58:I58) -> 17 | K58: 658 | L58: =J58*ROUND(K58,2) -> 11186 | M58: - | N58: SIM | O58: Aberto | P58: =VLOOKUP(K58, Intervalos!$B$3:$C$8,2,TRUE) -> 0,10%
A59: - | B59: 54 | C59: Gaveteiro com rodízios com 4 gavetas LxPxH: 46,7cmx46,1cmx68,4cm. Corpo, gaveteiro e frentes confeccionados em MDP com espessura mín. de 18 mm, revestido em ambas as faces em laminado melamínico baixa pressão (BP), sendo os bordos ao longo de todo o seu perímetro encabeçados com fita de bordo da espessura do MDP, colada a quente em sistema hot-melt. O gaveteiro é dotado de frente fixa de aprox. 60 mm, sendo ela com uma fechadura com trava simultânea das gavetas, duas chaves dobráveis. As quatro gavetas deslizam sobre corrediças metálicas telescópicas e devem possuir puxador frontal tipo alça. Gavetas confeccionadas em chapa metálica dobrada. Gaveteiro sob rodízios. Todas as peças metálicas devem receber pré-tratamento antiferruginoso e pintura eletrostática epóxi-pó. | D59: unidade | E59: 483353 | F59: CTF/APP: FTE - Categoria: Indústria da Madeira; Código: 7 | G59: 9 | H59: 0 | I59: 1608 | J59: =SUM(G59:I59) -> 1617 | K59: 750 | L59: =J59*ROUND(K59,2) -> 1212750 | M59: - | N59: NÃO | O59: Aberto | P59: =VLOOKUP(K59, Intervalos!$B$3:$C$8,2,TRUE) -> 0,10%
A60: - | B60: 55 | C60: Longarina estofada de 02 lugares sem braços LxP:110x50cm, para recepção. Assento e encosto fabricados em compensado anatômico moldado a quente, com espessura de 15 mm cada. Estofados com espuma de poliuretano expandido, de espessura mínima de 50 mm, sobre a madeira, revestida com couro sintético de cor a definir. Dimensões mínimas do encosto: 35cm de extensão vertical e 39cm de largura. Assento com 46cm de largura e 46cm de profundidade e espuma injetada de no mínimo 50mm de espessura. Componentes Metálicos: Peças soldadas pelo processo MIG. Garantia de cinco anos. | D60: unidade | E60: 363791 | F60: - | G60: =64-10-3 -> 51 | H60: 4 | I60: 0 | J60: =SUM(G60:I60) -> 55 | K60: 416.63 | L60: =J60*ROUND(K60,2) -> 22914.65 | M60: - | N60: SIM | O60: Aberto | P60: =VLOOKUP(K60, Intervalos!$B$3:$C$8,2,TRUE) -> 0,10%
A61: - | B61: 56 | C61: Longarina estofada de 03 lugares sem braços LxP:180x50cm. Assento e encosto fabricados em compensado anatômico moldado a quente, com espessura de 15 mm cada. Estofados com espuma de poliuretano expandido, de espessura mínima de 50 mm, sobre a madeira, revestida com couro sintético de cor a definir. Dimensões mínimas do encosto: 35cm de extensão vertical e 39cm de largura. Assento com 46cm de largura e 46cm de profundidade e espuma injetada de no mínimo 50mm de espessura. Componentes Metálicos: Peças soldadas pelo processo MIG. Garantia de cinco anos. | D61: unidade | E61: 623645 | F61: - | G61: =75-10-5 -> 60 | H61: 8 | I61: 465 | J61: =SUM(G61:I61) -> 533 | K61: 521.63 | L61: =J61*ROUND(K61,2) -> 278028.79 | M61: - | N61: NÃO | O61: Aberto | P61: =VLOOKUP(K61, Intervalos!$B$3:$C$8,2,TRUE) -> 0,10%
A62: - | B62: 57 | C62: Mesa de reunião circular LxPxH: 120x120x75cm. Tampo em MDF de 25 mm, com 120 cm de diâmetro revestido com BP nas duas faces, superfície fosca texturizada, na cor a ser definida. O acabamento da borda frontal deve ser arredondado com raio mínimo de 2,5mm. Estrutura confeccionada em aço carbono SAE 1010/1020, em coluna central, com mínimo de quatro apoios reguláveis no piso em nylon injetado. Garantia de cinco anos. | D62: unidade | E62: 633219 | F62: CTF/APP: FTE - Categoria: Indústria da Madeira; Código: 7 | G62: 8 | H62: 4 | I62: 0 | J62: =SUM(G62:I62) -> 12 | K62: 736.33 | L62: =J62*ROUND(K62,2) -> 8835.96 | M62: - | N62: SIM | O62: Aberto | P62: =VLOOKUP(K62, Intervalos!$B$3:$C$8,2,TRUE) -> 0,10%
A63: - | B63: 58 | C63: Mesa de reunião circular LxPxH: 100x100x75cm. Tampo em MDF de 25 mm, com 100 cm de diâmetro revestido com BP nas duas faces, superfície fosca texturizada, na cor a ser definida. O acabamento da borda frontal deve ser arredondado com raio mínimo de 2,5mm. Estrutura confeccionada em aço carbono SAE 1010/1020, em coluna central, com mínimo de quatro apoios reguláveis no piso em nylon injetado. Garantia de cinco anos. | D63: unidade | E63: 619734 | F63: CTF/APP: FTE - Categoria: Indústria da Madeira; Código: 7 | G63: =45-7 -> 38 | H63: 0 | I63: 0 | J63: =SUM(G63:I63) -> 38 | K63: 607.08 | L63: =J63*ROUND(K63,2) -> 23069.04 | M63: - | N63: SIM | O63: Aberto | P63: =VLOOKUP(K63, Intervalos!$B$3:$C$8,2,TRUE) -> 0,10%
A64: - | B64: 59 | C64: Mesa de reunião retangular LxPxH: 100x200x75cm. Tampo em MDF de 25 mm e alt. 750 mm, revestido com BP nas duas faces, superfície fosca texturizada, na cor a ser definida. O acabamento da borda frontal deve ser arredondado com raio mínimo de 2,5mm. Estrutura confeccionada em aço carbono SAE 1010/1020, com 04 apoios reguláveis no piso, em nylon injetado. Garantia de cinco anos. | D64: unidade | E64: 631633 | F64: CTF/APP: FTE - Categoria: Indústria da Madeira; Código: 7 | G64: =22-3 -> 19 | H64: 0 | I64: 62 | J64: =SUM(G64:I64) -> 81 | K64: 751.07 | L64: =J64*ROUND(K64,2) -> 60836.67 | M64: - | N64: SIM | O64: Aberto | P64: =VLOOKUP(K64, Intervalos!$B$3:$C$8,2,TRUE) -> 0,10%
A65: - | B65: 60 | C65: Mesa de reunião retangular LxPxH: 160x90x75cm. Tampo em MDF de 25 mm e alt. 750 mm, revestido com BP nas duas faces, superfície fosca texturizada, na cor a ser definida. O acabamento da borda frontal deve ser arredondado com raio mínimo de 2,5mm. Estrutura confeccionada em aço carbono SAE 1010/1020, com 04 apoios reguláveis no piso, em nylon injetado. Garantia de cinco anos. | D65: unidade | E65: 620561 | F65: CTF/APP: FTE - Categoria: Indústria da Madeira; Código: 7 | G65: =28-4 -> 24 | H65: 1 | I65: 0 | J65: =SUM(G65:I65) -> 25 | K65: 1230.17 | L65: =J65*ROUND(K65,2) -> 30754.25 | M65: - | N65: SIM | O65: Aberto | P65: =VLOOKUP(K65, Intervalos!$B$3:$C$8,2,TRUE) -> 0,10%
A66: - | B66: 61 | C66: Mesa de trabalho em “L” LxPxH: 100x100x75cm. Tampo: Superfície sobreposta à estrutura. Em MDP de 25 mm de espessura, revestida em laminado melamínico de baixa pressão texturizado em ambas as faces. O acabamento da borda frontal deve ser arredondado com raio mínimo de 2,5mm. Fixação às estruturas laterais e central da mesa através de parafusos de aço e buchas metálicas. Painéis Frontais: 02 painéis frontais em MDP de 18 mm de espessura, revestida em laminado melamínico de baixa pressão texturizado em ambas as faces. Bordas com acabamento em fita de PVC de 1 mm de espessura, colada a quente pelo sistema hot-melt, em todo seu perímetro. Fixado às estruturas laterais e central da mesa através de rebites de repuxo de aço e parafusos de aço e buchas metálicas. Estruturas Laterais: Em MDP de 25 mm de espessura, revestida em laminado melamínico de baixa pressão texturizado em ambas as faces. Com acabamento em fita de PVC de 1 mm de espessura, colada a quente pelo sistema hot-melt em todo seu perímetro. Na parte inferior há colocação de rebites de repuxo de aço para adaptação de reguladores de nível. Estrutura Central: Em tubo de aço com seção quadrada 80x80 mm em chapa #16 (1,50 mm) de espessura. Colocação de rebite de repuxo de aço para adaptação de regulador de nível. Componentes metálicos: pré-tratamento de desengraxe e tratamento nanocerâmico, preparando a superfície para receber a pintura. Aplicação pelo processo de deposição eletrostática com polimerização em estufa. Garantia de cinco anos. | D66: unidade | E66: 632178 | F66: CTF/APP: FTE - Categoria: Indústria da Madeira; Código: 7 | G66: =190-28-10 -> 152 | H66: 0 | I66: 0 | J66: =SUM(G66:I66) -> 152 | K66: 1085 | L66: =J66*ROUND(K66,2) -> 164920 | M66: - | N66: NÃO | O66: Aberto | P66: =VLOOKUP(K66, Intervalos!$B$3:$C$8,2,TRUE) -> 0,10%
A67: - | B67: 62 | C67: Mesa de trabalho em “L” LxPxH: 120x120x75cm. Tampo: Superfície sobreposta à estrutura. Em MDP de 25 mm de espessura, revestida em laminado melamínico de baixa pressão texturizado em ambas as faces. O acabamento da borda frontal deve ser arredondado com raio mínimo de 2,5mm. Fixação às estruturas laterais e central da mesa através de parafusos de aço e buchas metálicas. Painéis Frontais: 02 painéis frontais em MDP de 18 mm de espessura, revestida em laminado melamínico de baixa pressão texturizado em ambas as faces. Bordas com acabamento em fita de PVC de 1 mm de espessura, colada a quente pelo sistema hot-melt, em todo seu perímetro. Fixado às estruturas laterais e central da mesa através de rebites de repuxo de aço e parafusos de aço e buchas metálicas. Estruturas Laterais: Em MDP de 25 mm de espessura, revestida em laminado melamínico de baixa pressão texturizado em ambas as faces. Com acabamento em fita de PVC de 1 mm de espessura, colada a quente pelo sistema hot-melt em todo seu perímetro. Na parte inferior há colocação de rebites de repuxo de aço para adaptação de reguladores de nível. Estrutura Central: Em tubo de aço com seção quadrada 80x80 mm em chapa #16 (1,50 mm) de espessura. Colocação de rebite de repuxo de aço para adaptação de regulador de nível. Componentes metálicos: pré-tratamento de desengraxe e tratamento nanocerâmico, preparando a superfície para receber a pintura. Aplicação pelo processo de deposição eletrostática com polimerização em estufa. Garantia de cinco anos. | D67: unidade | E67: 632178 | F67: CTF/APP: FTE - Categoria: Indústria da Madeira; Código: 7 | G67: =125-10 -> 115 | H67: 10 | I67: 0 | J67: =SUM(G67:I67) -> 125 | K67: 1305.21 | L67: =J67*ROUND(K67,2) -> 163151.25 | M67: - | N67: NÃO | O67: Aberto | P67: =VLOOKUP(K67, Intervalos!$B$3:$C$8,2,TRUE) -> 0,10%
A68: - | B68: 63 | C68: Mesa de trabalho em “L” LxPxH: 140x140x75cm. Em MDP de 25 mm de espessura, revestida em laminado melamínico de baixa pressão texturizado em ambas as faces. O acabamento da borda frontal deve ser arredondado com raio mínimo de 2,5mm. Fixação às estruturas laterais e central da mesa através de parafusos de aço e buchas metálicas. Painéis Frontais: 02 painéis frontais em MDP de 18 mm de espessura, revestida em laminado melamínico de baixa pressão texturizado em ambas as faces. Bordas com acabamento em fita de PVC de 1 mm de espessura, colada a quente pelo sistema hot-melt, em todo seu perímetro. Fixado às estruturas laterais e central da mesa através de rebites de repuxo de aço e parafusos de aço e buchas metálicas. Estruturas Laterais: Em MDP de 25 mm de espessura, revestida em laminado melamínico de baixa pressão texturizado em ambas as faces. Com acabamento em fita de PVC de 1 mm de espessura, colada a quente pelo sistema hot-melt em todo seu perímetro. Na parte inferior há colocação de rebites de repuxo de aço para adaptação de reguladores de nível. Estrutura Central: Em tubo de aço. Colocação de rebite de repuxo de aço para adaptação de regulador de nível. Componentes metálicos: pré-tratamento antiferrguinoso e acabamento em pintura eletrostática. Garantia de cinco anos. | D68: unidade | E68: 632178 | F68: CTF/APP: FTE - Categoria: Indústria da Madeira; Código: 7 | G68: =192-19-20 -> 153 | H68: 4 | I68: 248 | J68: =SUM(G68:I68) -> 405 | K68: 1099.9 | L68: =J68*ROUND(K68,2) -> 445459.5 | M68: - | N68: NÃO | O68: Aberto | P68: =VLOOKUP(K68, Intervalos!$B$3:$C$8,2,TRUE) -> 0,10%
A69: - | B69: 64 | C69: Mesa diretor para escritório em L com balcão. Medidas: C=180cm x L=70cm x A: 75cm.Cor a definir. Em MDP de 25 mm de espessura, revestida em laminado melamínico de baixa pressão texturizado em ambas as faces. O acabamento da borda frontal deve ser arredondado com raio mínimo de 2,5mm. Fixação às estruturas laterais e central da mesa através de parafusos de aço e buchas metálicas. Painéis Frontais: 02 painéis frontais em MDP de 18 mm de espessura, revestida em laminado melamínico de baixa pressão texturizado em ambas as faces. Bordas com acabamento em fita de PVC de 1 mm de espessura, colada a quente pelo sistema hot-melt, em todo seu perímetro. Fixado às estruturas laterais e central da mesa através de rebites de repuxo de aço e parafusos de aço e buchas metálicas. Estruturas Laterais: Em MDP de 25 mm de espessura, revestida em laminado melamínico de baixa pressão texturizado em ambas as faces. Com acabamento em fita de PVC de 1 mm de espessura, colada a quente pelo sistema hot-melt em todo seu perímetro. Na parte inferior há colocação de rebites de repuxo de aço para adaptação de reguladores de nível. | D69: unidade | E69: 633422 | F69: CTF/APP: FTE - Categoria: Indústria da Madeira; Código: 7 | G69: 6 | H69: 0 | I69: 153 | J69: =SUM(G69:I69) -> 159 | K69: 1797.1 | L69: =J69*ROUND(K69,2) -> 285738.9 | M69: - | N69: NÃO | O69: Aberto | P69: =VLOOKUP(K69, Intervalos!$B$3:$C$8,2,TRUE) -> 0,10%
A70: - | B70: 65 | C70: Mesa escolar acessível LxPxH: 90x60x75-85cm. Constituída de estrutura metálica em aço carbono e tampo fabricado em MDP com revestimento melamínico de Baixa Pressão com fitas de borda e porta-livros plástico. O tampo deve ter dimensões aproximadas de 90x60 cm, sendo esta a medida mínima aceitável, fabricado em MDP mín. de 18mm de espessura com revestimento melamínico baixa pressão (BP), superfície de cor clara e acabamento fosco, com fita de bordo de 3 mm de espessura com cantos arredondados. a altura do tampo deve ser regulável de 75 a 85cm. Todos os componentes da estrutura metálica devem ser fabricados em tubo de aço industrial, receber pré-tratamento antiferruginoso e pintura epóxi em pó. Ponteiras em Polipropileno. O porta-livros deve ser injetado em polipropileno em cor a definir, sob o tampo, desde que garanta 73cm de vão inferior com altura superior do tampo de no máx. 85cm. 5 anos de garantia. | D70: unidade | E70: 479380 | F70: CTF/APP: FTE - Categoria: Indústria da Madeira; Código: 7 | G70: =222-40-5 -> 177 | H70: 0 | I70: 0 | J70: =SUM(G70:I70) -> 177 | K70: 1249.69 | L70: =J70*ROUND(K70,2) -> 221195.13 | M70: - | N70: NÃO | O70: Aberto | P70: =VLOOKUP(K70, Intervalos!$B$3:$C$8,2,TRUE) -> 0,10%
A71: - | B71: 66 | C71: Mesa para refeitório 4 lugares. Medidas: 120 cm X 80 cm X 75 cm (L X P X A). Tampo produzido em MDF com 15mm reengrossado com mais 15mm, totalizando 30mm de espessura em sua borda, laminado em fórmica na cor bege. Acabamento da borda da mesa em fita de PVC – 30x4mm de espessura. Estrutura 2 colunas em tubo de aço carbono 40 x 30 mm, travessas em tubo 30 x 30 mm com 1,20 mm de parede, unidas por parafusos. Pés com reguladores de nível, e em pintura epóxi na cor preta. | D71: unidade | E71: 615523 | F71: CTF/APP: FTE - Categoria: Indústria da Madeira; Código: 7 | G71: =63-8 -> 55 | H71: 0 | I71: 0 | J71: =SUM(G71:I71) -> 55 | K71: 1149.06 | L71: =J71*ROUND(K71,2) -> 63198.3 | M71: - | N71: SIM | O71: Aberto | P71: =VLOOKUP(K71, Intervalos!$B$3:$C$8,2,TRUE) -> 0,10%
A72: - | B72: 67 | C72: Mesa para refeitório 6 lugares. Medidas: 180 cm X 80 cm X 75 cm (L X P X A). Tampo produzido em MDF com 15mm reengrossado com mais 15mm, totalizando 30mm de espessura em sua borda, laminado em fórmica na cor bege. Acabamento da borda da mesa em fita de PVC – 30x4mm de espessura. Estrutura 2 colunas em tubo de aço carbono 40 x 30 mm, travessas em tubo 30 x 30 mm com 1,20 mm de parede, unidas por parafusos. Pés com reguladores de nível, e em pintura epóxi na cor preta. | D72: unidade | E72: 486486 | F72: CTF/APP: FTE - Categoria: Indústria da Madeira; Código: 7 | G72: =38-5 -> 33 | H72: 0 | I72: 0 | J72: =SUM(G72:I72) -> 33 | K72: 1469.36 | L72: =J72*ROUND(K72,2) -> 48488.88 | M72: - | N72: SIM | O72: Aberto | P72: =VLOOKUP(K72, Intervalos!$B$3:$C$8,2,TRUE) -> 0,10%
A73: - | B73: 68 | C73: Mesa Quadrada LxPxH: 90x90x75cm. Tampo em MDP. Base em aço. Cor a definir. | D73: unidade | E73: 481237 | F73: CTF/APP: FTE - Categoria: Indústria da Madeira; Código: 7 | G73: 5 | H73: 0 | I73: 0 | J73: =SUM(G73:I73) -> 5 | K73: 624.5 | L73: =J73*ROUND(K73,2) -> 3122.5 | M73: - | N73: SIM | O73: Aberto | P73: =VLOOKUP(K73, Intervalos!$B$3:$C$8,2,TRUE) -> 0,10%
A74: - | B74: 69 | C74: Mesa retangular cabine telemarketing LxPxH: 80x60x75cm. Formato cabines individuais, para laboratório de informática. Em MDP de no mín 18mm revestido com laminado melamínico de baixa pressão (BP) em ambas as faces, superfície fosca texturizada na cor a ser definida. Passa-fios em polipropileno injetado. O acabamento da borda frontal deve ser arredondado com raio mínimo de 2,5mm. Estrutura com quatro apoios reguláveis no piso, em polipropileno injetado. Garantia de cinco anos. | D74: unidade | E74: 258741 | F74: CTF/APP: FTE - Categoria: Indústria da Madeira; Código: 7 | G74: 37 | H74: 10 | I74: 0 | J74: =SUM(G74:I74) -> 47 | K74: 443 | L74: =J74*ROUND(K74,2) -> 20821 | M74: - | N74: SIM | O74: Aberto | P74: =VLOOKUP(K74, Intervalos!$B$3:$C$8,2,TRUE) -> 0,10%
A75: - | B75: 70 | C75: Mesa retangular LxPxH 140x60x75cm. Tampo e painel frontal em MDP com no mín. 18 mm de espessura, revestida em laminado melamínico de baixa pressão (BP) fosco e texturizado em ambas as faces. O acabamento da borda frontal deve ser arredondado com raio mínimo de 2,5mm em fita de bordo da espessura da placa utilizada, colada a quente pelo sistema hot-melt, em todo o seu perímetro. Deve conter calha horizontal ao longo da largura da mesa, para passagem de fiação sob o tampo e acessório “passa cabo” embutido no tampo. Estrutura lateral em aço, em forma “I” ou “L”, com passagem vertical para fios que permita conexão com a calha horizontal para fios. Todas as peças metálicas devem possuir tratamento antiferruginoso e pintura eletrostática epóxi-pó com acabamento em cor lisa a definir. Cor do MDP a definir. Garantia de cinco anos. | D75: unidade | E75: 619400 | F75: CTF/APP: FTE - Categoria: Indústria da Madeira; Código: 7 | G75: 8 | H75: 0 | I75: 475 | J75: =SUM(G75:I75) -> 483 | K75: 1328.18 | L75: =J75*ROUND(K75,2) -> 641510.94 | M75: - | N75: NÃO | O75: Aberto | P75: =VLOOKUP(K75, Intervalos!$B$3:$C$8,2,TRUE) -> 0,10%
A76: - | B76: 71 | C76: Mesa retangular LxPxH 80x60x75cm. Tampo e painel frontal em MDP com no mín. 18 mm de espessura, revestida em laminado melamínico de baixa pressão (BP) fosco e texturizado em ambas as faces. O acabamento da borda frontal deve ser arredondado com raio mínimo de 2,5mm em fita de bordo da espessura da placa utilizada, colada a quente pelo sistema hot-melt, em todo o seu perímetro. Deve conter calha horizontal ao longo da largura da mesa, para passagem de fiação sob o tampo e acessório “passa cabo” embutido no tampo. Estrutura lateral em aço, em forma “I” ou “L”, com passagem vertical para fios que permita conexão com a calha horizontal para fios. Todas as peças metálicas devem possuir pré-tratamento antiferruginoso e pintura eletrostática epóxi-pó com acabamento em cor lisa a definir. Cor do MDP a definir. Garantia de cinco anos. | D76: unidade | E76: 630394 | F76: CTF/APP: FTE - Categoria: Indústria da Madeira; Código: 7 | G76: =67-9 -> 58 | H76: 0 | I76: 0 | J76: =SUM(G76:I76) -> 58 | K76: 642.13 | L76: =J76*ROUND(K76,2) -> 37243.54 | M76: - | N76: SIM | O76: Aberto | P76: =VLOOKUP(K76, Intervalos!$B$3:$C$8,2,TRUE) -> 0,10%
A77: - | B77: 72 | C77: Mesa retangular LxPxH: 200x60x75cm. Tampo e painel frontal em MDP com no mín. 18 mm de espessura, revestida em laminado melamínico de baixa pressão (BP) fosco e texturizado em ambas as faces. O acabamento da borda frontal deve ser arredondado com raio mínimo de 2,5mm em fita de bordo da espessura da placa utilizada, colada a quente pelo sistema hot-melt, em todo o seu perímetro. Deve conter calha horizontal ao longo da largura da mesa, para passagem de fiação sob o tampo e acessório “passa cabo” embutido no tampo. Estrutura lateral em aço, em forma “I” ou “L”, com passagem vertical para fios que permita conexão com a calha horizontal para fios. Todas as peças metálicas devem possuir tratamento antiferruginoso e pintura eletrostática epóxi-pó com acabamento em cor lisa a definir. Cor do MDP a definir. Garantia de cinco anos. | D77: unidade | E77: 629246 | F77: CTF/APP: FTE - Categoria: Indústria da Madeira; Código: 7 | G77: 3 | H77: 0 | I77: 0 | J77: =SUM(G77:I77) -> 3 | K77: 809.33 | L77: =J77*ROUND(K77,2) -> 2427.99 | M77: - | N77: SIM | O77: Aberto | P77: =VLOOKUP(K77, Intervalos!$B$3:$C$8,2,TRUE) -> 0,10%
A78: - | B78: 73 | C78: Mesa retangular para impressora em madeira LxPxH: 62x47x74cm. Tampo de 25mm Medidas: 62x47 x74cm. (cor a definir) Tampo: Superfície sobreposta à estrutura em MDP de 25 mm de espessura, revestida em laminado melamínico de baixa pressão texturizado em ambas as faces. Bordas com acabamento em fita de PVC de 3 mm de espessura, colada a quente pelo sistema hot-melt, com raio mínimo de 2,5 mm, em todo seu perímetro. Fixação às estruturas laterais e central da mesa através de parafusos de aço e buchas metálicas. Painel Frontal: Painel frontal em MDP com espessura mín. de 18mm, revestida em laminado melamínico de baixa pressão texturizado em ambas as faces. Bordas com acabamento em fita de PVC de 1 mm de espessura, colada a quente pelo sistema hot-melt, em todo seu perímetro. Fixado às estruturas laterais e central da mesa através de rebites de repuxo de aço e parafusos de aço e buchas metálicas. Estrutura: Calha estrutural horizontal para passagem de fiação sob o tampo, permitindo o acesso a todo cabeamento de energia, lógico e telefônico, em chapa de aço, com furos para instalação de tomadas (energia, lógica e telefônica), fixação às estruturas laterais e central da mesa através de rebites de repuxo e parafusos de aço, medindo 120 mm de altura aproximadamente, com suportes para tomadas em chapa de aço fixados nas calhas através de encaixe. 02 estruturas laterais em MDP de 25 mm de espessura, revestida em laminado melamínico de baixa pressão texturizado em ambas as faces. Borda em todo seu perímetro com acabamento em fita de PVC de 1 mm de espessura, colada a quente pelo sistema hot-melt, com raio mínimo de 1 mm em todo seu perímetro. Fixada às estruturas laterais da mesa através de parafusos de aço e buchas metálicas. Componentes metálicos: pré-tratamento antiferruginoso e pintura eletrostática epóxi-pó | D78: unidade | E78: 630172 | F78: CTF/APP: FTE - Categoria: Indústria da Madeira; Código: 7 | G78: 4 | H78: 0 | I78: 0 | J78: =SUM(G78:I78) -> 4 | K78: 296.53 | L78: =J78*ROUND(K78,2) -> 1186.12 | M78: - | N78: SIM | O78: Aberto | P78: =VLOOKUP(K78, Intervalos!$B$3:$C$8,2,TRUE) -> 0,10%
A79: - | B79: 74 | C79: Móvel expositor para revistas LxPxH: 104x55x200cm. Expositor escamoteável em face dupla base aberta, sendo a estante e prateleiras em aço. Deve possuir 04 prateleiras inclinadas reguláveis, 01 base inclinada e no mín. 04 pés niveladores. Componentes metálicos devem receber pré-tratamento antiferruginoso e pintura eletrostática epóxi-pó. | D79: unidade | E79: 632004 | F79: - | G79: 3 | H79: 2 | I79: 0 | J79: =SUM(G79:I79) -> 5 | K79: 2538.94 | L79: =J79*ROUND(K79,2) -> 12694.7 | M79: - | N79: SIM | O79: Aberto | P79: =VLOOKUP(K79, Intervalos!$B$3:$C$8,2,TRUE) -> 0,10%
A80: - | B80: 75 | C80: Painel lateral de fechamento para estante dupla de biblioteca LxPxH: 58x3,5x200cm. Lateral de fechamento de estante face dupla na cor a definir. Uma lateral de fechamento totalmente confeccionada em chapa de aço de baixo teor de carbono, sem arestas cortantes e rebarbas, com acabamento pelo sistema de tratamento químico da chapa com pré-tratamento anti-ferruginoso e pintura eletrostática epóxi-pó. Contendo: 09 linhas retas de 04 fendas cada, com dimensões aproximadas de 2,8 cm de altura por 10,5 cm de largura, unidos as laterais da estante nas extremidades através de no mín. 04 (quatro) parafusos com porcas. | D80: unidade | E80: 442923 | F80: - | G80: =40-5 -> 35 | H80: 0 | I80: 0 | J80: =SUM(G80:I80) -> 35 | K80: 334.47 | L80: =J80*ROUND(K80,2) -> 11706.45 | M80: - | N80: SIM | O80: Aberto | P80: =VLOOKUP(K80, Intervalos!$B$3:$C$8,2,TRUE) -> 0,10%
A81: - | B81: 76 | C81: Painel lateral de fechamento para estante simples de biblioteca LxPxH: 32x3,5x200cm. Acabamento lateral para estantes na cor a definir , totalmente confeccionada em chapa de aço de baixo teor de carbono, sem arestas cortantes e rebarbas, com acabamento pelo sistema de tratamento químico da chapa com pré-tratamento anti-ferruginoso e pintura eletrostática epóxi-pó. Contendo: 09 (nove) pares de fendas alinhadas em linha reta, com dimensões aprox. de 2,8 cm de altura por 10,5 cm de largura, unidos as laterais da estante nas extremidades através de no mín. 04 (quatro) parafusos com porcas. Modelo referência: Lateral de Fechamento Slit 32 2m Biccateca Modelo 7016 | D81: unidade | E81: 442923 | F81: - | G81: =25-3 -> 22 | H81: 0 | I81: 0 | J81: =SUM(G81:I81) -> 22 | K81: 192.17 | L81: =J81*ROUND(K81,2) -> 4227.74 | M81: - | N81: SIM | O81: Aberto | P81: =VLOOKUP(K81, Intervalos!$B$3:$C$8,2,TRUE) -> 0,10%
A82: - | B82: 77 | C82: Pedestal para TV de 32 a 75 polegadas. Suporte com rodízios. Compatibilidade com TVs de LCD, LED, PLASMA, 3D, OLED e QLED, com tamanho de 32 a 75 polegadas e peso até 50kg. Pedestal de chão em aço carbono com regulagem de altura, bandeja de apoio para DVD player, Blu-Ray, notebook, bandeja superior de apoio para webcam e dotado de 02 rodízios com trava. Acabamento com tratamento anti-corrosão e pintura Epóxi Eletrostática. Medidas da Bandeja Inferior LxP: 48,5x29,3cm. Medidas da Bandeja Superior LxP: 22,8x29,8cm. Medida da base de chão: 66,5x88cm | D82: unidade | E82: 611786 | F82: - | G82: 57 | H82: 2 | I82: 0 | J82: =SUM(G82:I82) -> 59 | K82: 666.89 | L82: =J82*ROUND(K82,2) -> 39346.51 | M82: - | N82: SIM | O82: Aberto | P82: =VLOOKUP(K82, Intervalos!$B$3:$C$8,2,TRUE) -> 0,10%
A83: - | B83: 78 | C83: Puff Gota. Material Estrutura: Couro Sintético. Revestimento Interno: Flocos De Espuma. Revestimento Externo: Courino. Formato Gota. Cor: Vermelho. Altura: 86 CM Largura: 60 CM. Profundidade: 60 CM. | D83: unidade | E83: 615740 | F83: - | G83: 5 | H83: 0 | I83: 0 | J83: =SUM(G83:I83) -> 5 | K83: 274.72 | L83: =J83*ROUND(K83,2) -> 1373.6 | M83: - | N83: SIM | O83: Aberto | P83: =VLOOKUP(K83, Intervalos!$B$3:$C$8,2,TRUE) -> 0,10%
A84: - | B84: 79 | C84: Puff Pêra. Material Estrutura: Couro Sintético. Revestimento Interno: Flocos De Isopor. Revestimento Externo: Couro Sintético. Formato Pêra. Cor: Azul Escuro. Altura: 150 CM Largura: 120 CM. | D84: unidade | E84: 615740 | F84: - | G84: 19 | H84: 4 | I84: 0 | J84: =SUM(G84:I84) -> 23 | K84: 375.71 | L84: =J84*ROUND(K84,2) -> 8641.33 | M84: - | N84: SIM | O84: Aberto | P84: =VLOOKUP(K84, Intervalos!$B$3:$C$8,2,TRUE) -> 0,10%
A85: - | B85: 80 | C85: Quadro branco LxH: 60x40cm. Material: fórmica branca brilhante. Tipo de fixação: parede. Material da moldura: alumínio. Deve possuir sistema de cantoneira plástica sob a moldura de forma a proporcionar acabamento invisível dos parafusos. Componentes adicionais: canaleta para suporte de canetas e apagador. | D85: unidade | E85: 464631 | F85: CTF/APP: FTE - Categoria: Indústria da Madeira; Código: 7 | G85: 25 | H85: 0 | I85: 0 | J85: =SUM(G85:I85) -> 25 | K85: 84.56 | L85: =J85*ROUND(K85,2) -> 2114 | M85: - | N85: SIM | O85: Aberto | P85: =VLOOKUP(K85, Intervalos!$B$3:$C$8,2,TRUE) -> 0.1
A86: - | B86: 81 | C86: Quadro branco LxH:200X120cm, material: fórmica branca brilhante. Cor: moldura natural. Tipo de fixação: parede, material da moldura: alumínio. Deve possuir sistema de cantoneira plástica sob a moldura de forma a proporcionar acabamento invisível dos parafusos. Componentes adicionais: canaleta para suporte de canetas e apagador. | D86: unidade | E86: 383329 | F86: CTF/APP: FTE - Categoria: Indústria da Madeira; Código: 7 | G86: =74-15 -> 59 | H86: 2 | I86: 0 | J86: =SUM(G86:I86) -> 61 | K86: 321.78 | L86: =J86*ROUND(K86,2) -> 19628.58 | M86: - | N86: SIM | O86: Aberto | P86: =VLOOKUP(K86, Intervalos!$B$3:$C$8,2,TRUE) -> 0,10%
A87: - | B87: 82 | C87: Quadro branco LxH:250x120cm, material: fórmica branca brilhante. Cor: moldura natural. Tipo de fixação: parede. Material da moldura: alumínio. Deve possuir sistema de cantoneira plástica sob a moldura de forma a proporcionar acabamento invisível dos parafusos. Componentes adicionais: canaleta para suporte de canetas e apagador. | D87: unidade | E87: 383327 | F87: CTF/APP: FTE - Categoria: Indústria da Madeira; Código: 7 | G87: =133-25-2 -> 106 | H87: 2 | I87: 0 | J87: =SUM(G87:I87) -> 108 | K87: 769.33 | L87: =J87*ROUND(K87,2) -> 83087.64 | M87: - | N87: NÃO | O87: Aberto | P87: =VLOOKUP(K87, Intervalos!$B$3:$C$8,2,TRUE) -> 0,10%
A88: - | B88: 83 | C88: Quadro branco LxH:300x120cm. Material: fórmica branca brilhante. Cor: moldura natural. Tipo de fixação: parede. Material da moldura: alumínio. Deve possuir sistema de cantoneira plástica sob a moldura de forma a proporcionar acabamento invisível dos parafusos. Componentes adicionais: canaleta para suporte de canetas e apagador. | D88: unidade | E88: 482647 | F88: CTF/APP: FTE - Categoria: Indústria da Madeira; Código: 7 | G88: =144-25-4 -> 115 | H88: 9 | I88: 0 | J88: =SUM(G88:I88) -> 124 | K88: 980.37 | L88: =J88*ROUND(K88,2) -> 121565.88 | M88: - | N88: NÃO | O88: Aberto | P88: =VLOOKUP(K88, Intervalos!$B$3:$C$8,2,TRUE) -> 0,10%
A89: - | B89: 84 | C89: Quadro de aviso de cortiça LxH:120x90cm, com moldura em alumínio. | D89: unidade | E89: 619583 | F89: - | G89: 5 | H89: 18 | I89: 0 | J89: =SUM(G89:I89) -> 23 | K89: 211.75 | L89: =J89*ROUND(K89,2) -> 4870.25 | M89: - | N89: SIM | O89: Aberto | P89: =VLOOKUP(K89, Intervalos!$B$3:$C$8,2,TRUE) -> 0,10%
A90: - | B90: 85 | C90: Quadro de aviso de cortiça LxH:90x60cm, moldura em madeira. | D90: unidade | E90: 232040 | F90: - | G90: 10 | H90: 11 | I90: 0 | J90: =SUM(G90:I90) -> 21 | K90: 86.75 | L90: =J90*ROUND(K90,2) -> 1821.75 | M90: - | N90: SIM | O90: Aberto | P90: =VLOOKUP(K90, Intervalos!$B$3:$C$8,2,TRUE) -> 0.1
A91: - | B91: 86 | C91: Quadro de aviso de feltro verde LxH:120x90cm com porta de vidro e moldura em alumínio. | D91: unidade | E91: 619583 | F91: - | G91: 2 | H91: 5 | I91: 0 | J91: =SUM(G91:I91) -> 7 | K91: 1151.18 | L91: =J91*ROUND(K91,2) -> 8058.26 | M91: - | N91: SIM | O91: Aberto | P91: =VLOOKUP(K91, Intervalos!$B$3:$C$8,2,TRUE) -> 0,10%
A92: - | B92: 87 | C92: Quadro de aviso em cortiça LxH:150x120cm com moldura de alumínio. Composição: Cortiça natural, chapa de fibra PO triplex, PO duplex, chapa de fibra de madeira reflorestada, moldura em alumínio natural, 19mm de frente x 17 mm espessura, cantos retos. Orifício na moldura para a fixação na parede, recoberta com tapa furos. | D92: unidade | E92: 345660 | F92: - | G92: 7 | H92: 0 | I92: 0 | J92: =SUM(G92:I92) -> 7 | K92: 334.16 | L92: =J92*ROUND(K92,2) -> 2339.12 | M92: - | N92: SIM | O92: Aberto | P92: =VLOOKUP(K92, Intervalos!$B$3:$C$8,2,TRUE) -> 0,10%
A93: - | B93: 88 | C93: Rack com rodízios em aço para computador LxPxH: 65x48x116cm. Rack fechado com 02 gavetas (sendo uma para teclado) e duas portas. Confeccionado em chapa de aço com acabamento em pintura eletrostática. Chaveado. Deve possuir 04 rodízios e alças. Prateleiras para impressora e CPU, e espaço para estabilizador. Cor a definir. | D93: unidade | E93: 607286 | F93: - | G93: 2 | H93: 0 | I93: 0 | J93: =SUM(G93:I93) -> 2 | K93: 1211.67 | L93: =J93*ROUND(K93,2) -> 2423.34 | M93: - | N93: SIM | O93: Aberto | P93: =VLOOKUP(K93, Intervalos!$B$3:$C$8,2,TRUE) -> 0,10%
A94: - | B94: 89 | C94: Sofá 01 lugar em tecido LxPxH: 80x80x75cm. Com braço injetado em polipropileno. Encosto e assento em espuma de densidade mín. D28. Cor a definir. | D94: unidade | E94: 608715 | F94: - | G94: 33 | H94: 0 | I94: 0 | J94: =SUM(G94:I94) -> 33 | K94: 956.33 | L94: =J94*ROUND(K94,2) -> 31558.89 | M94: - | N94: SIM | O94: Aberto | P94: =VLOOKUP(K94, Intervalos!$B$3:$C$8,2,TRUE) -> 0,10%
A95: - | B95: 90 | C95: Sofá 02 lugares em tecido LxPxH: 130x80x75cm. Com braço injetado em polipropileno. Encosto e assento em espuma de densidade mín. D28. Cor a definir. | D95: unidade | E95: 608714 | F95: - | G95: =57-10-2 -> 45 | H95: 0 | I95: 217 | J95: =SUM(G95:I95) -> 262 | K95: 1409.99 | L95: =J95*ROUND(K95,2) -> 369417.38 | M95: - | N95: NÃO | O95: Aberto | P95: =VLOOKUP(K95, Intervalos!$B$3:$C$8,2,TRUE) -> 0,10%
A96: - | B96: 91 | C96: Sofá 03 lugares em tecido LxPxH: 180x80x75cm. Com braço injetado em polipropileno. Encosto e assento em espuma de densidade mín. D28. Cor a definir. | D96: unidade | E96: 293173 | F96: - | G96: =47-10 -> 37 | H96: 0 | I96: 217 | J96: =SUM(G96:I96) -> 254 | K96: 1581.96 | L96: =J96*ROUND(K96,2) -> 401817.84 | M96: - | N96: NÃO | O96: Aberto | P96: =VLOOKUP(K96, Intervalos!$B$3:$C$8,2,TRUE) -> 0,10%
A97: - | B97: 92 | C97: Suporte articulado de mesa para dois monitores e TVs LED/LCD de 17 a 32 polegadas com ajuste de altura. Cor preta. Peso suportado: cada monitor com até 8kg e 78cm de altura. Características: ajuste de altura em ferramentas de até 43cm da mesa ao centro da base de monitor; inclinaçãoTILT: de 45º a -45º para cada monitor; giro da coluna de 360º; organizador de cabos. Material: aço carbono. Acabamento: tratamento anticorrosão e pintura eletrostática. Dimensões do produto: 91,2x28,0x46,5cm. Compatibilidade VESA: 75x75 até 100x100mm. | D97: unidade | E97: 472935 | F97: - | G97: 59 | H97: 1 | I97: 0 | J97: =SUM(G97:I97) -> 60 | K97: 447.28 | L97: =J97*ROUND(K97,2) -> 26836.8 | M97: - | N97: SIM | O97: Aberto | P97: =VLOOKUP(K97, Intervalos!$B$3:$C$8,2,TRUE) -> 0,10%
A98: - | B98: 93 | C98: Suporte em L para tela de projeção com estrutura soldada de metal único, para montagem no teto ou parede. Suportes em L de 15,24 cm que permita que a tela de projeção seja configurada para longe de paredes, sistemas de entretenimento, móveis ou qualquer obstrução e pode ser pendurada a partir de tetos para quedas estendidas. Suporta até 4,5 kg. kit com: elos de encaixe, parafusos, porcas de asa, arruelas, parafusos e âncoras de parede de secagem autotocadas. | D98: unidade | E98: 355142 | F98: - | G98: 63 | H98: 0 | I98: 0 | J98: =SUM(G98:I98) -> 63 | K98: 245 | L98: =J98*ROUND(K98,2) -> 15435 | M98: - | N98: SIM | O98: Aberto | P98: =VLOOKUP(K98, Intervalos!$B$3:$C$8,2,TRUE) -> 0,10%
A99: - | B99: 94 | C99: Suporte para fixação em paredes de telas de 39 até 100 polegadas. Compatível com TVs Plasma, 3D, LCD, LED. Fabricado em aço carbono de alta resistência. Distância da parede: aproximadamente 2,3 cm. Compatível com padrão VESA de: 200x100, 200x200, 200x300, 300x200, 300x300, 400x200, 400x300, 400x400, 600x200, 600x400, 665x320 ou 800x400mm. Suporta até aproximadamente 75kg. Acompanha 01 Suporte, nível bolha embutido na base, espaçadores, trava de segurança tipo click (easy lock). | D99: unidade | E99: 615213 | F99: - | G99: 2 | H99: 3 | I99: 0 | J99: =SUM(G99:I99) -> 5 | K99: 362.9 | L99: =J99*ROUND(K99,2) -> 1814.5 | M99: - | N99: SIM | O99: Aberto | P99: =VLOOKUP(K99, Intervalos!$B$3:$C$8,2,TRUE) -> 0,10%
A100: - | B100: 95 | C100: Suporte tipo braço mecânico (articulado) para TV LCD/Plasma de 42" a 60". Suporte para até 60kg de carga. Acabamento em pintura eletrostática a pó (epóxi) na cor preto fosco. Distância da parede quando fechado de no máximo 170 mm e quando aberto de no mínimo 595 mm. Compatível com os padrões Vesa para suportes (distância entre furos até 800 x 460 mm). Possibilidade de movimentação Vertical e horizontal de pelo menos 30ẃ. Com sistema de travamento para evitar queda do aparelho. Com duas bases para fixação na TV, kit de parafusos e manual de montagem em português inclusos. | D100: unidade | E100: 450792 | F100: - | G100: 22 | H100: 2 | I100: 0 | J100: =SUM(G100:I100) -> 24 | K100: 179.72 | L100: =J100*ROUND(K100,2) -> 4313.28 | M100: - | N100: SIM | O100: Aberto | P100: =VLOOKUP(K100, Intervalos!$B$3:$C$8,2,TRUE) -> 0,10%
A101: - | B101: 96 | C101: Trocador De Fraldas De Parede Retrátil, mesa rebatível quando não está em uso, estrutura reforçada com deflexão mínima da mesa, sem pontos de esmagamento das mãos do bebê, capacidade mínima de peso de 90 kg(carga estática), dimensões mínimas de: comprimento 87cm, profundidade aberto 57cm e fechado com 9cm, possui cinto de segurança para o bebê, cantos arredondados para facilitar a limpeza, possuir adição de bactericida que reduz em no mínimo mais de 80% a proliferação bacteriana e os maus odores, mesa em polietileno de alta resistência, com estrutura interna em aço inoxidável e aço zincado, movimento suave e abertura e fechamento, assistido por sistema pneumático, com no mínimo 2 ganchos para bolsa do bebê e porta objetos, cor branco, com ferragem fornecida para instalação, com necessidade de no mínimo 4 furos na parede e garantia de no mínimo 2 anos para defeitos de fabricação. | D101: unidade | E101: 473645 | F101: - | G101: 55 | H101: 5 | I101: 0 | J101: =SUM(G101:I101) -> 60 | K101: 1698.31 | L101: =J101*ROUND(K101,2) -> 101898.6 | M101: - | N101: NÃO | O101: Aberto | P101: =VLOOKUP(K101, Intervalos!$B$3:$C$8,2,TRUE) -> 0,10%
A102: 1 | B102: 97 | C102: Poltrona de auditório com prancheta escamoteável LxP:63,5x69cm. Poltrona com assento retrátil para auditório, modelo com braços duplos e apoia-braços. Prancheta integrada na lateral da estrutura, e espuma injetada, montagem em sequência. Assento em compensado multilaminado resinado, moldado anatomicamente a quente com mín. de 14 mm de espessura. Deve possuir curvatura na parte frontal do assento. Encosto compensado multilaminado resinado, moldado anatomicamente a quente com mín. de 14 mm de espessura com dupla curvatura anatômica. Espuma injetada, anatomicamente em poliuretano de alta resistência, isenta de CFC, com densidade controlada de 45 a 50 Kg/m3 com aprox. 60 mm de espessura média no assento e no encosto. Revestimento em tecido sintético de poliuretano, cec, sem costuras e fixados as madeiras por grampos, na cor azul, cinza ou preta (a definir). Lateral com a parte central em compensado de no mín. 10 mm, forrado conforme padrão do assento e encosto, ao centro, travamento em chapa de aço chata SAE 1020. Parte inferior com chapa própria para a fixação ao piso, em Aço SAE 1020. Estrutura de sustentação da cadeira em tubo de aço industrial SAE 1010/1020 oblongo FF de no mín. 16x30mm com espessura da parede de no mín. 1,9 mm. Componentes metálicos unidos por solda do tipo MIG. Suporte basculante do assento em chapa de Aço SAE 1020 com espessura de no mín. 3 mm, e pino de aço, sendo um de cada lado do assento. Suporte do encosto em chapa de Aço SAE 1020 com espessura de no mín. 4 mm, sendo um de cada lado do encosto. Encosto com contra capa injetada em polipropileno copolímero preta, abas de perfil de aprox. 1,5 cm, texturizado, com sistema rápido de montagem e desmontagem, permitindo troca de tecido sem quebra ou troca da mesma. Apóia Braços injetados em poliuretano texturizado, sobre alma de Aço SAE 1020 tratada quimicamente. Prancheta escamoteável em MDF de no mín. 18 mm, na cor preta, acabamento lateral em perfil de PVC, podendo ser instalado em ambos os lados segundo a necessidade, quando não em uso, aloja-se internamente dentro do braço na lateral da poltrona. Os componentes metálicos devem possuir pré tratamento antiferruginoso e acabamento em pintura epóxi-pó. Dimensões aproximadas do encosto: 45x45cm (LxH). Dimensões aprox. do assento: 48x46cm (LxPxH). Altura do chão ao assento de 48cm. Instalação inclusa | D102: unidade | E102: 613469 | F102: - | G102: 400 | H102: 400 | I102: 60 | J102: =SUM(G102:I102) -> 860 | K102: 1866.33 | L102: =J102*ROUND(K102,2) -> 1605043.8 | M102: =L102+L103 -> 1726146 | N102: NÃO | O102: Aberto | P102: =VLOOKUP(K102, Intervalos!$B$3:$C$8,2,TRUE) -> 0,10%
B103: 98 | C103: Poltrona para Auditório Fixa com Braços para Pessoas Obesas. Poltrona de auditório rebatível estofada para pessoa obesa com prancheta escamoteável LxP: 111x69cm. Deve ter previsão para fixação no chão, ser um modelo próprio para pessoa obesa, possuir apóia-braços de ambos os lados e integrados na lateral da estrutura, estofamento em espuma injetada e deve permitir montagem em sequência. Assento rebatível em compensado multilaminado resinado, moldado anatomicamente a quente com mín. de 20mm de espessura. Deve possuir dois pés laterais, medindo no mín. 1,6 x 0,5 cm. Encosto: Compensado multilaminado resinado, moldado anatomicamente a quente com mín. de 20 mm de espessura com dupla curvatura anatômica. Espuma expandida, anatomicamente em poliuretano de alta resistência, isenta de CFC, com densidade controlada de no mín. 33 Kg/m3 com aprox. 60 mm de espessura média no assento e no encosto. Revestimento em tecido sintético de poliuretano, cec, sem costuras e fixados as madeiras por grampos com acabamento zincado, na cor azul, cinza ou preta (à definir. Lateral com a parte central em compensado de no mín. 10 mm, forrado conforme no mesmo padrão do assento e encosto, ao centro, travamento em chapa de aço chata SAE 1020 com mín. de 22,5 x 2 cm, arrebitados ao centro em dois pontos de ambos os lados. Parte inferior com chapa própria para a fixação ao piso, em Aço SAE 1020. Estrutura de sustentação da cadeira em tubo de aço industrial SAE 1010/1020 oblongo FF de no mín. 16x30mm com espessura da parede de no mín. 1,90 mm. Componentes metálicos unidos por solda do tipo MIG, formando um conjunto para posterior montagem por parafusos. Suporte basculante do assento em chapa de aço SAE 1020 com espessura de 3 mm, e pino de Aço SAE 1213 com 10 mm de diâmetro, com duas porcas garras para sua fixação, sendo um de cada lado do assento. Suporte do encosto em chapa de aço SAE 1020 com espessura de 4 mm, com duas porcas garras para sua fixação, sendo um de cada lado do encosto. Encosto com contracapa em tecido de poliéster, parafusos de fixação do assento e encosto do tipo sextavado flangeado com trava, encravadas e rebitadas na madeira em ambos os lados. Apoio para braços injetados em poliuretano texturizado, sobre alma de aço SAE 1020 tratada quimicamente. Prancheta escamoteável/basculante em MDF de no mín. 18 mm, na cor preta, acabamento lateral em perfil de PVC, podendo ser instalado em ambos os lados segundo a necessidade, quando não em uso, aloja-se internamente dentro do braço na lateral da poltrona. Dimensões totais: LxPxH: 111x69x83,5cm. Dimensões do encosto: LxH 90x45cm. Dimensões do assento: LxP: 96x46cm, sendo a altura do chão ao assento de 48cm. Instalação inclusa. | D103: unidade | E103: 613469 | F103: - | G103: 40 | H103: 3 | I103: 0 | J103: =SUM(G103:I103) -> 43 | K103: 2816.33 | L103: =J103*ROUND(K103,2) -> 121102.19 | O103: Aberto | P103: =VLOOKUP(K103, Intervalos!$B$3:$C$8,2,TRUE) -> 0,10%
A104: - | B104: 99 | C104: Mesa Piquenique na cor marrom. Produzida em madeira plástica 100% reciclada. Formato retangular com dois bancos integrados (acoplados) e um furo central para guarda-sol. Indicada para áreas externas. Dimensões aproximadas: 74 сm de altura; 1,30 m de largura е 1,50 m de comprimento. O produto não é dobrável e requer montagem pela contratada. Similar ao modelo EC-40 da Marca LANCI. | D104: unidade | E104: 468461 | F104: - | G104: 120 | H104: 0 | I104: 0 | J104: =SUM(G104:I104) -> 120 | K104: 2870 | L104: =J104*ROUND(K104,2) -> 344400 | M104: - | N104: NÃO | O104: Aberto | P104: =VLOOKUP(K104, Intervalos!$B$3:$C$8,2,TRUE) -> 0,10%
...

Sheet Intervalos
B2: Valor Unitário Estimado (Faixa) | C2: Diferença Mínima de Valores / Percentuais de Lances | E2: Interpretação
B3: 0.01 | C3: 0.01 | E3: R$ 0,01 - R$ 5,00 => R$ 0,01
B4: 5 | C4: 0.02 | E4: R$ 5,01 - R$ 10,00 => R$ 0,02
B5: 10 | C5: 0.03 | E5: R$ 10,01 - R$ 20,00 => R$ 0,03
B6: 20 | C6: 0.05 | E6: R$ 20,01 - R$ 50,00 => R$ 0,05
B7: 50 | C7: 0.1 | E7: R$ 50,01 - R$ 100,00 => R$ 0,10
B8: 100 | C8: 0,10% | E8: Acima de R$ 100,00 => 0,10%
