Workbook

Sheet Anexo III
A1: PRÓ-REITORIA DE ADMINISTRAÇÃO
A2: COORDENAÇÃO DE MATERIAIS
A3: ANEXO III - PLANILHA ESTIMATIVA DE DESCRIÇÃO E PREÇOS
A5: GRUPO | B5: ITEM LICITAÇÃO | C5: DESCRIÇÃO/ ESPECIFICAÇÃO | D5: UNIDADE DE MEDIDA | E5: SUGESTÃO DE CATMAT | F5: INFORMAÇÕES ADICIONAIS | G5: QUANTIDADE UFF | H5: QUANTIDADE UASG 762200 | I5: QUANTIDADE UASG 927255 | J5: QUANTIDADE TOTAL | K5: VALOR UNITÁRIO | L5: VALOR TOTAL | M5: VALOR TOTAL DO GRUPO | N5: EXCLUSIVO ME/EPP | O5: MODO DE DISPUTA | P5: INTERVALO LANCES
A6: - | B6: 1 | C6: Apoio ergonômico para os pés LxPxH: 45x30x7-14cm com plataforma em material polipropileno de alta resistência e textura antiderrapante; não deve apresentar quinas vivas, dimensões da plataforma aproximadamente de 45cm x 30cm (podendo variar em +/- 10%); ajuste fácil de altura variando de aproximadamente 7cm a 14cm e ajuste fácil de inclinação de até 25º; pés antiderrapantes. | D6: unidade | E6: 326126 | F6: - | G6: 217 | H6: 17 | I6: 0 | J6: =SUM(G6:I6) -> 234 | K6: 63.26 | L6: =J6*ROUND(K6,2) -> 14802.84 | M6: - | N6: SIM | O6: Aberto | P6: =VLOOKUP(K6, Intervalos!$B$3:$C$8,2,TRUE) -> 0.1
A7: - | B7: 2 | C7: Armário baixo com duas portas LxPxH: 80x45x75cm. Armário fabricado em MDP com no mín. 18mm, com fita de bordo nos tampos e demais topos aparentes, contando com acabamento em laminado de baixa pressão (BP). Dobradiças metálicas e puxadores cromados. Prateleira centralizada. Deve possuir fechadura reforçada ou em chave tetra. | D7: unidade | E7: 458657 | F7: CTF/APP: FTE - Categoria: Indústria da Madeira; Código: 7 | G7: 4 | H7: 0 | I7: 986 | J7: =SUM(G7:I7) -> 990 | K7: 667.89 | L7: =J7*ROUND(K7,2) -> 661211.1 | M7: - | N7: NÃO | O7: Aberto | P7: =VLOOKUP(K7, Intervalos!$B$3:$C$8,2,TRUE) -> 0,10%
A8: - | B8: 3 | C8: Armário baixo com portas LxPxH: 80x45x75cm. Armário fabricado em MDP com no mín. 18mm, com fita de bordo nos tampos e demais topos aparentes, contando com acabamento em laminado de baixa pressão (BP). Deve possuir duas portas de correr, que correm sobre trilhos localizados na parte inferior e superior, dotadas de puxadores metálicos embutidos. Prateleira centralizada com reforço estrutural central. Deve possuir fechadura. | D8: unidade | E8: 458657 | F8: CTF/APP: FTE - Categoria: Indústria da Madeira; Código: 7 | G8: 2 | H8: 0 | I8: 0 | J8: =SUM(G8:I8) -> 2 | K8: 1411.68 | L8: =J8*ROUND(K8,2) -> 2823.36 | M8: - | N8: SIM | O8: Aberto | P8: =VLOOKUP(K8, Intervalos!$B$3:$C$8,2,TRUE) -> 0,10%
A9: - | B9: 4 | C9: Armário baixo com quatro portas LxPxH: 180x45x75cm. Cor a definir. Estrutura, portas, prateleiras, fundo e laterais em MDP com no mín. 18mm de espessura, revestida em laminado melamínico de baixa pressão texturizado em ambas as faces. Todas as bordas, por todo perímetro, com acabamento em fita de bordo na espessura do MDP, colada a quente pelo sistema tipo hot-melt, com curvatura de raio mínimo de 2,5 mm. Laterais com regulagens para prateleiras a cada 32 mm aprox. através de no mín. 04 pinos metálicos fixado às laterais do armário. Rodapé com sapatas reguladoras de nível encaixada e fixada na base através de parafuso permitindo a regulagem da mesma tanto na parte interna como externa do armário. 04 portas de abrir com giro mínimo de 270ẃ (mín. de 02 dobradiças em cada porta). Desmontável. Garantia de no mín. 5 anos. | D9: unidade | E9: 237341 | F9: CTF/APP: FTE - Categoria: Indústria da Madeira; Código: 7 | G9: 29 | H9: 0 | I9: 0 | J9: =SUM(G9:I9) -> 29 | K9: 1381.33 | L9: =J9*ROUND(K9,2) -> 40058.57 | M9: - | N9: SIM | O9: Aberto | P9: =VLOOKUP(K9, Intervalos!$B$3:$C$8,2,TRUE) -> 0,10%
A10: - | B10: 5 | C10: Armário com duas portas alto LxPxH: 100x50x160cm. Cor a definir. Estrutura, portas laterais, base inferior, prateleiras, tampo, fundo em MDP de no mín. 18mm de espessura, revestida em laminado melamínico de baixa pressão texturizado em ambas as faces. Borda frontal e posterior com acabamento em fita de bordo da espessura do MDP, colada a quente pelo sistema tipo hot-melt, com raio mínimo de 2,5 mm em todo seu perímetro. Bordas transversais com acabamento em fita de bordo na espessura do MDP, colada a quente pelo sistema tipo hot-melt, em todo seu perímetro. Laterais com regulagens para prateleiras através de no mín. 04 pinos metálicos nas laterais do armário. Rodapé com sapatas reguladoras de nível encaixada e fixada na base através de parafuso permitindo a regulagem da mesma tanto na parte interna como externa do armário. Deve possuir 02 portas de abrir com giro de 270ẃ com no mín 04 dobradiças em cada porta. Fechadura com travamento simultâneo superior e inferior tipo cremona. Puxadores do tipo Zamak niquelado redondo com forma côncava com aproximadamente 110 mm de comprimento. Deve possuir três prateleiras. As laterais, fundo, tampo e base inferior são ligados entre si por sistema que possibilite a montagem e desmontagem. Partes metálicas com pré-tratamento antiferruginoso e acabamento em pintura epóxi-pó. | D10: unidade | E10: 458707 | F10: CTF/APP: FTE - Categoria: Indústria da Madeira; Código: 7 | G10: 3 | H10: 0 | I10: 986 | J10: =SUM(G10:I10) -> 989 | K10: 1166 | L10: =J10*ROUND(K10,2) -> 1153174 | M10: - | N10: NÃO | O10: Aberto | P10: =VLOOKUP(K10, Intervalos!$B$3:$C$8,2,TRUE) -> 0,10%
A11: - | B11: 6 | C11: Armário com duas portas de correr LxPxH: 90x50x160cm. Confeccionado em MDP com no mín. 18mm de espessura, revestido em ambas as faces em laminado melamínico de baixa pressão (BP), com acabamento de borda com fita de bordo coladas com adesivo hot-melt em todo o contorno. As portas devem correr sobre trilhos. Deve possuir três prateleiras.As laterais devem ter furação para regulagem de altura das prateleiras, que devem ser apoiadas cada uma em no mínimo quatro suportes. Base retangular fechada. Acabamento com sapatas articuláveis, com sistema regulável após montagem. | D11: unidade | E11: 294773 | F11: CTF/APP: FTE - Categoria: Indústria da Madeira; Código: 7 | G11: 25 | H11: 0 | I11: 0 | J11: =SUM(G11:I11) -> 25 | K11: 2261.22 | L11: =J11*ROUND(K11,2) -> 56530.5 | M11: - | N11: SIM | O11: Aberto | P11: =VLOOKUP(K11, Intervalos!$B$3:$C$8,2,TRUE) -> 0,10%
A12: - | B12: 7 | C12: Armário com duas portas extra-alto LxPxH: 60x50x210cm. Cor a definir. Estrutura, portas laterais, base inferior, prateleiras, tampo, fundo em MDP de no mín. 18mm de espessura, revestida em laminado melamínico de baixa pressão texturizado em ambas as faces. Borda frontal e posterior com acabamento em fita de bordo da espessura do MDP, colada a quente pelo sistema tipo hot-melt, com raio mínimo de 2,5 mm em todo seu perímetro. Bordas transversais com acabamento em fita de bordo na espessura do MDP, colada a quente pelo sistema tipo hot-melt, em todo seu perímetro. Laterais com regulagens para prateleiras através de no mín. 04 pinos metálicos nas laterais do armário. Rodapé com sapatas reguladoras de nível encaixada e fixada na base através de parafuso permitindo a regulagem da mesma tanto na parte interna como externa do armário. Deve possuir 02 portas de abrir com giro de 270ẃ com no mín 04 dobradiças em cada porta. Fechadura com travamento simultâneo superior e inferior tipo cremona. Puxadores do tipo Zamak niquelado redondo com forma côncava com aproximadamente 110 mm de comprimento. Deve possuir quatro prateleiras. As laterais, fundo, tampo e base inferior são ligados entre si por sistema que possibilite a montagem e desmontagem. Partes metálicas com pré-tratamento antiferruginoso e acabamento em pintura epóxi-pó. | D12: unidade | E12: 623625 | F12: CTF/APP: FTE - Categoria: Indústria da Madeira; Código: 7 | G12: 13 | H12: 0 | I12: 0 | J12: =SUM(G12:I12) -> 13 | K12: 1549.26 | L12: =J12*ROUND(K12,2) -> 20140.38 | M12: - | N12: SIM | O12: Aberto | P12: =VLOOKUP(K12, Intervalos!$B$3:$C$8,2,TRUE) -> 0,10%
A13: - | B13: 8 | C13: Armário com duas portas extra-alto LxPxH: 80x50x210cm. Cor a definir. Estrutura, portas laterais, base inferior, prateleiras, tampo, fundo em MDP de no mín. 18mm de espessura, revestida em laminado melamínico de baixa pressão texturizado em ambas as faces. Borda frontal e posterior com acabamento em fita de bordo da espessura do MDP, colada a quente pelo sistema tipo hot-melt, com raio mínimo de 2,5 mm em todo seu perímetro. Bordas transversais com acabamento em fita de bordo na espessura do MDP, colada a quente pelo sistema tipo hot-melt, em todo seu perímetro. Laterais com regulagens para prateleiras através de no mín. 04 pinos metálicos nas laterais do armário. Rodapé com sapatas reguladoras de nível encaixada e fixada na base através de parafuso permitindo a regulagem da mesma tanto na parte interna como externa do armário. Deve possuir 02 portas de abrir com giro de 270ẃ com no mín 04 dobradiças em cada porta. Fechadura com travamento simultâneo superior e inferior tipo cremona. Puxadores do tipo Zamak niquelado redondo com forma côncava com aproximadamente 110 mm de comprimento. Deve possuir quatro prateleiras. As laterais, fundo, tampo e base inferior são ligados entre si por sistema que possibilite a montagem e desmontagem. Partes metálicas com pré-tratamento antiferruginoso e acabamento em pintura epóxi-pó. | D13: unidade | E13: 611262 | F13: CTF/APP: FTE - Categoria: Indústria da Madeira; Código: 7 | G13: 29 | H13: 0 | I13: 0 | J13: =SUM(G13:I13) -> 29 | K13: 1518.92 | L13: =J13*ROUND(K13,2) -> 44048.68 | M13: - | N13: SIM | O13: Aberto | P13: =VLOOKUP(K13, Intervalos!$B$3:$C$8,2,TRUE) -> 0,10%
A14: - | B14: 9 | C14: Armário com duas portas médio LxPxH: 90x50x120cm. Cor a definir. Estrutura, portas laterais, base inferior, prateleiras, tampo, fundo em MDP de no mín. 18mm de espessura, revestida em laminado melamínico de baixa pressão texturizado em ambas as faces. Borda frontal e posterior com acabamento em fita de bordo da espessura do MDP, colada a quente pelo sistema tipo hot-melt, com raio mínimo de 2,5 mm em todo seu perímetro. Bordas transversais com acabamento em fita de bordo na espessura do MDP, colada a quente pelo sistema tipo hot-melt, em todo seu perímetro. Laterais com regulagens para prateleiras através de no mín. 04 pinos metálicos nas laterais do armário. Rodapé com sapatas reguladoras de nível encaixada e fixada na base através de parafuso permitindo a regulagem da mesma tanto na parte interna como externa do armário. Deve possuir 02 portas de abrir com giro de 270ẃ com no mín 04 dobradiças em cada porta. Fechadura com travamento simultâneo superior e inferior tipo cremona. Puxadores do tipo Zamak niquelado redondo com forma côncava com aproximadamente 110 mm de comprimento. Deve possuir duas prateleiras. As laterais, fundo, tampo e base inferior são ligados entre si por sistema que possibilite a montagem e desmontagem. Partes metálicas com pré-tratamento antiferruginoso e acabamento em pintura epóxi-pó. | D14: unidade | E14: 346502 | F14: CTF/APP: FTE - Categoria: Indústria da Madeira; Código: 7 | G14: 4 | H14: 0 | I14: 0 | J14: =SUM(G14:I14) -> 4 | K14: 785 | L14: =J14*ROUND(K14,2) -> 3140 | M14: - | N14: SIM | O14: Aberto | P14: =VLOOKUP(K14, Intervalos!$B$3:$C$8,2,TRUE) -> 0,10%
A15: - | B15: 10 | C15: Armário de aço 3 portas tipo guarda volumes médio para guarda de mochilas. Em aço galvanizado, tratamento anti-corrosivo e fosfatizante, pintura eletrostática, com fechadura de aço tipo soprano, fecho lingueta em aço, com no mínimo 2 chaves, abertura da porta LxA: 29,5x55cm, ou próximo (variação aceitável de até 5cm), tamanho total L 35 X A 185 X P 45 cm. Para guarda em bibliotecas de materiais com maiores dimensões, como mochilas e capacetes. | D15: unidade | E15: 239105 | F15: - | G15: 12 | H15: 5 | I15: 0 | J15: =SUM(G15:I15) -> 17 | K15: 558 | L15: =J15*ROUND(K15,2) -> 9486 | M15: - | N15: SIM | O15: Aberto | P15: =VLOOKUP(K15, Intervalos!$B$3:$C$8,2,TRUE) -> 0,10%
A16: - | B16: 11 | C16: Armário de aço com duas portas LxPxH: 76x33x150cm. Chapas de aço SAE 1010/1020: corpo e portas em chapa de no mín. 24; Prateleiras e reforço das portas em chapa de no mín. 20; Base em chapa de no mín. 18; Dobradiças em chapa de no mín. 14. Contando de quatro prateleiras removíveis e ajustáveis (permitem o ajuste em distâncias de até 100 mm). Dobradiças internas de no mín. 75 mm de altura e no mín. três unidades por porta. Puxadores inteiramente metálicos, de liga não-ferrosa. Fechadura de tambor cilíndrico com uma duplicata da chave. Partes metálicas devem receber pré-tratamento antiferruginoso e acabamento em pintura eletrostática epóxi-pó em cor a ser definida. | D16: unidade | E16: 408869 | F16: - | G16: 4 | H16: 2 | I16: 0 | J16: =SUM(G16:I16) -> 6 | K16: 877.8 | L16: =J16*ROUND(K16,2) -> 5266.8 | M16: - | N16: SIM | O16: Aberto | P16: =VLOOKUP(K16, Intervalos!$B$3:$C$8,2,TRUE) -> 0,10%
A17: - | B17: 12 | C17: Armário de aço com duas portas LxPxH: 90x45x198cm. Chapas de aço SAE 1010/1020: corpo e portas em chapa de no mín. 24; Prateleiras e reforço das portas em chapa de no mín. 20; Base em chapa de no mín. 18; Dobradiças em chapa de no mín. 14. Contando de quatro prateleiras removíveis e ajustáveis (permitem o ajuste em distâncias de até 100 mm.). Dobradiças internas de no mín. 75 mm de altura e no mín. três unidades por porta. Puxadores inteiramente metálicos, de liga não-ferrosa. Fechadura de tambor cilíndrico com uma duplicata da chave. Partes metálicas devem receber pré-tratamento antiferruginoso e acabamento em pintura eletrostática epóxi-pó em cor a ser definida. | D17: unidade | E17: 629233 | F17: - | G17: 7 | H17: 2 | I17: 986 | J17: =SUM(G17:I17) -> 995 | K17: 1050.37 | L17: =J17*ROUND(K17,2) -> 1045118.1 | M17: - | N17: NÃO | O17: Aberto | P17: =VLOOKUP(K17, Intervalos!$B$3:$C$8,2,TRUE) -> 0,10%
... A21: - | B21: 16 | C21: Armário em aço com duas portas LxPxH: 90x45x185cm na cor cinza com portas na cor a definir, totalmente confeccionada em chapa de aço com pré-tratamento antiferruginoso e pintura eletrostática epóxi-pó. Deverá possuir 02 (duas) portas, uma com trincos internos (superior e inferior) e outra com fechadura com chave e cópia, as portas deverão possuir dobras enroladas e reforço do tipo cartola garantindo assim maior resistência ao conjunto e também sistema de ventilação dos compartimentos. 03 (três) prateleiras com sistema de fixação por encaixe. 02 (duas) gavetas para pastas suspensas com sistema de deslizamento por corrediças telescópicas e puxador estampado na própria gaveta. Prateleiras, portas, fundo e laterais confeccionadas em chapa de aço com espessura de 0,65mm, rodapé e reforço interno em chapa de aço com espessura de 1,25mm. Sapatas para nivelamento. Dimensões aproximadas (LAP): 90x185x45cm. | D21: unidade | E21: 458662 | F21: - | G21: 4 | H21: 0 | I21: 0 | J21: =SUM(G21:I21) -> 4 | K21: 1506.33 | L21: =J21*ROUND(K21,2) -> 6025.32 | M21: - | N21: SIM | O21: Aberto | P21: =VLOOKUP(K21, Intervalos!$B$3:$C$8,2,TRUE) -> 0,10%
A22: - | B22: 17 | C22: Armário guarda-volumes triplo com 15 portas. Dimensões aproximadas: 105 x 45 x 185cm (LxPxH). Estrutura em aço galvanizado, tratamento anti-corrosivo e fosfatizante, pintura eletrostática a pó, quadro frontal, 15 portas, abertura da porta LxH: 29,5x30,6cm, fechamento triplo (com chave e pitão), cabide barra. Cor: Estrutura: Cinza, Porta: Azul Royal. Garantia de cinco anos. Referência: Linha Multi-Biccateca BC3335. | D22: unidade | E22: 458662 | F22: - | G22: =39-3 -> 36 | H22: 1 | I22: 0 | J22: =SUM(G22:I22) -> 37 | K22: 3008.45 | L22: =J22*ROUND(K22,2) -> 111312.65 | M22: - | N22: NÃO | O22: Aberto | P22: =VLOOKUP(K22, Intervalos!$B$3:$C$8,2,TRUE) -> 0,10%
A23: - | B23: 18 | C23: Arquivo frontal de aço para pasta suspensa com 04 gavetas LxPxH: 45x70x135cm. Gavetas com corrediças metálicas sobre trilhos telescópicos com abertura total. Puxadores inteiramente metálicos, de liga não-ferrosa. Fechadura de tambor cilíndrico com sistema de travamento simultâneo das gavetas. Chaves com 01 duplicata. Porta-etiquetas estampado ou sobreposto, sendo este último exclusivamente de liga metálica não ferrosa. Elementos em aço com pré-tratamento antiferruginoso e pintura eletrostática epóxi-pó | D23: unidade | E23: 275191 | F23: - | G23: 2 | H23: 0 | I23: 0 | J23: =SUM(G23:I23) -> 2 | K23: 1761.33 | L23: =J23*ROUND(K23,2) -> 3522.66 | M23: - | N23: SIM | O23: Aberto | P23: =VLOOKUP(K23, Intervalos!$B$3:$C$8,2,TRUE) -> 0,10%
A24: - | B24: 19 | C24: Balcão de atendimento reto acessível LxPxH: 240-260x85x75,5-110cm em MDF com espaço para 02 postos de trabalho e duas alturas. Largura total variando de 240cm a 260cm e profundidade total de 80cm. O balcão deve possuir duas alturas, sendo de 75,5cm na parte de menor altura e de 110cm na parte de maior altura. Medidas dos balcões consideradas a partir do topo dos tampos. Na parte do balcão onde estiver localizado o tampo de maior altura deverá ter também, internamente, a continuidade do tampo de menor altura de forma que este sirva de bancada para os dois postos de trabalho. Essa bancada deve possuir passa-fios e calha central para fiação.O tampo localizado a 75,5 cm do chão deve possuir 80cm de profundidade e largura podendo variar de 240 a 260cm, fixado sobre a estrutura, painéis laterais e central. Este tampo possui em seu canto mais lateral e frontal forma arredondada com raio de 15cm. O tampo localizado a 110cm do chão deve possuir 30cm de profundidade acompanhando a largura do painel frontal no qual estará fixado. Os tampos devem estar apoiados sobre elementos estruturais, deixando livre 5cm de balanço na parte frontal para aproximação. O painel frontal da parte do balcão de maior altura deve possuir com 107,5 cm de altura na parte de maior altura, com largura podendo variar entre 120 e 160cm. O painel frontal da parte de menor altura deve estar localizado a 47,5cm do chão, possuir 25cm de altura e estar recuado 25cm em relação ao painel frontal do painel frontal do da parte do balcão de maior altura. Ambas laterais do balcão devem ser vedadas, em MDF, tendo a lateral da parte do balcão de maior altura um acréscimo, acima do tampo de menor altura para vedar a parte inferior ao tampo de maior altura. Painel central, alinhado com o fim do tampo superior, no qual será apoiado o tampo de menor altura, tendo 80cm de profundidade e 73cm de altura. Todos os MDF devem ser revestidos com laminado de alta pressão em ambas as faces com superfície opaca, texturizada e com acabamento de todas as bordas em fita de PVC, colada a quente pelo sistema hot-melt, com raio mínimo de 2,5 mm em todo seu perímetro, na mesma cor do revestimento das faces. Os tampos e elementos em MDF que possuírem função estrutural devem possuir no mínimo 25mm de espessura e demais elementos no mínimo 18mm de espessura. Cor a definir. Estrutura em aço carbono SAE 1010/1020 com quatro apoios reguláveis no piso em polipropileno ou nylon injetado. A área do balcão acessível deve possuir largura mínima de 90cm e altura entre 75 a 85cm, assegurando-se largura livre mínima sob a superfície de 80cm. O balcão deve ser acessível tanto para o posto de trabalho quanto para o usuário a ser atendido. Devem ser asseguradas altura livre sob o tampo de no mínimo 73cm e profundidade de 30cm para aproximação frontal de pessoa com cadeira de rodas. | D24: unidade | E24: 619547 | F24: CTF/APP: FTE - Categoria: Indústria da Madeira; Código: 7 | G24: 2 | H24: 0 | I24: 0 | J24: =SUM(G24:I24) -> 2 | K24: 1915.76 | L24: =J24*ROUND(K24,2) -> 3831.52 | M24: - | N24: SIM | O24: Aberto | P24: =VLOOKUP(K24, Intervalos!$B$3:$C$8,2,TRUE) -> 0,10%
A25: - | B25: 20 | C25: Bancada para laboratório de informática LxPxH: 180x90x75cm, para monitor de LCD. Revestido em BP texturizado nas 02 faces, fosco, cor a definir, em MDF de 25 mm. O acabamento da borda frontal deve ser arredondado com raio mínimo de 2,5mm. Estrutura confeccionada em aço carbono com quatro apoios reguláveis no piso em polipropileno ou nylon injetado. Elementos em aço com pré-tratamento antiferruginoso e pintura eletrostática epóxi-pó. Cor a definir. | D25: unidade | E25: 480179 | F25: CTF/APP: FTE - Categoria: Indústria da Madeira; Código: 7 | G25: 7 | H25: 5 | I25: 339 | J25: =SUM(G25:I25) -> 351 | K25: 753.71 | L25: =J25*ROUND(K25,2) -> 264552.21 | M25: - | N25: NÃO | O25: Aberto | P25: =VLOOKUP(K25, Intervalos!$B$3:$C$8,2,TRUE) -> 0,10%
A26: - | B26: 21 | C26: Banco de jardim de madeira plástica LxPxH: 200x40-45cm. Banco com largura de 200cm e altura e profundidade do assento entre 40 e 45cm. Ângulo do encosto em relação ao assento entre 100° e 110°. Deve suportar carga mínima de 250kg. Garantia mínima de 5 anos. | D26: unidade | E26: 603286 | F26: - | G26: 22 | H26: 7 | I26: 0 | J26: =SUM(G26:I26) -> 29 | K26: 1566.39 | L26: =J26*ROUND(K26,2) -> 45425.31 | M26: - | N26: SIM | O26: Aberto | P26: =VLOOKUP(K26, Intervalos!$B$3:$C$8,2,TRUE) -> 0,10%
A27: - | B27: 22 | C27: Banco de madeira para jardim LxP:150x45-50cm com 13 ripas de madeira e estrutura em aço cavalinho. Altura do assento e profundidade entre 40 e 45cm. Ângulo do encosto em relação ao assento entre 100º a 110º. Cor do verniz das ripas a definir. | D27: unidade | E27: 603374 | F27: CTF/APP: FTE - Categoria: Indústria da Madeira; Código: 7 | G27: 20 | H27: 5 | I27: 0 | J27: =SUM(G27:I27) -> 25 | K27: 816 | L27: =J27*ROUND(K27,2) -> 20400 | M27: - | N27: SIM | O27: Aberto | P27: =VLOOKUP(K27, Intervalos!$B$3:$C$8,2,TRUE) -> 0,10%
A28: - | B28: 23 | C28: Banco para laboratório em aço inox com assento redondo. Estrutura tubular em aço, com altura de 65cm, pés tubulares, com aro para apoio dos pés. Assento: dimensões entre 30 e 53cm de diâmetro, sem encosto e sem braços. Acabamento: polido espelhado. Capacidade para suportar no mínimo 120Kg. | D28: unidade | E28: 621401 | F28: - | G28: =77-6 -> 71 | H28: 10 | I28: 0 | J28: =SUM(G28:I28) -> 81 | K28: 448 | L28: =J28*ROUND(K28,2) -> 36288 | M28: - | N28: SIM | O28: Aberto | P28: =VLOOKUP(K28, Intervalos!$B$3:$C$8,2,TRUE) -> 0,10%
A29: - | B29: 24 | C29: Cadeira alta giratória estofada com rodízios. Espaldar pequeno, sem braços, com assento e encosto em compensado laminado de alta qualidade, em múltiplas lâminas com tratamento imunizante de 15 mm de espessura, prensada a quente, moldada anatomicamente, com alma de aço fixada ao assento. Estofamento em espuma injetada em poliuretano de alta resistência, densidade média de 55 kg/m moldada anatomicamente, com apoio lombar, bordas arredondadas e sem grampos aparentes com seu contorno em perfil de abs do tipo macho e fêmea. Espessura média da espuma 70mm. Revestimento em couro sintético com cor a definir. Ajuste da altura do encosto. Coluna com sistema de regulagem de altura (altura mínima de 64 cm e altura máxima entre 73 e 76 cm), através de pistão a gás (hidropneumático). Ajuste lombar. Coluna alta com apoia-pés regulável, contornando todo o alojamento do pistão. Base giratória com 5 hastes/patas sustentadas por rodízios em poliuretano. Medidas mínimas: assento: largura 40 cm e profundidade 38 cm; encosto: largura 30,5 cm. Capacidade para suportar no mínimo 120 kg. Garantia de 5 anos. | D29: unidade | E29: 629806 | F29: - | G29: 22 | H29: 0 | I29: 0 | J29: =SUM(G29:I29) -> 22 | K29: 465.37 | L29: =J29*ROUND(K29,2) -> 10238.14 | M29: - | N29: SIM | O29: Aberto | P29: =VLOOKUP(K29, Intervalos!$B$3:$C$8,2,TRUE) -> 0,10%
A30: - | B30: 25 | C30: Cadeira de plástico sem braços LxP:43x43cm (+/- 2cm). Cadeira fabricada em plástico polipropileno, na cor branca. Dimensões mínimas: Largura do assento: 34 cm x Altura do assento até o chão: 38 cm. Classe B. Capacidade para suportar até 182Kg. Uso irrestrito: para qualquer tipo de ambiente, de uso interno e externo. Deve apresentar certificação Inmetro em atendimento aos Requisitos de Avaliação da Conformidade com base na Portaria n.º 166 de 14/04/2021. | D30: unidade | E30: 287945 | F30: - | G30: 113 | H30: 500 | I30: 0 | J30: =SUM(G30:I30) -> 613 | K30: 64.26 | L30: =J30*ROUND(K30,2) -> 39391.38 | M30: - | N30: SIM | O30: Aberto | P30: =VLOOKUP(K30, Intervalos!$B$3:$C$8,2,TRUE) -> 0.1
A31: - | B31: 26 | C31: Cadeira diretor giratória estofada com espaldar em tela, com rodízios e apoio de braços. Assento: interno em compensado multilâminas de madeira moldada anatomicamente a quente. Espuma em poliuretano flexível HR, com densidade mínima de 50kg/m³ e moldada anatomicamente com espessura mínima de 50mm. Capa de proteção e acabamento em polipropileno texturizado e borda frontal arredondada, que dispensam o uso do perfil de PVC. Revestimento em couro sintético ou poliéster na cor a ser definida. Dimensões do assento: Profundidade mínima de 47cm e máxima de 50cm, largura mínima de 48cm e máxima de 58cm. Regulagem de altura a gás, com variação mínima do curso de 100mm, coluna classe 4. Encosto: em tela conformado anatomicamente na cor a ser definida. Dimensões do encosto: Altura mínima de 46cm e máxima de 56cm, largura mínima de 45cm e máxima de 58cm. Suporte do encosto com mecanismo regulável de inclinação e travamento. Braços (ou apoia-braços): em poliuretano, texturizado. Suporte regulável, injetado em termoplástico composto texturizado e alma de aço estrutural. Deve possuir regulagem vertical com no mínimo 3 estágios e curso mínimo de 5,5cm. Dimensões: Comprimento mínimo de 21cm e máximo de 27cm, largura mínima de 6cm e máxima de 9cm. Base equipada com cinco patas confeccionadas em nylon. Acabamento texturizado, totalmente em aço. Rodízios duplos com duplo giro com rodas de 5cm de diâmetro em nylon 6. Eixo horizontal em aço trefilado 1010/1020 com diâmetro de 8mm. Pintura: as partes metálicas devem possuir acabamento em pintura eletrostática em epóxi na cor a ser definida com pré-tratamento antiferruginoso. Deve possuir movimento sincronizado entre o encosto e o assento com proporção de deslocamento de aproximadamente 2:1 respectivamente com possibilidade de travamento em no mínimo quatro posições ou desarticulado entre o encosto e o assento com inclinação do encosto variando entre 85º e 120º, por meio de alavanca posicionada na parte inferior do assento e sistema anti-impacto que impede o choque deste com o usuário ao ser desbloqueado. Garantia de cinco anos. Capacidade para suportar no mínimo 120 kg. | D31: unidade | E31: 629805 | F31: - | G31: 94 | H31: 8 | I31: 1473 | J31: =SUM(G31:I31) -> 1575 | K31: 773.7 | L31: =J31*ROUND(K31,2) -> 1218577.5 | M31: - | N31: NÃO | O31: Aberto | P31: =VLOOKUP(K31, Intervalos!$B$3:$C$8,2,TRUE) -> 0,10%
A32: - | B32: 27 | C32: Cadeira fixa com encosto em aço inox - Cadeira com encosto possui assento e encosto retangular, pés tubulares resistentes, próprio para utilização em ambientes como "área limpa" por seu material em aço inoxidável, e ser usados ainda em clinicas, laboratórios e hospitais. Características: Com altura total de 90cm: Altura do chão até o assento: 77cm Tamanho do encosto 30cm x 15cm Tamanho do acento: 30 cm x 40cm Acabamento: Polido Espelhado. Modelo de Referência: BEINOX Marca THERJ. | D32: unidade | E32: 340244 | F32: - | G32: 15 | H32: 5 | I32: 0 | J32: =SUM(G32:I32) -> 20 | K32: 1029.33 | L32: =J32*ROUND(K32,2) -> 20586.6 | M32: - | N32: SIM | O32: Aberto | P32: =VLOOKUP(K32, Intervalos!$B$3:$C$8,2,TRUE) -> 0,10%
A33: - | B33: 28 | C33: Cadeira fixa em couro sintético empilhável sem braços. Base metálica. Medidas: altura do assento entre 40-46cm. Assento: largura mínima 41cm x profundidade mínima 46cm. Encosto: altura mínima 36cm x largura mínima 31cm. Cor a definir. Garantia mínima de 5 anos. Capacidade para suportar no mínimo 120kg. | D33: unidade | E33: 468762 | F33: - | G33: 113 | H33: 6 | I33: 0 | J33: =SUM(G33:I33) -> 119 | K33: 298 | L33: =J33*ROUND(K33,2) -> 35462 | M33: - | N33: SIM | O33: Aberto | P33: =VLOOKUP(K33, Intervalos!$B$3:$C$8,2,TRUE) -> 0,10%
A34: - | B34: 29 | C34: Cadeira fixa em polipropileno empilhável sem braços. Encosto: Fundido em polipropileno com alta pressão, aditivado. Deve possuir respiradores quadrados medindo aproximadamente 10x10 mm, na quantidade de 08 (oito) por fileira, e possuindo no mínimo 04 (quatro) fileiras. Distância entre os furos de no mínimo 40 mm. Moldado em contorno vertebral com encaixes retangulares na estrutura, travamento com pino tampão no mesmo polipropileno aditivado. Medidas mínimas: largura 460 mm, altura 250 mm no eixo central da sua curvatura e espessura de 5 mm. Assento: Fundido em polipropileno com alta pressão, aditivado. Deve possuir respiradores quadrados medindo aproximadamente 10x10 mm, na quantidade de 08 (oito) por fileira, e possuindo no mínimo 01 (uma) fileira. Distância entre os furos de no mínimo 40 mm. Moldados com contornos ergonômicos. Fixado na estrutura através de presilhas já fundidas no próprio assento, além da fixação com parafusos e rebites. Medidas mínimas: largura 460 mm e 410 mm de profundidade e espessura de 5 mm. Estrutura: 04 pés, confeccionadas em tubos de secção oblonga 16x30 em chapa de aço #16 (1,50 mm) é em chapa de aço #18 (1,20 mm). Tubo para sustentação do encosto recebe, na dobra, um reforço de tubo de secção circular ½ em chapa de aço #18 (1,20 mm). Peças soldados pelo processo MIG. Acabamentos dos tubos de aço com ponteira interna. Deve ser dotada de mecanismo de união com outras cadeiras. Capacidade para suportar no mínimo 120 kg. | D34: unidade | E34: 288544 | F34: - | G34: =644-29 -> 615 | H34: 12 | I34: 0 | J34: =SUM(G34:I34) -> 627 | K34: 225.67 | L34: =J34*ROUND(K34,2) -> 141495.09 | M34: - | N34: NÃO | O34: Aberto | P34: =VLOOKUP(K34, Intervalos!$B$3:$C$8,2,TRUE) -> 0,10%
A35: - | B35: 30 | C35: Cadeira fixa estofada para Pessoa Obesa sem braço LxP:75x56cm. Profundidade do assento mínima de 47cm e máxima de 51cm, medida entre a sua parte frontal e o ponto mais frontal do encosto tomado no eixo de simetria; largura do assento mínima de 75cm, medida entre as bordas laterais no terço mais próximo do encosto. Altura do assento mínima de 41cm e máxima de 45 cm, medida na sua parte mais alta e frontal; ângulo de inclinação do assento em relação ao plano horizontal, de 2° a 5°; ângulo entre assento e encosto de 100° a 105°. Madeira anatômica em compensado laminado de alta qualidade, em múltiplas lâminas com tratamento imunizante de 15 mm de espessura, prensada a quente, e, com alma de aço fixada ao assento. Estofamento em espuma injetada em poliuretano de alta resistência, densidade média de 55 kg/m moldada anatomicamente, com apoio lombar, bordas arredondadas e sem grampos. Espessura mínima da espuma 50mm. Cor a definir. Os assentos devem suportar uma carga de 250 kg. Garantia de cinco anos. | D35: unidade | E35: 469126 | F35: - | G35: 27 | H35: 2 | I35: 0 | J35: =SUM(G35:I35) -> 29 | K35: 1485.75 | L35: =J35*ROUND(K35,2) -> 43086.75 | M35: - | N35: SIM | O35: Aberto | P35: =VLOOKUP(K35, Intervalos!$B$3:$C$8,2,TRUE) -> 0,10%
A36: - | B36: 31 | C36: Cadeira giratória estofada com espaldar alto e apoia-braços em couro sintético com rodízios. Assento: interno em compensado multilâminas de madeira moldada anatomicamente a quente. Espuma em poliuretano flexível HR,com densidade mínima de 50kg/m³ e moldada anatomicamente com espessura mínima de 50mm. Capa de proteção e acabamento em polipropileno texturizado e borda frontal arredondada, que dispensam o uso do perfil de PVC. Revestimento em couro sintético ou poliéster na cor a ser definida. Dimensões do assento: Profundidade mínima de 47cm e máxima de 50cm, largura mínima de 48cm e máxima de 58cm. Regulagem de altura a gás, com variação mínima do curso de 100mm, coluna classe 4. Encosto: interno em polipropileno, conformado anatomicamente. Espuma em poliuretano flexível HR com densidade mínima de 45kg/m³ e moldada anatomicamente e espessura mínima de 40mm. Revestimento em couro sintético na cor a ser definida. Dimensões do encosto: Altura mínima de 70cm e máxima de 78cm, largura mínima de 48cm e máxima de 58cm. Suporte do encosto com mecanismo regulável de inclinação e travamento. Braços (ou apoia-braços): em poliuretano, texturizado. Suporte regulável, injetado em termoplástico composto texturizado e alma de aço estrutural. Deve possuir regulagem vertical com no mínimo 3 estágios e curso mínimo de 5,5cm. Dimensões: Comprimento mínimo de 23cm e máximo de 27cm, largura mínima de 6cm e máxima de 9cm. Base equipada com cinco patas confeccionadas em nylon. Acabamento texturizado, totalmente em aço. Rodízios duplos com duplo giro com rodas de 5cm de diâmetro em nylon 6. Eixo horizontal em aço trefilado 1010/1020 com diâmetro de 8mm. Pintura: as partes metálicas devem possuir acabamento em pintura eletrostática em epóxi na cor a ser definida com pré-tratamento antiferruginoso. Deve possuir movimento sincronizado entre o encosto e o assento com proporção de deslocamento de aproximadamente 2:1 respectivamente com possibilidade de travamento em no mínimo quatro posições ou desarticulado entre o encosto e o assento com inclinação do encosto variando entre 85º e 120º, por meio de alavanca posicionada na parte inferior do assento e sistema anti-impacto que impede o choque deste com o usuário ao ser desbloqueado. Garantia de cinco anos. Capacidade para suportar no mínimo 120 kg. | D36: unidade | E36: 390178 | F36: - | G36: =218-14 -> 204 | H36: 16 | I36: 2447 | J36: =SUM(G36:I36) -> 2667 | K36: 805.67 | L36: =J36*ROUND(K36,2) -> 2148721.9 | M36: - | N36: NÃO | O36: Aberto | P36: =VLOOKUP(K36, Intervalos!$B$3:$C$8,2,TRUE) -> 0,10%
A37: - | B37: 32 | C37: Cadeira giratória estofada com espaldar médio e apoia-braços com rodízios em couro sintético. Assento: interno em compensado multilâminas de madeira moldada anatomicamente.. Espuma em poliuretano flexível HR, com densidade mínima de 50kg/mġ e moldada anatomicamente com espessura mínima de 50mm. Capa de acabamento em polipropileno texturizado e borda frontal arredondada, que dispensam o uso do perfil de PVC. Revestimento em couro sintético na cor a ser definida. Regulagem da profundidade do assento com variação de 50mm em no mínimo quatro posições, sem que o usuário precise levantar-se da cadeira. Dimensões do assento: 48x47cm. Regulagem de altura a gás, com variação mínima do curso de 100mm, coluna classe 4. Encosto: interno em polipropileno, conformado anatomicamente. Espuma em poliuretano flexível HR, com densidade mínima de 45kg/mġ e moldada anatomicamente e espessura mínima de 40mm. Revestimento em couro sintético na cor a ser definida.- Dimensões do encosto: 47x51cm. Suporte do encosto com regulagem de altura. Braços (ou apoia-braços): em poliuretano texturizado. Suporte regulável, injetado em termoplástico composto texturizado e alma de aço estrutural. Deve possuir regulagem vertical com no mínimo 7 estágios e curso mínimo de 5,5cm, e regulagem para distância interna entre os braços. Dimensões: Comprimento mínimo de 20cm e máximo de 25cm, largura mínima de 4cm e máxima de 9cm. Base equipada com cinco patas confeccionadas em nylon. Acabamento texturizado, totalmente em aço. Rodízios duplos com duplo giro com rodas de 5cm de diâmetro em nylon 6. Eixo horizontal em aço trefilado 1010/1020 com diâmetro de 8mm. As partes metálicas devem possuir acabamento em pintura eletrostática em epóxi na cor a ser definida com pré-tratamento antiferruginoso. Deve possuir movimento sincronizado entre o encosto e o assento com proporção de deslocamento de aproximadamente 2:1 respectivamente com possibilidade de travamento em no mínimo quatro posições ou desarticulado entre o encosto e o assento com inclinação do encosto variando entre 85º e 120º, por meio de alavanca posicionada na parte inferior do assento e sistema anti-impacto que impede o choque deste com o usuário ao ser desbloqueado. Garantia de cinco anos. Capacidade para suportar no mínimo 120 kg. | D37: unidade | E37: 629806 | F37: - | G37: =854-71-50 -> 733 | H37: 4 | I37: 0 | J37: =SUM(G37:I37) -> 737 | K37: 600 | L37: =J37*ROUND(K37,2) -> 442200 | M37: - | N37: NÃO | O37: Aberto | P37: =VLOOKUP(K37, Intervalos!$B$3:$C$8,2,TRUE) -> 0,10%
A38: - | B38: 33 | C38: Cadeira giratória para Pessoa Obesa com rodízios LxP:85x56cm. Em couro sintético (cor a definir). Itens básicos: rodízio, apoio para braços, encosto, regulagem de altura do assento, do encosto e do apoio para braços. Assento em madeira anatômica em compensado laminado de alta qualidade, em múltiplas lâminas com tratamento imunizante de no mín. 15 mm de espessura, prensada a quente e com alma de aço fixada ao assento. Estofamento em espuma injetada em poliuretano de alta resistência e alta densidade moldada anatomicamente, com apoio lombar, bordas arredondadas e sem grampos. Espessura mínima da espuma 50mm. Dimensões: Profundidade mínima de 47cm e máxima de 51cm, medida entre a sua parte frontal e o ponto mais frontal do encosto tomado no eixo de simetria; largura mínima de 75 cm, medida entre as bordas laterais no terço mais próximo do encosto. Altura do assento mínima de 41cm e máxima de 45cm, medida na sua parte mais alta e frontal; ângulo de inclinação do assento em relação ao plano horizontal, de 2° a 5°; ângulo entre assento e encosto de 100° a 105°. Regulagem da profundidade do assento. Regulagem de altura a gás. Encosto: interno em polipropileno injetado estrutural de grande resistência mecânica, conformado anatomicamente. Espuma em poliuretano flexível HR, isenta de CFC, alta resistência a propagação de rasgo, baixa deformação permanente, com densidade mínima de 45kg/mġ e moldada anatomicamente com saliência para apoio lombar e espessura mínima de 40mm. Revestimento em couro sintético na cor a ser definida. Suporte do encosto com regulagem de altura. Braços (ou apoia-braços): suporte regulável, injetado em termoplástico composto texturizado e alma de aço estrutural. Deve possuir regulagem vertical com no mínimo 7 estágios e curso mínimo de 5,5cm, e regulagem para distância interna entre os braços. Altura em relação ao assento: mínimo de 23cm, máximo de 27cm. Base: equipada com cinco patas confeccionadas em nylon. Acabamento texturizado, totalmente em aço. Rodízios duplos com duplo giro. As partes metálicas devem possuir pré-tratamento antiferruginoso e acabamento em pintura eletrostática epóxi-pó na cor a ser definida. Os assentos devem suportar uma carga mín. de 250 kg. Garantia de cinco anos. | D38: unidade | E38: 305422 | F38: - | G38: =63-8 -> 55 | H38: 2 | I38: 0 | J38: =SUM(G38:I38) -> 57 | K38: 2429.99 | L38: =J38*ROUND(K38,2) -> 138509.43 | M38: - | N38: NÃO | O38: Aberto | P38: =VLOOKUP(K38, Intervalos!$B$3:$C$8,2,TRUE) -> 0,10%
A39: - | B39: 34 | C39: Carrinho anatômico para transporte de livros LxPxH:58X75X126cm. Deve conter 04 rodízios giratórios e braços laterais, 3 prateleiras e laterais em aço. | D39: unidade | E39: 486437 | F39: - | G39: =30-4 -> 26 | H39: 2 | I39: 0 | J39: =SUM(G39:I39) -> 28 | K39: 1607.85 | L39: =J39*ROUND(K39,2) -> 45019.8 | M39: - | N39: SIM | O39: Aberto | P39: =VLOOKUP(K39, Intervalos!$B$3:$C$8,2,TRUE) -> 0,10%
A40: - | B40: 35 | C40: Carteira universitária em polipropileno com prancheta escamoteável frontal. Padrão dimensional 6. Deve possuir porta-livros abaixo do assento. Prancheta com dimensões mínimas de LxP: 42x29,7cm, superfície de cor clara e acabamento fosco. A altura da prancheta ao chão na região de apoio do cotovelo deve ser de aproximadamente 685 mm e a mesma deve permitir inclinação em torno de 10° com o plano horizontal. Assento com largura mínima 38cm e profundidade mínima de 39cm e encosto com largura mínima 33cm e altura mínima de 34cm, ambos em polipropileno moldado anatomicamente com espessura mínima de 4mm. A estrutura deve ser fabricada em aço 1010/1020. Todas as peças da estrutura metálica devem ser unidas por solda MIG, passar por pré-tratamento antiferruginoso com acabamento em pintura eletrostática epóxi-pó, todas as pontas dos tubos devem ter acabamento com bucha plástica. Capacidade para suportar no mínimo 120Kg. No ato do empenho poderá ser solicitada cadeira para canhoto. Cor do polipropileno a definir. Garantia mínima de 5 anos. | D40: unidade | E40: 623611 | F40: - | G40: =638-78-20 -> 540 | H40: 100 | I40: 0 | J40: =SUM(G40:I40) -> 640 | K40: 310.52 | L40: =J40*ROUND(K40,2) -> 198732.8 | M40: - | N40: NÃO | O40: Aberto | P40: =VLOOKUP(K40, Intervalos!$B$3:$C$8,2,TRUE) -> 0,10%
A41: - | B41: 36 | C41: Carteira universitária em polipropileno com prancheta escamoteável lateral. Padrão dimensional 6. Deve possuir porta-livros abaixo do assento. Prancheta com dimensões mínimas de LxP: 21x29,7cm, superfície de cor clara e acabamento fosco. A altura da prancheta ao chão na região de apoio do cotovelo deve ser de aproximadamente 685 mm e a mesma deve permitir inclinação em torno de 10° com o plano horizontal. Assento com largura mínima 38cm e profundidade mínima de 39cm e encosto com largura mínima 33cm e altura mínima de 34cm, ambos em polipropileno moldado anatomicamente com espessura mínima de 4mm. A estrutura deve ser fabricada em aço 1010/1020. Todas as peças da estrutura metálica devem ser unidas por solda MIG, passar por pré-tratamento antiferruginoso com acabamento em pintura eletrostática epóxi-pó, todas as pontas dos tubos devem ter acabamento com bucha plástica. Capacidade para suportar no mínimo 120Kg. No ato do empenho poderá ser solicitada cadeira para canhoto. Cor do polipropileno a definir. Garantia mínima de 5 anos. | D41: unidade | E41: 623611 | F41: - | G41: =750-100-20 -> 630 | H41: 20 | I41: 0 | J41: =SUM(G41:I41) -> 650 | K41: 375.5 | L41: =J41*ROUND(K41,2) -> 244075 | M41: - | N41: NÃO | O41: Aberto | P41: =VLOOKUP(K41, Intervalos!$B$3:$C$8,2,TRUE) -> 0,10%
A42: - | B42: 37 | C42: Carteira universitária em polipropileno com prancheta lateral fixa. Padrão dimensional 6. Prancheta lateral fixa acoplada à estrutura. Composta por estrutura metálica, assento, encosto, porta-livros e prancheta em cor a definir. Prancheta em ABS injetado com contra-tampo também injetado em Polipropileno nas dimensões de no mínimo 50cm de comprimento por 25cm de largura. A altura da prancheta ao chão na região de apoio do cotovelo deve ser de aproximadamente 685 mm e a mesma deve possuir uma inclinação em torno de 10° com o plano horizontal. O assento deve ser confeccionado em polipropileno e moldado anatomicamente com acabamento texturizado. Suas dimensões aproximadas devem ser 465mm de largura, 420mm de profundidade com 5mm de espessura de parede. Deve possuir cantos arredondados e unir-se à estrutura por meio de parafusos para plástico. A altura do assento até o chão deve ser de 460 mm aproximadamente. O encosto deve ser fabricado em polipropileno e moldado anatomicamente com acabamento texturizado, com dimensões aproximadas de 460mm de largura por 330mm de altura, com espessura de parede de 5mm e cantos arredondados O encosto deve possuir furos para ventilação. . A estrutura deve ser fabricada em aço 1010/1020. Todas as peças da estrutura metálica devem ser unidas por solda MIG, passar por pré-tratamento antiferruginoso com acabamento em pintura eletrostática epóxi-pó, todas as pontas dos tubos devem ter acabamento com bucha plástica. Capacidade para suportar no mínimo 120 kg. No ato do empenho poderá ser solicitada cadeira para canhoto. Garantia mínima de 5 anos. | D42: unidade | E42: 627414 | F42: - | G42: =1800-350-10 -> 1440 | H42: 0 | I42: 0 | J42: =SUM(G42:I42) -> 1440 | K42: 229.63 | L42: =J42*ROUND(K42,2) -> 330667.2 | M42: - | N42: NÃO | O42: Aberto | P42: =VLOOKUP(K42, Intervalos!$B$3:$C$8,2,TRUE) -> 0,10%
A43: - | B43: 38 | C43: Carteira universitária estofada com prancheta escamoteável lateral. Padrão dimensional 6. Cadeira com espaldar médio, com estrutura universitária palito, braço corsa P.U. com prancheta escamoteável/basculante e porta livros, estofamento revestido com couro sintético de cor a definir. Assento e encosto anatômico com espuma injetada, de madeira compensada multilaminado, moldado a quente com espessura de 10 mm, espuma injetada anatômica com densidade controlada de 50 a 60 Kg/m3, contra encosto forrado com vinil, bordas do assento e encosto protegidas por PVC, estrutura 4 pés em aço com braço corsa em P.U. para prancheta escamoteável. Prancheta em BP com espessura mín. de 15 mm com bordas com fita retas, superfície de cor clara e acabamento fosco; largura mínima do tampo de 21cm e profundidade mínima de 29,7cm. Medidas: Assento: largura mínima 38cm. Encosto: largura mínima 33cm. Capacidade para suportar no mínimo 120Kg. No ato do empenho poderá ser solicitada cadeira para canhoto. Garantia mínima de 5 anos. | D43: unidade | E43: 232339 | F43: - | G43: =175-35 -> 140 | H43: 0 | I43: 0 | J43: =SUM(G43:I43) -> 140 | K43: 779.51 | L43: =J43*ROUND(K43,2) -> 109131.4 | M43: - | N43: NÃO | O43: Aberto | P43: =VLOOKUP(K43, Intervalos!$B$3:$C$8,2,TRUE) -> 0,10%
A44: - | B44: 39 | C44: Cavalete flip-chart com quadro branco LxH:70X175cm. Pernas retráteis com estrutura de aço com acabamento em pintura eletrostática de alumínio, visando adaptação ao solo e regulagem de altura. Tela em MDF com acabamento UV para uso como quadro branco de medidas aproximadas de altura x largura de 100x70cm, com suporte para apagador e caneta, e com fixação para bloco de flip-chart com 50 folhas. Medidas aproximadas: A x L 175 x 68cm. | D44: unidade | E44: 444245 | F44: - | G44: 10 | H44: 3 | I44: 0 | J44: =SUM(G44:I44) -> 13 | K44: 222.72 | L44: =J44*ROUND(K44,2) -> 2895.36 | M44: - | N44: SIM | O44: Aberto | P44: =VLOOKUP(K44, Intervalos!$B$3:$C$8,2,TRUE) -> 0,10%
...

Sheet Intervalos
B2: Valor Unitário Estimado (Faixa) | C2: Diferença Mínima de Valores / Percentuais de Lances | E2: Interpretação
B3: 0.01 | C3: 0.01 | E3: R$ 0,01 - R$ 5,00 => R$ 0,01
B4: 5 | C4: 0.02 | E4: R$ 5,01 - R$ 10,00 => R$ 0,02
B5: 10 | C5: 0.03 | E5: R$ 10,01 - R$ 20,00 => R$ 0,03
B6: 20 | C6: 0.05 | E6: R$ 20,01 - R$ 50,00 => R$ 0,05
B7: 50 | C7: 0.1 | E7: R$ 50,01 - R$ 100,00 => R$ 0,10
B8: 100 | C8: 0,10% | E8: Acima de R$ 100,00 => 0,10%
