Workbook

Sheet Table 1
A1: PRÓ-REITORIA DE ADMINISTRAÇÃO
A2: COORDENAÇÃO DE MATERIAIS
A3: DESCRIÇÕES DOS PREÇOS ESTIMADOS E ESPECIFICAÇÕES DE ITENS.
A4: SOFTWARES - Processo nº 23069.161486/2025-29
A5: ITEM | B5: ESPECIFICAÇÃO TÉCNICA | C5: FORNECIMENTO | D5: PROAD (UASG 150182) Órgão Gerenciador | E5: TRE-PB (UASG 70009) Participante | F5: COMANDO DO EXÉRCITO-PE (UASG 160191) Participante | G5: QTD TOTAL | H5: PREÇO ESTIMADO (UNITÁRIO) | I5: TOTAL ESTIMADO | J5: EXCLUSIVO ME/EPP | K5: MODO DE DISPUTA DA ETAPA DE LANCES | L5: MARGEM E PREFERÊNCIA - DECRETO 8538/2015 | M5: Intervalo mínimo entre os lances
A6: 1 | B6: Adobe Creative Cloud Todos os Apps para instituições de ensino. Licença anual por usuário. Softwares para edição de imagens, vídeos, vetorização, criação de layouts para sites, criação e administração de sites, possibilitando armazenamento em nuvem e sincronismo de arquivos. Deve contemplar os aplicativos mais recentes e suas atualizações na Creative Cloud, incluindo: Acrobat Pro, Photoshop, Illustrator, InDesign, Premiere Pro, After Effects, Lightroom, XD, Animate, Lightroom Classic, Dreamweaver, Dimension, Audition, InCopy, Character Animator, Capture, Fresco, Bridge, Adobe Express, Premiere Rush, Photoshop Express, Media Encoder, Aero, Scan, Fill & Sign, Acrobat Reader, Substance 3D Stager, Substance 3D Painter, Substance 3D Sampler, Substance 3D Designer, Substance 3D Modeler. | C6: unidade | D6: 253 | E6: 0 | F6: 1 | G6: =D6+E6+F6 -> 254 | H6: 5599 | I6: =G6*H6 -> 1422146 | J6: Não | K6: Aberto | L6: Não | M6: =VLOOKUP(H6,Intervalos!$B$3:$C$8,2,TRUE()) -> 0,10%
A7: 2 | B7: AutoCAD Educacional. Aquisição de sua última versão e atualização. Compatibilidade com plataforma Windows, idioma português. Tipo de licença ANUAL (12 meses) e EDUCACIONAL. | C7: unidade | D7: 10 | E7: 0 | F7: 1 | G7: =D7+E7+F7 -> 11 | H7: 2181.98 | I7: =G7*H7 -> 24001.78 | J7: Sim | K7: Aberto | L7: Não | M7: =VLOOKUP(H7,Intervalos!$B$3:$C$8,2,TRUE()) -> 0,10%
A8: 3 | B8: Canva. Licença de uso da plataforma Canva para equipe com 06 (seis) usuários. Conjunto de ferramentas para criar gráficos de mídia social; Apresentações de pôsteres e elaboração de conteúdos visuais para as redes sociais e comunicação interna. Tipo de licença anual - 12 meses a contar da ativação no equipamento ou através do cadastro/ativação pelo usuário. | C8: unidade | D8: 190 | E8: 6 | F8: 1 | G8: =D8+E8+F8 -> 197 | H8: 465.16 | I8: =G8*H8 -> 91636.52 | J8: Não | K8: Aberto | L8: Não | M8: =VLOOKUP(H8,Intervalos!$B$3:$C$8,2,TRUE()) -> 0,10%
A9: 4 | B9: Corel Draw graphics suite 2020 na sua última versão em 64Bits. Software de Ilustração vetorial e layout de página. Contém ferramentas versáteis de desenho e rastreamento, edição de fotos e design de sites. Tipo de licença perpetua para somente um (1) computador. | C9: unidade | D9: 21 | E9: 0 | F9: 1 | G9: =D9+E9+F9 -> 22 | H9: 3539.33 | I9: =G9*H9 -> 77865.26 | J9: Sim | K9: Aberto | L9: Não | M9: =VLOOKUP(H9,Intervalos!$B$3:$C$8,2,TRUE()) -> 0,10%
A10: 5 | B10: CorelCAD 2021. É uma solução CAD ideal para trabalhos de design técnico que requerem elementos detalhados. O software de projeto auxiliado por computador pode ser usado para desenho, projeto e impressão 3D, bem como para desenho 2D. É equipado com ferramentas de desenho 2D e desenho 3D que visam atingir a precisão. Com o CorelCAD, os usuários serão capazes de expressar suas ideias visuais com eficácia, aumentar a produƟvidade e colaborar com eficiência. Compatibilidade com plataforma Windows e MAC, idioma português. Tipo de Licença PERPÉTUA para um (1) usuário. | C10: unidade | D10: 17 | E10: 0 | F10: 1 | G10: =D10+E10+F10 -> 18 | H10: 4535 | I10: =G10*H10 -> 81630 | J10: Não | K10: Aberto | L10: Não | M10: =VLOOKUP(H10,Intervalos!$B$3:$C$8,2,TRUE()) -> 0,10%
A11: 6 | B11: Filmora Pro Lifetime Plan – editor de vídeo, aquisição de sua última versão e atualização (Permanente). Compatibilidade com plataforma Windows e MAC, idioma português. Tipo de Licença PERPÉTUA (vitalício) para um (1) usuário. Todos os recursos disponíveis, atualizações vitalícias gratuitas, suporte técnico incluso. | C11: unidade | D11: 16 | E11: 0 | F11: 1 | G11: =D11+E11+F11 -> 17 | H11: 572.33 | I11: =G11*H11 -> 9729.61 | J11: Sim | K11: Aberto | L11: Não | M11: =VLOOKUP(H11,Intervalos!$B$3:$C$8,2,TRUE()) -> 0,10%
A12: 7 | B12: Grammarly Academic Windows Premium subscription em sua ultima versão e atualização. Assistente e correção de escrita digital, aquisição de sua última versão e atualização. Tipo de licença ANUAL - 12 meses a contar da ativação no equipamento ou através do cadastro/ativação pelo usuário. Suporta até cinco (5) usuários. | C12: unidade | D12: 3 | E12: 0 | F12: 0 | G12: =D12+E12+F12 -> 3 | H12: 3766.5 | I12: =G12*H12 -> 11299.5 | J12: Sim | K12: Aberto | L12: Não | M12: =VLOOKUP(H12,Intervalos!$B$3:$C$8,2,TRUE()) -> 0,10%
A13: 8 | B13: NVivo 10 para Windows. Software que trabalha com importação, classificação e analise de arquivos de áudio, vídeo, fotos digitais, word, pdf, rtf e documento de textos simples. Tipo de licença perpetua para somente um (1) computador. | C13: unidade | D13: 64 | E13: 0 | F13: 0 | G13: =D13+E13+F13 -> 64 | H13: 8283.2 | I13: =G13*H13 -> 530124.8 | J13: Não | K13: Aberto | L13: Não | M13: =VLOOKUP(H13,Intervalos!$B$3:$C$8,2,TRUE()) -> 0,10%
A14: 9 | B14: Pacote Adobe - Creative Suite 6 - CS6. Creative Cloud agora é a única opção para adquirir o software de criação da Adobe. Pacote que acompanha os seguintes softwares: Photoshop, Illustrator, InDesign, Acrobat X Pro, Bridge e Media Encoder. Tipo de licença perpetua para somente um (1) computador. | C14: unidade | D14: 75 | E14: 0 | F14: 1 | G14: =D14+E14+F14 -> 76 | H14: 4868.6 | I14: =G14*H14 -> 370013.6 | J14: Não | K14: Aberto | L14: Não | M14: =VLOOKUP(H14,Intervalos!$B$3:$C$8,2,TRUE()) -> 0,10%
A15: 10 | B15: Photoshop Adobe em sua última versão e atualização. Adobe Photoshop é um software caracterizado como editor de imagens bidimensionais do tipo raster desenvolvido pela Adobe Systems. Edição profissional de imagens digitais e trabalhos de pré-impressão. INCLUI: Acesso aos recursos e às atualizações mais recentes assim que estiverem disponíveis. Photoshop no desktop e no iPad, 100 GB de armazenamento na nuvem, Adobe Fresco, Adobe Portfolio, Adobe Fonts e Adobe Spark. Tipo de licença ANUAL - 12 meses a contar da ativação no equipamento ou através do cadastro/ativação pelo usuário, para um (1) usuário. | C15: unidade | D15: 4 | E15: 0 | F15: 1 | G15: =D15+E15+F15 -> 5 | H15: 2309 | I15: =G15*H15 -> 11545 | J15: Sim | K15: Aberto | L15: Não | M15: =VLOOKUP(H15,Intervalos!$B$3:$C$8,2,TRUE()) -> 0,10%
A16: 11 | B16: SketchUp Pro em sua última versão e atualização. Descrição: SketchUp é um software CAD (Desenho auxiliado por computador) de fácil uso, que opera num ambiente em 3D. Ele possibilita os usuários criarem desde esboços até projetos com precisão de forma fácil e tridimensional. Acesso a plugins para estender os recursos do SketchUp Pro Desktop. Tipo de licença ANUAL - 12 meses a contar da ativação no equipamento ou através do cadastro/ativação pelo usuário, para um (1) usuário. | C16: unidade | D16: 6 | E16: 0 | F16: 1 | G16: =D16+E16+F16 -> 7 | H16: 2240.5 | I16: =G16*H16 -> 15683.5 | J16: Sim | K16: Aberto | L16: Não | M16: =VLOOKUP(H16,Intervalos!$B$3:$C$8,2,TRUE()) -> 0,10%
A17: 12 | B17: Software DAW com 128 trilhas de áudio, 512 trilhas de instrumentos, 1.024 trilhas MIDI, confirmação / congelamento de trilhas, visualização de forma de onda aprimorada, edição em camadas, importação de trilha de imagem para sincronização. licença Anual. (Licença Temporária). Compatibilidade com Mac OS Mojave – Mac / PC AAX Native | C17: unidade | D17: 114 | E17: 0 | F17: 0 | G17: =D17+E17+F17 -> 114 | H17: 831.32 | I17: =G17*H17 -> 94770.48 | J17: Não | K17: Aberto | L17: Não | M17: =VLOOKUP(H17,Intervalos!$B$3:$C$8,2,TRUE()) -> 0,10%
... A20: 15 | B20: TeamViewer Remote Acesses Premium - acesso remoto e transferência de arquivos para até 3 dispositivos pré definidos, aquisição de sua última versão e atualização. Compatibilidade com plataforma Windows, Linux e MAC, idioma português. Tipo de licença ANUAL - 12 meses a contar da ativação no equipamento ou através do cadastro/ativação pelo usuário para até três (3) dispositivos. | C20: Unidade | D20: 163 | E20: 0 | F20: 0 | G20: =D20+E20+F20 -> 163 | H20: 4589.29 | I20: =G20*H20 -> 748054.27 | J20: Não | K20: Aberto | L20: Não | M20: =VLOOKUP(H20,Intervalos!$B$3:$C$8,2,TRUE()) -> 0,10%
H21: TOTAL | I21: =SUM(I6:I20) -> 3782249.2

Sheet Intervalos
B2: Valor Unitário Estimado (Faixa) | C2: Diferença Mínima de Valores / Percentuais de Lances | E2: Interpretação
B3: 0.01 | C3: 0.01 | E3: R$ 0,01 - R$ 5,00 => R$ 0,01
B4: 5.01 | C4: 0.02 | E4: R$ 5,01 - R$ 10,00 => R$ 0,02
B5: 10.01 | C5: 0.03 | E5: R$ 10,01 - R$ 20,00 => R$ 0,03
B6: 20.01 | C6: 0.05 | E6: R$ 20,01 - R$ 50,00 => R$ 0,05
B7: 50.01 | C7: 0.1 | E7: R$ 50,01 - R$ 100,00 => R$ 0,10
B8: 100.01 | C8: 0,10% | E8: Acima de R$ 100,00 => 0,10%
