Workbook
Name TR: '[1]CURVA ABC'!#REF!
Name TR: 'CURVA ABC'!#REF!
Name V: #REF!
Name VALOR.TOTAL: #REF!
Name VALOR_TOTAL: #REF!
Name VALORTOAL_: #REF!
Name VALORTOT: #REF!
Name VALORTOTAL: #REF!
Name VALORTOTAL_: #REF!
Name VALORTOTAL__: #REF!
Name VALORTOTAL___: #REF!
Name VALORTOTALL: #REF!
Name VALOT: #REF!
Name VALOTOT: #REF!
Name VR: #REF!
Name VT: #REF!
Name VTOTAL: #REF!

Sheet Resumo
A11: RESUMO DA PLANILHA DE ORÇAMENTOS DE PROJETOS E OBRAS
A12: UFF- CAMPUS NITERÓI | E12: AUTOR: | H12: FUNÇÃO:
A13: LOCAL: RUA VERA CRISPINO DE FREITAS, 190-2 - BOA VIAGEM, NITERÓI-RJ | E13: PROCESSO: | H13: ART/RRT:
A14: NOME DA OBRA: AGÊNCIA DE INOVAÇÃO DA UFF | E14: BDI | F14: BDI EQUIP. | G14: SIAPE | H14: DATA | I14: REVISÃO
A15: BASE DE DADOS: SINAPI/2025.7 - EMOP/2025.7 - SCO/2025.7 - SBC/2025.7 | E15: =BDI!F32 -> 0.24657 | F15: 0 | G15: 0000000 | H15: 45957 | I15: R03
A16: RESUMO
A17: ITEM | B17: SERVIÇO | H17: PREÇO TOTAL
A18: 1 | B18: GERENCIAMENTO DE OBRAS / FISCALIZAÇÃO | H18: =Planilha!H17 -> 496956.26
A19: 2 | B19: SERVIÇOS PRELIMINARES | H19: 34553.01
A20: 3 | B20: CANTEIRO DE OBRAS | H20: =Planilha!I23 -> 339265.3
A21: 4 | B21: MOVIMENTO DE TERRA | H21: =Planilha!I36 -> 47272.53
A22: 5 | B22: INFRAESTRUTURA: FUNDAÇÕES SIMPLES (OU DIRETAS) | H22: 287021.81
A23: 6 | B23: INFRAESTRUTURA: FUNDAÇÕES ESPECIAIS (OU INDIRETAS) | H23: 105691.68
A24: 7 | B24: SUPERESTRUTURA | H24: 1104984.1
A25: 8 | B25: ALVENARIA / VEDAÇÃO / DIVISÓRIA | H25: 718574.07
A26: 9 | B26: ESQUADRIAS | H26: 428331.73
A27: 10 | B27: INSTALAÇÕES HIDRÁULICAS E SANITÁRIAS | H27: 113067.58
A28: 11 | B28: INSTALAÇÕES PLUVIAIS | H28: 112249.78
A29: 12 | B29: INSTALAÇÕES ELÉTRICAS | H29: 540535.09
A30: 13 | B30: SISTEMA DE PROTEÇÃO CONTRA DESCARGAS ATMOSFÉRICAS | H30: 52484.08
A31: 14 | B31: INSTALAÇÕES LÓGICA / TELEFONIA | H31: 164933.41
A32: 15 | B32: INSTALAÇÕES DE COMBATE A INCÊNDIO | H32: 13854.74
A33: 16 | B33: INSTALAÇÕES DE CFTV | H33: 52263.88
... A46: 29 | B46: SERVIÇOS COMPLEMENTARES | H46: 64442.98
A47: TOTAL GERAL | H47: =SUM(H18:I46) -> 7504566.9

Sheet Planilha
A11: PLANILHA DE ORÇAMENTOS DE PROJETOS E OBRAS - SINTÉTICA
A12: UFF- CAMPUS NITERÓI | E12: =Resumo!E12 -> AUTOR: | H12: =Resumo!H12 -> FUNÇÃO:
A13: LOCAL: RUA VERA CRISPINO DE FREITAS, 190-2 - BOA VIAGEM, NITERÓI-RJ | E13: =Resumo!E13 -> PROCESSO: | H13: =Resumo!H13 -> ART/RRT:
A14: NOME DA OBRA: AGÊNCIA DE INOVAÇÃO DA UFF | E14: =Resumo!E14 -> BDI | F14: =Resumo!F14 -> BDI EQUIP. | G14: =Resumo!G14 -> SIAPE | H14: =Resumo!H14 -> DATA | I14: =Resumo!I14 -> REVISÃO
A15: BASE DE DADOS: SINAPI/2025.7 - EMOP/2025.7 - SCO/2025.7 - SBC/2025.7 | E15: =Resumo!E15 -> 0.24657 | F15: =Resumo!F15 -> 0 | G15: =Resumo!G15 -> 0000000 | H15: =Resumo!H15 -> 45957 | I15: =Resumo!I15 -> R03
A16: ITEM | B16: CÓDIGO | C16: BASE DE DADOS | D16: DESCRIÇÃO | E16: UNIDADE | F16: QUANTIDADE | G16: CUSTO UNITÁRIO | H16: PREÇO UNIT c/ BDI | I16: PREÇO TOTAL | J16: DESCONTO OFERTADO | K16: VALOR TOTAL COM DESCONTO
A17: 1 | D17: GERENCIAMENTO DE OBRAS / FISCALIZAÇÃO | F17: 1 | H17: 496956.26 | I17: 496956.26 | K17: =K18 -> 496956.26
A18: 1.1 | B18: COMP-1001 | C18: Próprio | D18: EQUIPE ADMINISTRATIVA DA OBRA | E18: un | F18: 1 | G18: 398649.34 | H18: 496956.26 | I18: 496956.26 | J18: =$I$626 -> 0 | K18: =I18-(I18*J18) -> 496956.26
A19: 2 | D19: SERVIÇOS PRELIMINARES | F19: 1 | H19: 34553.01 | I19: 34553.01 | K19: =SUM(K20:K22) -> 34553.01
A20: 2.1 | B20: 103689 | C20: SINAPI | D20: FORNECIMENTO E INSTALAÇÃO DE PLACA DE OBRA COM CHAPA GALVANIZADA E ESTRUTURA DE MADEIRA. AF_03/2022_PS | E20: m² | F20: 6 | G20: 476.28 | H20: 593.73 | I20: 3562.38 | J20: =$I$626 -> 0 | K20: =I20-(I20*J20) -> 3562.38
A21: 2.2 | B21: 01.018.0002-A | C21: EMOP | D21: LOCACAO DE OBRA COM APARELHO TOPOGRAFICO SOBRE CERCA DE MARC ACAO,INCLUSIVE CONSTRUCAO DESTA E SUA PRE-LOCACAO E O FORNEC IMENTO DO MATERIAL E TENDO POR MEDICAO O PERIMETRO A CONSTRU IR QUIVALENTES, Nº12X12 A 18X30 CIAIS DESONERADOS NCARGOS SOCIAIS DESONERADOS GOS SOCIAIS DESONERADOS ARGOS SOCIAIS DESONERADOS DE 500M SEM PRISMA,EALCANCE MINIMO DE 3000M COM UM PRISMA | E21: M | F21: 941.81 | G21: 25.94 | H21: 32.33 | I21: 30448.71 | J21: =$I$626 -> 0 | K21: =I21-(I21*J21) -> 30448.71
A22: 2.3 | B22: 90781 | C22: SINAPI | D22: TOPOGRAFO COM ENCARGOS COMPLEMENTARES | E22: H | F22: 16 | G22: 27.17 | H22: 33.87 | I22: 541.92 | J22: =$I$626 -> 0 | K22: =I22-(I22*J22) -> 541.92
A23: 3 | D23: CANTEIRO DE OBRAS | F23: 1 | H23: 339265.3 | I23: 339265.3 | K23: =SUM(K24:K35) -> 339265.3
A24: 3.1 | B24: COMP-1002 | C24: Próprio | D24: MOBILIZAÇÃO DO CANTEIRO DE OBRAS - INCLUSO TRANSPORTE DE MATERIAIS, MAQUINÁRIO, EQUIPAMENTOS, FERRAMENTAS, UTENSÍLIOS E PESSOAL PARA O CANTEIRO DE OBRA, PARA O INÍCIO DO CONTRATO OU EVENTUAIS INTERRUPÇÕES DO TRABALHO | E24: un | F24: 1 | G24: 41.85 | H24: 52.17 | I24: 52.17 | J24: =$I$626 -> 0 | K24: =I24-(I24*J24) -> 52.17
A25: 3.2 | B25: 98459 | C25: SINAPI | D25: TAPUME COM TELHA METÁLICA. AF_03/2024 | E25: m² | F25: 711.38 | G25: 105.08 | H25: 130.99 | I25: 93183.66 | J25: =$I$626 -> 0 | K25: =I25-(I25*J25) -> 93183.66
A26: 3.3 | B26: 02.006.0015-A | C26: EMOP | D26: ALUGUEL CONTAINER (MODULO METALICO ICAVEL),P/ESCRITORIO C/WC ,MED.APROX.2,30M LARG.6,00M COMPR.E 2,50M ALT.CHAPAS ACO C/N ERVURAS TRAPEZOIDAIS,ISOLAMENTO TERMO-ACUSTICO FORRO,CHASSIS REFORCADO E PISO COMPENSADO NAVAL,INCLUINDO INST.ELETR.HIDR OSSANITARIAS,SUPRIDO ACESSORIOS,1 BACIA SANITARIA E 1 LAVATO RIO,EXCL.TRANSP.(04.005.0300),CARGA E DESCARGA (04.013.0015) M COMP. E 2,50M ALT.,ISOL.FORRO TERMO-ACUSTICO,PISO COMP.NAV AL,INCL.INST.ELET/HIDRO.,1 V.SAN./1 LAV. | E26: UNXMES | F26: 13 | G26: 1250 | H26: 1558.25 | I26: 20257.25 | J26: =$I$626 -> 0 | K26: =I26-(I26*J26) -> 20257.25
A27: 3.4 | B27: 02.006.0030-A | C27: EMOP | D27: ALUGUEL CONTAINER(MODULO METALICO ICAVEL),SANITARIO-VESTIARI O,MED.APROX.2,30M LARG.6,00M COMPR.2,50M ALT.CHAPAS ACO NERV URAS TRAPEZOIDAIS,ISOLAMENTO TERMO-ACUSTICO FORRO,CHASSIS RE FORCADO PISO COMPENSADO NAVAL,INCL.INST.ELETR.HIDROSSANITARI AS,SUPRIDO ACESS.7 BACIAS SANITARIAS,2 LAVATORIOS E 2 MICTOR IOS,EXCL.TRANSP.(04.005.0300),CARGA E DESCARGA(04.013.0015) 6,00 E A=2,50M,ISOL.FORRO TERMO-ACUSTICO,PISO COMP.NAVAL,INC L.INST.ELET/HIDRO.,7 V.SAN./2 LAV./2 MIC | E27: UNXMES | F27: 13 | G27: 1850 | H27: 2306.21 | I27: 29980.73 | J27: =$I$626 -> 0 | K27: =I27-(I27*J27) -> 29980.73
A28: 3.5 | B28: 012095 | C28: SBC | D28: CONTAINER REFEITORIO 12.12x2,44x2.57 C/5 MESAS/BANCOS/PIA | E28: MES | F28: 13 | G28: 3264 | H28: 4068.9 | I28: 52895.7 | J28: =$I$626 -> 0 | K28: =I28-(I28*J28) -> 52895.7
A29: 3.6 | B29: 061042 | C29: SBC | D29: ENTRADA ENERGIA BAIXA TENSAO COM MEDIDOR | E29: UN | F29: 1 | G29: 3156.75 | H29: 3935.2 | I29: 3935.2 | J29: =$I$626 -> 0 | K29: =I29-(I29*J29) -> 3935.2
A30: 3.7 | B30: COMP-81429 | C30: Próprio | D30: LIGAÇÃO PROVISÓRIA DE ÁGUA E ESGOTO | E30: UN | F30: 1 | G30: 2636.95 | H30: 3287.22 | I30: 3287.22 | J30: =$I$626 -> 0 | K30: =I30-(I30*J30) -> 3287.22
A31: 3.8 | B31: 97063 | C31: SINAPI | D31: MONTAGEM E DESMONTAGEM DE ANDAIME MODULAR FACHADEIRO, COM PISO METÁLICO, PARA EDIFÍCIOS COM MULTIPLOS PAVIMENTOS (EXCLUSIVE ANDAIME E LIMPEZA). AF_03/2024 | E31: m² | F31: 840 | G31: 27.83 | H31: 34.69 | I31: 29139.6 | J31: =$I$626 -> 0 | K31: =I31-(I31*J31) -> 29139.6
A32: 3.9 | B32: COM-40772 | C32: Próprio | D32: LOCACAO DE ANDAIME METALICO TIPO FACHADEIRO, PECAS COM APROXIMADAMENTE 1,20 M DE LARGURA E 2,0 M DE ALTURA, INCLUINDO DIAGONAIS EM X, BARRAS DE LIGACAO, SAPATAS E DEMAIS ITENS NECESSARIOS A MONTAGEM. INCLUSIVE MONTAGEM E DESMONTAGEM | E32: un | F32: 1680 | G32: 29.45 | H32: 36.71 | I32: 61672.8 | J32: =$I$626 -> 0 | K32: =I32-(I32*J32) -> 61672.8
A33: 3.10 | B33: 97064 | C33: SINAPI | D33: MONTAGEM E DESMONTAGEM DE ANDAIME TUBULAR TIPO "TORRE" (EXCLUSIVE ANDAIME E LIMPEZA). AF_03/2024 | E33: M | F33: 13 | G33: 38.42 | H33: 47.89 | I33: 622.57 | J33: =$I$626 -> 0 | K33: =I33-(I33*J33) -> 622.57
A34: 3.11 | B34: COMP-3043 | C34: Próprio | D34: ALUGUEL MENSAL ANDAIME TUBULAR TIPO TORRE | E34: MXMES | F34: 26 | G34: 806.2 | H34: 1005 | I34: 26130 | J34: =$I$626 -> 0 | K34: =I34-(I34*J34) -> 26130
A35: 3.12 | B35: 04.014.0095-0 | C35: EMOP | D35: RETIRADA DE ENTULHO DE OBRA COM CACAMBA DE ACO TIPO CONTAINE R COM 5M3 DE CAPACIDADE,INCLUSIVE CARREGAMENTO,TRANSPORTE E DESCARREGAMENTO.CUSTO POR UNIDADE DE CACAMBA E INCLUI A TAX A PARA DESCARGA EM LOCAIS AUTORIZADOS GOS SOCIAIS ENTULHO OBRA,INCL.CARREGA.,TRANSP.E DESCAR.LOCAIS AUTORIZ. | E35: UN | F35: 40 | G35: 363.16 | H35: 452.71 | I35: 18108.4 | J35: =$I$626 -> 0 | K35: =I35-(I35*J35) -> 18108.4
A36: 4 | D36: MOVIMENTO DE TERRA | F36: 1 | H36: 47272.53 | I36: 47272.53 | K36: =SUM(K37:K41) -> 47272.53
A37: 4.1 | B37: 101114 | C37: SINAPI | D37: ESCAVAÇÃO HORIZONTAL EM SOLO DE 1A CATEGORIA COM TRATOR DE ESTEIRAS (100HP/LÂMINA: 2,19M3). AF_07/2020 | E37: m³ | F37: 419.38 | G37: 5.04 | H37: 6.28 | I37: 2633.7 | J37: =$I$626 -> 0 | K37: =I37-(I37*J37) -> 2633.7
A38: 4.2 | B38: 100974 | C38: SINAPI | D38: CARGA, MANOBRA E DESCARGA DE SOLOS E MATERIAIS GRANULARES EM CAMINHÃO BASCULANTE 10 M³ - CARGA COM PÁ CARREGADEIRA (CAÇAMBA DE 1,7 A 2,8 M³ / 128 HP) E DESCARGA LIVRE (UNIDADE: M3). AF_07/2020 | E38: m³ | F38: 502.05 | G38: 9.67 | H38: 12.05 | I38: 6049.7 | J38: =$I$626 -> 0 | K38: =I38-(I38*J38) -> 6049.7
A39: 4.3 | B39: 96385 | C39: SINAPI | D39: EXECUÇÃO E COMPACTAÇÃO DE CORPO DE ATERRO DE ATERRO (95% DE ENERGIA DO PROCTOR NORMAL) COM SOLO PREDOMINANTEMENTE ARGILOSO ESPESSURA 15 CM - EXCLUSIVE MATERIAL, ESCAVAÇÃO, CARGA E TRANSPORTE. AF_09/2024 | E39: m³ | F39: 335.4 | G39: 14.14 | H39: 17.62 | I39: 5909.74 | J39: =$I$626 -> 0 | K39: =I39-(I39*J39) -> 5909.74
A40: 4.4 | B40: 93590 | C40: SINAPI | D40: TRANSPORTE COM CAMINHÃO BASCULANTE DE 10 M³, EM VIA URBANA PAVIMENTADA, ADICIONAL PARA DMT EXCEDENTE A 30 KM (UNIDADE: M3XKM). AF_07/2020 | E40: M3XKM | F40: 10041.72 | G40: 1.08 | H40: 1.34 | I40: 13455.9 | J40: =$I$626 -> 0 | K40: =I40-(I40*J40) -> 13455.9
A41: 4.5 | B41: COMP-3047 | C41: Próprio | D41: Descarte de solo em aterro legalizado | E41: m³ | F41: 502.05 | G41: 30.72 | H41: 38.29 | I41: 19223.49 | J41: =$I$626 -> 0 | K41: =I41-(I41*J41) -> 19223.49
A42: 5 | D42: INFRAESTRUTURA: FUNDAÇÕES SIMPLES (OU DIRETAS) | F42: 1 | H42: 287021.81 | I42: 287021.81 | K42: =SUM(K43+K56) -> 287021.81
A43: 5.1 | D43: BLOCO DE COROAMENTO E SAPATA | F43: 1 | H43: 268782.03 | I43: 268782.03 | K43: =SUM(K44:K55) -> 268782.03
A44: 5.1.1 | B44: 96523 | C44: SINAPI | D44: ESCAVAÇÃO MANUAL PARA BLOCO DE COROAMENTO OU SAPATA (INCLUINDO ESCAVAÇÃO PARA COLOCAÇÃO DE FÔRMAS). AF_01/2024 | E44: m³ | F44: 283.16 | G44: 126.82 | H44: 158.09 | I44: 44764.76 | J44: =$I$626 -> 0 | K44: =I44-(I44*J44) -> 44764.76
A45: 5.1.2 | B45: 96529 | C45: SINAPI | D45: FABRICAÇÃO, MONTAGEM E DESMONTAGEM DE FÔRMA PARA SAPATA, EM MADEIRA SERRADA, E=25 MM, 1 UTILIZAÇÃO. AF_01/2024 | E45: m² | F45: 148.91 | G45: 316.77 | H45: 394.88 | I45: 58801.58 | J45: =$I$626 -> 0 | K45: =I45-(I45*J45) -> 58801.58
A46: 5.1.3 | B46: 96528 | C46: SINAPI | D46: FABRICAÇÃO, MONTAGEM E DESMONTAGEM DE FÔRMA PARA BLOCO DE COROAMENTO, EM MADEIRA SERRADA, E=25 MM, 1 UTILIZAÇÃO. AF_01/2024 | E46: m² | F46: 53.11 | G46: 184.31 | H46: 229.76 | I46: 12202.55 | J46: =$I$626 -> 0 | K46: =I46-(I46*J46) -> 12202.55
A47: 5.1.4 | B47: 96543 | C47: SINAPI | D47: ARMAÇÃO DE BLOCO UTILIZANDO AÇO CA-60 DE 5 MM - MONTAGEM. AF_01/2024 | E47: KG | F47: 10 | G47: 23.72 | H47: 29.56 | I47: 295.6 | J47: =$I$626 -> 0 | K47: =I47-(I47*J47) -> 295.6
A48: 5.1.5 | B48: 96546 | C48: SINAPI | D48: ARMAÇÃO DE BLOCO UTILIZANDO AÇO CA-50 DE 10 MM - MONTAGEM. AF_01/2024 | E48: KG | F48: 41 | G48: 15.92 | H48: 19.84 | I48: 813.44 | J48: =$I$626 -> 0 | K48: =I48-(I48*J48) -> 813.44
A49: 5.1.6 | B49: 104916 | C49: SINAPI | D49: ARMAÇÃO DE SAPATA ISOLADA, VIGA BALDRAME E SAPATA CORRIDA UTILIZANDO AÇO CA-60 DE 5 MM - MONTAGEM. AF_01/2024 | E49: KG | F49: 27 | G49: 19.57 | H49: 24.39 | I49: 658.53 | J49: =$I$626 -> 0 | K49: =I49-(I49*J49) -> 658.53
A50: 5.1.7 | B50: 104918 | C50: SINAPI | D50: ARMAÇÃO DE SAPATA ISOLADA, VIGA BALDRAME E SAPATA CORRIDA UTILIZANDO AÇO CA-50 DE 8 MM - MONTAGEM. AF_01/2024 | E50: KG | F50: 2 | G50: 16.14 | H50: 20.12 | I50: 40.24 | J50: =$I$626 -> 0 | K50: =I50-(I50*J50) -> 40.24
...

Sheet FisicoFinanceiro
A11: PLANILHA DE CRONOGRAMA FÍSICO-FINANCEIRO
A12: =Planilha!A12 -> UFF- CAMPUS NITERÓI | E12: =Planilha!E12 -> AUTOR: | H12: =Planilha!H12 -> FUNÇÃO:
A13: =Planilha!A13 -> LOCAL: RUA VERA CRISPINO DE FREITAS, 190-2 - BOA VIAGEM, NITERÓI-RJ | E13: =Planilha!E13 -> PROCESSO: | H13: =Planilha!H13 -> ART/RRT:
A14: =Planilha!A14 -> NOME DA OBRA: AGÊNCIA DE INOVAÇÃO DA UFF | E14: =Planilha!E14 -> BDI | F14: =Planilha!F14 -> BDI EQUIP. | G14: =Planilha!G14 -> SIAPE | H14: =Planilha!H14 -> DATA | I14: =Planilha!I14 -> REVISÃO
A15: =Planilha!A15 -> BASE DE DADOS: SINAPI/2025.7 - EMOP/2025.7 - SCO/2025.7 - SBC/2025.7 | E15: =Planilha!E15 -> 0.24657 | F15: =Planilha!F15 -> 0 | G15: =Planilha!G15 -> 0000000 | H15: =Planilha!H15 -> 45957 | I15: =Planilha!I15 -> R03
A16: CRONOGRAMA FÍSICO-FINANCEIRO
A17: ITEM | B17: DESCRIÇÃO | C17: VALOR (R$) | D17: MÊS 1 | E17: MÊS 2 | F17: MÊS 3 | G17: MÊS 4 | H17: MÊS 5 | J17: MÊS 6 | K17: MÊS 7 | L17: MÊS 8 | M17: MÊS 9 | N17: MÊS 10 | O17: MÊS 11 | P17: MÊS 12 | Q17: MÊS 13 | R17: Total parcela
A18: 1 | B18: GERENCIAMENTO DE OBRAS / FISCALIZAÇÃO | C18: =Resumo!H18 -> 496956.26 | D18: 0.0079 | E18: 0.0131 | F18: 0.0335 | G18: 0.0915 | H18: 0.0561 | J18: 0.0705 | K18: 0.0911 | L18: 0.0976 | M18: 0.1208 | N18: 0.083 | O18: 0.1268 | P18: 0.0891 | Q18: 0.119 | R18: =SUM(D18:Q18) -> 1
D19: =IF(D18>0,TRUNC(C18*D18,2),"") -> 3925.95 | E19: =IF(E18>0,IF(AND(SUM(D18:E18)=1,R18=1),C18-SUM(D19),TRUNC(C18*E18,2)),"") -> 6510.12 | F19: =IF(F18>0,IF(AND(SUM(D18:F18)=1,R18=1),C18-SUM(D19:E19),TRUNC(C18*F18,2)),"") -> 16648.03 | G19: =IF(G18>0,IF(AND(SUM(D18:G18)=1,R18=1),C18-SUM(D19:F19),TRUNC(C18*G18,2)),"") -> 45471.49 | H19: =IF(H18>0,IF(AND(SUM(D18:H18)=1,R18=1),C18-SUM(D19:G19),TRUNC(C18*H18,2)),"") -> 27879.24 | J19: =IF(J18>0,IF(AND(SUM(D18:J18)=1,R18=1),C18-SUM(D19:I19),TRUNC(C18*J18,2)),"") -> 35035.41 | K19: =IF(K18>0,IF(AND(SUM(D18:K18)=1,R18=1),C18-SUM(D19:J19),TRUNC(C18*K18,2)),"") -> 45272.71 | L19: =IF(L18>0,IF(AND(SUM(D18:L18)=1,R18=1),C18-SUM(D19:K19),TRUNC(C18*L18,2)),"") -> 48502.93 | M19: =IF(M18>0,IF(AND(SUM(D18:M18)=1,R18=1),C18-SUM(D19:L19),TRUNC(C18*M18,2)),"") -> 60032.31 | N19: =IF(N18>0,IF(AND(SUM(D18:N18)=1,R18=1),C18-SUM(D19:M19),TRUNC(C18*N18,2)),"") -> 41247.36 | O19: =IF(O18>0,IF(AND(SUM(D18:O18)=1,R18=1),C18-SUM(D19:N19),TRUNC(C18*O18,2)),"") -> 63014.05 | P19: =IF(P18>0,IF(AND(SUM(D18:P18)=1,R18=1),C18-SUM(D19:O19),TRUNC(C18*P18,2)),"") -> 44278.8 | Q19: =IF(Q18>0,IF(AND(SUM(D18:Q18)=1,R18=1),C18-SUM(D19:P19),TRUNC(C18*Q18,2)),"") -> 59137.86 | R19: =SUM(D19:Q19) -> 496956.26
A20: 2 | B20: SERVIÇOS PRELIMINARES | C20: =Resumo!H19 -> 34553.01 | D20: 1 | R20: =SUM(D20:Q20) -> 1
D21: =IF(D20>0,TRUNC(C20*D20,2),"") -> 34553.01 | E21: =IF(E20>0,IF(AND(SUM(D20:E20)=1,R20=1),C20-SUM(D21),TRUNC(C20*E20,2)),"") | F21: =IF(F20>0,IF(AND(SUM(D20:F20)=1,R20=1),C20-SUM(D21:E21),TRUNC(C20*F20,2)),"") | G21: =IF(G20>0,IF(AND(SUM(D20:G20)=1,R20=1),C20-SUM(D21:F21),TRUNC(C20*G20,2)),"") | H21: =IF(H20>0,IF(AND(SUM(D20:H20)=1,R20=1),C20-SUM(D21:G21),TRUNC(C20*H20,2)),"") | I21: =IF(I20>0,IF(AND(SUM(D20:I20)=1,R20=1),C20-SUM(D21:H21),TRUNC(C20*I20,2)),"") | J21: =IF(J20>0,IF(AND(SUM(D20:J20)=1,R20=1),C20-SUM(D21:I21),TRUNC(C20*J20,2)),"") | K21: =IF(K20>0,IF(AND(SUM(D20:K20)=1,R20=1),C20-SUM(D21:J21),TRUNC(C20*K20,2)),"") | L21: =IF(L20>0,IF(AND(SUM(D20:L20)=1,R20=1),C20-SUM(D21:K21),TRUNC(C20*L20,2)),"") | M21: =IF(M20>0,IF(AND(SUM(D20:M20)=1,R20=1),C20-SUM(D21:L21),TRUNC(C20*M20,2)),"") | N21: =IF(N20>0,IF(AND(SUM(D20:N20)=1,R20=1),C20-SUM(D21:M21),TRUNC(C20*N20,2)),"") | O21: =IF(O20>0,IF(AND(SUM(D20:O20)=1,R20=1),C20-SUM(D21:N21),TRUNC(C20*O20,2)),"") | P21: =IF(P20>0,IF(AND(SUM(D20:P20)=1,R20=1),C20-SUM(D21:O21),TRUNC(C20*P20,2)),"") | Q21: =IF(Q20>0,IF(AND(SUM(D20:Q20)=1,R20=1),C20-SUM(D21:P21),TRUNC(C20*Q20,2)),"") | R21: =SUM(D21:Q21) -> 34553.01
A22: 3 | B22: CANTEIRO DE OBRAS | C22: =Resumo!H20 -> 339265.3 | D22: 0.0769 | E22: 0.0769 | F22: 0.0769 | G22: 0.077 | H22: 0.077 | J22: 0.077 | K22: 0.0769 | L22: 0.0769 | M22: 0.0769 | N22: 0.0769 | O22: 0.0769 | P22: 0.0769 | Q22: 0.0769 | R22: =SUM(D22:Q22) -> 1
D23: =IF(D22>0,TRUNC(C22*D22,2),"") -> 26089.5 | E23: =IF(E22>0,IF(AND(SUM(D22:E22)=1,R22=1),C22-SUM(D23),TRUNC(C22*E22,2)),"") -> 26089.5 | F23: =IF(F22>0,IF(AND(SUM(D22:F22)=1,R22=1),C22-SUM(D23:E23),TRUNC(C22*F22,2)),"") -> 26089.5 | G23: =IF(G22>0,IF(AND(SUM(D22:G22)=1,R22=1),C22-SUM(D23:F23),TRUNC(C22*G22,2)),"") -> 26123.42 | H23: =IF(H22>0,IF(AND(SUM(D22:H22)=1,R22=1),C22-SUM(D23:G23),TRUNC(C22*H22,2)),"") -> 26123.42 | J23: =IF(J22>0,IF(AND(SUM(D22:J22)=1,R22=1),C22-SUM(D23:I23),TRUNC(C22*J22,2)),"") -> 26123.42 | K23: =IF(K22>0,IF(AND(SUM(D22:K22)=1,R22=1),C22-SUM(D23:J23),TRUNC(C22*K22,2)),"") -> 26089.5 | L23: =IF(L22>0,IF(AND(SUM(D22:L22)=1,R22=1),C22-SUM(D23:K23),TRUNC(C22*L22,2)),"") -> 26089.5 | M23: =IF(M22>0,IF(AND(SUM(D22:M22)=1,R22=1),C22-SUM(D23:L23),TRUNC(C22*M22,2)),"") -> 26089.5 | N23: =IF(N22>0,IF(AND(SUM(D22:N22)=1,R22=1),C22-SUM(D23:M23),TRUNC(C22*N22,2)),"") -> 26089.5 | O23: =IF(O22>0,IF(AND(SUM(D22:O22)=1,R22=1),C22-SUM(D23:N23),TRUNC(C22*O22,2)),"") -> 26089.5 | P23: =IF(P22>0,IF(AND(SUM(D22:P22)=1,R22=1),C22-SUM(D23:O23),TRUNC(C22*P22,2)),"") -> 26089.5 | Q23: =IF(Q22>0,IF(AND(SUM(D22:Q22)=1,R22=1),C22-SUM(D23:P23),TRUNC(C22*Q22,2)),"") -> 26089.54 | R23: =SUM(D23:Q23) -> 339265.3
A24: 4 | B24: MOVIMENTO DE TERRA | C24: =Resumo!H21 -> 47272.53 | E24: 1 | R24: =SUM(D24:Q24) -> 1
D25: =IF(D24>0,TRUNC(C24*D24,2),"") | E25: =IF(E24>0,IF(AND(SUM(D24:E24)=1,R24=1),C24-SUM(D25),TRUNC(C24*E24,2)),"") -> 47272.53 | F25: =IF(F24>0,IF(AND(SUM(D24:F24)=1,R24=1),C24-SUM(D25:E25),TRUNC(C24*F24,2)),"") | G25: =IF(G24>0,IF(AND(SUM(D24:G24)=1,R24=1),C24-SUM(D25:F25),TRUNC(C24*G24,2)),"") | H25: =IF(H24>0,IF(AND(SUM(D24:H24)=1,R24=1),C24-SUM(D25:G25),TRUNC(C24*H24,2)),"") | I25: =IF(I24>0,IF(AND(SUM(D24:I24)=1,R24=1),C24-SUM(D25:H25),TRUNC(C24*I24,2)),"") | J25: =IF(J24>0,IF(AND(SUM(D24:J24)=1,R24=1),C24-SUM(D25:I25),TRUNC(C24*J24,2)),"") | K25: =IF(K24>0,IF(AND(SUM(D24:K24)=1,R24=1),C24-SUM(D25:J25),TRUNC(C24*K24,2)),"") | L25: =IF(L24>0,IF(AND(SUM(D24:L24)=1,R24=1),C24-SUM(D25:K25),TRUNC(C24*L24,2)),"") | M25: =IF(M24>0,IF(AND(SUM(D24:M24)=1,R24=1),C24-SUM(D25:L25),TRUNC(C24*M24,2)),"") | N25: =IF(N24>0,IF(AND(SUM(D24:N24)=1,R24=1),C24-SUM(D25:M25),TRUNC(C24*N24,2)),"") | O25: =IF(O24>0,IF(AND(SUM(D24:O24)=1,R24=1),C24-SUM(D25:N25),TRUNC(C24*O24,2)),"") | P25: =IF(P24>0,IF(AND(SUM(D24:P24)=1,R24=1),C24-SUM(D25:O25),TRUNC(C24*P24,2)),"") | Q25: =IF(Q24>0,IF(AND(SUM(D24:Q24)=1,R24=1),C24-SUM(D25:P25),TRUNC(C24*Q24,2)),"") | R25: =SUM(D25:Q25) -> 47272.53
A26: 5 | B26: INFRAESTRUTURA: FUNDAÇÕES SIMPLES (OU DIRETAS) | C26: =Resumo!H22 -> 287021.81 | F26: 0.5 | G26: 0.5 | R26: =SUM(D26:Q26) -> 1
D27: =IF(D26>0,TRUNC(C26*D26,2),"") | E27: =IF(E26>0,IF(AND(SUM(D26:E26)=1,R26=1),C26-SUM(D27),TRUNC(C26*E26,2)),"") | F27: =IF(F26>0,IF(AND(SUM(D26:F26)=1,R26=1),C26-SUM(D27:E27),TRUNC(C26*F26,2)),"") -> 143510.9 | G27: =IF(G26>0,IF(AND(SUM(D26:G26)=1,R26=1),C26-SUM(D27:F27),TRUNC(C26*G26,2)),"") -> 143510.91 | H27: =IF(H26>0,IF(AND(SUM(D26:H26)=1,R26=1),C26-SUM(D27:G27),TRUNC(C26*H26,2)),"") | I27: =IF(I26>0,IF(AND(SUM(D26:I26)=1,R26=1),C26-SUM(D27:H27),TRUNC(C26*I26,2)),"") | J27: =IF(J26>0,IF(AND(SUM(D26:J26)=1,R26=1),C26-SUM(D27:I27),TRUNC(C26*J26,2)),"") | K27: =IF(K26>0,IF(AND(SUM(D26:K26)=1,R26=1),C26-SUM(D27:J27),TRUNC(C26*K26,2)),"") | L27: =IF(L26>0,IF(AND(SUM(D26:L26)=1,R26=1),C26-SUM(D27:K27),TRUNC(C26*L26,2)),"") | M27: =IF(M26>0,IF(AND(SUM(D26:M26)=1,R26=1),C26-SUM(D27:L27),TRUNC(C26*M26,2)),"") | N27: =IF(N26>0,IF(AND(SUM(D26:N26)=1,R26=1),C26-SUM(D27:M27),TRUNC(C26*N26,2)),"") | O27: =IF(O26>0,IF(AND(SUM(D26:O26)=1,R26=1),C26-SUM(D27:N27),TRUNC(C26*O26,2)),"") | P27: =IF(P26>0,IF(AND(SUM(D26:P26)=1,R26=1),C26-SUM(D27:O27),TRUNC(C26*P26,2)),"") | Q27: =IF(Q26>0,IF(AND(SUM(D26:Q26)=1,R26=1),C26-SUM(D27:P27),TRUNC(C26*Q26,2)),"") | R27: =SUM(D27:Q27) -> 287021.81
A28: 6 | B28: INFRAESTRUTURA: FUNDAÇÕES ESPECIAIS (OU INDIRETAS) | C28: =Resumo!H23 -> 105691.68 | E28: 0.5 | F28: 0.5 | R28: =SUM(D28:Q28) -> 1
D29: =IF(D28>0,TRUNC(C28*D28,2),"") | E29: =IF(E28>0,IF(AND(SUM(D28:E28)=1,R28=1),C28-SUM(D29),TRUNC(C28*E28,2)),"") -> 52845.84 | F29: =IF(F28>0,IF(AND(SUM(D28:F28)=1,R28=1),C28-SUM(D29:E29),TRUNC(C28*F28,2)),"") -> 52845.84 | G29: =IF(G28>0,IF(AND(SUM(D28:G28)=1,R28=1),C28-SUM(D29:F29),TRUNC(C28*G28,2)),"") | H29: =IF(H28>0,IF(AND(SUM(D28:H28)=1,R28=1),C28-SUM(D29:G29),TRUNC(C28*H28,2)),"") | I29: =IF(I28>0,IF(AND(SUM(D28:I28)=1,R28=1),C28-SUM(D29:H29),TRUNC(C28*I28,2)),"") | J29: =IF(J28>0,IF(AND(SUM(D28:J28)=1,R28=1),C28-SUM(D29:I29),TRUNC(C28*J28,2)),"") | K29: =IF(K28>0,IF(AND(SUM(D28:K28)=1,R28=1),C28-SUM(D29:J29),TRUNC(C28*K28,2)),"") | L29: =IF(L28>0,IF(AND(SUM(D28:L28)=1,R28=1),C28-SUM(D29:K29),TRUNC(C28*L28,2)),"") | M29: =IF(M28>0,IF(AND(SUM(D28:M28)=1,R28=1),C28-SUM(D29:L29),TRUNC(C28*M28,2)),"") | N29: =IF(N28>0,IF(AND(SUM(D28:N28)=1,R28=1),C28-SUM(D29:M29),TRUNC(C28*N28,2)),"") | O29: =IF(O28>0,IF(AND(SUM(D28:O28)=1,R28=1),C28-SUM(D29:N29),TRUNC(C28*O28,2)),"") | P29: =IF(P28>0,IF(AND(SUM(D28:P28)=1,R28=1),C28-SUM(D29:O29),TRUNC(C28*P28,2)),"") | Q29: =IF(Q28>0,IF(AND(SUM(D28:Q28)=1,R28=1),C28-SUM(D29:P29),TRUNC(C28*Q28,2)),"") | R29: =SUM(D29:Q29) -> 105691.68
A30: 7 | B30: SUPERESTRUTURA | C30: =Resumo!H24 -> 1104984.1 | G30: 0.5 | H30: 0.5 | R30: =SUM(D30:Q30) -> 1
D31: =IF(D30>0,TRUNC(C30*D30,2),"") | E31: =IF(E30>0,IF(AND(SUM(D30:E30)=1,R30=1),C30-SUM(D31),TRUNC(C30*E30,2)),"") | F31: =IF(F30>0,IF(AND(SUM(D30:F30)=1,R30=1),C30-SUM(D31:E31),TRUNC(C30*F30,2)),"") | G31: =IF(G30>0,IF(AND(SUM(D30:G30)=1,R30=1),C30-SUM(D31:F31),TRUNC(C30*G30,2)),"") -> 552492.06 | H31: =IF(H30>0,IF(AND(SUM(D30:H30)=1,R30=1),C30-SUM(D31:G31),TRUNC(C30*H30,2)),"") -> 552492.07 | J31: =IF(J30>0,IF(AND(SUM(D30:J30)=1,R30=1),C30-SUM(D31:I31),TRUNC(C30*J30,2)),"") | K31: =IF(K30>0,IF(AND(SUM(D30:K30)=1,R30=1),C30-SUM(D31:J31),TRUNC(C30*K30,2)),"") | L31: =IF(L30>0,IF(AND(SUM(D30:L30)=1,R30=1),C30-SUM(D31:K31),TRUNC(C30*L30,2)),"") | M31: =IF(M30>0,IF(AND(SUM(D30:M30)=1,R30=1),C30-SUM(D31:L31),TRUNC(C30*M30,2)),"") | N31: =IF(N30>0,IF(AND(SUM(D30:N30)=1,R30=1),C30-SUM(D31:M31),TRUNC(C30*N30,2)),"") | O31: =IF(O30>0,IF(AND(SUM(D30:O30)=1,R30=1),C30-SUM(D31:N31),TRUNC(C30*O30,2)),"") | P31: =IF(P30>0,IF(AND(SUM(D30:P30)=1,R30=1),C30-SUM(D31:O31),TRUNC(C30*P30,2)),"") | Q31: =IF(Q30>0,IF(AND(SUM(D30:Q30)=1,R30=1),C30-SUM(D31:P31),TRUNC(C30*Q30,2)),"") | R31: =SUM(D31:Q31) -> 1104984.1
A32: 8 | B32: ALVENARIA / VEDAÇÃO / DIVISÓRIA | C32: =Resumo!H25 -> 718574.07 | J32: 0.4 | K32: 0.4 | L32: 0.2 | R32: =SUM(D32:Q32) -> 1
D33: =IF(D32>0,TRUNC(C32*D32,2),"") | E33: =IF(E32>0,IF(AND(SUM(D32:E32)=1,R32=1),C32-SUM(D33),TRUNC(C32*E32,2)),"") | F33: =IF(F32>0,IF(AND(SUM(D32:F32)=1,R32=1),C32-SUM(D33:E33),TRUNC(C32*F32,2)),"") | G33: =IF(G32>0,IF(AND(SUM(D32:G32)=1,R32=1),C32-SUM(D33:F33),TRUNC(C32*G32,2)),"") | H33: =IF(H32>0,IF(AND(SUM(D32:H32)=1,R32=1),C32-SUM(D33:G33),TRUNC(C32*H32,2)),"") | I33: =IF(I32>0,IF(AND(SUM(D32:I32)=1,R32=1),C32-SUM(D33:H33),TRUNC(C32*I32,2)),"") | J33: =IF(J32>0,IF(AND(SUM(D32:J32)=1,R32=1),C32-SUM(D33:I33),TRUNC(C32*J32,2)),"") -> 287429.62 | K33: =IF(K32>0,IF(AND(SUM(D32:K32)=1,R32=1),C32-SUM(D33:J33),TRUNC(C32*K32,2)),"") -> 287429.62 | L33: =IF(L32>0,IF(AND(SUM(D32:L32)=1,R32=1),C32-SUM(D33:K33),TRUNC(C32*L32,2)),"") -> 143714.83 | M33: =IF(M32>0,IF(AND(SUM(D32:M32)=1,R32=1),C32-SUM(D33:L33),TRUNC(C32*M32,2)),"") | N33: =IF(N32>0,IF(AND(SUM(D32:N32)=1,R32=1),C32-SUM(D33:M33),TRUNC(C32*N32,2)),"") | O33: =IF(O32>0,IF(AND(SUM(D32:O32)=1,R32=1),C32-SUM(D33:N33),TRUNC(C32*O32,2)),"") | P33: =IF(P32>0,IF(AND(SUM(D32:P32)=1,R32=1),C32-SUM(D33:O33),TRUNC(C32*P32,2)),"") | Q33: =IF(Q32>0,IF(AND(SUM(D32:Q32)=1,R32=1),C32-SUM(D33:P33),TRUNC(C32*Q32,2)),"") | R33: =SUM(D33:Q33) -> 718574.07
A34: 9 | B34: ESQUADRIAS | C34: =Resumo!H26 -> 428331.73 | L34: 0.5 | M34: 0.5 | R34: =SUM(D34:Q34) -> 1
D35: =IF(D34>0,TRUNC(C34*D34,2),"") | E35: =IF(E34>0,IF(AND(SUM(D34:E34)=1,R34=1),C34-SUM(D35),TRUNC(C34*E34,2)),"") | F35: =IF(F34>0,IF(AND(SUM(D34:F34)=1,R34=1),C34-SUM(D35:E35),TRUNC(C34*F34,2)),"") | G35: =IF(G34>0,IF(AND(SUM(D34:G34)=1,R34=1),C34-SUM(D35:F35),TRUNC(C34*G34,2)),"") | H35: =IF(H34>0,IF(AND(SUM(D34:H34)=1,R34=1),C34-SUM(D35:G35),TRUNC(C34*H34,2)),"") | I35: =IF(I34>0,IF(AND(SUM(D34:I34)=1,R34=1),C34-SUM(D35:H35),TRUNC(C34*I34,2)),"") | J35: =IF(J34>0,IF(AND(SUM(D34:J34)=1,R34=1),C34-SUM(D35:I35),TRUNC(C34*J34,2)),"") | K35: =IF(K34>0,IF(AND(SUM(D34:K34)=1,R34=1),C34-SUM(D35:J35),TRUNC(C34*K34,2)),"") | L35: =IF(L34>0,IF(AND(SUM(D34:L34)=1,R34=1),C34-SUM(D35:K35),TRUNC(C34*L34,2)),"") -> 214165.86 | M35: =IF(M34>0,IF(AND(SUM(D34:M34)=1,R34=1),C34-SUM(D35:L35),TRUNC(C34*M34,2)),"") -> 214165.87 | N35: =IF(N34>0,IF(AND(SUM(D34:N34)=1,R34=1),C34-SUM(D35:M35),TRUNC(C34*N34,2)),"") | O35: =IF(O34>0,IF(AND(SUM(D34:O34)=1,R34=1),C34-SUM(D35:N35),TRUNC(C34*O34,2)),"") | P35: =IF(P34>0,IF(AND(SUM(D34:P34)=1,R34=1),C34-SUM(D35:O35),TRUNC(C34*P34,2)),"") | Q35: =IF(Q34>0,IF(AND(SUM(D34:Q34)=1,R34=1),C34-SUM(D35:P35),TRUNC(C34*Q34,2)),"") | R35: =SUM(D35:Q35) -> 428331.73
A36: 10 | B36: INSTALAÇÕES HIDRÁULICAS E SANITÁRIAS | C36: =Resumo!H27 -> 113067.58 | F36: 0.3 | J36: 0.3 | K36: 0.4 | R36: =SUM(D36:Q36) -> 1
D37: =IF(D36>0,TRUNC(C36*D36,2),"") | E37: =IF(E36>0,IF(AND(SUM(D36:E36)=1,R36=1),C36-SUM(D37),TRUNC(C36*E36,2)),"") | F37: =IF(F36>0,IF(AND(SUM(D36:F36)=1,R36=1),C36-SUM(D37:E37),TRUNC(C36*F36,2)),"") -> 33920.27 | G37: =IF(G36>0,IF(AND(SUM(D36:G36)=1,R36=1),C36-SUM(D37:F37),TRUNC(C36*G36,2)),"") | H37: =IF(H36>0,IF(AND(SUM(D36:H36)=1,R36=1),C36-SUM(D37:G37),TRUNC(C36*H36,2)),"") | I37: =IF(I36>0,IF(AND(SUM(D36:I36)=1,R36=1),C36-SUM(D37:H37),TRUNC(C36*I36,2)),"") | J37: =IF(J36>0,IF(AND(SUM(D36:J36)=1,R36=1),C36-SUM(D37:I37),TRUNC(C36*J36,2)),"") -> 33920.27 | K37: =IF(K36>0,IF(AND(SUM(D36:K36)=1,R36=1),C36-SUM(D37:J37),TRUNC(C36*K36,2)),"") -> 45227.04 | L37: =IF(L36>0,IF(AND(SUM(D36:L36)=1,R36=1),C36-SUM(D37:K37),TRUNC(C36*L36,2)),"") | M37: =IF(M36>0,IF(AND(SUM(D36:M36)=1,R36=1),C36-SUM(D37:L37),TRUNC(C36*M36,2)),"") | N37: =IF(N36>0,IF(AND(SUM(D36:N36)=1,R36=1),C36-SUM(D37:M37),TRUNC(C36*N36,2)),"") | O37: =IF(O36>0,IF(AND(SUM(D36:O36)=1,R36=1),C36-SUM(D37:N37),TRUNC(C36*O36,2)),"") | P37: =IF(P36>0,IF(AND(SUM(D36:P36)=1,R36=1),C36-SUM(D37:O37),TRUNC(C36*P36,2)),"") | Q37: =IF(Q36>0,IF(AND(SUM(D36:Q36)=1,R36=1),C36-SUM(D37:P37),TRUNC(C36*Q36,2)),"") | R37: =SUM(D37:Q37) -> 113067.58
A38: 11 | B38: INSTALAÇÕES PLUVIAIS | C38: =Resumo!H28 -> 112249.78 | F38: 0.2 | J38: 0.4 | K38: 0.4 | R38: =SUM(D38:Q38) -> 1
D39: =IF(D38>0,TRUNC(C38*D38,2),"") | E39: =IF(E38>0,IF(AND(SUM(D38:E38)=1,R38=1),C38-SUM(D39),TRUNC(C38*E38,2)),"") | F39: =IF(F38>0,IF(AND(SUM(D38:F38)=1,R38=1),C38-SUM(D39:E39),TRUNC(C38*F38,2)),"") -> 22449.95 | G39: =IF(G38>0,IF(AND(SUM(D38:G38)=1,R38=1),C38-SUM(D39:F39),TRUNC(C38*G38,2)),"") | H39: =IF(H38>0,IF(AND(SUM(D38:H38)=1,R38=1),C38-SUM(D39:G39),TRUNC(C38*H38,2)),"") | I39: =IF(I38>0,IF(AND(SUM(D38:I38)=1,R38=1),C38-SUM(D39:H39),TRUNC(C38*I38,2)),"") | J39: =IF(J38>0,IF(AND(SUM(D38:J38)=1,R38=1),C38-SUM(D39:I39),TRUNC(C38*J38,2)),"") -> 44899.91 | K39: =IF(K38>0,IF(AND(SUM(D38:K38)=1,R38=1),C38-SUM(D39:J39),TRUNC(C38*K38,2)),"") -> 44899.92 | L39: =IF(L38>0,IF(AND(SUM(D38:L38)=1,R38=1),C38-SUM(D39:K39),TRUNC(C38*L38,2)),"") | M39: =IF(M38>0,IF(AND(SUM(D38:M38)=1,R38=1),C38-SUM(D39:L39),TRUNC(C38*M38,2)),"") | N39: =IF(N38>0,IF(AND(SUM(D38:N38)=1,R38=1),C38-SUM(D39:M39),TRUNC(C38*N38,2)),"") | O39: =IF(O38>0,IF(AND(SUM(D38:O38)=1,R38=1),C38-SUM(D39:N39),TRUNC(C38*O38,2)),"") | P39: =IF(P38>0,IF(AND(SUM(D38:P38)=1,R38=1),C38-SUM(D39:O39),TRUNC(C38*P38,2)),"") | Q39: =IF(Q38>0,IF(AND(SUM(D38:Q38)=1,R38=1),C38-SUM(D39:P39),TRUNC(C38*Q38,2)),"") | R39: =SUM(D39:Q39) -> 112249.78
A40: 12 | B40: INSTALAÇÕES ELÉTRICAS | C40: =Resumo!H29 -> 540535.09 | G40: 0.2 | J40: 0.2 | K40: 0.2 | L40: 0.2 | M40: 0.2 | R40: =SUM(D40:Q40) -> 1
D41: =IF(D40>0,TRUNC(C40*D40,2),"") | E41: =IF(E40>0,IF(AND(SUM(D40:E40)=1,R40=1),C40-SUM(D41),TRUNC(C40*E40,2)),"") | F41: =IF(F40>0,IF(AND(SUM(D40:F40)=1,R40=1),C40-SUM(D41:E41),TRUNC(C40*F40,2)),"") | G41: =IF(G40>0,IF(AND(SUM(D40:G40)=1,R40=1),C40-SUM(D41:F41),TRUNC(C40*G40,2)),"") -> 108107.01 | H41: =IF(H40>0,IF(AND(SUM(D40:H40)=1,R40=1),C40-SUM(D41:G41),TRUNC(C40*H40,2)),"") | I41: =IF(I40>0,IF(AND(SUM(D40:I40)=1,R40=1),C40-SUM(D41:H41),TRUNC(C40*I40,2)),"") | J41: =IF(J40>0,IF(AND(SUM(D40:J40)=1,R40=1),C40-SUM(D41:I41),TRUNC(C40*J40,2)),"") -> 108107.01 | K41: =IF(K40>0,IF(AND(SUM(D40:K40)=1,R40=1),C40-SUM(D41:J41),TRUNC(C40*K40,2)),"") -> 108107.01 | L41: =IF(L40>0,IF(AND(SUM(D40:L40)=1,R40=1),C40-SUM(D41:K41),TRUNC(C40*L40,2)),"") -> 108107.01 | M41: =IF(M40>0,IF(AND(SUM(D40:M40)=1,R40=1),C40-SUM(D41:L41),TRUNC(C40*M40,2)),"") -> 108107.05 | N41: =IF(N40>0,IF(AND(SUM(D40:N40)=1,R40=1),C40-SUM(D41:M41),TRUNC(C40*N40,2)),"") | O41: =IF(O40>0,IF(AND(SUM(D40:O40)=1,R40=1),C40-SUM(D41:N41),TRUNC(C40*O40,2)),"") | P41: =IF(P40>0,IF(AND(SUM(D40:P40)=1,R40=1),C40-SUM(D41:O41),TRUNC(C40*P40,2)),"") | Q41: =IF(Q40>0,IF(AND(SUM(D40:Q40)=1,R40=1),C40-SUM(D41:P41),TRUNC(C40*Q40,2)),"") | R41: =SUM(D41:Q41) -> 540535.09
A42: 13 | B42: SISTEMA DE PROTEÇÃO CONTRA DESCARGAS ATMOSFÉRICAS | C42: =Resumo!H30 -> 52484.08 | J42: 0.5 | K42: 0.5 | R42: =SUM(D42:Q42) -> 1
D43: =IF(D42>0,TRUNC(C42*D42,2),"") | E43: =IF(E42>0,IF(AND(SUM(D42:E42)=1,R42=1),C42-SUM(D43),TRUNC(C42*E42,2)),"") | F43: =IF(F42>0,IF(AND(SUM(D42:F42)=1,R42=1),C42-SUM(D43:E43),TRUNC(C42*F42,2)),"") | G43: =IF(G42>0,IF(AND(SUM(D42:G42)=1,R42=1),C42-SUM(D43:F43),TRUNC(C42*G42,2)),"") | H43: =IF(H42>0,IF(AND(SUM(D42:H42)=1,R42=1),C42-SUM(D43:G43),TRUNC(C42*H42,2)),"") | I43: =IF(I42>0,IF(AND(SUM(D42:I42)=1,R42=1),C42-SUM(D43:H43),TRUNC(C42*I42,2)),"") | J43: =IF(J42>0,IF(AND(SUM(D42:J42)=1,R42=1),C42-SUM(D43:I43),TRUNC(C42*J42,2)),"") -> 26242.04 | K43: =IF(K42>0,IF(AND(SUM(D42:K42)=1,R42=1),C42-SUM(D43:J43),TRUNC(C42*K42,2)),"") -> 26242.04 | L43: =IF(L42>0,IF(AND(SUM(D42:L42)=1,R42=1),C42-SUM(D43:K43),TRUNC(C42*L42,2)),"") | M43: =IF(M42>0,IF(AND(SUM(D42:M42)=1,R42=1),C42-SUM(D43:L43),TRUNC(C42*M42,2)),"") | N43: =IF(N42>0,IF(AND(SUM(D42:N42)=1,R42=1),C42-SUM(D43:M43),TRUNC(C42*N42,2)),"") | O43: =IF(O42>0,IF(AND(SUM(D42:O42)=1,R42=1),C42-SUM(D43:N43),TRUNC(C42*O42,2)),"") | P43: =IF(P42>0,IF(AND(SUM(D42:P42)=1,R42=1),C42-SUM(D43:O43),TRUNC(C42*P42,2)),"") | Q43: =IF(Q42>0,IF(AND(SUM(D42:Q42)=1,R42=1),C42-SUM(D43:P43),TRUNC(C42*Q42,2)),"") | R43: =SUM(D43:Q43) -> 52484.08
A44: 14 | B44: INSTALAÇÕES LÓGICA / TELEFONIA | C44: =Resumo!H31 -> 164933.41 | M44: 0.3 | N44: 0.3 | O44: 0.4 | R44: =SUM(D44:Q44) -> 1
D45: =IF(D44>0,TRUNC(C44*D44,2),"") | E45: =IF(E44>0,IF(AND(SUM(D44:E44)=1,R44=1),C44-SUM(D45),TRUNC(C44*E44,2)),"") | F45: =IF(F44>0,IF(AND(SUM(D44:F44)=1,R44=1),C44-SUM(D45:E45),TRUNC(C44*F44,2)),"") | G45: =IF(G44>0,IF(AND(SUM(D44:G44)=1,R44=1),C44-SUM(D45:F45),TRUNC(C44*G44,2)),"") | H45: =IF(H44>0,IF(AND(SUM(D44:H44)=1,R44=1),C44-SUM(D45:G45),TRUNC(C44*H44,2)),"") | I45: =IF(I44>0,IF(AND(SUM(D44:I44)=1,R44=1),C44-SUM(D45:H45),TRUNC(C44*I44,2)),"") | J45: =IF(J44>0,IF(AND(SUM(D44:J44)=1,R44=1),C44-SUM(D45:I45),TRUNC(C44*J44,2)),"") | K45: =IF(K44>0,IF(AND(SUM(D44:K44)=1,R44=1),C44-SUM(D45:J45),TRUNC(C44*K44,2)),"") | L45: =IF(L44>0,IF(AND(SUM(D44:L44)=1,R44=1),C44-SUM(D45:K45),TRUNC(C44*L44,2)),"") | M45: =IF(M44>0,IF(AND(SUM(D44:M44)=1,R44=1),C44-SUM(D45:L45),TRUNC(C44*M44,2)),"") -> 49480.02 | N45: =IF(N44>0,IF(AND(SUM(D44:N44)=1,R44=1),C44-SUM(D45:M45),TRUNC(C44*N44,2)),"") -> 49480.02 | O45: =IF(O44>0,IF(AND(SUM(D44:O44)=1,R44=1),C44-SUM(D45:N45),TRUNC(C44*O44,2)),"") -> 65973.37 | P45: =IF(P44>0,IF(AND(SUM(D44:P44)=1,R44=1),C44-SUM(D45:O45),TRUNC(C44*P44,2)),"") | Q45: =IF(Q44>0,IF(AND(SUM(D44:Q44)=1,R44=1),C44-SUM(D45:P45),TRUNC(C44*Q44,2)),"") | R45: =SUM(D45:Q45) -> 164933.41
A46: 15 | B46: INSTALAÇÕES DE COMBATE A INCÊNDIO | C46: =Resumo!H32 -> 13854.74 | P46: 1 | R46: =SUM(D46:Q46) -> 1
D47: =IF(D46>0,TRUNC(C46*D46,2),"") | E47: =IF(E46>0,IF(AND(SUM(D46:E46)=1,R46=1),C46-SUM(D47),TRUNC(C46*E46,2)),"") | F47: =IF(F46>0,IF(AND(SUM(D46:F46)=1,R46=1),C46-SUM(D47:E47),TRUNC(C46*F46,2)),"") | G47: =IF(G46>0,IF(AND(SUM(D46:G46)=1,R46=1),C46-SUM(D47:F47),TRUNC(C46*G46,2)),"") | H47: =IF(H46>0,IF(AND(SUM(D46:H46)=1,R46=1),C46-SUM(D47:G47),TRUNC(C46*H46,2)),"") | I47: =IF(I46>0,IF(AND(SUM(D46:I46)=1,R46=1),C46-SUM(D47:H47),TRUNC(C46*I46,2)),"") | J47: =IF(J46>0,IF(AND(SUM(D46:J46)=1,R46=1),C46-SUM(D47:I47),TRUNC(C46*J46,2)),"") | K47: =IF(K46>0,IF(AND(SUM(D46:K46)=1,R46=1),C46-SUM(D47:J47),TRUNC(C46*K46,2)),"") | L47: =IF(L46>0,IF(AND(SUM(D46:L46)=1,R46=1),C46-SUM(D47:K47),TRUNC(C46*L46,2)),"") | M47: =IF(M46>0,IF(AND(SUM(D46:M46)=1,R46=1),C46-SUM(D47:L47),TRUNC(C46*M46,2)),"") | N47: =IF(N46>0,IF(AND(SUM(D46:N46)=1,R46=1),C46-SUM(D47:M47),TRUNC(C46*N46,2)),"") | O47: =IF(O46>0,IF(AND(SUM(D46:O46)=1,R46=1),C46-SUM(D47:N47),TRUNC(C46*O46,2)),"") | P47: =IF(P46>0,IF(AND(SUM(D46:P46)=1,R46=1),C46-SUM(D47:O47),TRUNC(C46*P46,2)),"") -> 13854.74 | Q47: =IF(Q46>0,IF(AND(SUM(D46:Q46)=1,R46=1),C46-SUM(D47:P47),TRUNC(C46*Q46,2)),"") | R47: =SUM(D47:Q47) -> 13854.74
A48: 16 | B48: INSTALAÇÕES DE CFTV | C48: =Resumo!H33 -> 52263.88 | M48: 0.5 | N48: 0.5 | R48: =SUM(D48:Q48) -> 1
D49: =IF(D48>0,TRUNC(C48*D48,2),"") | E49: =IF(E48>0,IF(AND(SUM(D48:E48)=1,R48=1),C48-SUM(D49),TRUNC(C48*E48,2)),"") | F49: =IF(F48>0,IF(AND(SUM(D48:F48)=1,R48=1),C48-SUM(D49:E49),TRUNC(C48*F48,2)),"") | G49: =IF(G48>0,IF(AND(SUM(D48:G48)=1,R48=1),C48-SUM(D49:F49),TRUNC(C48*G48,2)),"") | H49: =IF(H48>0,IF(AND(SUM(D48:H48)=1,R48=1),C48-SUM(D49:G49),TRUNC(C48*H48,2)),"") | I49: =IF(I48>0,IF(AND(SUM(D48:I48)=1,R48=1),C48-SUM(D49:H49),TRUNC(C48*I48,2)),"") | J49: =IF(J48>0,IF(AND(SUM(D48:J48)=1,R48=1),C48-SUM(D49:I49),TRUNC(C48*J48,2)),"") | K49: =IF(K48>0,IF(AND(SUM(D48:K48)=1,R48=1),C48-SUM(D49:J49),TRUNC(C48*K48,2)),"") | L49: =IF(L48>0,IF(AND(SUM(D48:L48)=1,R48=1),C48-SUM(D49:K49),TRUNC(C48*L48,2)),"") | M49: =IF(M48>0,IF(AND(SUM(D48:M48)=1,R48=1),C48-SUM(D49:L49),TRUNC(C48*M48,2)),"") -> 26131.94 | N49: =IF(N48>0,IF(AND(SUM(D48:N48)=1,R48=1),C48-SUM(D49:M49),TRUNC(C48*N48,2)),"") -> 26131.94 | O49: =IF(O48>0,IF(AND(SUM(D48:O48)=1,R48=1),C48-SUM(D49:N49),TRUNC(C48*O48,2)),"") | P49: =IF(P48>0,IF(AND(SUM(D48:P48)=1,R48=1),C48-SUM(D49:O49),TRUNC(C48*P48,2)),"") | Q49: =IF(Q48>0,IF(AND(SUM(D48:Q48)=1,R48=1),C48-SUM(D49:P49),TRUNC(C48*Q48,2)),"") | R49: =SUM(D49:Q49) -> 52263.88
A50: 17 | B50: AR CONDICIONADO/CLIMATIZAÇÃO | C50: =Resumo!H34 -> 460513.61 | L50: 0.2 | M50: 0.3 | N50: 0.3 | O50: 0.2 | R50: =SUM(D50:Q50) -> 1
...

Sheet CURVA ABC
A12: =Planilha!A12 -> UFF- CAMPUS NITERÓI | H12: =Planilha!E12 -> AUTOR: | J12: =Planilha!H12 -> FUNÇÃO:
A13: =Planilha!A13 -> LOCAL: RUA VERA CRISPINO DE FREITAS, 190-2 - BOA VIAGEM, NITERÓI-RJ | H13: =Planilha!E13 -> PROCESSO: | J13: =Planilha!H13 -> ART/RRT:
A14: =Planilha!A14 -> NOME DA OBRA: AGÊNCIA DE INOVAÇÃO DA UFF | H14: =Planilha!E14 -> BDI | I14: =Planilha!F14 -> BDI EQUIP. | J14: =Planilha!H14 -> DATA | K14: =Planilha!I14 -> REVISÃO
A15: =Planilha!A15 -> BASE DE DADOS: SINAPI/2025.7 - EMOP/2025.7 - SCO/2025.7 - SBC/2025.7 | H15: =Planilha!E15 -> 0.24657 | I15: =Planilha!F15 -> 0 | J15: =Planilha!H15 -> 45957 | K15: =Planilha!I15 -> R03
A16: CÓDIGO | B16: BANCO | C16: DESCRIÇÃO | D16: TIPO | E16: UNIDADE | F16: QUANTIDADE | G16: PREÇO UNITÁRIO | H16: PREÇO TOTAL | I16: % | J16: ACUMUL. % | K16: CL
A17: COMP-1014 | B17: Próprio | C17: PISO DE MADEIRA PLÁSTICA LINHA ECOWOOD OU EQUIVALENTE TÉCNICO, APLICADO SOBRE CONTRAPISO. FORNECIMENTO E INSTALAÇÃO. | E17: un | F17: 877.85 | G17: 598.75 | H17: 525612.68 | I17: =H17/$I$445 -> 0.070039041 | J17: =I17 -> 0.070039041 | K17: =IF(J17<=50%,"A",IF(J17<=80%,"B","C")) -> A
A18: COMP-1001 | B18: Próprio | C18: EQUIPE ADMINISTRATIVA DA OBRA | E18: un | F18: 1 | G18: 496956.26 | H18: 496956.26 | I18: =H18/$I$445 -> 0.06622051 | J18: =I18+J17 -> 0.13625955 | K18: =IF(J18<=50%,"A",IF(J18<=80%,"B","C")) -> A
A19: COMP-25269 | B19: Próprio | C19: PLACA PRÉ-MOLDADA CONCRETO FCK 40 MPA P/ FACHADA 1,50X0,30X0,08 M. FORNECIMENTO E INSTALAÇÃO | E19: un | F19: 678 | G19: 374.11 | H19: 253646.58 | I19: =H19/$I$445 -> 0.033798962 | J19: =I19+J18 -> 0.17005851 | K19: =IF(J19<=50%,"A",IF(J19<=80%,"B","C")) -> A
A20: 101161 | B20: SINAPI | C20: ALVENARIA DE VEDAÇÃO COM ELEMENTO VAZADO DE CONCRETO (COBOGÓ) DE 7X50X50CM E ARGAMASSA DE ASSENTAMENTO COM PREPARO EM BETONEIRA. AF_05/2020 | D20: Alvenarias Diversas | E20: m² | F20: 713.69 | G20: 288.65 | H20: 206006.61 | I20: =H20/$I$445 -> 0.027450832 | J20: =I20+J19 -> 0.19750935 | K20: =IF(J20<=50%,"A",IF(J20<=80%,"B","C")) -> A
A21: 103675 | B21: SINAPI | C21: CONCRETAGEM DE VIGAS E LAJES, FCK=25 MPA, PARA LAJES MACIÇAS OU NERVURADAS COM USO DE BOMBA - LANÇAMENTO, ADENSAMENTO E ACABAMENTO. AF_02/2022_PS | D21: Concretagem para Estruturas de Concreto Armado | E21: m³ | F21: 244.48 | G21: 821.27 | H21: 200784.08 | I21: =H21/$I$445 -> 0.026754918 | J21: =I21+J20 -> 0.22426426 | K21: =IF(J21<=50%,"A",IF(J21<=80%,"B","C")) -> A
A22: 98575 | B22: SINAPI | C22: TRATAMENTO DE JUNTA DE DILATAÇÃO, COM TARUGO DE POLIETILENO E SELANTE PU, INCLUSO PREENCHIMENTO COM ESPUMA EXPANSIVA PU. AF_09/2023 | D22: Impermeabilização, Proteção Mecânica e Tratamento de Junta | E22: M | F22: 1835.88 | G22: 108.75 | H22: 199651.95 | I22: =H22/$I$445 -> 0.02660406 | J22: =I22+J21 -> 0.25086832 | K22: =IF(J22<=50%,"A",IF(J22<=80%,"B","C")) -> A
A23: COMP-1016 | B23: Próprio | C23: PISO FULGET ESPESSURA 12MM, FORMANDO QUADROS COM JUNTA PLÁSTICA. DIMENSSÕES: 1,20X1,20CM | E23: un | F23: 797.46 | G23: 221.5 | H23: 176637.39 | I23: =H23/$I$445 -> 0.023537319 | J23: =I23+J22 -> 0.27440564 | K23: =IF(J23<=50%,"A",IF(J23<=80%,"B","C")) -> A
A24: COMP-3029 | B24: Próprio | C24: POLTRONA ACOLCHOADA PARA AUDITÓRIO. FORNECIMENTO E INSTALAÇÃO | E24: un | F24: 48 | G24: 3442.22 | H24: 165226.56 | I24: =H24/$I$445 -> 0.022016801 | J24: =I24+J23 -> 0.29642244 | K24: =IF(J24<=50%,"A",IF(J24<=80%,"B","C")) -> A
A25: 94569 | B25: SINAPI | C25: JANELA DE ALUMÍNIO TIPO MAXIM-AR, BATENTE/ REQUADRO 3 A 14 CM, VIDRO INCLUSO, FIXAÇÃO COM PARAFUSO, SEM GUARNIÇÃO/ ALIZAR, DIMENSÕES 60X80 (A X L) CM, SEM ACABAMENTO, VEDAÇÃO COM SILICONE, EXCLUSIVE CONTRAMARCO - FORNECIMENTO E INSTALAÇÃO. AF_11/2024 | D25: Esquadrias - Janelas | E25: m² | F25: 112.72 | G25: 1409.38 | H25: 158865.31 | I25: =H25/$I$445 -> 0.021169151 | J25: =I25+J24 -> 0.31759159 | K25: =IF(J25<=50%,"A",IF(J25<=80%,"B","C")) -> A
A26: 92398 | B26: SINAPI | C26: EXECUÇÃO DE PAVIMENTO EM PISO INTERTRAVADO, COM BLOCO RETANGULAR COR NATURAL DE 20 X 10 CM, ESPESSURA 8 CM. AF_10/2022 | D26: Pavimento Intertravado | E26: m² | F26: 1113.82 | G26: 142.13 | H26: 158307.23 | I26: =H26/$I$445 -> 0.021094785 | J26: =I26+J25 -> 0.33868638 | K26: =IF(J26<=50%,"A",IF(J26<=80%,"B","C")) -> A
A27: 98546 | B27: SINAPI | C27: IMPERMEABILIZAÇÃO DE SUPERFÍCIE COM MANTA ASFÁLTICA, UMA CAMADA, INCLUSIVE APLICAÇÃO DE PRIMER ASFÁLTICO, E=4MM. AF_09/2023 | D27: Impermeabilização, Proteção Mecânica e Tratamento de Junta | E27: m² | F27: 814.17 | G27: 182.16 | H27: 148309.2 | I27: =H27/$I$445 -> 0.019762526 | J27: =I27+J26 -> 0.3584489 | K27: =IF(J27<=50%,"A",IF(J27<=80%,"B","C")) -> A
A28: 112810 | B28: SBC | C28: BRISE METALICO CHAPA MICROPERFURADAPRE-PINTADA AS288 REFAX | D28: ESQUADRIAS DE ALUMINIO | E28: m² | F28: 118.6 | G28: 1228.51 | H28: 145701.28 | I28: =H28/$I$445 -> 0.019415015 | J28: =I28+J27 -> 0.37786392 | K28: =IF(J28<=50%,"A",IF(J28<=80%,"B","C")) -> A
A29: 92455 | B29: SINAPI | C29: MONTAGEM E DESMONTAGEM DE FÔRMA DE VIGA, ESCORAMENTO COM GARFO DE MADEIRA, PÉ-DIREITO SIMPLES, EM CHAPA DE MADEIRA RESINADA, 4 UTILIZAÇÕES. AF_09/2020 | D29: Fôrmas para Estruturas de Concreto Armado | E29: m² | F29: 655.47 | G29: 218.7 | H29: 143351.28 | I29: =H29/$I$445 -> 0.019101872 | J29: =I29+J28 -> 0.39696579 | K29: =IF(J29<=50%,"A",IF(J29<=80%,"B","C")) -> A
A30: COMP-3041 | B30: Próprio | C30: Cubículo de entrada e medição para uso abrigado, classe 15 kV | D30: 36.01 | E30: CJ | F30: 1 | G30: 139670.98 | H30: 139670.98 | I30: =H30/$I$445 -> 0.018611464 | J30: =I30+J29 -> 0.41557726 | K30: =IF(J30<=50%,"A",IF(J30<=80%,"B","C")) -> A
A31: COMP-1013 | B31: Próprio | C31: PISO VINÍLICO EM MANTA DECODE FIBER 25104088. FORNECIMENTO E INSTALAÇÃO. | E31: un | F31: 461.63 | G31: 274.62 | H31: 126772.83 | I31: =H31/$I$445 -> 0.016892757 | J31: =I31+J30 -> 0.43247001 | K31: =IF(J31<=50%,"A",IF(J31<=80%,"B","C")) -> A
A32: 87748 | B32: SINAPI | C32: CONTRAPISO EM ARGAMASSA PRONTA, PREPARO MECÂNICO COM MISTURADOR 300 KG, APLICADO EM ÁREAS MOLHADAS SOBRE LAJE, ADERIDO, ACABAMENTO NÃO REFORÇADO, ESPESSURA 3CM. AF_07/2021 | D32: Contrapiso | E32: m² | F32: 814.17 | G32: 143.29 | H32: 116662.41 | I32: =H32/$I$445 -> 0.015545522 | J32: =I32+J31 -> 0.44801553 | K32: =IF(J32<=50%,"A",IF(J32<=80%,"B","C")) -> A
A33: 10.003.0080-A | B33: EMOP | C33: ESTACA DE CONCRETO ARMADO,MOLDADA NO TERRENO,TIPO HELICE CON TINUA,DIAMETRO DE 400MM,CAPACIDADE DE CARGA DE 60T A 80T,INC LUSIVE FORNECIMENTO DOS MATERIAIS CONSIDERANDO O TRECHO CRAV ADO E CONCRETADO GOS SOCIAIS DESONERADOS GOS SOCIAIS DESONERADOS | D33: 10 | E33: M | F33: 180 | G33: 547.31 | H33: 98515.8 | I33: =H33/$I$445 -> 0.013127446 | J33: =I33+J32 -> 0.46114298 | K33: =IF(J33<=50%,"A",IF(J33<=80%,"B","C")) -> A
A34: 98459 | B34: SINAPI | C34: TAPUME COM TELHA METÁLICA. AF_03/2024 | D34: Instalações para Canteiros de Obras | E34: m² | F34: 711.38 | G34: 130.99 | H34: 93183.66 | I34: =H34/$I$445 -> 0.012416927 | J34: =I34+J33 -> 0.47355991 | K34: =IF(J34<=50%,"A",IF(J34<=80%,"B","C")) -> A
A35: 43.08.041 | B35: Próprio | C35: EVAPORADOR PARA SISTEMA VRF DE AR CONDICIONADO, TIPO CASSETE, CAPACIDADE DE 2 TR | E35: un | F35: 12 | G35: 7430.85 | H35: 89170.2 | I35: =H35/$I$445 -> 0.011882124 | J35: =I35+J34 -> 0.48544203 | K35: =IF(J35<=50%,"A",IF(J35<=80%,"B","C")) -> A
A36: 90093 | B36: SBC | C36: DIVIS.PAINEL/VIDRO/PAINEL MIOLO SEMI-OCO 35MM REV.LAM.COLOC. | D36: PAREDES E PAINEIS | E36: m² | F36: 196.99 | G36: 446 | H36: 87857.54 | I36: =H36/$I$445 -> 0.01170721 | J36: =I36+J35 -> 0.49714924 | K36: =IF(J36<=50%,"A",IF(J36<=80%,"B","C")) -> A
A37: 98297 | B37: SINAPI | C37: CABO ELETRÔNICO CATEGORIA 6, INSTALADO EM EDIFICAÇÃO INSTITUCIONAL - FORNECIMENTO E INSTALAÇÃO. AF_11/2019 | D37: Redes de Lógica, Telefonia e Imagem | E37: M | F37: 8385 | G37: 10.34 | H37: 86700.9 | I37: =H37/$I$445 -> 0.011553085 | J37: =I37+J36 -> 0.50870233 | K37: =IF(J37<=50%,"A",IF(J37<=80%,"B","C")) -> B
A38: 7881 | B38: EMOP | C38: BOTIJA COM GAS REFRIGERANTE R-22, DE 13, 6 KG, EMBALAGEM DESCARTAVEL | D38: Material | E38: UN | F38: 70 | G38: 1161.24 | H38: 81286.8 | I38: =H38/$I$445 -> 0.010831644 | J38: =I38+J37 -> 0.51953397 | K38: =IF(J38<=50%,"A",IF(J38<=80%,"B","C")) -> B
A39: COMP-1004 | B39: Próprio | C39: PLACA CIMENTÍCIA PRÉ-MOLDADA (STEEL FRAME) 10MM. FORNECIMENTO E INSTALAÇÃO. | E39: un | F39: 374.26 | G39: 213.54 | H39: 79919.48 | I39: =H39/$I$445 -> 0.010649446 | J39: =I39+J38 -> 0.53018342 | K39: =IF(J39<=50%,"A",IF(J39<=80%,"B","C")) -> B
A40: 43.08.003 | B40: Próprio | C40: CONDENSADOR PARA SISTEMA VRF DE AR CONDICIONADO, CAPACIDADE DE 11 TR A 13 TR | E40: un | F40: 1 | G40: 76682.04 | H40: 76682.04 | I40: =H40/$I$445 -> 0.01021805 | J40: =I40+J39 -> 0.54040147 | K40: =IF(J40<=50%,"A",IF(J40<=80%,"B","C")) -> B
A41: 92413 | B41: SINAPI | C41: MONTAGEM E DESMONTAGEM DE FÔRMA DE PILARES RETANGULARES E ESTRUTURAS SIMILARES, PÉ-DIREITO SIMPLES, EM MADEIRA SERRADA, 4 UTILIZAÇÕES. AF_09/2020 | D41: Fôrmas para Estruturas de Concreto Armado | E41: m² | F41: 460.89 | G41: 161.44 | H41: 74406.08 | I41: =H41/$I$445 -> 0.0099147731 | J41: =I41+J40 -> 0.55031624 | K41: =IF(J41<=50%,"A",IF(J41<=80%,"B","C")) -> B
A42: 18.028.0150-A | B42: EMOP | C42: TRANSFORMADOR DE DISTRIBUICAO DE 225KVA,ABRIGADA,CLASSE 15KV ,A SECO,TENSAO PRIMARIA DE 13,8KV,TENSAO SECUNDARIA DE 220/1 27V-60HZ.FORNECIMENTO E COLOCACAO NSAO PRIMARIA DE 13,8KV, TENSAO SECUND.220/127V-60HZ,C/ACESS CARGOS SOCIAIS DESONERADOS GOS SOCIAIS DESONERADOS | D42: 18 | E42: UN | F42: 1 | G42: 71261.47 | H42: 71261.47 | I42: =H42/$I$445 -> 0.009495747 | J42: =I42+J41 -> 0.55981199 | K42: =IF(J42<=50%,"A",IF(J42<=80%,"B","C")) -> B
A43: 92490 | B43: SINAPI | C43: MONTAGEM E DESMONTAGEM DE FÔRMA DE LAJE NERVURADA COM CUBETA E ASSOALHO, PÉ-DIREITO SIMPLES, EM CHAPA DE MADEIRA COMPENSADA RESINADA, 8 UTILIZAÇÕES. AF_09/2020 | D43: Fôrmas para Estruturas de Concreto Armado | E43: m² | F43: 652.15 | G43: 108.27 | H43: 70608.28 | I43: =H43/$I$445 -> 0.009408708 | J43: =I43+J42 -> 0.56922069 | K43: =IF(J43<=50%,"A",IF(J43<=80%,"B","C")) -> B
A44: COMP-1022 | B44: Próprio | C44: POSTE METÁLICO 6,0M COM CAIXA DE PASSAGEM EM ALVENARIA. FORNECIMENTO E INSTALAÇÃO | E44: un | F44: 19 | G44: 3560.62 | H44: 67651.78 | I44: =H44/$I$445 -> 0.0090147479 | J44: =I44+J43 -> 0.57823544 | K44: =IF(J44<=50%,"A",IF(J44<=80%,"B","C")) -> B
A45: 43.08.040 | B45: Próprio | C45: EVAPORADOR PARA SISTEMA VRF DE AR CONDICIONADO, TIPO CASSETE, CAPACIDADE DE 1 TR | E45: un | F45: 10 | G45: 6669.63 | H45: 66696.3 | I45: =H45/$I$445 -> 0.0088874281 | J45: =I45+J44 -> 0.58712287 | K45: =IF(J45<=50%,"A",IF(J45<=80%,"B","C")) -> B
A46: 43.08.002 | B46: Próprio | C46: CONDENSADOR PARA SISTEMA VRF DE AR CONDICIONADO, CAPACIDADE DE 8 TR A 10 TR | E46: un | F46: 1 | G46: 66511.85 | H46: 66511.85 | I46: =H46/$I$445 -> 0.0088628497 | J46: =I46+J45 -> 0.59598572 | K46: =IF(J46<=50%,"A",IF(J46<=80%,"B","C")) -> B
A47: 92764 | B47: SINAPI | C47: ARMAÇÃO DE PILAR OU VIGA DE ESTRUTURA CONVENCIONAL DE CONCRETO ARMADO UTILIZANDO AÇO CA-50 DE 16,0 MM - MONTAGEM. AF_06/2022 | D47: Armação para Estruturas de Concreto Armado | E47: KG | F47: 5519.6 | G47: 11.97 | H47: 66069.61 | I47: =H47/$I$445 -> 0.0088039202 | J47: =I47+J46 -> 0.60478964 | K47: =IF(J47<=50%,"A",IF(J47<=80%,"B","C")) -> B
A48: 11.025.0014-A | B48: EMOP | C48: CONCRETO BOMBEADO,FCK=40MPA,COMPREENDENDO O FORNECIMENTO DE CONCRETO IMPORTADO DE USINA,COLOCACAO NAS FORMAS,ESPALHAMENT O,ADENSAMENTO MECANICO E ACABAMENTO S SOCIAIS DESONERADOS NCARGOS SOCIAIS DESONERADOS DOS GOS SOCIAIS DESONERADOS | D48: 11 | E48: m³ | F48: 63.89 | G48: 1008.06 | H48: 64404.95 | I48: =H48/$I$445 -> 0.0085821006 | J48: =I48+J47 -> 0.61337174 | K48: =IF(J48<=50%,"A",IF(J48<=80%,"B","C")) -> B
A49: 210023 | B49: Próprio | C49: LIMPEZA FINAL DE OBRAS | E49: un | F49: 851.28 | G49: 75.64 | H49: 64390.81 | I49: =H49/$I$445 -> 0.0085802165 | J49: =I49+J48 -> 0.62195196 | K49: =IF(J49<=50%,"A",IF(J49<=80%,"B","C")) -> B
A50: 96368 | B50: SINAPI | C50: PAREDE COM SISTEMA EM CHAPAS DE GESSO PARA DRYWALL, USO INTERNO COM DUAS FACES DUPLAS E ESTRUTURA METÁLICA COM GUIAS DUPLAS, SEM VÃOS. AF_07/2023_PS | D50: Paredes em Drywall | E50: m² | F50: 277.6 | G50: 229.67 | H50: 63756.39 | I50: =H50/$I$445 -> 0.0084956786 | J50: =I50+J49 -> 0.63044764 | K50: =IF(J50<=50%,"A",IF(J50<=80%,"B","C")) -> B
A51: COM-40772 | B51: Próprio | C51: LOCACAO DE ANDAIME METALICO TIPO FACHADEIRO, PECAS COM APROXIMADAMENTE 1,20 M DE LARGURA E 2,0 M DE ALTURA, INCLUINDO DIAGONAIS EM X, BARRAS DE LIGACAO, SAPATAS E DEMAIS ITENS NECESSARIOS A MONTAGEM. INCLUSIVE MONTAGEM E DESMONTAGEM | E51: un | F51: 1680 | G51: 36.71 | H51: 61672.8 | I51: =H51/$I$445 -> 0.0082180357 | J51: =I51+J50 -> 0.63866567 | K51: =IF(J51<=50%,"A",IF(J51<=80%,"B","C")) -> B
...

Sheet Composição
A11: PLANILHA DE COMPOSIÇÕES
A12: =Planilha!A12 -> UFF- CAMPUS NITERÓI | H12: =Planilha!E12 -> AUTOR: | J12: =Planilha!H12 -> FUNÇÃO:
A13: =Planilha!A13 -> LOCAL: RUA VERA CRISPINO DE FREITAS, 190-2 - BOA VIAGEM, NITERÓI-RJ | H13: =Planilha!E13 -> PROCESSO: | J13: =Planilha!H13 -> ART/RRT:
A14: =Planilha!A14 -> NOME DA OBRA: AGÊNCIA DE INOVAÇÃO DA UFF | H14: =Planilha!E14 -> BDI | I14: =Planilha!F14 -> BDI EQUIP. | J14: =Planilha!H14 -> DATA | K14: =Planilha!I14 -> REVISÃO
A15: =Planilha!A15 -> BASE DE DADOS: SINAPI/2025.7 - EMOP/2025.7 - SCO/2025.7 - SBC/2025.7 | H15: =Planilha!E15 -> 0.24657 | I15: =Planilha!F15 -> 0 | J15: =Planilha!H15 -> 45957 | K15: =Planilha!I15 -> R03
A16: 1 | D16: GERENCIAMENTO DE OBRAS / FISCALIZAÇÃO | K16: 496956.26
A17: 1.1 | B17: Código | C17: Banco | D17: Descrição | E17: Tipo | G17: Und | H17: Quant. | I17: Porcent. | J17: Valor Unit | K17: Total
A18: Composição | B18: COMP-1001 | C18: Próprio | D18: EQUIPE ADMINISTRATIVA DA OBRA | G18: un | H18: 1 | J18: 398649.34 | K18: 398649.34
A19: Composição Auxiliar | B19: 05.105.0100-A | C19: EMOP | D19: MAO-DE-OBRA DE VIGIA,INCLUSIVE ENCARGOS SOCIAIS | E19: 5 | G19: MES | H19: 13 | I19: 0 | J19: 3555.2 | K19: 46217.6
A20: Composição Auxiliar | B20: 93572 | C20: SINAPI | D20: ENCARREGADO GERAL DE OBRAS COM ENCARGOS COMPLEMENTARES | E20: Livro SINAPI: Cálculos e Parâmetros | G20: MES | H20: 13 | I20: 0 | J20: 8154.68 | K20: 106010.84
A21: Composição Auxiliar | B21: 93565 | C21: SINAPI | D21: ENGENHEIRO CIVIL DE OBRA JUNIOR COM ENCARGOS COMPLEMENTARES | E21: Livro SINAPI: Cálculos e Parâmetros | G21: MES | H21: 7 | I21: 0 | J21: 22233.45 | K21: 155634.15
A22: Composição Auxiliar | B22: 100321 | C22: SINAPI | D22: TÉCNICO EM SEGURANÇA DO TRABALHO COM ENCARGOS COMPLEMENTARES | E22: Livro SINAPI: Cálculos e Parâmetros | G22: MES | H22: 2 | I22: 0 | J22: 7782.88 | K22: 15565.76
A23: Composição Auxiliar | B23: 93563 | C23: SINAPI | D23: ALMOXARIFE COM ENCARGOS COMPLEMENTARES | E23: Livro SINAPI: Cálculos e Parâmetros | G23: MES | H23: 13 | I23: 0 | J23: 5786.23 | K23: 75220.99
F24: MO sem LS => | G24: 244364.42 | H24: LS => | I24: 137420.47 | J24: MO com LS => | K24: 381784.89
F25: Valor do BDI => | G25: 98306.92 | I25: Valor com BDI => | K25: 496956.26
H26: Quant. => | I26: 1,00 | J26: Preço Total => | K26: 496956.26
A28: 2 | D28: SERVIÇOS PRELIMINARES | K28: 34553.01
A29: 2.1 | B29: Código | C29: Banco | D29: Descrição | E29: Tipo | G29: Und | H29: Quant. | I29: Porcent. | J29: Valor Unit | K29: Total
A30: Composição | B30: 103689 | C30: SINAPI | D30: FORNECIMENTO E INSTALAÇÃO DE PLACA DE OBRA COM CHAPA GALVANIZADA E ESTRUTURA DE MADEIRA. AF_03/2022_PS | E30: Sinalização Vertical Viária | G30: m² | H30: 1 | J30: 476.28 | K30: 476.28
A31: Composição Auxiliar | B31: 88262 | C31: SINAPI | D31: CARPINTEIRO DE FORMAS COM ENCARGOS COMPLEMENTARES | E31: Livro SINAPI: Cálculos e Parâmetros | G31: H | H31: 0.3729 | I31: 0 | J31: 37.51 | K31: 13.98
A32: Composição Auxiliar | B32: 88316 | C32: SINAPI | D32: SERVENTE COM ENCARGOS COMPLEMENTARES | E32: Livro SINAPI: Cálculos e Parâmetros | G32: H | H32: 1.1186 | I32: 0 | J32: 29.15 | K32: 32.6
A33: Composição Auxiliar | B33: 102234 | C33: SINAPI | D33: PINTURA IMUNIZANTE PARA MADEIRA, 2 DEMÃOS. AF_01/2021 | E33: Pintura em Madeira | G33: m² | H33: 0.5 | I33: 0 | J33: 29.54 | K33: 14.77
A34: Insumo | B34: 00005069 | C34: SINAPI | D34: PREGO DE ACO POLIDO COM CABECA 17 X 27 (2 1/2 X 11) | E34: Material | G34: KG | H34: 0.0132 | I34: 0 | J34: 18.73 | K34: 0.24
A35: Insumo | B35: 00004509 | C35: SINAPI | D35: SARRAFO *2,5 X 10* CM EM PINUS, MISTA OU EQUIVALENTE DA REGIAO - BRUTA | E35: Material | G35: M | H35: 3.2083 | I35: 0 | J35: 4.46 | K35: 14.3
A36: Insumo | B36: 00005065 | C36: SINAPI | D36: PREGO DE ACO POLIDO COM CABECA 10 X 10 (7/8 X 17) | E36: Material | G36: KG | H36: 0.0113 | I36: 0 | J36: 34.96 | K36: 0.39
A37: Insumo | B37: 00004813 | C37: SINAPI | D37: PLACA DE OBRA (PARA CONSTRUCAO CIVIL) EM CHAPA GALVANIZADA *N. 22*, ADESIVADA, DE *2,4 X 1,2* M (SEM POSTES PARA FIXACAO) | E37: Material | G37: m² | H37: 1 | I37: 0 | J37: 400 | K37: 400
F38: MO sem LS => | G38: 19.78 | H38: LS => | I38: 17.97 | J38: MO com LS => | K38: 37.75
F39: Valor do BDI => | G39: 117.45 | I39: Valor com BDI => | K39: 593.73
H40: Quant. => | I40: 6,00 | J40: Preço Total => | K40: 3562.38
A42: 2.2 | B42: Código | C42: Banco | D42: Descrição | E42: Tipo | G42: Und | H42: Quant. | I42: Porcent. | J42: Valor Unit | K42: Total
A43: Composição | B43: 01.018.0002-A | C43: EMOP | D43: LOCACAO DE OBRA COM APARELHO TOPOGRAFICO SOBRE CERCA DE MARC ACAO,INCLUSIVE CONSTRUCAO DESTA E SUA PRE-LOCACAO E O FORNEC IMENTO DO MATERIAL E TENDO POR MEDICAO O PERIMETRO A CONSTRU IR QUIVALENTES, Nº12X12 A 18X30 CIAIS DESONERADOS NCARGOS SOCIAIS DESONERADOS GOS SOCIAIS DESONERADOS ARGOS SOCIAIS DESONERADOS DE 500M SEM PRISMA,EALCANCE MINIMO DE 3000M COM UM PRISMA | E43: 1 | G43: M | H43: 1 | J43: 25.94 | K43: 25.94
A44: Composição Auxiliar | B44: 19.011.0019-C | C44: EMOP | D44: ESTACAO TOTAL,COM PRECISAO ANGULAR DE 1" A 2",ALCANCE MINIMO DE 500M SEM PRISMA,E ALCANCE MINIMO DE 3000M COM UM PRISMA, GATILHO RAPIDO,DISPLAY DUPLO,TECLADO ALFANUMERICO,MEMORIA IN TERNA COM MINIMO DE 17.000 PONTOS,PODENDO SER EXPANDIDO POR CARTAO DE MEMORIA OU PEN DRIVE,TRANSFERENCIA DE DADOS VIA USB,BATERIA RECARREGAVEL,EXCLUSIVE EQUIPE DE TOPOGRAFIA M PRISMA E 3000M COMPRISMA,MEMORIA INT. PARA 17.000 PONTOS | E44: 19 | G44: H | H44: 0.125 | I44: 0 | J44: 1.05 | K44: 0.13
A45: Insumo | B45: 20046 | C45: EMOP | D45: MAO-DE-OBRA DE CARPINTEIRO DE FORMA DE C ONCRETO, INCLUSIVE ENCARGOS SOCIAIS DESO NERADOS | E45: Mão de Obra | G45: H | H45: 0.115 | I45: 3 | J45: 26.52 | K45: 3.14
A46: Insumo | B46: 20150 | C46: EMOP | D46: MAO-DE-OBRA DE TOPOGRAFO B (SERVICOS DE CAMPO),INCLUSIVE ENCARGOS SOCIAIS DESONE RADOS | E46: Mão de Obra | G46: H | H46: 0.125 | I46: 3 | J46: 28.55 | K46: 3.67
A47: Insumo | B47: 20132 | C47: EMOP | D47: MAO-DE-OBRA DE SERVENTE DA CONSTRUCAO CI VIL, INCLUSIVE ENCARGOS SOCIAIS DESONERA DOS | E47: Mão de Obra | G47: H | H47: 0.355 | I47: 3 | J47: 19.16 | K47: 7
A48: Insumo | B48: 00453 | C48: EMOP | D48: PREGO COM OU SEM CABECA, EM CAIXAS DE 50 KG, OU QUANTIDADES EQUIVALENTES, Nº12X12 A 18X30 | E48: Material | G48: KG | H48: 0.015 | I48: 0 | J48: 15.35 | K48: 0.23
A49: Insumo | B49: 20032 | C49: EMOP | D49: MAO-DE-OBRA DE AUXILIAR DE TOPOGRAFIA, I NCLUSIVE ENCARGOS SOCIAIS DESONERADOS | E49: Mão de Obra | G49: H | H49: 0.125 | I49: 3 | J49: 20.2 | K49: 2.6
A50: Insumo | B50: 00349 | C50: EMOP | D50: PINUS, EM PECAS DE 2,50X30,00CM (1"X12") - GRUPOS:I,II,III E IV, DA TABELA CLASS IFICATORIA MUNICIPAL DE ESPECIFICACOES D E PRODUTOS MADEIREIROS DO MUNICIPIO RJ | E50: Material | G50: M | H50: 0.45 | I50: 0 | J50: 12.67 | K50: 5.7
A51: Insumo | B51: 00368 | C51: EMOP | D51: PINUS, EM PECAS DE 7,50X7,50CM (3"X3") - GRUPOS: I,II,III E IV, DA TABELA CLASSI FICATORIA MUNICIPAL DE ESPECIFICACOES DE PRODUTOS MADEIREIROS DO MUNICIPIO DO RJ | E51: Material | G51: M | H51: 0.45 | I51: 0 | J51: 6.95 | K51: 3.12
A52: Insumo | B52: 00004 | C52: EMOP | D52: ARAME RECOZIDO Nº 18 | E52: Material | G52: KG | H52: 0.025 | I52: 0 | J52: 14.32 | K52: 0.35
...

Sheet Cotação
A11: PLANILHA DE COTAÇÕES DE ORÇAMENTOS
A12: =Planilha!A12 -> UFF- CAMPUS NITERÓI | E12: =Planilha!E12 -> AUTOR: | H12: =Planilha!H12 -> FUNÇÃO:
A13: =Planilha!A13 -> LOCAL: RUA VERA CRISPINO DE FREITAS, 190-2 - BOA VIAGEM, NITERÓI-RJ | E13: =Planilha!E13 -> PROCESSO: | H13: =Planilha!H13 -> ART/RRT:
A14: =Planilha!A14 -> NOME DA OBRA: AGÊNCIA DE INOVAÇÃO DA UFF | E14: =Planilha!E14 -> BDI | F14: =Planilha!F14 -> BDI EQUIP. | G14: =Planilha!G14 -> SIAPE | H14: =Planilha!H14 -> DATA | I14: =Planilha!I14 -> REVISÃO
A15: =Planilha!A15 -> BASE DE DADOS: SINAPI/2025.7 - EMOP/2025.7 - SCO/2025.7 - SBC/2025.7 | E15: =Planilha!E15 -> 0.24657 | F15: =Planilha!F15 -> 0 | G15: =Planilha!G15 -> 0000000 | H15: =Planilha!H15 -> 45957 | I15: =Planilha!I15 -> R03
A16: ITEM | B16: CÓDIGO | C16: DESCRIÇÃO | D16: EMPRESA 1 | E16: EMPRESA 2 | F16: EMPRESA 3 | G16: EMPRESA 4 | H16: EMPRESA 5 | I16: VALOR (Mediana)
A17: 1 | B17: COT-01 | C17: Descrição do Item | D17: Nome | E17: Nome | F17: Nome | G17: Nome | H17: Nome | I17: =MEDIAN(D18:H18) -> 0
A18: Cotação | D18: 0 | E18: 0 | F18: 0 | G18: 0 | H18: 0
A19: Link
A21: 2 | B21: COT-02 | C21: TUBO DE COBRE FLEXIVEL 7/8" PANQUECA | D21: RIO FROST | E21: REFRIGERAÇÃO CATAVENTO | F21: LOJA ARTECH | G21: ELETROFRIGOR | H21: Nome | I21: =MEDIAN(D22:H22) -> 53.3
A22: Cotação | D22: 61.43 | E22: 53.3 | F22: 53.11 | G22: 69.95 | H22: 0
A23: Link | D23: https://www.riofrost.com.br/ar-condicionado/tubos-de-cobre/tubo-cano-de-cobre-flexivel-78-panqueca-15-metros | E23: https://www.refrigeracaocatavento.com.br/ferramentas-de-refrigeracao/tubos-de-cobre/tubo-de-cobre-flexivel-78-1-metro?parceiro=6374&gad_source=1&gclid=Cj0KCQjwiOy1BhDCARIsADGvQnDSZeseXTnNHMQEG3-dKYMAOj2dqxuTIVaKNnxJYAb_4nInU-Ge9sQaAo8uEALw_wcB | F23: https://www.lojaartech.com.br/tubo-de-cobre-7-8-panqueca?utm_source=google&utm_medium=Shopping&utm_campaign=tubo-de-cobre-7-8-panqueca&inStock&parceiro=8962&gad_source=1&gclid=Cj0KCQjwiOy1BhDCARIsADGvQnDSsyTYpaXItORVtBhUhmGSVWHUpW-ylfZWqc0DUACdG7usbWZIZzkaAgLvEALw_wcB | G23: https://www.eletrofrigor.com.br/produto/tubo-de-cobre-7-8-x-1-32-panqueca-15-metros-5608?gad_source=1&gclid=Cj0KCQjwiOy1BhDCARIsADGvQnAMklXLUv1AQzDh0fQ7ZzK7dPWYnT3q66F4oLqnKxSyyVc-iNSHBEYaAt_HEALw_wcB
A25: 3 | B25: COT-03 | C25: Pressurizador de Água 120W | D25: MERITO COMERCIAL | E25: CLIMA THERM | F25: BOMBA SHOPPING | G25: Nome | H25: Nome | I25: =AVERAGE(D26:F26) -> 326.53333
A26: Cotação | D26: 319.9 | E26: 324.9 | F26: 334.8 | G26: 0 | H26: 0
A27: Link | D27: https://www.meritocomercial.com.br/pressurizador-de-agua-komeco-tp40-ferro-120-w-monofasico-220v-5001001004434-p1082836?tsid=75&gad_source=1&gclid=Cj0KCQjwiOy1BhDCARIsADGvQnA-3Yt108XtxHTHW4MKn01ZQi8OxjPvbDkqIS4iC3GDbg3OzKW2SZUaAhOKEALw_wcB | E27: https://www.climatherm.com.br/bomba-pressurizadora-de-agua-inova-gp-120-ppa-120w-220-v | F27: https://www.bombashopping.com.br/pressurizador-thebe-tpa-15-9-160-monofasica-120w-127v-0000000006880/p
A29: 4 | B29: COT-04 | C29: Barra chata Alumínio Xadai 7/8 X 1/8 - 6M | D29: ELETROLUZ | E29: ILUMISUL | F29: ELETRO FM | G29: Nome | H29: Nome | I29: =AVERAGE(D30:F30) -> 49.036667
A30: Cotação | D30: 41.55 | E30: 52.1 | F30: 53.46 | G30: 0 | H30: 0
A31: Link | D31: https://www.eletroluz.net/barra-chata-aluminio-78-x-18-x-6m?srsltid=AfmBOopF5axlQ7TywOIP7f3GXuNVXZ3Xe0g8IvrBp63Hbju08uEoz-18 | E31: https://www.ilumisul.com.br/ProdutoId_2752,98/Para-Raio/Barra-Chata-Aluminio-78-X-18-Barra-Com-6-Metros---Alubar.html?srsltid=AfmBOopHGGf_MNOKF9NB3Mex7L-zealfIRYy18KKrXu-xjXcZXsmbAj0 | F31: https://www.eletrofm.com.br/todos-produtos-do-site/barra-chata-aluminio-7-8-x-1-8-x-6-metros/
A33: 5 | B33: COT-05 | C33: RE-BAR 3/8" - 10MM GALVANIZADA A FOGO - 3M | D33: MULTISEG | E33: A3 ELETRO | F33: PLENOBRAS | G33: Nome | H33: Nome | I33: =AVERAGE(D34:F34) -> 50.433333
A34: Cotação | D34: 36.57 | E34: 37.53 | F34: 77.2 | G34: 0 | H34: 0
A35: Link | D35: https://www.multiseg.com.br/3906/re-bar-barra-redonda-de-ao-galvanizado-a-fogo-3-8-x-3-metros-?gad_source=1&gclid=Cj0KCQjwiOy1BhDCARIsADGvQnA3ENUA3jwjjZgnGMHAOKGBrvARgkzT_G1g_Ixwp0XSK-xPPyTkEPkaAsCgEALw_wcB | E35: https://www.a3eletro.com.br/eletrica/sistemas-de-aterramento-e-para-raio/p-raio-vergalhao-liso-re-bar-38-3-4mt-galv-a-fogo?gad_source=1&gclid=Cj0KCQjwiOy1BhDCARIsADGvQnDxNfNJEfayGT7TUGFUgO1M6N0aCWRpcAvccN1chfjPgEu5nUzl8wwaAtyKEALw_wcB | F35: https://www.plenobras.com.br/646a5ae6d496504d21dfd0d8/vergalhao-re-bar-galvanizado-a-fogo-38%22x3m-raycon?gad_source=1&gclid=Cj0KCQjwiOy1BhDCARIsADGvQnB-Kklj2yYVa6vngYBvs3qCxcgBlYaWBWlEtYH-j2Bdq9yLCqyRWlIaAt_QEALw_wcB
A37: 6 | B37: COT-06 | C37: CAIXA DE EQUALIZAÇÃO 20X20X12CM - 9 TERMINAIS | D37: MULTISEG | E37: ELÉTRICA BICHUETTE | F37: CENTRAL ELÉTRICA | G37: Nome | H37: Nome | I37: =AVERAGE(D38:F38) -> 375.84
A38: Cotação | D38: 406.96 | E38: 259.96 | F38: 460.6 | G38: 0 | H38: 0
