Workbook

Sheet Anexo III
A1: PRÓ-REITORIA DE ADMINISTRAÇÃO
A2: COORDENAÇÃO DE MATERIAIS
A3: ANEXO III - PLANILHA ESTIMATIVA DE DESCRIÇÃO E PREÇOS
A5: GRUPO | B5: ITEM LICITAÇÃO | C5: DESCRIÇÃO/ ESPECIFICAÇÃO | D5: UNIDADE DE MEDIDA | E5: CATMAT | F5: INFORMAÇÕES ADICIONAIS | G5: QUANTIDADE UFF | H5: QUANTIDADE UASG 158484 | I5: QUANTIDADE TOTAL | J5: VALOR UNITÁRIO | K5: VALOR TOTAL | L5: VALOR TOTAL DO GRUPO | M5: EXCLUSIVO ME/EPP | N5: MODO DE DISPUTA | O5: INTERVALO LANCES
A6: - | B6: 1 | C6: Arduino Nano - Placa de desenvolvimento com microcontrolador - Especificações mínimas: microcontrolador similar ou superior ao ATmega328, clock 16MHz, tensão de alimentação 7 a 12V, tensão de operação 5V, 8 pinos analógicos de entrada/saída, 14 pinos digitais de entrada/saída (6 pinos podendo ser usados como PWM), dimensões aproximadas da placa 18 x 45 mm. Fornecimento da placa de desenvolvimento juntamente com cabo de dados USB 2.0 mini para conexão da placa com a entrada USB de computador. Pinos de entrada e saída (I/O) devem estar soldados na placa. Modelo de referência: Arduino Nano. | D6: Und. | E6: 414000 | F6: - | G6: 39 | H6: 10 | I6: =G6+H6 -> 49 | J6: 279.6 | K6: =I6*ROUND(J6,2) -> 13700.4 | L6: - | M6: SIM | N6: Aberto | O6: =VLOOKUP(J6, Intervalos!$B$3:$C$8,2,TRUE) -> 0,10%
A7: - | B7: 2 | C7: Barra Redonda De Alumínio Maciço Liga 6351-T6. Dimensional: Ø 1/2" = Ø 12,7 mm Comprimento: 125 cm = 1250 mm = 1,25 metro | D7: Unidade | E7: 436808 | F7: - | G7: 5 | H7: 0 | I7: =G7+H7 -> 5 | J7: 49.42 | K7: =I7*ROUND(J7,2) -> 247.1 | L7: - | M7: SIM | N7: Aberto | O7: =VLOOKUP(J7, Intervalos!$B$3:$C$8,2,TRUE) -> 0.05
A8: - | B8: 3 | C8: Bedame 1/2 x 1/8 x 6 ". Composição: aço rápido, podendo possuir uma porcentagem específica de Cobalto em sua estrutura, variando entre 10,12 ou 50% por exemplo. Fabricado conforme norma DIN 4964; - Bits h14 - Bedame h12; - Temperado e revenido com 64/66 HRC; - Fabricado com aço rápido importado com Cobalto, proporcionando maior resistência a altas temperaturas e ao desgaste sem perder o corte. MEDIDAS DO BEDAME PARA TORNO - Altura (pol): 1/2; - Largura (pol): 1/8; - Comprimento (pol): 6. | D8: unidade | E8: 602174 | F8: - | G8: 5 | H8: 0 | I8: =G8+H8 -> 5 | J8: 58.95 | K8: =I8*ROUND(J8,2) -> 294.75 | L8: - | M8: SIM | N8: Aberto | O8: =VLOOKUP(J8, Intervalos!$B$3:$C$8,2,TRUE) -> 0.1
A9: - | B9: 4 | C9: Bits Quadrado 1/2" x 4". ITENS INCLUSOS - Bits Quadrado 1/2 X 4 50% De Cobalto. MEDIDA DO BITS - Altura (pol): 1/2; -Largura (pol): 1/2; -Comprimento (pol): 4. DESCRIÇÃO DO BITS - Porcentagem de Cobalto: 50%; - Norma: DIN4964; - Formato do Bits: Quadrado; - Temperado e Revenido com 64/66 HRC; - Fabricado com aço rápido importado com Cobalto, proporcionando maior resistência a altas temperaturas e ao desgaste sem perder o corte; - Permitem a usinagem em aços de alto, médio, baixo carbono, aço inox e ferro fundido. | D9: unidade | E9: 433107 | F9: Margem de preferência normal: 10% | G9: 5 | H9: 0 | I9: =G9+H9 -> 5 | J9: 88.17 | K9: =I9*ROUND(J9,2) -> 440.85 | L9: - | M9: SIM | N9: Aberto | O9: =VLOOKUP(J9, Intervalos!$B$3:$C$8,2,TRUE) -> 0.1
A10: - | B10: 5 | C10: Bits Quadrado Aço Rápido Hss 1/4 X 4 Pol 50% Características: Bitola: 1/4x1/4" Comprimento: 4" Fabricado em Aço Rápido Com Cobalto | D10: unidade | E10: 433108 | F10: Margem de preferência normal: 10% | G10: 19 | H10: 0 | I10: =G10+H10 -> 19 | J10: 33.38 | K10: =I10*ROUND(J10,2) -> 634.22 | L10: - | M10: SIM | N10: Aberto | O10: =VLOOKUP(J10, Intervalos!$B$3:$C$8,2,TRUE) -> 0.05
A11: - | B11: 6 | C11: Bornes B19 para pino banana 4mm | D11: Unidade | E11: 625059 | F11: - | G11: 125 | H11: 0 | I11: =G11+H11 -> 125 | J11: 13.28 | K11: =I11*ROUND(J11,2) -> 1660 | L11: - | M11: SIM | N11: Aberto | O11: =VLOOKUP(J11, Intervalos!$B$3:$C$8,2,TRUE) -> 0.03
A12: - | B12: 7 | C12: Broca de Centro em Aço Rápido 3,15 x 8mm. Diâmetro da ponta da broca: 3,15mm ;Diâmetro do corpo da broca de centro: 8mm; Comprimento total da broca: 50mm. Norma DIN: 333A | D12: unidade | E12: 449549 | F12: - | G12: 13 | H12: 0 | I12: =G12+H12 -> 13 | J12: 37.9 | K12: =I12*ROUND(J12,2) -> 492.7 | L12: - | M12: SIM | N12: Aberto | O12: =VLOOKUP(J12, Intervalos!$B$3:$C$8,2,TRUE) -> 0.05
A13: - | B13: 8 | C13: Cabo conexão múltipla banana/jacaré. Material: cobre estanhado, seção nominal 4mm², tipo de conexão: banana, isolação, jacaré pequeno. Revestimento: PVC média flex, tensão de isolamento: 1000V, corrente nominal: 16A, comprimento do cabo: 100cm. Características adicionais: abertura do jacaré: 6mm. | D13: unidade | E13: 323937 | F13: - | G13: 13 | H13: 100 | I13: =G13+H13 -> 113 | J13: 26.96 | K13: =I13*ROUND(J13,2) -> 3046.48 | L13: - | M13: SIM | N13: Aberto | O13: =VLOOKUP(J13, Intervalos!$B$3:$C$8,2,TRUE) -> 0.05
A14: - | B14: 9 | C14: CABO DE CONEXÃO BNC/JACARÉ. Ponta de Prova BNC-Jacaré _x000D_ - Padrão de Conexão: BNC - Jacaré Pequeno._x000D_ - Cabo Injetado de Média Flexibilidade._x000D_ - Impedância: 50 Ohms ± 2.5 Ohms // 115pF._x000D_ - Atenuação: 0.1dB/m (30MHz). 0.264dB/m (200MHz)._x000D_ - Isolação: 10000 kOhms * km._x000D_ - Diâmetro Externo do Condutor: 5.0mm ± 0.15mm._x000D_ - Abertura do Jacaré: 6mm._x000D_ - Comprimento do Cabo: 1m. | D14: unidade | E14: 393979 | F14: - | G14: 8 | H14: 20 | I14: =G14+H14 -> 28 | J14: 42.99 | K14: =I14*ROUND(J14,2) -> 1203.72 | L14: - | M14: SIM | N14: Aberto | O14: =VLOOKUP(J14, Intervalos!$B$3:$C$8,2,TRUE) -> 0.05
A15: 1 | B15: 10 | C15: Cabo de conexão múltipla empilhável com plugue duplo banana/banana. O conector empilhável é para plugue banana de 4 mm com tampão e fio de cobre com comprimento total de 100cm. Corrente: 25A, Cor: Preto ou Vermelho. | D15: unidade | E15: 323937 | F15: - | G15: 50 | H15: 150 | I15: =G15+H15 -> 200 | J15: 50.2 | K15: =I15*ROUND(J15,2) -> 10040 | L15: =SUM(K15:K16) -> 22110.71 | M15: SIM | N15: Aberto | O15: =VLOOKUP(J15, Intervalos!$B$3:$C$8,2,TRUE) -> 0.1
B16: 11 | C16: Cabo de conexão múltipla empilhável com plugue duplo banana/banana. O conector empilhável é para plugue banana de 4 mm com tampão e fio de cobre com comprimento total de 50cm. Corrente: 25A, Cor: Preto ou Vermelho. | D16: unidade | E16: 323937 | F16: - | G16: 63 | H16: 150 | I16: =G16+H16 -> 213 | J16: 56.67 | K16: =I16*ROUND(J16,2) -> 12070.71 | N16: Aberto | O16: =VLOOKUP(J16, Intervalos!$B$3:$C$8,2,TRUE) -> 0.1
A17: 2 | B17: 12 | C17: Cabo de conexão tipo banana/banana 1020 mm (Cor Preta) Descrição: Cabo de Conexão de Pino tipo banana/banana, empilhável, sem isolamento nas pontas, tensão de isolamento 1000V AC/DC, seção nominal de 2,5 mm² e corrente máxima nominal de 12 A, revestido em PVC que possibilita uma média flexibilidade com, aproximadamente, 1020 mm de comprimento, na cor preta. | D17: unidade | E17: 323937 | F17: - | G17: 63 | H17: 100 | I17: =G17+H17 -> 163 | J17: 31.53 | K17: =I17*ROUND(J17,2) -> 5139.39 | L17: =SUM(K17:K20) -> 19023.57 | M17: SIM | N17: Aberto | O17: =VLOOKUP(J17, Intervalos!$B$3:$C$8,2,TRUE) -> 0.05
B18: 13 | C18: Cabo de conexão tipo banana/banana 1020 mm. Descrição: Cabo de Conexão de Pino tipo banana/banana, empilhável, sem isolamento nas pontas, tensão de isolamento 1000V AC/DC, seção nominal de 2,5 mm² e corrente máxima nominal de 12 A, revestido em PVC que possibilita uma média flexibilidade com, aproximadamente, 1020 mm de comprimento, na cor azul. | D18: unidade | E18: 323937 | F18: - | G18: 38 | H18: 100 | I18: =G18+H18 -> 138 | J18: 37.55 | K18: =I18*ROUND(J18,2) -> 5181.9 | N18: Aberto | O18: =VLOOKUP(J18, Intervalos!$B$3:$C$8,2,TRUE) -> 0.05
B19: 14 | C19: Cabo de conexão tipo banana/banana 1020 mm. Descrição: Cabo de Conexão de Pino tipo banana/banana, empilhável, sem isolamento nas pontas, tensão de isolamento 1000V AC/DC, seção nominal de 2,5 mm² e corrente máxima nominal de 12 A, revestido em PVC que possibilita uma média flexibilidade com, aproximadamente, 1020 mm de comprimento, na cor amarela. | D19: unidade | E19: 323937 | F19: - | G19: 38 | H19: 100 | I19: =G19+H19 -> 138 | J19: 31.53 | K19: =I19*ROUND(J19,2) -> 4351.14 | N19: Aberto | O19: =VLOOKUP(J19, Intervalos!$B$3:$C$8,2,TRUE) -> 0.05
B20: 15 | C20: Cabo de conexão tipo banana/banana 1020 mm. Descrição: Cabo de Conexão de Pino tipo banana/banana, empilhável, sem isolamento nas pontas, tensão de isolamento 1000V AC/DC, seção nominal de 2,5 mm² e corrente máxima nominal de 12 A, revestido em PVC que possibilita uma média flexibilidade com, aproximadamente, 1020 mm de comprimento, na cor verde. | D20: unidade | E20: 323937 | F20: - | G20: 38 | H20: 100 | I20: =G20+H20 -> 138 | J20: 31.53 | K20: =I20*ROUND(J20,2) -> 4351.14 | N20: Aberto | O20: =VLOOKUP(J20, Intervalos!$B$3:$C$8,2,TRUE) -> 0.05
A21: - | B21: 16 | C21: Cápsula Cilíndrica de Alumínio com Tampa - 50mL - Fabricada em chapa de alumínio; Acabamento escovado; Formato cilíndrico; Tampa de encaixe externoFundo reto | D21: Und. | E21: 453186 | F21: - | G21: 25 | H21: 0 | I21: =G21+H21 -> 25 | J21: 20.12 | K21: =I21*ROUND(J21,2) -> 503 | L21: - | M21: SIM | N21: Aberto | O21: =VLOOKUP(J21, Intervalos!$B$3:$C$8,2,TRUE) -> 0.05
A22: - | B22: 17 | C22: Borracha de silicone com catalisador. Características: Borracha de silicone vulcanizável a temperatura ambiente após a adição de catalisador. A borracha resultante é elástica e resistente | D22: quilograma | E22: 601074 | F22: - | G22: 4 | H22: 0 | I22: =G22+H22 -> 4 | J22: 74.13 | K22: =I22*ROUND(J22,2) -> 296.52 | L22: - | M22: SIM | N22: Aberto | O22: =VLOOKUP(J22, Intervalos!$B$3:$C$8,2,TRUE) -> 0.1
A23: - | B23: 18 | C23: Circuito integrado amplificador operacional 741 / LM741 / UA741, encapsulamento DIP, 8 terminais, tipo de montagem PTH. | D23: Und. | E23: 349252 | F23: - | G23: 125 | H23: 0 | I23: =G23+H23 -> 125 | J23: 1.6 | K23: =I23*ROUND(J23,2) -> 200 | L23: - | M23: SIM | N23: Aberto | O23: =VLOOKUP(J23, Intervalos!$B$3:$C$8,2,TRUE) -> 0.01
A24: - | B24: 19 | C24: Conjunto Brocas, aço rápido 1mm - 13mm - 25 pç: Jogo de brocas com tratamento a vapor (revenida) em polegadas (A104) é composto por 25 peças fabricadas em material de qualidade, oferecendo resistência e durabilidade. As peças são de diferentes medidas, proporcionando praticidade de uso. As brocas são armazenadas em um estojo para facilitar o acondicionamento e transporte. Fornecido em estojo Plástico - Composto por 25 peças, de medidas (mm): ::1,0 - 1,5 - 2,0 - 2,5 - 3,0 - 3,5 - 4,0 - 4,5 - 5,0 - 5,5 - 6,0 - 6,5 - 7,0 - 7,5 - 8,0 - 8,5 - 9,0 - 9,5 - 10,0 - 10,5 - 11,0 - 11,5 - 12,0 - 12,5 - 13,0 | D24: Unidade | E24: 422013 | F24: - | G24: 3 | H24: 0 | I24: =G24+H24 -> 3 | J24: 259.77 | K24: =I24*ROUND(J24,2) -> 779.31 | L24: - | M24: SIM | N24: Aberto | O24: =VLOOKUP(J24, Intervalos!$B$3:$C$8,2,TRUE) -> 0,10%
A25: 3 | B25: 20 | C25: Disco de corte abrasivo para metais ferrosos, dureza < 25 HRC._x000D_ Diâmetro externo 300 mm, diâmetro do furo 32 mm, espessura 2,0 mm | D25: unidade | E25: 444766 | F25: - | G25: 7 | H25: 0 | I25: =G25+H25 -> 7 | J25: 44.19 | K25: =I25*ROUND(J25,2) -> 309.33 | L25: =SUM(K25:K28) -> 1240.61 | M25: SIM | N25: Aberto | O25: =VLOOKUP(J25, Intervalos!$B$3:$C$8,2,TRUE) -> 0.05
B26: 21 | C26: Disco de corte abrasivo para metais ferrosos, dureza acima de 45 HRC._x000D_ Diâmetro externo 300 mm, diâmetro do furo 32 mm, espessura 2,0 mm. | D26: unidade | E26: 444766 | F26: - | G26: 7 | H26: 0 | I26: =G26+H26 -> 7 | J26: 43.73 | K26: =I26*ROUND(J26,2) -> 306.11 | N26: Aberto | O26: =VLOOKUP(J26, Intervalos!$B$3:$C$8,2,TRUE) -> 0.05
B27: 22 | C27: Disco de corte abrasivo para metais ferrosos, dureza de 25 a 35 HRC. _x000D_ Diâmetro externo 300 mm, diâmetro do furo 32 mm, espessura 2,0 mm. | D27: unidade | E27: 444766 | F27: - | G27: 7 | H27: 0 | I27: =G27+H27 -> 7 | J27: 44.33 | K27: =I27*ROUND(J27,2) -> 310.31 | N27: Aberto | O27: =VLOOKUP(J27, Intervalos!$B$3:$C$8,2,TRUE) -> 0.05
B28: 23 | C28: Disco de corte abrasivo para metais ferrosos, dureza de 35 a 45 HRC. _x000D_ Diâmetro externo 300 mm, diâmetro do furo 32 mm, espessura 2,0 mm. | D28: unidade | E28: 444766 | F28: - | G28: 7 | H28: 0 | I28: =G28+H28 -> 7 | J28: 44.98 | K28: =I28*ROUND(J28,2) -> 314.86 | N28: Aberto | O28: =VLOOKUP(J28, Intervalos!$B$3:$C$8,2,TRUE) -> 0.05
A29: - | B29: 24 | C29: Disco de corte diamantado 152,4mm x 1,2mm x 12,7mm. Aplicação: corte de precisão de amostras metalográficas. | D29: Und. | E29: 626113 | F29: - | G29: 3 | H29: 0 | I29: =G29+H29 -> 3 | J29: 3600 | K29: =I29*ROUND(J29,2) -> 10800 | L29: - | M29: SIM | N29: Aberto | O29: =VLOOKUP(J29, Intervalos!$B$3:$C$8,2,TRUE) -> 0,10%
A30: - | B30: 25 | C30: Disco de desbaste 115 x 6.5 x 22.2 mm. Tipo de disco: De desbaste - Superfícies aptas: Metal - Diâmetro do disco de corte: 115 mm ou 4.1/2 Polegadas - Espessura: 6.5 mm ou 1/4 de polegada - Diâmetro central: 22.2 mm / 7/8" | D30: unidade | E30: 318895 | F30: - | G30: 13 | H30: 0 | I30: =G30+H30 -> 13 | J30: 17.5 | K30: =I30*ROUND(J30,2) -> 227.5 | L30: - | M30: SIM | N30: Aberto | O30: =VLOOKUP(J30, Intervalos!$B$3:$C$8,2,TRUE) -> 0.03
A31: - | B31: 26 | C31: Eletrodo Solda Elétrica E6013 3,25mm. Especificações: - Proporciona segurança com baixo nível de respingos; - Forma cordões com excelente acabamento em todos os tipos de juntas; - Utilizado em diversos tipos de materiais como aços carbonos, aço inox, ferros fundidos, cobre, níquel e alumínio. Fornecimento em pacote/embalagem de 5kg. | D31: Quilograma | E31: 371905 | F31: - | G31: =3*5 -> 15 | H31: 0 | I31: =G31+H31 -> 15 | J31: =149.9/5 -> 29.98 | K31: =I31*ROUND(J31,2) -> 449.7 | L31: - | M31: SIM | N31: Aberto | O31: =VLOOKUP(J31, Intervalos!$B$3:$C$8,2,TRUE) -> 0.05
A32: - | B32: 27 | C32: Fita de Magnésio 0,15 - 0,30 mm - largura 3mm. Fornecimento em rolo de 25g. | D32: Grama | E32: 398904 | F32: - | G32: =4*25 -> 100 | H32: 0 | I32: =G32+H32 -> 100 | J32: =329/25 -> 13.16 | K32: =I32*ROUND(J32,2) -> 1316 | L32: - | M32: SIM | N32: Aberto | O32: =VLOOKUP(J32, Intervalos!$B$3:$C$8,2,TRUE) -> 0.03
A33: - | B33: 28 | C33: Forma prismatica p/ argamassa 4x4x16cm tripla, com base para adaptar em mesa de choque Solotest com acabamento interno que proporciona baixa rugosidade,conforme EN-196 e NBR 13279. | D33: unidade | E33: 621371 | F33: - | G33: 8 | H33: 0 | I33: =G33+H33 -> 8 | J33: 862.91 | K33: =I33*ROUND(J33,2) -> 6903.28 | L33: - | M33: SIM | N33: Aberto | O33: =VLOOKUP(J33, Intervalos!$B$3:$C$8,2,TRUE) -> 0,10%
A34: - | B34: 29 | C34: Fresa metal duro 4 corte 14 mm, modelo S944 (quatro canais), cobertura de nitreto de titânio alumínio (TiAlN). | D34: unidade | E34: 623179 | F34: - | G34: 5 | H34: 0 | I34: =G34+H34 -> 5 | J34: 589.37 | K34: =I34*ROUND(J34,2) -> 2946.85 | L34: - | M34: SIM | N34: Aberto | O34: =VLOOKUP(J34, Intervalos!$B$3:$C$8,2,TRUE) -> 0,10%
A35: - | B35: 30 | C35: Funil para viscosidade Marsh com suporte. (Calda de Cimento). Conforme NBR 7682. | D35: Und. | E35: 481564 | F35: - | G35: 2 | H35: 0 | I35: =G35+H35 -> 2 | J35: 721.73 | K35: =I35*ROUND(J35,2) -> 1443.46 | L35: - | M35: SIM | N35: Aberto | O35: =VLOOKUP(J35, Intervalos!$B$3:$C$8,2,TRUE) -> 0,10%
A36: - | B36: 31 | C36: FUSÍVEL DE VIDRO 6.35X30MM/Ø6.35X31.75MM AVALIAÇÃO MÁXIMA C.A. DE 10A 250V FORÇA DIELÉTRICA C.A. 1500V 1 MINUTO RESISTÊNCIA DE ISOLAÇÃO C.C. 500V 100MΩ MIN. RESISTÊNCIA DE CONTATO 50MΩ MÁXIMO P/N R3-13. Fornecimento em caixa com 100 unidades. | D36: Unidade | E36: 291428 | F36: - | G36: =13*100 -> 1300 | H36: 100 | I36: =G36+H36 -> 1400 | J36: =35.1/100 -> 0.351 | K36: =I36*ROUND(J36,2) -> 490 | L36: - | M36: SIM | N36: Aberto | O36: =VLOOKUP(J36, Intervalos!$B$3:$C$8,2,TRUE) -> 0.01
A37: - | B37: 32 | C37: GARRA JACARÉ - GARRA JACARÉ COR PRETA COM ENTRADAS PARA CABOS TIPO BANANA MANTENDO CONTATO ENTRE PONTOS ELÉTRICOS. CORRENTE NOMINAL 100A, COMPRIMENTO 14,4CM | D37: unidade | E37: 378879 | F37: - | G37: 38 | H37: 50 | I37: =G37+H37 -> 88 | J37: 9.5 | K37: =I37*ROUND(J37,2) -> 836 | L37: - | M37: SIM | N37: Aberto | O37: =VLOOKUP(J37, Intervalos!$B$3:$C$8,2,TRUE) -> 0.02
A38: - | B38: 33 | C38: Inserto para fresamento R390 11T308M-PM. INFORMAÇÕES --- Classe especial para aços endurecidos e temperados --- - Aplicação: Inserto para fresamento de cantos e canais rasos - Ângulo lateral: 90 graus - Largura: 6,8mm (A) - Comprimento efetivo da ponta de corte: 11mm (B) - Espessura: 3,5mm (C) - Raio de canto: 0,8mm (R) - Comprimento da aresta: 1,2mm (D) - Tipo de fixação: Por parafuso - Possui quebra cavaco para operações médias: PM - Aresta de corte altamente afiada e precisa DADOS TÉCNICOS - Cobertura DC-BLUE - Substrato de micro-grão com conteúdo modificado de cobalto para aumentar a resistência - Revestimento PVD, com maior resistência ao desgaste e resistência à oxidação de alta temperatura - Classe BLUE, indicado para aços endurecidos e materiais temperados - Indicada para operações de acabamento e desbaste - Médias a altas velocidades de corte - Corte continuo e interrompido | D38: unidade | E38: 472742 | F38: - | G38: 13 | H38: 0 | I38: =G38+H38 -> 13 | J38: 26.6 | K38: =I38*ROUND(J38,2) -> 345.8 | L38: - | M38: SIM | N38: Aberto | O38: =VLOOKUP(J38, Intervalos!$B$3:$C$8,2,TRUE) -> 0.05
A39: 4 | B39: 34 | C39: Inserto para torneamento TNMG 160408. INFORMAÇÕES Aqui tem pastilha TNMG 160408-GM NC3120 - A linha de insertos da marca Korloy, fornecido pela World Tools, é uma solução completa em processos de torneamento - Inserto TNMG 16 com raio de 0,8mm - Quebra cavaco.: GM - Classe.: NC3120 - Ideal para aço inox, e indicado para aços em geral, proporcionando um excelente acabamento DADOS TÉCNICOS - Para utilização em processos de torneamento, principalmente para Aço Inox, mas com excelente desempenho nos demais tipos de aços | D39: unidade | E39: 472742 | F39: - | G39: 13 | H39: 0 | I39: =G39+H39 -> 13 | J39: 40.63 | K39: =I39*ROUND(J39,2) -> 528.19 | L39: =SUM(K39:K42) -> 2308.41 | M39: SIM | N39: Aberto | O39: =VLOOKUP(J39, Intervalos!$B$3:$C$8,2,TRUE) -> 0.05
B40: 35 | C40: Inserto para torneamento TNMG 160408EL-SI T8330. INFORMAÇÕES - Inserto TNMG 16 esquerda com raio de 0,8mm - Quebra cavaco.: EL - Classe.: T8330 DADOS TÉCNICOS > Quebra cavaco SI - acabamento fino e semi-desbaste - principal área de aplicação – Materiais dos grupos P, M e S - aplicação condicional – Materiais dos grupos K e N - Indicado para cortes continuos - Substrato sub micron com conteúdo relativamente alto de cobalto - Cobertura nano estruturada pelo método PVD com transição gradiente - Cobertura de baixas tensões internas com alta dureza - Baixo desgaste de flanco no fio de corte principal - Médias velocidades de corte - Indicada para usinagem de materiais dos grupos M,P e K; potencialmente também N,S e H - Boa estabilidade operacional - Condições desfavoráveis de máquina > Dados de Corte: - Raio.: 0,8 - Avanço por rot.: f min 0,20 / f max 0,48 - Profundidade de corte.: ap min 0,8 / ap max 5,0 TABELA DE MEDIDAS - l.: 16,5 - d.: 9,525 - s.: 4,76 - d1.: 3,81 | D40: unidade | E40: 472742 | F40: - | G40: 13 | H40: 0 | I40: =G40+H40 -> 13 | J40: 40.94 | K40: =I40*ROUND(J40,2) -> 532.22 | N40: Aberto | O40: =VLOOKUP(J40, Intervalos!$B$3:$C$8,2,TRUE) -> 0.05
B41: 36 | C41: Inserto para torneamento TNMG 160408ER-SI T9325. INFORMAÇÕES - Inserto TNMG 16 direita com raio de 0,8mm - Quebra cavaco.: ER - Classe.: T9325 DADOS TÉCNICOS - Quebra cavaco SI - acabamento fino e semi-desbaste - principal área de aplicação – Materiais dos grupos P, M e S - aplicação condicional – Materiais dos grupos K e N - Indicado para cortes continuos - Classe UP!GRADE T9325 - Substrato gradiente funcional com fina estrutura - Médio teor de cobalto - Espessa camada MT-CVD com camada dominante de Al2O3 - Classe altamente versátil com relação balanceada entre resistência a abrasão e estabilidade operacional - Tratamento especial da superfície para cobertura - Indicada primariamente para usinagem de materiais dos grupos P,M ; Secundariamente K e S - Médias a altas velocidades de corte - Corte contínuo a interrompido - Dados de Corte: - Raio.: 0,8 - Avanço por rot.: f min 0,25 / f max 0,48 - Profundidade de corte.: ap min 2,0 / ap max 5,0 TABELA DE MEDIDAS - l.: 16,5 - d.: 9,525 - s.: 4,76 - d1.: 3,81 | D41: unidade | E41: 472742 | F41: - | G41: 13 | H41: 0 | I41: =G41+H41 -> 13 | J41: 46.07 | K41: =I41*ROUND(J41,2) -> 598.91 | N41: Aberto | O41: =VLOOKUP(J41, Intervalos!$B$3:$C$8,2,TRUE) -> 0.05
...

Sheet Intervalos
B2: Valor Unitário Estimado (Faixa) | C2: Diferença Mínima de Valores / Percentuais de Lances | E2: Interpretação
B3: 0.01 | C3: 0.01 | E3: R$ 0,01 - R$ 5,00 => R$ 0,01
B4: 5 | C4: 0.02 | E4: R$ 5,01 - R$ 10,00 => R$ 0,02
B5: 10 | C5: 0.03 | E5: R$ 10,01 - R$ 20,00 => R$ 0,03
B6: 20 | C6: 0.05 | E6: R$ 20,01 - R$ 50,00 => R$ 0,05
B7: 50 | C7: 0.1 | E7: R$ 50,01 - R$ 100,00 => R$ 0,10
B8: 100 | C8: 0,10% | E8: Acima de R$ 100,00 => 0,10%
