Workbook

Sheet Anexo III
A1: PRÓ-REITORIA DE ADMINISTRAÇÃO
A2: COORDENAÇÃO DE MATERIAIS
A3: ANEXO III - PLANILHA ESTIMATIVA DE DESCRIÇÃO E PREÇOS
A5: GRUPO | B5: ITEM LICITAÇÃO | C5: DESCRIÇÃO/ ESPECIFICAÇÃO | D5: UNIDADE DE MEDIDA | E5: CATMAT | F5: INFORMAÇÕES ADICIONAIS | G5: QUANTIDADE UFF | H5: QUANTIDADE UASG 158484 | I5: QUANTIDADE TOTAL | J5: VALOR UNITÁRIO | K5: VALOR TOTAL | L5: VALOR TOTAL DO GRUPO | M5: EXCLUSIVO ME/EPP | N5: MODO DE DISPUTA | O5: INTERVALO LANCES
A6: - | B6: 1 | C6: Arduino Nano - Placa de desenvolvimento com microcontrolador - Especificações mínimas: microcontrolador similar ou superior ao ATmega328, clock 16MHz, tensão de alimentação 7 a 12V, tensão de operação 5V, 8 pinos analógicos de entrada/saída, 14 pinos digitais de entrada/saída (6 pinos podendo ser usados como PWM), dimensões aproximadas da placa 18 x 45 mm. Fornecimento da placa de desenvolvimento juntamente com cabo de dados USB 2.0 mini para conexão da placa com a entrada USB de computador. Pinos de entrada e saída (I/O) devem estar soldados na placa. Modelo de referência: Arduino Nano. | D6: Und. | E6: 414000 | F6: - | G6: 39 | H6: 10 | I6: =G6+H6 -> 49 | J6: 279.6 | K6: =I6*ROUND(J6,2) -> 13700.4 | L6: - | M6: SIM | N6: Aberto | O6: =VLOOKUP(J6, Intervalos!$B$3:$C$8,2,TRUE) -> 0,10%
A7: - | B7: 2 | C7: Barra Redonda De Alumínio Maciço Liga 6351-T6. Dimensional: Ø 1/2" = Ø 12,7 mm Comprimento: 125 cm = 1250 mm = 1,25 metro | D7: Unidade | E7: 436808 | F7: - | G7: 5 | H7: 0 | I7: =G7+H7 -> 5 | J7: 49.42 | K7: =I7*ROUND(J7,2) -> 247.1 | L7: - | M7: SIM | N7: Aberto | O7: =VLOOKUP(J7, Intervalos!$B$3:$C$8,2,TRUE) -> 0.05
A8: - | B8: 3 | C8: Bedame 1/2 x 1/8 x 6 ". Composição: aço rápido, podendo possuir uma porcentagem específica de Cobalto em sua estrutura, variando entre 10,12 ou 50% por exemplo. Fabricado conforme norma DIN 4964; - Bits h14 - Bedame h12; - Temperado e revenido com 64/66 HRC; - Fabricado com aço rápido importado com Cobalto, proporcionando maior resistência a altas temperaturas e ao desgaste sem perder o corte. MEDIDAS DO BEDAME PARA TORNO - Altura (pol): 1/2; - Largura (pol): 1/8; - Comprimento (pol): 6. | D8: unidade | E8: 602174 | F8: - | G8: 5 | H8: 0 | I8: =G8+H8 -> 5 | J8: 58.95 | K8: =I8*ROUND(J8,2) -> 294.75 | L8: - | M8: SIM | N8: Aberto | O8: =VLOOKUP(J8, Intervalos!$B$3:$C$8,2,TRUE) -> 0.1
A9: - | B9: 4 | C9: Bits Quadrado 1/2" x 4". ITENS INCLUSOS - Bits Quadrado 1/2 X 4 50% De Cobalto. MEDIDA DO BITS - Altura (pol): 1/2; -Largura (pol): 1/2; -Comprimento (pol): 4. DESCRIÇÃO DO BITS - Porcentagem de Cobalto: 50%; - Norma: DIN4964; - Formato do Bits: Quadrado; - Temperado e Revenido com 64/66 HRC; - Fabricado com aço rápido importado com Cobalto, proporcionando maior resistência a altas temperaturas e ao desgaste sem perder o corte; - Permitem a usinagem em aços de alto, médio, baixo carbono, aço inox e ferro fundido. | D9: unidade | E9: 433107 | F9: Margem de preferência normal: 10% | G9: 5 | H9: 0 | I9: =G9+H9 -> 5 | J9: 88.17 | K9: =I9*ROUND(J9,2) -> 440.85 | L9: - | M9: SIM | N9: Aberto | O9: =VLOOKUP(J9, Intervalos!$B$3:$C$8,2,TRUE) -> 0.1
A10: - | B10: 5 | C10: Bits Quadrado Aço Rápido Hss 1/4 X 4 Pol 50% Características: Bitola: 1/4x1/4" Comprimento: 4" Fabricado em Aço Rápido Com Cobalto | D10: unidade | E10: 433108 | F10: Margem de preferência normal: 10% | G10: 19 | H10: 0 | I10: =G10+H10 -> 19 | J10: 33.38 | K10: =I10*ROUND(J10,2) -> 634.22 | L10: - | M10: SIM | N10: Aberto | O10: =VLOOKUP(J10, Intervalos!$B$3:$C$8,2,TRUE) -> 0.05
A11: - | B11: 6 | C11: Bornes B19 para pino banana 4mm | D11: Unidade | E11: 625059 | F11: - | G11: 125 | H11: 0 | I11: =G11+H11 -> 125 | J11: 13.28 | K11: =I11*ROUND(J11,2) -> 1660 | L11: - | M11: SIM | N11: Aberto | O11: =VLOOKUP(J11, Intervalos!$B$3:$C$8,2,TRUE) -> 0.03
A12: - | B12: 7 | C12: Broca de Centro em Aço Rápido 3,15 x 8mm. Diâmetro da ponta da broca: 3,15mm ;Diâmetro do corpo da broca de centro: 8mm; Comprimento total da broca: 50mm. Norma DIN: 333A | D12: unidade | E12: 449549 | F12: - | G12: 13 | H12: 0 | I12: =G12+H12 -> 13 | J12: 37.9 | K12: =I12*ROUND(J12,2) -> 492.7 | L12: - | M12: SIM | N12: Aberto | O12: =VLOOKUP(J12, Intervalos!$B$3:$C$8,2,TRUE) -> 0.05
A13: - | B13: 8 | C13: Cabo conexão múltipla banana/jacaré. Material: cobre estanhado, seção nominal 4mm², tipo de conexão: banana, isolação, jacaré pequeno. Revestimento: PVC média flex, tensão de isolamento: 1000V, corrente nominal: 16A, comprimento do cabo: 100cm. Características adicionais: abertura do jacaré: 6mm. | D13: unidade | E13: 323937 | F13: - | G13: 13 | H13: 100 | I13: =G13+H13 -> 113 | J13: 26.96 | K13: =I13*ROUND(J13,2) -> 3046.48 | L13: - | M13: SIM | N13: Aberto | O13: =VLOOKUP(J13, Intervalos!$B$3:$C$8,2,TRUE) -> 0.05
A14: - | B14: 9 | C14: CABO DE CONEXÃO BNC/JACARÉ. Ponta de Prova BNC-Jacaré _x000D_ - Padrão de Conexão: BNC - Jacaré Pequeno._x000D_ - Cabo Injetado de Média Flexibilidade._x000D_ - Impedância: 50 Ohms ± 2.5 Ohms // 115pF._x000D_ - Atenuação: 0.1dB/m (30MHz). 0.264dB/m (200MHz)._x000D_ - Isolação: 10000 kOhms * km._x000D_ - Diâmetro Externo do Condutor: 5.0mm ± 0.15mm._x000D_ - Abertura do Jacaré: 6mm._x000D_ - Comprimento do Cabo: 1m. | D14: unidade | E14: 393979 | F14: - | G14: 8 | H14: 20 | I14: =G14+H14 -> 28 | J14: 42.99 | K14: =I14*ROUND(J14,2) -> 1203.72 | L14: - | M14: SIM | N14: Aberto | O14: =VLOOKUP(J14, Intervalos!$B$3:$C$8,2,TRUE) -> 0.05
A15: 1 | B15: 10 | C15: Cabo de conexão múltipla empilhável com plugue duplo banana/banana. O conector empilhável é para plugue banana de 4 mm com tampão e fio de cobre com comprimento total de 100cm. Corrente: 25A, Cor: Preto ou Vermelho. | D15: unidade | E15: 323937 | F15: - | G15: 50 | H15: 150 | I15: =G15+H15 -> 200 | J15: 50.2 | K15: =I15*ROUND(J15,2) -> 10040 | L15: =SUM(K15:K16) -> 22110.71 | M15: SIM | N15: Aberto | O15: =VLOOKUP(J15, Intervalos!$B$3:$C$8,2,TRUE) -> 0.1
B16: 11 | C16: Cabo de conexão múltipla empilhável com plugue duplo banana/banana. O conector empilhável é para plugue banana de 4 mm com tampão e fio de cobre com comprimento total de 50cm. Corrente: 25A, Cor: Preto ou Vermelho. | D16: unidade | E16: 323937 | F16: - | G16: 63 | H16: 150 | I16: =G16+H16 -> 213 | J16: 56.67 | K16: =I16*ROUND(J16,2) -> 12070.71 | N16: Aberto | O16: =VLOOKUP(J16, Intervalos!$B$3:$C$8,2,TRUE) -> 0.1
A17: 2 | B17: 12 | C17: Cabo de conexão tipo banana/banana 1020 mm (Cor Preta) Descrição: Cabo de Conexão de Pino tipo banana/banana, empilhável, sem isolamento nas pontas, tensão de isolamento 1000V AC/DC, seção nominal de 2,5 mm² e corrente máxima nominal de 12 A, revestido em PVC que possibilita uma média flexibilidade com, aproximadamente, 1020 mm de comprimento, na cor preta. | D17: unidade | E17: 323937 | F17: - | G17: 63 | H17: 100 | I17: =G17+H17 -> 163 | J17: 31.53 | K17: =I17*ROUND(J17,2) -> 5139.39 | L17: =SUM(K17:K20) -> 19023.57 | M17: SIM | N17: Aberto | O17: =VLOOKUP(J17, Intervalos!$B$3:$C$8,2,TRUE) -> 0.05
B18: 13 | C18: Cabo de conexão tipo banana/banana 1020 mm. Descrição: Cabo de Conexão de Pino tipo banana/banana, empilhável, sem isolamento nas pontas, tensão de isolamento 1000V AC/DC, seção nominal de 2,5 mm² e corrente máxima nominal de 12 A, revestido em PVC que possibilita uma média flexibilidade com, aproximadamente, 1020 mm de comprimento, na cor azul. | D18: unidade | E18: 323937 | F18: - | G18: 38 | H18: 100 | I18: =G18+H18 -> 138 | J18: 37.55 | K18: =I18*ROUND(J18,2) -> 5181.9 | N18: Aberto | O18: =VLOOKUP(J18, Intervalos!$B$3:$C$8,2,TRUE) -> 0.05
B19: 14 | C19: Cabo de conexão tipo banana/banana 1020 mm. Descrição: Cabo de Conexão de Pino tipo banana/banana, empilhável, sem isolamento nas pontas, tensão de isolamento 1000V AC/DC, seção nominal de 2,5 mm² e corrente máxima nominal de 12 A, revestido em PVC que possibilita uma média flexibilidade com, aproximadamente, 1020 mm de comprimento, na cor amarela. | D19: unidade | E19: 323937 | F19: - | G19: 38 | H19: 100 | I19: =G19+H19 -> 138 | J19: 31.53 | K19: =I19*ROUND(J19,2) -> 4351.14 | N19: Aberto | O19: =VLOOKUP(J19, Intervalos!$B$3:$C$8,2,TRUE) -> 0.05
B20: 15 | C20: Cabo de conexão tipo banana/banana 1020 mm. Descrição: Cabo de Conexão de Pino tipo banana/banana, empilhável, sem isolamento nas pontas, tensão de isolamento 1000V AC/DC, seção nominal de 2,5 mm² e corrente máxima nominal de 12 A, revestido em PVC que possibilita uma média flexibilidade com, aproximadamente, 1020 mm de comprimento, na cor verde. | D20: unidade | E20: 323937 | F20: - | G20: 38 | H20: 100 | I20: =G20+H20 -> 138 | J20: 31.53 | K20: =I20*ROUND(J20,2) -> 4351.14 | N20: Aberto | O20: =VLOOKUP(J20, Intervalos!$B$3:$C$8,2,TRUE) -> 0.05
A21: - | B21: 16 | C21: Cápsula Cilíndrica de Alumínio com Tampa - 50mL - Fabricada em chapa de alumínio; Acabamento escovado; Formato cilíndrico; Tampa de encaixe externoFundo reto | D21: Und. | E21: 453186 | F21: - | G21: 25 | H21: 0 | I21: =G21+H21 -> 25 | J21: 20.12 | K21: =I21*ROUND(J21,2) -> 503 | L21: - | M21: SIM | N21: Aberto | O21: =VLOOKUP(J21, Intervalos!$B$3:$C$8,2,TRUE) -> 0.05
A22: - | B22: 17 | C22: Borracha de silicone com catalisador. Características: Borracha de silicone vulcanizável a temperatura ambiente após a adição de catalisador. A borracha resultante é elástica e resistente | D22: quilograma | E22: 601074 | F22: - | G22: 4 | H22: 0 | I22: =G22+H22 -> 4 | J22: 74.13 | K22: =I22*ROUND(J22,2) -> 296.52 | L22: - | M22: SIM | N22: Aberto | O22: =VLOOKUP(J22, Intervalos!$B$3:$C$8,2,TRUE) -> 0.1
A23: - | B23: 18 | C23: Circuito integrado amplificador operacional 741 / LM741 / UA741, encapsulamento DIP, 8 terminais, tipo de montagem PTH. | D23: Und. | E23: 349252 | F23: - | G23: 125 | H23: 0 | I23: =G23+H23 -> 125 | J23: 1.6 | K23: =I23*ROUND(J23,2) -> 200 | L23: - | M23: SIM | N23: Aberto | O23: =VLOOKUP(J23, Intervalos!$B$3:$C$8,2,TRUE) -> 0.01
A24: - | B24: 19 | C24: Conjunto Brocas, aço rápido 1mm - 13mm - 25 pç: Jogo de brocas com tratamento a vapor (revenida) em polegadas (A104) é composto por 25 peças fabricadas em material de qualidade, oferecendo resistência e durabilidade. As peças são de diferentes medidas, proporcionando praticidade de uso. As brocas são armazenadas em um estojo para facilitar o acondicionamento e transporte. Fornecido em estojo Plástico - Composto por 25 peças, de medidas (mm): ::1,0 - 1,5 - 2,0 - 2,5 - 3,0 - 3,5 - 4,0 - 4,5 - 5,0 - 5,5 - 6,0 - 6,5 - 7,0 - 7,5 - 8,0 - 8,5 - 9,0 - 9,5 - 10,0 - 10,5 - 11,0 - 11,5 - 12,0 - 12,5 - 13,0 | D24: Unidade | E24: 422013 | F24: - | G24: 3 | H24: 0 | I24: =G24+H24 -> 3 | J24: 259.77 | K24: =I24*ROUND(J24,2) -> 779.31 | L24: - | M24: SIM | N24: Aberto | O24: =VLOOKUP(J24, Intervalos!$B$3:$C$8,2,TRUE) -> 0,10%
A25: 3 | B25: 20 | C25: Disco de corte abrasivo para metais ferrosos, dureza < 25 HRC._x000D_ Diâmetro externo 300 mm, diâmetro do furo 32 mm, espessura 2,0 mm | D25: unidade | E25: 444766 | F25: - | G25: 7 | H25: 0 | I25: =G25+H25 -> 7 | J25: 44.19 | K25: =I25*ROUND(J25,2) -> 309.33 | L25: =SUM(K25:K28) -> 1240.61 | M25: SIM | N25: Aberto | O25: =VLOOKUP(J25, Intervalos!$B$3:$C$8,2,TRUE) -> 0.05
B26: 21 | C26: Disco de corte abrasivo para metais ferrosos, dureza acima de 45 HRC._x000D_ Diâmetro externo 300 mm, diâmetro do furo 32 mm, espessura 2,0 mm. | D26: unidade | E26: 444766 | F26: - | G26: 7 | H26: 0 | I26: =G26+H26 -> 7 | J26: 43.73 | K26: =I26*ROUND(J26,2) -> 306.11 | N26: Aberto | O26: =VLOOKUP(J26, Intervalos!$B$3:$C$8,2,TRUE) -> 0.05
B27: 22 | C27: Disco de corte abrasivo para metais ferrosos, dureza de 25 a 35 HRC. _x000D_ Diâmetro externo 300 mm, diâmetro do furo 32 mm, espessura 2,0 mm. | D27: unidade | E27: 444766 | F27: - | G27: 7 | H27: 0 | I27: =G27+H27 -> 7 | J27: 44.33 | K27: =I27*ROUND(J27,2) -> 310.31 | N27: Aberto | O27: =VLOOKUP(J27, Intervalos!$B$3:$C$8,2,TRUE) -> 0.05
B28: 23 | C28: Disco de corte abrasivo para metais ferrosos, dureza de 35 a 45 HRC. _x000D_ Diâmetro externo 300 mm, diâmetro do furo 32 mm, espessura 2,0 mm. | D28: unidade | E28: 444766 | F28: - | G28: 7 | H28: 0 | I28: =G28+H28 -> 7 | J28: 44.98 | K28: =I28*ROUND(J28,2) -> 314.86 | N28: Aberto | O28: =VLOOKUP(J28, Intervalos!$B$3:$C$8,2,TRUE) -> 0.05
A29: - | B29: 24 | C29: Disco de corte diamantado 152,4mm x 1,2mm x 12,7mm. Aplicação: corte de precisão de amostras metalográficas. | D29: Und. | E29: 626113 | F29: - | G29: 3 | H29: 0 | I29: =G29+H29 -> 3 | J29: 3600 | K29: =I29*ROUND(J29,2) -> 10800 | L29: - | M29: SIM | N29: Aberto | O29: =VLOOKUP(J29, Intervalos!$B$3:$C$8,2,TRUE) -> 0,10%
A30: - | B30: 25 | C30: Disco de desbaste 115 x 6.5 x 22.2 mm. Tipo de disco: De desbaste - Superfícies aptas: Metal - Diâmetro do disco de corte: 115 mm ou 4.1/2 Polegadas - Espessura: 6.5 mm ou 1/4 de polegada - Diâmetro central: 22.2 mm / 7/8" | D30: unidade | E30: 318895 | F30: - | G30: 13 | H30: 0 | I30: =G30+H30 -> 13 | J30: 17.5 | K30: =I30*ROUND(J30,2) -> 227.5 | L30: - | M30: SIM | N30: Aberto | O30: =VLOOKUP(J30, Intervalos!$B$3:$C$8,2,TRUE) -> 0.03
A31: - | B31: 26 | C31: Eletrodo Solda Elétrica E6013 3,25mm. Especificações: - Proporciona segurança com baixo nível de respingos; - Forma cordões com excelente acabamento em todos os tipos de juntas; - Utilizado em diversos tipos de materiais como aços carbonos, aço inox, ferros fundidos, cobre, níquel e alumínio. Fornecimento em pacote/embalagem de 5kg. | D31: Quilograma | E31: 371905 | F31: - | G31: =3*5 -> 15 | H31: 0 | I31: =G31+H31 -> 15 | J31: =149.9/5 -> 29.98 | K31: =I31*ROUND(J31,2) -> 449.7 | L31: - | M31: SIM | N31: Aberto | O31: =VLOOKUP(J31, Intervalos!$B$3:$C$8,2,TRUE) -> 0.05
A32: - | B32: 27 | C32: Fita de Magnésio 0,15 - 0,30 mm - largura 3mm. Fornecimento em rolo de 25g. | D32: Grama | E32: 398904 | F32: - | G32: =4*25 -> 100 | H32: 0 | I32: =G32+H32 -> 100 | J32: =329/25 -> 13.16 | K32: =I32*ROUND(J32,2) -> 1316 | L32: - | M32: SIM | N32: Aberto | O32: =VLOOKUP(J32, Intervalos!$B$3:$C$8,2,TRUE) -> 0.03
A33: - | B33: 28 | C33: Forma prismatica p/ argamassa 4x4x16cm tripla, com base para adaptar em mesa de choque Solotest com acabamento interno que proporciona baixa rugosidade,conforme EN-196 e NBR 13279. | D33: unidade | E33: 621371 | F33: - | G33: 8 | H33: 0 | I33: =G33+H33 -> 8 | J33: 862.91 | K33: =I33*ROUND(J33,2) -> 6903.28 | L33: - | M33: SIM | N33: Aberto | O33: =VLOOKUP(J33, Intervalos!$B$3:$C$8,2,TRUE) -> 0,10%
A34: - | B34: 29 | C34: Fresa metal duro 4 corte 14 mm, modelo S944 (quatro canais), cobertura de nitreto de titânio alumínio (TiAlN). | D34: unidade | E34: 623179 | F34: - | G34: 5 | H34: 0 | I34: =G34+H34 -> 5 | J34: 589.37 | K34: =I34*ROUND(J34,2) -> 2946.85 | L34: - | M34: SIM | N34: Aberto | O34: =VLOOKUP(J34, Intervalos!$B$3:$C$8,2,TRUE) -> 0,10%
A35: - | B35: 30 | C35: Funil para viscosidade Marsh com suporte. (Calda de Cimento). Conforme NBR 7682. | D35: Und. | E35: 481564 | F35: - | G35: 2 | H35: 0 | I35: =G35+H35 -> 2 | J35: 721.73 | K35: =I35*ROUND(J35,2) -> 1443.46 | L35: - | M35: SIM | N35: Aberto | O35: =VLOOKUP(J35, Intervalos!$B$3:$C$8,2,TRUE) -> 0,10%
A36: - | B36: 31 | C36: FUSÍVEL DE VIDRO 6.35X30MM/Ø6.35X31.75MM AVALIAÇÃO MÁXIMA C.A. DE 10A 250V FORÇA DIELÉTRICA C.A. 1500V 1 MINUTO RESISTÊNCIA DE ISOLAÇÃO C.C. 500V 100MΩ MIN. RESISTÊNCIA DE CONTATO 50MΩ MÁXIMO P/N R3-13. Fornecimento em caixa com 100 unidades. | D36: Unidade | E36: 291428 | F36: - | G36: =13*100 -> 1300 | H36: 100 | I36: =G36+H36 -> 1400 | J36: =35.1/100 -> 0.351 | K36: =I36*ROUND(J36,2) -> 490 | L36: - | M36: SIM | N36: Aberto | O36: =VLOOKUP(J36, Intervalos!$B$3:$C$8,2,TRUE) -> 0.01
A37: - | B37: 32 | C37: GARRA JACARÉ - GARRA JACARÉ COR PRETA COM ENTRADAS PARA CABOS TIPO BANANA MANTENDO CONTATO ENTRE PONTOS ELÉTRICOS. CORRENTE NOMINAL 100A, COMPRIMENTO 14,4CM | D37: unidade | E37: 378879 | F37: - | G37: 38 | H37: 50 | I37: =G37+H37 -> 88 | J37: 9.5 | K37: =I37*ROUND(J37,2) -> 836 | L37: - | M37: SIM | N37: Aberto | O37: =VLOOKUP(J37, Intervalos!$B$3:$C$8,2,TRUE) -> 0.02
A38: - | B38: 33 | C38: Inserto para fresamento R390 11T308M-PM. INFORMAÇÕES --- Classe especial para aços endurecidos e temperados --- - Aplicação: Inserto para fresamento de cantos e canais rasos - Ângulo lateral: 90 graus - Largura: 6,8mm (A) - Comprimento efetivo da ponta de corte: 11mm (B) - Espessura: 3,5mm (C) - Raio de canto: 0,8mm (R) - Comprimento da aresta: 1,2mm (D) - Tipo de fixação: Por parafuso - Possui quebra cavaco para operações médias: PM - Aresta de corte altamente afiada e precisa DADOS TÉCNICOS - Cobertura DC-BLUE - Substrato de micro-grão com conteúdo modificado de cobalto para aumentar a resistência - Revestimento PVD, com maior resistência ao desgaste e resistência à oxidação de alta temperatura - Classe BLUE, indicado para aços endurecidos e materiais temperados - Indicada para operações de acabamento e desbaste - Médias a altas velocidades de corte - Corte continuo e interrompido | D38: unidade | E38: 472742 | F38: - | G38: 13 | H38: 0 | I38: =G38+H38 -> 13 | J38: 26.6 | K38: =I38*ROUND(J38,2) -> 345.8 | L38: - | M38: SIM | N38: Aberto | O38: =VLOOKUP(J38, Intervalos!$B$3:$C$8,2,TRUE) -> 0.05
A39: 4 | B39: 34 | C39: Inserto para torneamento TNMG 160408. INFORMAÇÕES Aqui tem pastilha TNMG 160408-GM NC3120 - A linha de insertos da marca Korloy, fornecido pela World Tools, é uma solução completa em processos de torneamento - Inserto TNMG 16 com raio de 0,8mm - Quebra cavaco.: GM - Classe.: NC3120 - Ideal para aço inox, e indicado para aços em geral, proporcionando um excelente acabamento DADOS TÉCNICOS - Para utilização em processos de torneamento, principalmente para Aço Inox, mas com excelente desempenho nos demais tipos de aços | D39: unidade | E39: 472742 | F39: - | G39: 13 | H39: 0 | I39: =G39+H39 -> 13 | J39: 40.63 | K39: =I39*ROUND(J39,2) -> 528.19 | L39: =SUM(K39:K42) -> 2308.41 | M39: SIM | N39: Aberto | O39: =VLOOKUP(J39, Intervalos!$B$3:$C$8,2,TRUE) -> 0.05
B40: 35 | C40: Inserto para torneamento TNMG 160408EL-SI T8330. INFORMAÇÕES - Inserto TNMG 16 esquerda com raio de 0,8mm - Quebra cavaco.: EL - Classe.: T8330 DADOS TÉCNICOS > Quebra cavaco SI - acabamento fino e semi-desbaste - principal área de aplicação – Materiais dos grupos P, M e S - aplicação condicional – Materiais dos grupos K e N - Indicado para cortes continuos - Substrato sub micron com conteúdo relativamente alto de cobalto - Cobertura nano estruturada pelo método PVD com transição gradiente - Cobertura de baixas tensões internas com alta dureza - Baixo desgaste de flanco no fio de corte principal - Médias velocidades de corte - Indicada para usinagem de materiais dos grupos M,P e K; potencialmente também N,S e H - Boa estabilidade operacional - Condições desfavoráveis de máquina > Dados de Corte: - Raio.: 0,8 - Avanço por rot.: f min 0,20 / f max 0,48 - Profundidade de corte.: ap min 0,8 / ap max 5,0 TABELA DE MEDIDAS - l.: 16,5 - d.: 9,525 - s.: 4,76 - d1.: 3,81 | D40: unidade | E40: 472742 | F40: - | G40: 13 | H40: 0 | I40: =G40+H40 -> 13 | J40: 40.94 | K40: =I40*ROUND(J40,2) -> 532.22 | N40: Aberto | O40: =VLOOKUP(J40, Intervalos!$B$3:$C$8,2,TRUE) -> 0.05
B41: 36 | C41: Inserto para torneamento TNMG 160408ER-SI T9325. INFORMAÇÕES - Inserto TNMG 16 direita com raio de 0,8mm - Quebra cavaco.: ER - Classe.: T9325 DADOS TÉCNICOS - Quebra cavaco SI - acabamento fino e semi-desbaste - principal área de aplicação – Materiais dos grupos P, M e S - aplicação condicional – Materiais dos grupos K e N - Indicado para cortes continuos - Classe UP!GRADE T9325 - Substrato gradiente funcional com fina estrutura - Médio teor de cobalto - Espessa camada MT-CVD com camada dominante de Al2O3 - Classe altamente versátil com relação balanceada entre resistência a abrasão e estabilidade operacional - Tratamento especial da superfície para cobertura - Indicada primariamente para usinagem de materiais dos grupos P,M ; Secundariamente K e S - Médias a altas velocidades de corte - Corte contínuo a interrompido - Dados de Corte: - Raio.: 0,8 - Avanço por rot.: f min 0,25 / f max 0,48 - Profundidade de corte.: ap min 2,0 / ap max 5,0 TABELA DE MEDIDAS - l.: 16,5 - d.: 9,525 - s.: 4,76 - d1.: 3,81 | D41: unidade | E41: 472742 | F41: - | G41: 13 | H41: 0 | I41: =G41+H41 -> 13 | J41: 46.07 | K41: =I41*ROUND(J41,2) -> 598.91 | N41: Aberto | O41: =VLOOKUP(J41, Intervalos!$B$3:$C$8,2,TRUE) -> 0.05
B42: 37 | C42: Inserto para torneamento TNMG 160408ER-SI T9325. INFORMAÇÕES - Inserto TNMG 16 esquerda com raio de 0,8mm - Quebra cavaco.: EL - Classe.: T9325 DADOS TÉCNICOS > Quebra cavaco SI - acabamento fino e semi-desbaste - principal área de aplicação – Materiais dos grupos P, M e S - aplicação condicional – Materiais dos grupos K e N - Indicado para cortes continuos > Classe UP!GRADE T8330 - Substrato sub micron com conteúdo relativamente alto de cobalto - Cobertura nano estruturada pelo método PVD com transição gradiente - Cobertura de baixas tensões internas com alta dureza - Baixo desgaste de flanco no fio de corte principal - Médias velocidades de corte - Indicada para usinagem de materiais dos grupos M,P e K; potencialmente também N,S e H - Condições desfavoráveis de máquina > Dados de Corte: - Raio.: 0,8 - Avanço por rot.: f min 0,20 / f max 0,48 - Profundidade de corte.: ap min 0,8 / ap max 5,0 TABELA DE MEDIDAS - l.: 16,5 - d.: 9,525 - s.: 4,76 - d1.: 3,81 | D42: unidade | E42: 472742 | F42: - | G42: 13 | H42: 0 | I42: =G42+H42 -> 13 | J42: 49.93 | K42: =I42*ROUND(J42,2) -> 649.09 | N42: Aberto | O42: =VLOOKUP(J42, Intervalos!$B$3:$C$8,2,TRUE) -> 0.05
A43: - | B43: 38 | C43: Kit de capacitores eletrolíticos, tensão de operação nominal 25V a 50V, tipo de montagem PTH, contendo 370 capacitores. Especificação dos capacitores (Quantidade de peças x Capacitância em microfarads x Tensão de operação): 30 unidades x 1uF x 50V, 30 unidades x 2.2uF x 50V, 30 unidades x 3.3uF x 50V, 30 unidades x 4.7uF x 50V, 30 unidades x 10uF x 50V, 30 unidades x 22uF x 50V, 30 unidades x 33uF x 50V, 30 unidades x 47uF x 50V, 30 unidades x 100uF x 25V, 30 unidades x 220uF x 25V, 20 unidades x 330uF x 25V, 20 unidades x 470uF x 25V, 10 unidades x 680uF x 25V, 10 unidades x 1000uF x 25V, 5 unidades x 2200uF x 25V e 5 unidades x 4700uF x 25V. | D43: Unidade (kit) | E43: 387637 | F43: - | G43: 2 | H43: 0 | I43: =G43+H43 -> 2 | J43: 169.27 | K43: =I43*ROUND(J43,2) -> 338.54 | L43: - | M43: SIM | N43: Aberto | O43: =VLOOKUP(J43, Intervalos!$B$3:$C$8,2,TRUE) -> 0,10%
A44: - | B44: 39 | C44: kit de moldes de gesso para ceramistas contendo: 1 molde de caneca reta 9,5cm x 9,2cm (diâmetro x altura) 1 molde de caneca triangular 8,5cm x 10cm (diâmetro x altura) 1 molde de caneca oval 10,5cm x 8,5cm (diâmetro x altura) 1 molde de caneca redonda 10,5cm x 6,5cm (diâmetro x altura) 1 molde de caneca clássica 10cm x 7,5cm ( diâmetro x altura) Projetados para uso de Barbotina ( argila líquida ) | D44: unidade | E44: 445042 | F44: - | G44: 2 | H44: 0 | I44: =G44+H44 -> 2 | J44: 365.54 | K44: =I44*ROUND(J44,2) -> 731.08 | L44: - | M44: SIM | N44: Aberto | O44: =VLOOKUP(J44, Intervalos!$B$3:$C$8,2,TRUE) -> 0,10%
A45: - | B45: 40 | C45: Lixa Metalográfica - sem adesivo-Ø 200 mm- Pcte 10 unidades - Grana 1200 (Carbeto de Silício) Marca de referência: Klingspor | D45: Und. | E45: 326383 | F45: - | G45: 19 | H45: 0 | I45: =G45+H45 -> 19 | J45: 66 | K45: =I45*ROUND(J45,2) -> 1254 | L45: - | M45: SIM | N45: Aberto | O45: =VLOOKUP(J45, Intervalos!$B$3:$C$8,2,TRUE) -> 0.1
A46: 5 | B46: 41 | C46: Lixa Metalográfica de carbeto de silício-sem adesivo-Ø 200 mm, grana 220 | D46: Und. | E46: 621664 | F46: - | G46: 125 | H46: 0 | I46: =G46+H46 -> 125 | J46: 5.5 | K46: =I46*ROUND(J46,2) -> 687.5 | L46: =SUM(K46:K49) -> 3184.46 | M46: SIM | N46: Aberto | O46: =VLOOKUP(J46, Intervalos!$B$3:$C$8,2,TRUE) -> 0.02
B47: 42 | C47: Lixa Metalográfica de carbeto de silício-sem adesivo-Ø 200 mm, grana 320 | D47: Und. | E47: 621665 | F47: - | G47: 144 | H47: 0 | I47: =G47+H47 -> 144 | J47: 5.5 | K47: =I47*ROUND(J47,2) -> 792 | N47: Aberto | O47: =VLOOKUP(J47, Intervalos!$B$3:$C$8,2,TRUE) -> 0.02
B48: 43 | C48: Lixa Metalográfica de carbeto de silício-sem adesivo-Ø 200 mm, grana 600 | D48: Und. | E48: 621667 | F48: - | G48: 144 | H48: 0 | I48: =G48+H48 -> 144 | J48: 5.5 | K48: =I48*ROUND(J48,2) -> 792 | N48: Aberto | O48: =VLOOKUP(J48, Intervalos!$B$3:$C$8,2,TRUE) -> 0.02
B49: 44 | C49: Lixa Metalográfica de carbeto de silício-sem adesivo-Ø 200 mm, grana 800 | D49: Und. | E49: 326381 | F49: - | G49: 144 | H49: 0 | I49: =G49+H49 -> 144 | J49: 6.34 | K49: =I49*ROUND(J49,2) -> 912.96 | N49: Aberto | O49: =VLOOKUP(J49, Intervalos!$B$3:$C$8,2,TRUE) -> 0.02
A50: - | B50: 45 | C50: Lixa Metalográfica-sem adesivo-Ø 200 mm - Pcte 10 unidades - Grana 1000 (Carbeto de Silício). Marca de referência: Klingspor | D50: Und. | E50: 621669 | F50: - | G50: 19 | H50: 0 | I50: =G50+H50 -> 19 | J50: 64.11 | K50: =I50*ROUND(J50,2) -> 1218.09 | L50: - | M50: SIM | N50: Aberto | O50: =VLOOKUP(J50, Intervalos!$B$3:$C$8,2,TRUE) -> 0.1
A51: - | B51: 46 | C51: Lixa Metalográfica-sem adesivo-Ø 200 mm - Pcte 10 unidades - Grana 1500 (Carbeto de Silício). Marca de referência: Klingspor | D51: Und. | E51: 407795 | F51: - | G51: 19 | H51: 0 | I51: =G51+H51 -> 19 | J51: 70 | K51: =I51*ROUND(J51,2) -> 1330 | L51: - | M51: SIM | N51: Aberto | O51: =VLOOKUP(J51, Intervalos!$B$3:$C$8,2,TRUE) -> 0.1
A52: - | B52: 47 | C52: Lubrificante para polimento metalográfico com pasta de diamante (materiais ferrosos), frasco com 1L. | D52: Und. | E52: 315756 | F52: - | G52: 14 | H52: 0 | I52: =G52+H52 -> 14 | J52: 62.57 | K52: =I52*ROUND(J52,2) -> 875.98 | L52: - | M52: SIM | N52: Aberto | O52: =VLOOKUP(J52, Intervalos!$B$3:$C$8,2,TRUE) -> 0.1
A53: 6 | B53: 48 | C53: Molas de tração de aço. kit com 10 peças. Medidas: 100mm (diâmetro de 5,0 mm e fio -arame em aço inoxidável com espessura 0,4 mm e com olhal em ambas extremidades). | D53: unidade | E53: 415917 | F53: - | G53: 3 | H53: 0 | I53: =G53+H53 -> 3 | J53: 109.67 | K53: =I53*ROUND(J53,2) -> 329.01 | L53: =SUM(K53:K56) -> 2624.61 | M53: SIM | N53: Aberto | O53: =VLOOKUP(J53, Intervalos!$B$3:$C$8,2,TRUE) -> 0,10%
B54: 49 | C54: Molas de tração de aço. kit com 10 peças. Medidas: 100mm (diâmetro de 9,0 mm e fio -arame em aço inoxidável com espessura 0,6 mm e com olhal em ambas extremidades). | D54: unidade | E54: 415917 | F54: - | G54: 3 | H54: 0 | I54: =G54+H54 -> 3 | J54: 160 | K54: =I54*ROUND(J54,2) -> 480 | N54: Aberto | O54: =VLOOKUP(J54, Intervalos!$B$3:$C$8,2,TRUE) -> 0,10%
B55: 50 | C55: Molas de tração de aço. kit com 10 peças. Medidas: 150mm (diâmetro de 5,0 mm e fio -arame em aço inoxidável com espessura 0,4 mm e com olhal em ambas extremidades). | D55: unidade | E55: 415917 | F55: - | G55: 3 | H55: 0 | I55: =G55+H55 -> 3 | J55: 302.6 | K55: =I55*ROUND(J55,2) -> 907.8 | N55: Aberto | O55: =VLOOKUP(J55, Intervalos!$B$3:$C$8,2,TRUE) -> 0,10%
B56: 51 | C56: Molas de tração de aço. kit com 10 peças. Medidas: 150mm (diâmetro de 9,0 mm e fio -arame em aço inoxidável com espessura 0,6 mm e com olhal em ambas extremidades). | D56: unidade | E56: 415917 | F56: - | G56: 3 | H56: 0 | I56: =G56+H56 -> 3 | J56: 302.6 | K56: =I56*ROUND(J56,2) -> 907.8 | N56: Aberto | O56: =VLOOKUP(J56, Intervalos!$B$3:$C$8,2,TRUE) -> 0,10%
A57: - | B57: 52 | C57: Molde De Gesso na forma de Bowl tamanho 18,5x 8cm (diâmetro x altura) utilizado para colagem de Barbotina. | D57: unidade | E57: 445042 | F57: - | G57: 2 | H57: 0 | I57: =G57+H57 -> 2 | J57: 104.5 | K57: =I57*ROUND(J57,2) -> 209 | L57: - | M57: SIM | N57: Aberto | O57: =VLOOKUP(J57, Intervalos!$B$3:$C$8,2,TRUE) -> 0,10%
A58: 7 | B58: 53 | C58: Pano para polimento metalográfico com alumina de granulometria de 1µm, diâmetro de 200mm. Pacote com 5 unidades. | D58: pacote | E58: 397545 | F58: - | G58: 7 | H58: 0 | I58: =G58+H58 -> 7 | J58: 154.56 | K58: =I58*ROUND(J58,2) -> 1081.92 | L58: =SUM(K58:K60) -> 2761.92 | M58: SIM | N58: Aberto | O58: =VLOOKUP(J58, Intervalos!$B$3:$C$8,2,TRUE) -> 0,10%
B59: 54 | C59: Pano para polimento metalográfico em alumina com granulometria de 0,05µm, diâmetro de 200mm, pacote com 5 unidades. | D59: Und. | E59: 397545 | F59: - | G59: 7 | H59: 0 | I59: =G59+H59 -> 7 | J59: 120 | K59: =I59*ROUND(J59,2) -> 840 | N59: Aberto | O59: =VLOOKUP(J59, Intervalos!$B$3:$C$8,2,TRUE) -> 0,10%
B60: 55 | C60: Pano para polimento metalográfico em alumina com granulometria de 0,3µm, diâmetro de 200mm, pacote com 5 unidades. | D60: Und. | E60: 397545 | F60: - | G60: 7 | H60: 0 | I60: =G60+H60 -> 7 | J60: 120 | K60: =I60*ROUND(J60,2) -> 840 | N60: Aberto | O60: =VLOOKUP(J60, Intervalos!$B$3:$C$8,2,TRUE) -> 0,10%
A61: 8 | B61: 56 | C61: Pano para polimento metalográfico em diamante com granulometria de 1µm, diâmetro de 200mm, pacote com 5 unidades. | D61: Und. | E61: 607932 | F61: - | G61: 4 | H61: 0 | I61: =G61+H61 -> 4 | J61: 127 | K61: =I61*ROUND(J61,2) -> 508 | L61: =SUM(K61:K63) -> 1860 | M61: SIM | N61: Aberto | O61: =VLOOKUP(J61, Intervalos!$B$3:$C$8,2,TRUE) -> 0,10%
B62: 57 | C62: Pano para polimento metalográfico em diamante com granulometria de 3µm, diâmetro de 200mm, pacote com 5 unidades. | D62: Und. | E62: 607932 | F62: - | G62: 4 | H62: 0 | I62: =G62+H62 -> 4 | J62: 169 | K62: =I62*ROUND(J62,2) -> 676 | N62: Aberto | O62: =VLOOKUP(J62, Intervalos!$B$3:$C$8,2,TRUE) -> 0,10%
B63: 58 | C63: Pano para polimento metalográfico em diamante com granulometria de 6µm, diâmetro de 200mm, pacote com 5 unidades. | D63: Und. | E63: 607740 | F63: - | G63: 4 | H63: 0 | I63: =G63+H63 -> 4 | J63: 169 | K63: =I63*ROUND(J63,2) -> 676 | N63: Aberto | O63: =VLOOKUP(J63, Intervalos!$B$3:$C$8,2,TRUE) -> 0,10%
A64: 9 | B64: 59 | C64: Pasta de diamante para polimento metalográfico, com granulometria de 0,25µm, seringa com aproximadamente 6g. | D64: Und. | E64: 303367 | F64: - | G64: 13 | H64: 0 | I64: =G64+H64 -> 13 | J64: 71.5 | K64: =I64*ROUND(J64,2) -> 929.5 | L64: =SUM(K64:K67) -> 4062.14 | M64: SIM | N64: Aberto | O64: =VLOOKUP(J64, Intervalos!$B$3:$C$8,2,TRUE) -> 0.1
B65: 60 | C65: Pasta de diamante para polimento metalográfico, com granulometria de 1µm, seringa com aproximadamente 6g. | D65: Und. | E65: 303367 | F65: - | G65: 14 | H65: 0 | I65: =G65+H65 -> 14 | J65: 72 | K65: =I65*ROUND(J65,2) -> 1008 | N65: Aberto | O65: =VLOOKUP(J65, Intervalos!$B$3:$C$8,2,TRUE) -> 0.1
B66: 61 | C66: Pasta de diamante para polimento metalográfico, com granulometria de 3µm, seringa com aproximadamente 6g. | D66: Und. | E66: 303365 | F66: - | G66: 14 | H66: 0 | I66: =G66+H66 -> 14 | J66: 75 | K66: =I66*ROUND(J66,2) -> 1050 | N66: Aberto | O66: =VLOOKUP(J66, Intervalos!$B$3:$C$8,2,TRUE) -> 0.1
B67: 62 | C67: Pasta de diamante para polimento metalográfico, com granulometria de 6µm, seringa com aproximadamente 6g. | D67: Und. | E67: 276358 | F67: - | G67: 14 | H67: 0 | I67: =G67+H67 -> 14 | J67: 76.76 | K67: =I67*ROUND(J67,2) -> 1074.64 | N67: Aberto | O67: =VLOOKUP(J67, Intervalos!$B$3:$C$8,2,TRUE) -> 0.1
A68: - | B68: 63 | C68: Peneira Granulométrica, Material: Aço Niquelado, Diâmetro: 8 Pol., Altura:2 Pol., Abertura Malhas:2,38 Mm, Características Adicionais: Redonda, 8 Aberturas Certificação INMETRO/ABNT. Material Aro: Latão | D68: Und. | E68: 317493 | F68: - | G68: 2 | H68: 0 | I68: =G68+H68 -> 2 | J68: 363.1 | K68: =I68*ROUND(J68,2) -> 726.2 | L68: - | M68: SIM | N68: Aberto | O68: =VLOOKUP(J68, Intervalos!$B$3:$C$8,2,TRUE) -> 0,10%
A69: 10 | B69: 64 | C69: Peneira Redonda em Aço Inox : Abertura - ASTM35 - Mesh Tyler32 - Abertura 0,5mm. Diâmetro interno do aro 8" (203,2 mm). Altura entre a tela e extremidade interior 2" (50,8 mm) | D69: Und. | E69: 484542 | F69: - | G69: 2 | H69: 0 | I69: =G69+H69 -> 2 | J69: 363.1 | K69: =I69*ROUND(J69,2) -> 726.2 | L69: =SUM(K69:K71) -> 2178.6 | M69: SIM | N69: Aberto | O69: =VLOOKUP(J69, Intervalos!$B$3:$C$8,2,TRUE) -> 0,10%
B70: 65 | C70: Peneira Redonda em Aço Inox : Abertura - ASTM45 - Mesh Tyler42 - Abertura 0,355mm. Diâmetro interno do aro 8" (203,2 mm). Altura entre a tela e extremidade interior 2" (50,8 mm) | D70: Und. | E70: 473708 | F70: - | G70: 2 | H70: 0 | I70: =G70+H70 -> 2 | J70: 363.1 | K70: =I70*ROUND(J70,2) -> 726.2 | N70: Aberto | O70: =VLOOKUP(J70, Intervalos!$B$3:$C$8,2,TRUE) -> 0,10%
B71: 66 | C71: Peneira Redonda em Aço Inox : Abertura - ASTM60 - Mesh Tyler60 - Abertura 0,250mm . Diâmetro interno do aro 8" (203,2 mm). Altura entre a tela e extremidade interior 2" (50,8 mm) | D71: Und. | E71: 269138 | F71: - | G71: 2 | H71: 0 | I71: =G71+H71 -> 2 | J71: 363.1 | K71: =I71*ROUND(J71,2) -> 726.2 | N71: Aberto | O71: =VLOOKUP(J71, Intervalos!$B$3:$C$8,2,TRUE) -> 0,10%
A72: 11 | B72: 67 | C72: Placa de fenolite tipo ilha, dimensões 15 x 15cm, diâmetro do furo 1mm, distância entre furos 2.54mm. | D72: Und. | E72: 465315 | F72: - | G72: 7 | H72: 0 | I72: =G72+H72 -> 7 | J72: 28.93 | K72: =I72*ROUND(J72,2) -> 202.51 | L72: =SUM(K72:K73) -> 416.22 | M72: SIM | N72: Aberto | O72: =VLOOKUP(J72, Intervalos!$B$3:$C$8,2,TRUE) -> 0.05
B73: 68 | C73: Placa de fenolite tipo ilha, dimensões 20 x 10cm, diâmetro do furo 1mm, distância entre furos 2.54mm. | D73: Und. | E73: 465315 | F73: - | G73: 7 | H73: 0 | I73: =G73+H73 -> 7 | J73: 30.53 | K73: =I73*ROUND(J73,2) -> 213.71 | N73: Aberto | O73: =VLOOKUP(J73, Intervalos!$B$3:$C$8,2,TRUE) -> 0.05
A74: - | B74: 69 | C74: PONTA DE PROVA PARA OSCILOSCÓPIO BANDA DE FREQUÊNCIA 1:1 DC~15MHZ (±3DB) BANDA DE FREQUÊNCIA 10:1 DC~60MHZ (±3DB) IMPED NCIA DE ENTRADA 1:1 1MΩ//46PF IMPED NCIA DE ENTRADA 10:1 10MΩ//15PF TENSÃO DE ENTRADA MÁXIMA 600V (DC OU PICO AC) PARA 10:1 CATEGORIA DE SEGURANÇA CAT II 600V COMPRIMENTO 1,2M | D74: unidade | E74: 276040 | F74: - | G74: 7 | H74: 12 | I74: =G74+H74 -> 19 | J74: 255 | K74: =I74*ROUND(J74,2) -> 4845 | L74: - | M74: SIM | N74: Aberto | O74: =VLOOKUP(J74, Intervalos!$B$3:$C$8,2,TRUE) -> 0,10%
A75: - | B75: 70 | C75: PONTEIRA DE CORRENTE, PONTA DE CORRENTE POR EFEITO HALL AC/DC PARA OSCILOSCÓPIOS E MULTÍMETROS FREQUÊNCIA DE TRABALHO DE 100KHZ; MEDIDAS DE 50 MA A 100 A PICO; SINAL DE SAÍDA SELECIONÁVEL DE 10 MV/A OU 100 MV/A; TENSÃO MÁXIMA DE TRABALHO DE 600 V CATIII; | D75: unidade | E75: 460925 | F75: - | G75: 7 | H75: 0 | I75: =G75+H75 -> 7 | J75: 4897.99 | K75: =I75*ROUND(J75,2) -> 34285.93 | L75: - | M75: SIM | N75: Aberto | O75: =VLOOKUP(J75, Intervalos!$B$3:$C$8,2,TRUE) -> 0,10%
A76: - | B76: 71 | C76: Porta bedame 1/2" reto, em aço de alta qualidade e durabilidade. | D76: unidade | E76: 256480 | F76: - | G76: 3 | H76: 0 | I76: =G76+H76 -> 3 | J76: 95 | K76: =I76*ROUND(J76,2) -> 285 | L76: - | M76: SIM | N76: Aberto | O76: =VLOOKUP(J76, Intervalos!$B$3:$C$8,2,TRUE) -> 0.1
A77: - | B77: 72 | C77: Porta bits 1/4". Suporte para Bits ou Porta Bits, geralmente utilizado em tornos e plainas, com ponta chanfrada e parafuso de fixação em aço temperado. ESPECIFICAÇÕES TÉCNICAS: - Referência: PB-801 - Reto - Capacidade: 1/4 - Altura: 3 | D77: unidade | E77: 472736 | F77: - | G77: 3 | H77: 0 | I77: =G77+H77 -> 3 | J77: 154.59 | K77: =I77*ROUND(J77,2) -> 463.77 | L77: - | M77: SIM | N77: Aberto | O77: =VLOOKUP(J77, Intervalos!$B$3:$C$8,2,TRUE) -> 0,10%
A78: - | B78: 73 | C78: Protoboard 830 furos, capacidade para conexão de fios bitola 0,41 a 0,81mm (20 a 29AWG), tensão máxima 300Vrms, corrente máxima 3A, corpo em material plástico e contatos elétricos em material metálico condutor, dimensões 165(A) x 54(L) x 10(P)mm | D78: Und. | E78: 474886 | F78: - | G78: 14 | H78: 20 | I78: =G78+H78 -> 34 | J78: 21.47 | K78: =I78*ROUND(J78,2) -> 729.98 | L78: - | M78: SIM | N78: Aberto | O78: =VLOOKUP(J78, Intervalos!$B$3:$C$8,2,TRUE) -> 0.05
A79: - | B79: 74 | C79: Resina Epóxi para laminação com catalisador - Resina para laminação com catalisador A+ B fornecida em frascos separados. Componente A com 1kg e componente B com 0,8 Kg. - Fornecimanto em conjunto com 1,80 Kg | D79: Conjunto | E79: 482523 | F79: - | G79: 7 | H79: 0 | I79: =G79+H79 -> 7 | J79: 154.56 | K79: =I79*ROUND(J79,2) -> 1081.92 | L79: - | M79: SIM | N79: Aberto | O79: =VLOOKUP(J79, Intervalos!$B$3:$C$8,2,TRUE) -> 0,10%
A80: - | B80: 75 | C80: Resina epóxi transparente de baixa viscosidade com endurecedor (massa total: 1Kg). Aparência da resina: líquido incolor viscoso. Aparência do endurecedor: Líquido levemente amarelado. Viscosidade, 20°C, cPs: 600 a 900 (resina) e 200 máx. (endurecedor). Peso Específico, 20°C, g/cm³ 1,12 +/- 0,01 (resina) e 1,005 +/- 0,015 (endurecedor). | D80: Kg | E80: 482523 | F80: - | G80: 8 | H80: 0 | I80: =G80+H80 -> 8 | J80: 149.94 | K80: =I80*ROUND(J80,2) -> 1199.52 | L80: - | M80: SIM | N80: Aberto | O80: =VLOOKUP(J80, Intervalos!$B$3:$C$8,2,TRUE) -> 0,10%
A81: - | B81: 76 | C81: Resina Fotossensível para impressora 3D (1000 mL) Características: Resina + fotoiniciador. Resina compatível com a impressora Anycubic Photon. Resina trabalha com máquinas de LCD com comprimento de onda de 225 a 440nm | D81: unidade | E81: 486830 | F81: - | G81: 2 | H81: 0 | I81: =G81+H81 -> 2 | J81: 217.32 | K81: =I81*ROUND(J81,2) -> 434.64 | L81: - | M81: SIM | N81: Aberto | O81: =VLOOKUP(J81, Intervalos!$B$3:$C$8,2,TRUE) -> 0,10%
A82: - | B82: 77 | C82: Resistor de 500 ohms, potência nominal 100 Watts. Fornecimento em pacote com 05 unidades. | D82: Unidade | E82: 454196 | F82: - | G82: =3*5 -> 15 | H82: 0 | I82: =G82+H82 -> 15 | J82: =200/5 -> 40 | K82: =I82*ROUND(J82,2) -> 600 | L82: - | M82: SIM | N82: Aberto | O82: =VLOOKUP(J82, Intervalos!$B$3:$C$8,2,TRUE) -> 0.05
A83: - | B83: 78 | C83: SOLDA PARA ELETRÔNICA, COMPOSIÇÃO: SOLDA 60% ESTANHO E 40% CHUMBO, FLUXO RA (T2), ESPESSURA: 1,00 MM, BOBINA COM 250 GRAMAS. | D83: Unidade | E83: 411603 | F83: - | G83: 35 | H83: 20 | I83: =G83+H83 -> 55 | J83: 67.5 | K83: =I83*ROUND(J83,2) -> 3712.5 | L83: - | M83: SIM | N83: Aberto | O83: =VLOOKUP(J83, Intervalos!$B$3:$C$8,2,TRUE) -> 0.1
A84: 12 | B84: 79 | C84: Strain gage KC80-120-A1-11 embalagem com 10 unidades. | D84: Embalagem | E84: 621489 | F84: - | G84: 4 | H84: 0 | I84: =G84+H84 -> 4 | J84: 1940 | K84: =I84*ROUND(J84,2) -> 7760 | L84: =SUM(K84:K86) -> 43116.86 | M84: SIM | N84: Aberto | O84: =VLOOKUP(J84, Intervalos!$B$3:$C$8,2,TRUE) -> 0,10%
B85: 80 | C85: Strain gage KFG-5-120-C1 embalagem com 10 unidades. | D85: Embalagem | E85: 621489 | F85: - | G85: 7 | H85: 0 | I85: =G85+H85 -> 7 | J85: 1485 | K85: =I85*ROUND(J85,2) -> 10395 | N85: Aberto | O85: =VLOOKUP(J85, Intervalos!$B$3:$C$8,2,TRUE) -> 0,10%
B86: 81 | C86: Strain gage KFG-5-120-C1-11L1M2R -embalagem com 10 unidades. | D86: Embalagem | E86: 621489 | F86: - | G86: 7 | H86: 0 | I86: =G86+H86 -> 7 | J86: 3565.98 | K86: =I86*ROUND(J86,2) -> 24961.86 | N86: Aberto | O86: =VLOOKUP(J86, Intervalos!$B$3:$C$8,2,TRUE) -> 0,10%
A87: - | B87: 82 | C87: Terminal Garra/Jacaré com isolação, tamanho total da garra: 44mm, abertura da garra: 14mm. Kit com 10 pares preto e vermelho. | D87: Unidade (kit) | E87: 460683 | F87: Margem de preferência normal: 10% | G87: 13 | H87: 50 | I87: =G87+H87 -> 63 | J87: 36.53 | K87: =I87*ROUND(J87,2) -> 2301.39 | L87: - | M87: SIM | N87: Aberto | O87: =VLOOKUP(J87, Intervalos!$B$3:$C$8,2,TRUE) -> 0.05
A88: - | B88: 83 | C88: Termopar tipo K, faixa de temperatura -50ºC a 1200ºC, comprimento da sonda (aço inoxidável): 50cm, cabo de 60cm de comprimento. | D88: unidade | E88: 485743 | F88: - | G88: 28 | H88: 0 | I88: =G88+H88 -> 28 | J88: 87.63 | K88: =I88*ROUND(J88,2) -> 2453.64 | L88: - | M88: SIM | N88: Aberto | O88: =VLOOKUP(J88, Intervalos!$B$3:$C$8,2,TRUE) -> 0.1
A89: - | B89: 84 | C89: Transformador 12V+12V 500mA. Descrição: Transformador com tap central, tensão do enrolamento primário 127V e 220V, tensão do enrolamento secundário 12V+12V, corrente nominal 500mA. | D89: unidade | E89: 293415 | F89: - | G89: 125 | H89: 0 | I89: =G89+H89 -> 125 | J89: 33.56 | K89: =I89*ROUND(J89,2) -> 4195 | L89: - | M89: SIM | N89: Aberto | O89: =VLOOKUP(J89, Intervalos!$B$3:$C$8,2,TRUE) -> 0.05
J90: VALOR TOTAL | K90: =SUM(K6:K89) -> 217416.93

Sheet Intervalos
B2: Valor Unitário Estimado (Faixa) | C2: Diferença Mínima de Valores / Percentuais de Lances | E2: Interpretação
B3: 0.01 | C3: 0.01 | E3: R$ 0,01 - R$ 5,00 => R$ 0,01
B4: 5 | C4: 0.02 | E4: R$ 5,01 - R$ 10,00 => R$ 0,02
B5: 10 | C5: 0.03 | E5: R$ 10,01 - R$ 20,00 => R$ 0,03
B6: 20 | C6: 0.05 | E6: R$ 20,01 - R$ 50,00 => R$ 0,05
B7: 50 | C7: 0.1 | E7: R$ 50,01 - R$ 100,00 => R$ 0,10
B8: 100 | C8: 0,10% | E8: Acima de R$ 100,00 => 0,10%
