Workbook
Name BDI.Opcao: [1]DADOS!$F$18
Name BDI.TipoObra: BDI!$A$138:$A$146
Name DESONERACAO: IF(OR(Import.Desoneracao="DESONERADO",Import.Desoneracao="SIM"),"SIM","NÃO")
Name Import.Desoneracao: OFFSET([1]DADOS!$G$18,0,-1)

Sheet RESUMO
A12: RESUMO DA PLANILHA DE ORÇAMENTOS DE PROJETOS E OBRAS
A13: UFF- INSTITUTO DE QUIMICA | E13: AUTOR: | H13: FUNÇÃO:
A14: LOCAL: CAMPUS PRAIA VERMELHA | E14: PROCESSO: 23069.180351/2025-62 | H14: ART/RRT:
A15: NOME/APELIDO DA OBRA: | E15: BDI | F15: BDI EQUIP. | G15: SIAPE | H15: DATA | I15: REVISÃO
A16: BASE DE DADOS: SINAPI - 07/2025 - Rio de Janeiro; SBC - 07/2025 - Rio de Janeiro; EMOP - 07/2025 - Rio de Janeiro; SCO - 07/2025 - Rio de Janeiro - DESONERADO | E16: =BDI!$D$66 -> 0.2549 | F16: =BDI_DIF.!D67 -> 0.1612 | H16: 45931 | I16: R21
A17: ITEM | B17: SERVIÇO | I17: PREÇO TOTAL
A18: 1 | B18: PROJETOS | I18: 128905.04
A19: 2 | B19: GERENCIAMENTO DE OBRAS / FISCALIZAÇÃO | I19: 1806412.1
A20: 3 | B20: SERVIÇOS PRELIMINARES | I20: 424790.73
A21: 4 | B21: MOVIMENTO DE TERRA | I21: 31617.87
A22: 5 | B22: FUNDAÇÃO E INFRAESTRUTURA | I22: 395645.02
A23: 6 | B23: SUPERESTRUTURA | I23: 538800.04
A24: 7 | B24: ELEMENTOS DE FECHAMENTO | I24: 89452.13
A25: 8 | B25: COBERTURAS | I25: 79099.69
A26: 9 | B26: IMPERMEABILIZAÇÃO, ISOLAMENTO TÉRMICO E ACÚSTICO | I26: 206292.48
A27: 10 | B27: ESQUADRIAS E VIDROS | I27: 1919499
A28: 11 | B28: INSTALAÇÕES HIDRÁULICAS E SANITÁRIAS | I28: 560198.88
A29: 12 | B29: INSTALAÇÕES ELÉTRICAS | I29: 8154071.1
... A38: 21 | B38: SERVIÇOS COMPLEMENTARES | I38: 169272
A39: TOTAL GERAL | I39: =SUM(I18:I38) -> 24592340

Sheet Orçamento Sintético
A2: PLANILHA DE ORÇAMENTOS DE PROJETOS E OBRAS - SINTÉTICA
A3: UFF- INSTITUTO DE QUIMICA | E3: AUTOR: | H3: FUNÇÃO:
A4: LOCAL: CAMPUS PRAIA VERMELHA | E4: =RESUMO!E14 -> PROCESSO: 23069.180351/2025-62 | H4: ART/RRT:
A5: NOME/APELIDO DA OBRA: | E5: BDI | F5: BDI EQUIP. | G5: SIAPE | H5: DATA | J5: REVISÃO
A6: =RESUMO!A16 -> BASE DE DADOS: SINAPI - 07/2025 - Rio de Janeiro; SBC - 07/2025 - Rio de Janeiro; EMOP - 07/2025 - Rio de Janeiro; SCO - 07/2025 - Rio de Janeiro - DESONERADO | E6: =BDI!$D$66 -> 0.2549 | F6: =BDI_DIF.!D67 -> 0.1612 | H6: =RESUMO!H16 -> 45931 | I6: =RESUMO!I16 -> R21
A7: Item | B7: Código | C7: Banco | D7: Descrição | E7: Und | F7: Quant. | G7: Valor Unit | H7: Valor Unit com BDI | I7: Total | J7: Peso (%) | K7: DESCONTO OFERTADO | L7: VALOR TOTAL COM DESCONTO
A8: 1 | D8: PROJETOS | F8: 1 | H8: 128905.04 | I8: 128905.04 | J8: 0.0052416745 | K8: =I1051 -> 0 | L8: =SUM(L9:L26) -> 128905.04
A9: 1.1 | B9: 01.050.0810-A | C9: EMOP | D9: PROJETO DE AS BUILT DE ARQUITETURA PARA PREDIOS ESCOLARES E/ OU ADMINISTRATIVOS ATE 500M2,APRESENTADO NOS PADROES DA CONT RATANTE,INCLUSIVE COORDENACAO E COMPATIBILIZACAO COM OS PROJ ETOS COMPLEMENTARES | E9: 0 | F9: 500 | G9: 12.95 | H9: 16.25 | I9: 8125 | J9: 0.00033038743 | K9: =$I$1051 -> 0 | L9: =I9-(I9*K9) -> 8125
A10: 1.2 | B10: 01.050.0811-A | C10: EMOP | D10: PROJETO DE AS BUILT DE ARQUITETURA PARA PREDIOS ESCOLARES E/ OU ADMINISTRATIVOS DE 501 ATE 3000M2,APRESENTADO NOS PADROES DA CONTRATANTE,INCLUSIVE COORDENACAO E COMPATIBILIZACAO COM OS PROJETOS COMPLEMENTARES | E10: 0 | F10: 2500 | G10: 9.4 | H10: 11.79 | I10: 29475 | J10: 0.001198544 | K10: =$I$1051 -> 0 | L10: =I10-(I10*K10) -> 29475
A11: 1.3 | B11: 01.050.0812-A | C11: EMOP | D11: PROJETO DE AS BUILT DE ARQUITETURA PARA PREDIOS ESCOLARES E/ OU ADMINISTRATIVOS ACIMA DE 3000M2,APRESENTADO NOS PADROES D A CONTRATANTE,INCLUSIVE COORDENACAO E COMPATIBILIZACAO COM O S PROJETOS COMPLEMENTARES | E11: 0 | F11: 5503.41 | G11: 7.55 | H11: 9.47 | I11: 52117.29 | J11: 0.002119249 | K11: =$I$1051 -> 0 | L11: =I11-(I11*K11) -> 52117.29
A12: 1.4 | B12: 01.050.0955-A | C12: EMOP | D12: PROJETO DE AS BUILT DE INSTALACAO ELETRICA PARA PREDIOS ESCO LARES E/OU ADMINISTRATIVOS ATE 500M2,APRESENTADO NOS PADROES DA CONTRATANTE | E12: 0 | F12: 500 | G12: 1.88 | H12: 2.35 | I12: 1175 | J12: 4.7779106e-05 | K12: =$I$1051 -> 0 | L12: =I12-(I12*K12) -> 1175
A13: 1.5 | B13: 01.050.0956-A | C13: EMOP | D13: PROJETO DE AS BUILT DE INSTALACAO ELETRICA PARA PREDIOS ESCO LARES E/OU ADMINISTRATIVOS DE 501 ATE 3000M2,APRESENTADO NOS PADROES DA CONTRATANTE | E13: 0 | F13: 2500 | G13: 1.57 | H13: 1.97 | I13: 4925 | J13: 0.00020026561 | K13: =$I$1051 -> 0 | L13: =I13-(I13*K13) -> 4925
A14: 1.6 | B14: 01.050.0957-A | C14: EMOP | D14: PROJETO DE AS BUILT DE INSTALACAO ELETRICA PARA PREDIOS ESCO LARES E/OU ADMINISTRATIVOS ACIMA DE 3000M2,APRESENTADO NOS PADROES DA CONTRATANTE | E14: 0 | F14: 5503.41 | G14: 0.93 | H14: 1.16 | I14: 6383.95 | J14: 0.000259591 | K14: =$I$1051 -> 0 | L14: =I14-(I14*K14) -> 6383.95
A15: 1.7 | B15: 01.050.0980-A | C15: EMOP | D15: PROJETO DE AS BUILT DE INSTALACAO DE SEGURANCA (CFTV E SONOR IZACAO) ATE 500M2,APRESENTADO NOS PADROES DA CONTRATANTE | E15: 0 | F15: 500 | G15: 0.62 | H15: 0.77 | I15: 385 | J15: 1.5655282e-05 | K15: =$I$1051 -> 0 | L15: =I15-(I15*K15) -> 385
A16: 1.8 | B16: 01.050.0981-A | C16: EMOP | D16: PROJETO DE AS BUILT DE INSTALACAO DE SEGURANCA (CFTV E SONOR IZACAO) DE 501 ATE 3000M2,APRESENTADO NOS PADROES DA CONTRAT ANTE | E16: 0 | F16: 2500 | G16: 0.44 | H16: 0.55 | I16: 1375 | J16: 5.591172e-05 | K16: =$I$1051 -> 0 | L16: =I16-(I16*K16) -> 1375
A17: 1.9 | B17: 01.050.0982-A | C17: EMOP | D17: PROJETO DE AS BUILT DE INSTALACAO DE SEGURANCA (CFTV E SONOR IZACAO) ACIMA DE 3000M2,APRESENTADO NOS PADROES DA CONTRATAN TE | E17: 0 | F17: 5503.41 | G17: 0.25 | H17: 0.31 | I17: 1706.05 | J17: 6.9373229e-05 | K17: =$I$1051 -> 0 | L17: =I17-(I17*K17) -> 1706.05
A18: 1.10 | B18: 01.050.0840-A | C18: EMOP | D18: PROJETO DE AS BUILT DE INSTALACAO DE INCENDIO E SPDA PARA PR EDIOS ESCOLARES E/OU ADMINISTRATIVOS ATE 500M2,APRESENTADO NOS PADROES DA CONTRATANTE | E18: 0 | F18: 500 | G18: 0.93 | H18: 1.16 | I18: 580 | J18: 2.358458e-05 | K18: =$I$1051 -> 0 | L18: =I18-(I18*K18) -> 580
A19: 1.11 | B19: 01.050.0841-A | C19: EMOP | D19: PROJETO DE AS BUILT DE INSTALACAO DE INCENDIO E SPDA PARA PR EDIOS ESCOLARES E/OU ADMINISTRATIVOS DE 501 ATE 3000M2,APRES ENTADO NOS PADROES DA CONTRATANTE | E19: 0 | F19: 2500 | G19: 0.51 | H19: 0.63 | I19: 1575 | J19: 6.4044334e-05 | K19: =$I$1051 -> 0 | L19: =I19-(I19*K19) -> 1575
A20: 1.12 | B20: 01.050.0842-A | C20: EMOP | D20: PROJETO DE AS BUILT DE INSTALACAO DE INCENDIO E SPDA PARA PR EDIOS ESCOLARES E/OU ADMINISTRATIVOS ACIMA DE 3000M2,APRESEN TADO NOS PADROES DA CONTRATANTE | E20: 0 | F20: 5503.41 | G20: 0.25 | H20: 0.31 | I20: 1706.05 | J20: 6.9373229e-05 | K20: =$I$1051 -> 0 | L20: =I20-(I20*K20) -> 1706.05
... A26: 1.18 | B26: 01.050.0977-A | C26: EMOP | D26: PROJETO DE AS BUILT DE SISTEMA DE AR CONDICIONADO,EM PREDIOS ACIMA DE 3000M2,APRESENTADO NOS PADROES DA CONTRATANTE | E26: 0 | F26: 5503.41 | G26: 0.72 | H26: 0.9 | I26: 4953.06 | J26: 0.00020140662 | K26: =$I$1051 -> 0 | L26: =I26-(I26*K26) -> 4953.06
A27: 2 | D27: GERENCIAMENTO DE OBRAS / FISCALIZAÇÃO | F27: 1 | H27: 1806412.1 | I27: 1806412.1 | J27: 0.073454258 | K27: =$I$1051 -> 0 | L27: =SUM(L28) -> 1806412.1
A28: 2.1 | B28: UFF00066 | C28: Próprio | D28: ADMINISTRAÇÃO LOCAL | E28: UN | F28: 1 | G28: 1439486.9 | H28: 1806412.1 | I28: 1806412.1 | J28: 0.073454258 | K28: =$I$1051 -> 0 | L28: =I28-(I28*K28) -> 1806412.1
A29: 3 | D29: SERVIÇOS PRELIMINARES | F29: 1 | H29: 424790.73 | I29: 424790.73 | J29: 0.017273295 | K29: =$I$1051 -> 0 | L29: =SUM(L30,L33,L36,L74,L96,L103,L105) -> 424790.73
A30: 3.1 | D30: LICENÇAS / TAXAS / PLACA / INVENTÁRIO | F30: 1 | H30: 28318.36 | I30: 28318.36 | J30: 0.0011515114 | K30: =$I$1051 -> 0 | L30: =SUM(L31:L32) -> 28318.36
A31: 3.1.1 | B31: 103689 | C31: SINAPI | D31: FORNECIMENTO E INSTALAÇÃO DE PLACA DE OBRA COM CHAPA GALVANIZADA E ESTRUTURA DE MADEIRA. AF_03/2022_PS | E31: m² | F31: 3.15 | G31: 476.28 | H31: 597.68 | I31: 1882.69 | J31: 7.6555953e-05 | K31: =$I$1051 -> 0 | L31: =I31-(I31*K31) -> 1882.69
A32: 3.1.2 | B32: UFF-AT002 | C32: Próprio | D32: SERVIÇO PRELIMINAR (ANTERIOR A MOBILIZAÇÃO DO CANTEIRO) DE LEVANTAMENTO E INVENTÁRIO DOS MATERIAIS DEPOSITADOS NO CANTEIRO E NA OBRA. INCLUSIVE RELATÓRIO E DOCUMENTOS TÉCNICOS PERTINENTES | E32: UN | F32: 1 | G32: 21065.96 | H32: 26435.67 | I32: 26435.67 | J32: 0.0010749555 | K32: =$I$1051 -> 0 | L32: =I32-(I32*K32) -> 26435.67
A33: 3.2 | D33: MOBILIZAÇÃO E DESMOBILIZAÇÃO | F33: 1 | H33: 29557.93 | I33: 29557.93 | J33: 0.0012019161 | K33: =$I$1051 -> 0 | L33: =SUM(L34:L35) -> 29557.93
A34: 3.2.1 | B34: 012689 | C34: SBC | D34: MOBILIZACAO E DESMOBILIZACAO DE CANTEIRO | E34: UN | F34: 1 | G34: 6216.46 | H34: 7801.03 | I34: 7801.03 | J34: 0.00031721382 | K34: =$I$1051 -> 0 | L34: =I34-(I34*K34) -> 7801.03
A35: 3.2.2 | B35: 98459 | C35: SINAPI | D35: TAPUME COM TELHA METÁLICA. AF_03/2024 | E35: m² | F35: 165 | G35: 105.08 | H35: 131.86 | I35: 21756.9 | J35: 0.00088470232 | K35: =$I$1051 -> 0 | L35: =I35-(I35*K35) -> 21756.9
A36: 3.3 | D36: CANTEIRO DE OBRAS (REFORMA DO EXISTENTE) | F36: 1 | H36: 112611.56 | I36: 112611.56 | J36: 0.0045791316 | K36: =$I$1051 -> 0 | L36: =SUM(L37:L73) -> 112611.56
A37: 3.3.1 | B37: 98679 | C37: SINAPI | D37: PISO CIMENTADO, TRAÇO 1:3 (CIMENTO E AREIA), ACABAMENTO LISO, ESPESSURA 2,0 CM, PREPARO MECÂNICO DA ARGAMASSA. AF_09/2020 | E37: m² | F37: 24 | G37: 40.28 | H37: 50.54 | I37: 1212.96 | J37: 4.9322676e-05 | K37: =$I$1051 -> 0 | L37: =I37-(I37*K37) -> 1212.96
A38: 3.3.2 | B38: 98445 | C38: SINAPI | D38: PAREDE DE MADEIRA COMPENSADA PARA CONSTRUÇÃO TEMPORÁRIA EM CHAPA SIMPLES, EXTERNA, COM ÁREA LÍQUIDA MAIOR OU IGUAL A 6 M², COM VÃO. AF_03/2024 | E38: m² | F38: 90 | G38: 124.74 | H38: 156.53 | I38: 14087.7 | J38: 0.00057284912 | K38: =$I$1051 -> 0 | L38: =I38-(I38*K38) -> 14087.7
A39: 3.3.3 | B39: 90820 | C39: SINAPI | D39: PORTA DE MADEIRA PARA PINTURA, SEMI-OCA (LEVE OU MÉDIA), 60X210CM, ESPESSURA DE 3,5CM, INCLUSO DOBRADIÇAS - FORNECIMENTO E INSTALAÇÃO. AF_12/2019 | E39: UN | F39: 4 | G39: 420.39 | H39: 527.54 | I39: 2110.16 | J39: 8.5805582e-05 | K39: =$I$1051 -> 0 | L39: =I39-(I39*K39) -> 2110.16
A40: 3.3.4 | B40: 90822 | C40: SINAPI | D40: PORTA DE MADEIRA PARA PINTURA, SEMI-OCA (LEVE OU MÉDIA), 80X210CM, ESPESSURA DE 3,5CM, INCLUSO DOBRADIÇAS - FORNECIMENTO E INSTALAÇÃO. AF_12/2019 | E40: UN | F40: 6 | G40: 460.96 | H40: 578.45 | I40: 3470.7 | J40: 0.00014112931 | K40: =$I$1051 -> 0 | L40: =I40-(I40*K40) -> 3470.7
A41: 3.3.5 | B41: 91304 | C41: SINAPI | D41: FECHADURA DE EMBUTIR COM CILINDRO, EXTERNA, COMPLETA, ACABAMENTO PADRÃO POPULAR, INCLUSO EXECUÇÃO DE FURO - FORNECIMENTO E INSTALAÇÃO. AF_12/2019 | E41: UN | F41: 6 | G41: 139.33 | H41: 174.84 | I41: 1049.04 | J41: 4.2657186e-05 | K41: =$I$1051 -> 0 | L41: =I41-(I41*K41) -> 1049.04
A42: 3.3.6 | B42: 91305 | C42: SINAPI | D42: FECHADURA DE EMBUTIR PARA PORTA DE BANHEIRO, COMPLETA, ACABAMENTO PADRÃO POPULAR, INCLUSO EXECUÇÃO DE FURO - FORNECIMENTO E INSTALAÇÃO. AF_12/2019 | E42: UN | F42: 4 | G42: 136.75 | H42: 171.6 | I42: 686.4 | J42: 2.7911131e-05 | K42: =$I$1051 -> 0 | L42: =I42-(I42*K42) -> 686.4
A43: 3.3.7 | B43: 100666 | C43: SINAPI | D43: JANELA DE MADEIRA (PINUS/EUCALIPTO OU EQUIV.) DE ABRIR COM 4 FOLHAS (2 VENEZIANAS E 2 GUILHOTINAS PARA VIDRO), COM BATENTE, ALIZAR E FERRAGENS. EXCLUSIVE VIDROS, ACABAMENTO E CONTRAMARCO. FORNECIMENTO E INSTALAÇÃO. AF_12/2019 | E43: m² | F43: 4 | G43: 631.07 | H43: 791.92 | I43: 3167.68 | J43: 0.00012880759 | K43: =$I$1051 -> 0 | L43: =I43-(I43*K43) -> 3167.68
A44: 3.3.8 | B44: 100668 | C44: SINAPI | D44: JANELA DE MADEIRA (CEDRINHO/ANGELIM OU EQUIV.) TIPO MAXIM-AR, PARA VIDRO, COM BATENTE, ALIZAR E FERRAGENS. EXCLUSIVE VIDRO, ACABAMENTO E CONTRAMARCO. FORNECIMENTO E INSTALAÇÃO. AF_12/2019 | E44: m² | F44: 2.16 | G44: 1250.46 | H44: 1569.2 | I44: 3389.47 | J44: 0.00013782625 | K44: =$I$1051 -> 0 | L44: =I44-(I44*K44) -> 3389.47
A45: 3.3.9 | B45: 102152 | C45: SINAPI | D45: INSTALAÇÃO DE VIDRO LISO, E = 4 MM, EM ESQUADRIA DE MADEIRA, FIXADO COM BAGUETE. AF_01/2021 | E45: m² | F45: 6.16 | G45: 202.75 | H45: 254.43 | I45: 1567.28 | J45: 6.3730415e-05 | K45: =$I$1051 -> 0 | L45: =I45-(I45*K45) -> 1567.28
A46: 3.3.10 | B46: 103328 | C46: SINAPI | D46: ALVENARIA DE VEDAÇÃO DE BLOCOS CERÂMICOS FURADOS NA HORIZONTAL DE 9X19X19 CM (ESPESSURA 9 CM) E ARGAMASSA DE ASSENTAMENTO COM PREPARO EM BETONEIRA. AF_12/2021 | E46: m² | F46: 10 | G46: 113.21 | H46: 142.06 | I46: 1420.6 | J46: 5.7765956e-05 | K46: =$I$1051 -> 0 | L46: =I46-(I46*K46) -> 1420.6
...

Sheet Orçamento Analitico
C2: PLANILHA ORÇAMENTÁRIA ANALÍTICA
C3: UFF- INSTITUTO DE QUIMICA | H3: AUTOR: | K3: FUNÇÃO:
C4: LOCAL: CAMPUS PRAIA VERMELHA | H4: =RESUMO!E14 -> PROCESSO: 23069.180351/2025-62 | K4: ART/RRT:
C5: NOME/APELIDO DA OBRA: | H5: BDI | I5: BDI EQUIP. | J5: SIAPE | K5: DATA | L5: REVISÃO
C6: =RESUMO!A16 -> BASE DE DADOS: SINAPI - 07/2025 - Rio de Janeiro; SBC - 07/2025 - Rio de Janeiro; EMOP - 07/2025 - Rio de Janeiro; SCO - 07/2025 - Rio de Janeiro - DESONERADO | H6: =BDI!$D$66 -> 0.2549 | I6: =BDI_DIF.!D67 -> 0.1612 | K6: =RESUMO!H16 -> 45931 | L6: =RESUMO!I16 -> R21
C7: Composições Analíticas com Preço Unitário
C8: Composições Principais
B9: =C8 -> Composições Principais | C9: 1.1 | D9: Código | E9: Banco | F9: Descrição | G9: Tipo | I9: Und | J9: Quant. | K9: Porcent. | L9: Valor Unit | M9: Total | N9: 11.6 | O9: =IF(N9=M9,"OK","DIF") -> DIF
A10: =B10 -> Composições Principais | B10: =B9 -> Composições Principais | C10: Composição | D10: 01.050.0810-A | E10: EMOP | F10: PROJETO DE AS BUILT DE ARQUITETURA PARA PREDIOS ESCOLARES E/ OU ADMINISTRATIVOS ATE 500M2,APRESENTADO NOS PADROES DA CONT RATANTE,INCLUSIVE COORDENACAO E COMPATIBILIZACAO COM OS PROJ ETOS COMPLEMENTARES 9%-DESPESAS ADMINISTRATIVAS E DE MATERIAIS | G10: 1 | I10: m² | J10: 1 | L10: 12.95 | M10: 12.95 | N10: 11.6 | O10: =IF(N10=M10,"OK","DIF") -> DIF
C11: Insumo | D11: 20017 | E11: EMOP | F11: MAO-DE-OBRA DE ARQUITETO OU ENGENHEIRO J UNIOR-PROJETO E CONSULTORIA, INCLUSIVE E NCARGOS SOCIAIS DESONERADOS | G11: Mão de Obra | I11: H | J11: 0.0912 | K11: 9 | L11: 130.31 | M11: 12.95
H12: MO sem LS => | I12: 12.95 | J12: LS => | K12: 0 | L12: MO com LS => | M12: 12.95
B13: =C12 -> 0 | H13: Valor do BDI => | I13: 3.3 | K13: Valor com BDI => | M13: 16.25 | N13: 8.42 | O13: =IF(N13=M13,"OK","DIF") -> DIF
A14: =B14 -> 0 | B14: =B13 -> 0 | N14: 8.42 | O14: =IF(N14=M14,"OK","DIF") -> DIF
C15: 1.2 | D15: Código | E15: Banco | F15: Descrição | G15: Tipo | I15: Und | J15: Quant. | K15: Porcent. | L15: Valor Unit | M15: Total
C16: Composição | D16: 01.050.0811-A | E16: EMOP | F16: PROJETO DE AS BUILT DE ARQUITETURA PARA PREDIOS ESCOLARES E/ OU ADMINISTRATIVOS DE 501 ATE 3000M2,APRESENTADO NOS PADROES DA CONTRATANTE,INCLUSIVE COORDENACAO E COMPATIBILIZACAO COM OS PROJETOS COMPLEMENTARES 9%-DESPESAS ADMINISTRATIVAS E DE MATERIAIS | G16: 1 | I16: m² | J16: 1 | L16: 9.4 | M16: 9.4
B17: =C16 -> Composição | C17: Insumo | D17: 20017 | E17: EMOP | F17: MAO-DE-OBRA DE ARQUITETO OU ENGENHEIRO J UNIOR-PROJETO E CONSULTORIA, INCLUSIVE E NCARGOS SOCIAIS DESONERADOS | G17: Mão de Obra | I17: H | J17: 0.0662 | K17: 9 | L17: 130.31 | M17: 9.4 | N17: 6.76 | O17: =IF(N17=M17,"OK","DIF") -> DIF
A18: =B18 -> Composição | B18: =B17 -> Composição | H18: MO sem LS => | I18: 9.4 | J18: LS => | K18: 0 | L18: MO com LS => | M18: 9.4 | N18: 6.76 | O18: =IF(N18=M18,"OK","DIF") -> DIF
H19: Valor do BDI => | I19: 2.39 | K19: Valor com BDI => | M19: 11.79
B21: =C20 -> 0 | C21: 1.3 | D21: Código | E21: Banco | F21: Descrição | G21: Tipo | I21: Und | J21: Quant. | K21: Porcent. | L21: Valor Unit | M21: Total | N21: 1.69 | O21: =IF(N21=M21,"OK","DIF") -> DIF
A22: =B22 -> 0 | B22: =B21 -> 0 | C22: Composição | D22: 01.050.0812-A | E22: EMOP | F22: PROJETO DE AS BUILT DE ARQUITETURA PARA PREDIOS ESCOLARES E/ OU ADMINISTRATIVOS ACIMA DE 3000M2,APRESENTADO NOS PADROES D A CONTRATANTE,INCLUSIVE COORDENACAO E COMPATIBILIZACAO COM O S PROJETOS COMPLEMENTARES 9%-DESPESAS ADMINISTRATIVAS E DE MATERIAIS | G22: 1 | I22: m² | J22: 1 | L22: 7.55 | M22: 7.55 | N22: 1.69 | O22: =IF(N22=M22,"OK","DIF") -> DIF
C23: Insumo | D23: 20017 | E23: EMOP | F23: MAO-DE-OBRA DE ARQUITETO OU ENGENHEIRO J UNIOR-PROJETO E CONSULTORIA, INCLUSIVE E NCARGOS SOCIAIS DESONERADOS | G23: Mão de Obra | I23: H | J23: 0.0532 | K23: 9 | L23: 130.31 | M23: 7.55
H24: MO sem LS => | I24: 7.55 | J24: LS => | K24: 0 | L24: MO com LS => | M24: 7.55
B25: =C24 -> 0 | H25: Valor do BDI => | I25: 1.92 | K25: Valor com BDI => | M25: 9.47 | N25: 1.41 | O25: =IF(N25=M25,"OK","DIF") -> DIF
A26: =B26 -> 0 | B26: =B25 -> 0 | N26: 1.41 | O26: =IF(N26=M26,"OK","DIF") -> DIF
C27: 1.4 | D27: Código | E27: Banco | F27: Descrição | G27: Tipo | I27: Und | J27: Quant. | K27: Porcent. | L27: Valor Unit | M27: Total
C28: Composição | D28: 01.050.0955-A | E28: EMOP | F28: PROJETO DE AS BUILT DE INSTALACAO ELETRICA PARA PREDIOS ESCO LARES E/OU ADMINISTRATIVOS ATE 500M2,APRESENTADO NOS PADROES DA CONTRATANTE 9%-DESPESAS ADMINISTRATIVAS E DE MATERIAIS | G28: 1 | I28: m² | J28: 1 | L28: 1.88 | M28: 1.88
B29: =C28 -> Composição | C29: Insumo | D29: 20017 | E29: EMOP | F29: MAO-DE-OBRA DE ARQUITETO OU ENGENHEIRO J UNIOR-PROJETO E CONSULTORIA, INCLUSIVE E NCARGOS SOCIAIS DESONERADOS | G29: Mão de Obra | I29: H | J29: 0.0133 | K29: 9 | L29: 130.31 | M29: 1.88 | N29: 0.83 | O29: =IF(N29=M29,"OK","DIF") -> DIF
A30: =B30 -> Composição | B30: =B29 -> Composição | H30: MO sem LS => | I30: 1.88 | J30: LS => | K30: 0 | L30: MO com LS => | M30: 1.88 | N30: 0.83 | O30: =IF(N30=M30,"OK","DIF") -> DIF
H31: Valor do BDI => | I31: 0.47 | K31: Valor com BDI => | M31: 2.35
B33: =C32 -> 0 | C33: 1.5 | D33: Código | E33: Banco | F33: Descrição | G33: Tipo | I33: Und | J33: Quant. | K33: Porcent. | L33: Valor Unit | M33: Total | N33: 0.55 | O33: =IF(N33=M33,"OK","DIF") -> DIF
A34: =B34 -> 0 | B34: =B33 -> 0 | C34: Composição | D34: 01.050.0956-A | E34: EMOP | F34: PROJETO DE AS BUILT DE INSTALACAO ELETRICA PARA PREDIOS ESCO LARES E/OU ADMINISTRATIVOS DE 501 ATE 3000M2,APRESENTADO NOS PADROES DA CONTRATANTE 9%-DESPESAS ADMINISTRATIVAS E DE MATERIAIS | G34: 1 | I34: m² | J34: 1 | L34: 1.57 | M34: 1.57 | N34: 0.55 | O34: =IF(N34=M34,"OK","DIF") -> DIF
C35: Insumo | D35: 20017 | E35: EMOP | F35: MAO-DE-OBRA DE ARQUITETO OU ENGENHEIRO J UNIOR-PROJETO E CONSULTORIA, INCLUSIVE E NCARGOS SOCIAIS DESONERADOS | G35: Mão de Obra | I35: H | J35: 0.0111 | K35: 9 | L35: 130.31 | M35: 1.57
H36: MO sem LS => | I36: 1.57 | J36: LS => | K36: 0 | L36: MO com LS => | M36: 1.57
B37: =C36 -> 0 | H37: Valor do BDI => | I37: 0.4 | K37: Valor com BDI => | M37: 1.97 | N37: 0.39 | O37: =IF(N37=M37,"OK","DIF") -> DIF
A38: =B38 -> 0 | B38: =B37 -> 0 | N38: 0.39 | O38: =IF(N38=M38,"OK","DIF") -> DIF
C39: 1.6 | D39: Código | E39: Banco | F39: Descrição | G39: Tipo | I39: Und | J39: Quant. | K39: Porcent. | L39: Valor Unit | M39: Total
C40: Composição | D40: 01.050.0957-A | E40: EMOP | F40: PROJETO DE AS BUILT DE INSTALACAO ELETRICA PARA PREDIOS ESCO LARES E/OU ADMINISTRATIVOS ACIMA DE 3000M2,APRESENTADO NOS PADROES DA CONTRATANTE 9%-DESPESAS ADMINISTRATIVAS E DE MATERIAIS | G40: 1 | I40: m² | J40: 1 | L40: 0.93 | M40: 0.93
B41: =C40 -> Composição | C41: Insumo | D41: 20017 | E41: EMOP | F41: MAO-DE-OBRA DE ARQUITETO OU ENGENHEIRO J UNIOR-PROJETO E CONSULTORIA, INCLUSIVE E NCARGOS SOCIAIS DESONERADOS | G41: Mão de Obra | I41: H | J41: 0.0066 | K41: 9 | L41: 130.31 | M41: 0.93 | N41: 0.22 | O41: =IF(N41=M41,"OK","DIF") -> DIF
A42: =B42 -> Composição | B42: =B41 -> Composição | H42: MO sem LS => | I42: 0.93 | J42: LS => | K42: 0 | L42: MO com LS => | M42: 0.93 | N42: 0.22 | O42: =IF(N42=M42,"OK","DIF") -> DIF
H43: Valor do BDI => | I43: 0.23 | K43: Valor com BDI => | M43: 1.16
...

Sheet Memória de Cálculo
C2: PLANILHA DE ORÇAMENTOS DE PROJETOS E OBRAS - MEMÓRIA DE CÁLCULO
C3: UFF- INSTITUTO DE QUIMICA | G3: AUTOR: | J3: FUNÇÃO:
C4: LOCAL: CAMPUS PRAIA VERMELHA | G4: =RESUMO!E14 -> PROCESSO: 23069.180351/2025-62 | J4: ART/RRT:
C5: NOME/APELIDO DA OBRA: | G5: BDI | H5: BDI EQUIP. | I5: SIAPE | J5: DATA | L5: REVISÃO
C6: =RESUMO!A16 -> BASE DE DADOS: SINAPI - 07/2025 - Rio de Janeiro; SBC - 07/2025 - Rio de Janeiro; EMOP - 07/2025 - Rio de Janeiro; SCO - 07/2025 - Rio de Janeiro - DESONERADO | G6: =BDI!$D$66 -> 0.2549 | H6: =BDI_DIF.!D67 -> 0.1612 | I6: 0000000 | J6: 45689 | L6: =RESUMO!I16 -> R21 | N6: MEMÓRIA DE CÁLCULO
C7: Item | D7: Código | E7: Banco | F7: Descrição | G7: Und | H7: Quant. | I7: Valor Unit | J7: Valor Unit com BDI | K7: Total sem BDI | L7: Total | M7: Peso (%)
B8: =C8 -> 1 | C8: 1 | F8: PROJETOS | K8: =SUM(K9:K26) -> 102935.99 | L8: =SUM(L9:L26) -> 128905.04 | M8: =K8/$L$1062 -> #N/A | N8: Térreo | O8: 2º Pav. | P8: 3º Pav. | Q8: 4º Pav. | R8: 5º Pav. | S8: Pav. Téc.
A9: =B9 -> 1 | B9: =B8 -> 1 | C9: 1.1 | D9: 01.050.0810-A | E9: EMOP | F9: PROJETO DE AS BUILT DE ARQUITETURA PARA PREDIOS ESCOLARES E/ OU ADMINISTRATIVOS ATE 500M2,APRESENTADO NOS PADROES DA CONT RATANTE,INCLUSIVE COORDENACAO E COMPATIBILIZACAO COM OS PROJ ETOS COMPLEMENTARES | G9: m² | H9: 500 | I9: =VLOOKUP(D9,'Orçamento Analitico'!D:L,9,FALSE()) -> 12.95 | J9: =ROUNDDOWN(I9*(1+$G$6),2) -> 16.25 | K9: =ROUNDDOWN(H9*I9,2) -> 6475 | L9: =ROUNDDOWN(H9*J9,2) -> 8125 | M9: =K9/$L$1062 -> #N/A
A10: =B10 -> 1 | B10: =B9 -> 1 | C10: 1.2 | D10: 01.050.0811-A | E10: EMOP | F10: PROJETO DE AS BUILT DE ARQUITETURA PARA PREDIOS ESCOLARES E/ OU ADMINISTRATIVOS DE 501 ATE 3000M2,APRESENTADO NOS PADROES DA CONTRATANTE,INCLUSIVE COORDENACAO E COMPATIBILIZACAO COM OS PROJETOS COMPLEMENTARES | G10: m² | H10: 2500 | I10: =VLOOKUP(D10,'Orçamento Analitico'!D:L,9,FALSE()) -> 9.4 | J10: =ROUNDDOWN(I10*(1+$G$6),2) -> 11.79 | K10: =ROUNDDOWN(H10*I10,2) -> 23500 | L10: =ROUNDDOWN(H10*J10,2) -> 29475 | M10: =K10/$L$1062 -> #N/A
A11: =B11 -> 1 | B11: =B10 -> 1 | C11: 1.3 | D11: 01.050.0812-A | E11: EMOP | F11: PROJETO DE AS BUILT DE ARQUITETURA PARA PREDIOS ESCOLARES E/ OU ADMINISTRATIVOS ACIMA DE 3000M2,APRESENTADO NOS PADROES D A CONTRATANTE,INCLUSIVE COORDENACAO E COMPATIBILIZACAO COM O S PROJETOS COMPLEMENTARES | G11: m² | H11: =SUM(N11:S11)-SUM(H9:H10) -> 5503.41 | I11: =VLOOKUP(D11,'Orçamento Analitico'!D:L,9,FALSE()) -> 7.55 | J11: =ROUNDDOWN(I11*(1+$G$6),2) -> 9.47 | K11: =ROUNDDOWN(H11*I11,2) -> 41550.74 | L11: =ROUNDDOWN(H11*J11,2) -> 52117.29 | M11: =K11/$L$1062 -> #N/A | N11: 1612.63 | O11: 679.12 | P11: 237.1 | Q11: 3052.77 | R11: 2164.21 | S11: 757.58
A12: =B12 -> 1 | B12: =B11 -> 1 | C12: 1.4 | D12: 01.050.0955-A | E12: EMOP | F12: PROJETO DE AS BUILT DE INSTALACAO ELETRICA PARA PREDIOS ESCO LARES E/OU ADMINISTRATIVOS ATE 500M2,APRESENTADO NOS PADROES DA CONTRATANTE | G12: m² | H12: 500 | I12: =VLOOKUP(D12,'Orçamento Analitico'!D:L,9,FALSE()) -> 1.88 | J12: =ROUNDDOWN(I12*(1+$G$6),2) -> 2.35 | K12: =ROUNDDOWN(H12*I12,2) -> 940 | L12: =ROUNDDOWN(H12*J12,2) -> 1175 | M12: =K12/$L$1062 -> #N/A
A13: =B13 -> 1 | B13: =B12 -> 1 | C13: 1.5 | D13: 01.050.0956-A | E13: EMOP | F13: PROJETO DE AS BUILT DE INSTALACAO ELETRICA PARA PREDIOS ESCO LARES E/OU ADMINISTRATIVOS DE 501 ATE 3000M2,APRESENTADO NOS PADROES DA CONTRATANTE | G13: m² | H13: 2500 | I13: =VLOOKUP(D13,'Orçamento Analitico'!D:L,9,FALSE()) -> 1.57 | J13: =ROUNDDOWN(I13*(1+$G$6),2) -> 1.97 | K13: =ROUNDDOWN(H13*I13,2) -> 3925 | L13: =ROUNDDOWN(H13*J13,2) -> 4925 | M13: =K13/$L$1062 -> #N/A
A14: =B14 -> 1 | B14: =B13 -> 1 | C14: 1.6 | D14: 01.050.0957-A | E14: EMOP | F14: PROJETO DE AS BUILT DE INSTALACAO ELETRICA PARA PREDIOS ESCO LARES E/OU ADMINISTRATIVOS ACIMA DE 3000M2,APRESENTADO NOS PADROES DA CONTRATANTE | G14: m² | H14: =SUM(N14:S14)-SUM(H12:H13) -> 5503.41 | I14: =VLOOKUP(D14,'Orçamento Analitico'!D:L,9,FALSE()) -> 0.93 | J14: =ROUNDDOWN(I14*(1+$G$6),2) -> 1.16 | K14: =ROUNDDOWN(H14*I14,2) -> 5118.17 | L14: =ROUNDDOWN(H14*J14,2) -> 6383.95 | M14: =K14/$L$1062 -> #N/A | N14: =N11 -> 1612.63 | O14: =O11 -> 679.12 | P14: =P11 -> 237.1 | Q14: 3052.77 | R14: 2164.21 | S14: 757.58
A15: =B15 -> 1 | B15: =B14 -> 1 | C15: 1.7 | D15: 01.050.0980-A | E15: EMOP | F15: PROJETO DE AS BUILT DE INSTALACAO DE SEGURANCA (CFTV E SONOR IZACAO) ATE 500M2,APRESENTADO NOS PADROES DA CONTRATANTE | G15: m² | H15: 500 | I15: =VLOOKUP(D15,'Orçamento Analitico'!D:L,9,FALSE()) -> 0.62 | J15: =ROUNDDOWN(I15*(1+$G$6),2) -> 0.77 | K15: =ROUNDDOWN(H15*I15,2) -> 310 | L15: =ROUNDDOWN(H15*J15,2) -> 385 | M15: =K15/$L$1062 -> #N/A
A16: =B16 -> 1 | B16: =B15 -> 1 | C16: 1.8 | D16: 01.050.0981-A | E16: EMOP | F16: PROJETO DE AS BUILT DE INSTALACAO DE SEGURANCA (CFTV E SONOR IZACAO) DE 501 ATE 3000M2,APRESENTADO NOS PADROES DA CONTRAT ANTE | G16: m² | H16: 2500 | I16: =VLOOKUP(D16,'Orçamento Analitico'!D:L,9,FALSE()) -> 0.44 | J16: =ROUNDDOWN(I16*(1+$G$6),2) -> 0.55 | K16: =ROUNDDOWN(H16*I16,2) -> 1100 | L16: =ROUNDDOWN(H16*J16,2) -> 1375 | M16: =K16/$L$1062 -> #N/A
A17: =B17 -> 1 | B17: =B16 -> 1 | C17: 1.9 | D17: 01.050.0982-A | E17: EMOP | F17: PROJETO DE AS BUILT DE INSTALACAO DE SEGURANCA (CFTV E SONOR IZACAO) ACIMA DE 3000M2,APRESENTADO NOS PADROES DA CONTRATAN TE | G17: m² | H17: =SUM(N17:S17)-SUM(H15:H16) -> 5503.41 | I17: =VLOOKUP(D17,'Orçamento Analitico'!D:L,9,FALSE()) -> 0.25 | J17: =ROUNDDOWN(I17*(1+$G$6),2) -> 0.31 | K17: =ROUNDDOWN(H17*I17,2) -> 1375.85 | L17: =ROUNDDOWN(H17*J17,2) -> 1706.05 | M17: =K17/$L$1062 -> #N/A | N17: =N14 -> 1612.63 | O17: =O14 -> 679.12 | P17: =P14 -> 237.1 | Q17: 3052.77 | R17: 2164.21 | S17: 757.58
A18: =B18 -> 1 | B18: =B17 -> 1 | C18: 1.10 | D18: 01.050.0840-A | E18: EMOP | F18: PROJETO DE AS BUILT DE INSTALACAO DE INCENDIO E SPDA PARA PR EDIOS ESCOLARES E/OU ADMINISTRATIVOS ATE 500M2,APRESENTADO NOS PADROES DA CONTRATANTE | G18: m² | H18: 500 | I18: =VLOOKUP(D18,'Orçamento Analitico'!D:L,9,FALSE()) -> 0.93 | J18: =ROUNDDOWN(I18*(1+$G$6),2) -> 1.16 | K18: =ROUNDDOWN(H18*I18,2) -> 465 | L18: =ROUNDDOWN(H18*J18,2) -> 580 | M18: =K18/$L$1062 -> #N/A
A19: =B19 -> 1 | B19: =B18 -> 1 | C19: 1.11 | D19: 01.050.0841-A | E19: EMOP | F19: PROJETO DE AS BUILT DE INSTALACAO DE INCENDIO E SPDA PARA PR EDIOS ESCOLARES E/OU ADMINISTRATIVOS DE 501 ATE 3000M2,APRES ENTADO NOS PADROES DA CONTRATANTE | G19: m² | H19: 2500 | I19: =VLOOKUP(D19,'Orçamento Analitico'!D:L,9,FALSE()) -> 0.51 | J19: =ROUNDDOWN(I19*(1+$G$6),2) -> 0.63 | K19: =ROUNDDOWN(H19*I19,2) -> 1275 | L19: =ROUNDDOWN(H19*J19,2) -> 1575 | M19: =K19/$L$1062 -> #N/A
A20: =B20 -> 1 | B20: =B19 -> 1 | C20: 1.12 | D20: 01.050.0842-A | E20: EMOP | F20: PROJETO DE AS BUILT DE INSTALACAO DE INCENDIO E SPDA PARA PR EDIOS ESCOLARES E/OU ADMINISTRATIVOS ACIMA DE 3000M2,APRESEN TADO NOS PADROES DA CONTRATANTE | G20: m² | H20: =SUM(N20:S20)-SUM(H18:H19) -> 5503.41 | I20: =VLOOKUP(D20,'Orçamento Analitico'!D:L,9,FALSE()) -> 0.25 | J20: =ROUNDDOWN(I20*(1+$G$6),2) -> 0.31 | K20: =ROUNDDOWN(H20*I20,2) -> 1375.85 | L20: =ROUNDDOWN(H20*J20,2) -> 1706.05 | M20: =K20/$L$1062 -> #N/A | N20: =N17 -> 1612.63 | O20: =O17 -> 679.12 | P20: =P17 -> 237.1 | Q20: 3052.77 | R20: 2164.21 | S20: 757.58
A21: =B21 -> 1 | B21: =B20 -> 1 | C21: 1.13 | D21: 01.050.0930-A | E21: EMOP | F21: PROJETO DE AS BUILT DE INSTALACAO HIDRAULICA PARA PREDIOS ES COLARES E/OU ADMINISTRATIVOS ATE 500M2,APRESENTADO NOS PADRO ES DA CONTRATANTE | G21: m² | H21: 500 | I21: =VLOOKUP(D21,'Orçamento Analitico'!D:L,9,FALSE()) -> 1.57 | J21: =ROUNDDOWN(I21*(1+$G$6),2) -> 1.97 | K21: =ROUNDDOWN(H21*I21,2) -> 785 | L21: =ROUNDDOWN(H21*J21,2) -> 985 | M21: =K21/$L$1062 -> #N/A
A22: =B22 -> 1 | B22: =B21 -> 1 | C22: 1.14 | D22: 01.050.0931-A | E22: EMOP | F22: PROJETO DE AS BUILT DE INSTALACAO HIDRAULICA PARA PREDIOS ES COLARES E/OU ADMINISTRATIVOS DE 501 A 3000M2,APRESENTADO NOS PADROES DA CONTRATANTE | G22: m² | H22: 2500 | I22: =VLOOKUP(D22,'Orçamento Analitico'!D:L,9,FALSE()) -> 0.93 | J22: =ROUNDDOWN(I22*(1+$G$6),2) -> 1.16 | K22: =ROUNDDOWN(H22*I22,2) -> 2325 | L22: =ROUNDDOWN(H22*J22,2) -> 2900 | M22: =K22/$L$1062 -> #N/A
A23: =B23 -> 1 | B23: =B22 -> 1 | C23: 1.15 | D23: 01.050.0932-A | E23: EMOP | F23: PROJETO DE AS BUILT DE INSTALACAO HIDRAULICA PARA PREDIOS ES COLARES E/OU ADMINISTRATIVOS ACIMA DE 3000M2,APRESENTADO NOS PADROES DA CONTRATANTE | G23: m² | H23: =SUM(N23:S23)-SUM(H21:H22) -> 5503.41 | I23: =VLOOKUP(D23,'Orçamento Analitico'!D:L,9,FALSE()) -> 0.86 | J23: =ROUNDDOWN(I23*(1+$G$6),2) -> 1.07 | K23: =ROUNDDOWN(H23*I23,2) -> 4732.93 | L23: =ROUNDDOWN(H23*J23,2) -> 5888.64 | M23: =K23/$L$1062 -> #N/A | N23: =N20 -> 1612.63 | O23: =O20 -> 679.12 | P23: =P20 -> 237.1 | Q23: 3052.77 | R23: 2164.21 | S23: 757.58
A24: =B24 -> 1 | B24: =B23 -> 1 | C24: 1.16 | D24: 01.050.0975-A | E24: EMOP | F24: PROJETO DE AS BUILT DE SISTEMA DE AR CONDICIONADO,EM PREDIOS COM AREA ATE 500M2,APRESENTADO NOS PADROES DA CONTRATANTE | G24: m² | H24: 500 | I24: =VLOOKUP(D24,'Orçamento Analitico'!D:L,9,FALSE()) -> 1.44 | J24: =ROUNDDOWN(I24*(1+$G$6),2) -> 1.8 | K24: =ROUNDDOWN(H24*I24,2) -> 720 | L24: =ROUNDDOWN(H24*J24,2) -> 900 | M24: =K24/$L$1062 -> #N/A
A25: =B25 -> 1 | B25: =B24 -> 1 | C25: 1.17 | D25: 01.050.0976-A | E25: EMOP | F25: PROJETO DE AS BUILT DE SISTEMA DE AR CONDICIONADO,EM PREDIOS COM AREA DE 501 ATE 3000M2,APRESENTADO NOS PADROES DA CONTR ATANTE | G25: m² | H25: 2500 | I25: =VLOOKUP(D25,'Orçamento Analitico'!D:L,9,FALSE()) -> 1.2 | J25: =ROUNDDOWN(I25*(1+$G$6),2) -> 1.5 | K25: =ROUNDDOWN(H25*I25,2) -> 3000 | L25: =ROUNDDOWN(H25*J25,2) -> 3750 | M25: =K25/$L$1062 -> #N/A
A26: =B26 -> 1 | B26: =B25 -> 1 | C26: 1.18 | D26: 01.050.0977-A | E26: EMOP | F26: PROJETO DE AS BUILT DE SISTEMA DE AR CONDICIONADO,EM PREDIOS ACIMA DE 3000M2,APRESENTADO NOS PADROES DA CONTRATANTE | G26: m² | H26: =SUM(N26:S26)-SUM(H24:H25) -> 5503.41 | I26: =VLOOKUP(D26,'Orçamento Analitico'!D:L,9,FALSE()) -> 0.72 | J26: =ROUNDDOWN(I26*(1+$G$6),2) -> 0.9 | K26: =ROUNDDOWN(H26*I26,2) -> 3962.45 | L26: =ROUNDDOWN(H26*J26,2) -> 4953.06 | M26: =K26/$L$1062 -> #N/A | N26: =N23 -> 1612.63 | O26: =O23 -> 679.12 | P26: =P23 -> 237.1 | Q26: 3052.77 | R26: 2164.21 | S26: 757.58
B27: =C27 -> 2 | C27: 2 | F27: GERENCIAMENTO DE OBRAS / FISCALIZAÇÃO | K27: =SUM(K28) -> 1439486.9 | L27: =SUM(L28) -> 1806412.1 | M27: =K27/$L$1062 -> #N/A
A28: =B28 -> 2 | B28: =B27 -> 2 | C28: 2.1 | D28: UFF00066 | E28: Próprio | F28: ADMINISTRAÇÃO LOCAL | G28: UN | H28: =SUM(N28:S28) -> 1 | I28: =VLOOKUP(D28,'Orçamento Analitico'!D:L,9,FALSE()) -> 1439486.9 | J28: =ROUNDDOWN(I28*(1+$G$6),2) -> 1806412.1 | K28: =ROUNDDOWN(H28*I28,2) -> 1439486.9 | L28: =ROUNDDOWN(H28*J28,2) -> 1806412.1 | M28: =K28/$L$1062 -> #N/A | N28: 1
C29: 3 | F29: SERVIÇOS PRELIMINARES | K29: =SUM(K30,K32,K35,K73,K99,K106,K108) -> 317513.28 | L29: =SUM(L30,L32,L35,L73,L99,L106,L108) -> 398355.06 | M29: =K29/$L$1062 -> #N/A
B30: =C30 -> 3.1 | C30: 3.1 | F30: LICENÇAS / TAXAS | K30: =SUMIF(A:A,B30,K:K) -> 1500.28 | L30: =SUMIF(A:A,C30,L:L) -> 1882.69 | M30: =K30/$L$1062 -> #N/A
A31: =B31 -> 3.1 | B31: =B30 -> 3.1 | C31: 3.1.1 | D31: 103689 | E31: SINAPI | F31: FORNECIMENTO E INSTALAÇÃO DE PLACA DE OBRA COM CHAPA GALVANIZADA E ESTRUTURA DE MADEIRA. AF_03/2022_PS | G31: m² | H31: =SUM(N31:S31) -> 3.15 | I31: =VLOOKUP(D31,'Orçamento Analitico'!D:L,9,FALSE()) -> 476.28 | J31: =ROUNDDOWN(I31*(1+$G$6),2) -> 597.68 | K31: =ROUNDDOWN(H31*I31,2) -> 1500.28 | L31: =ROUNDDOWN(H31*J31,2) -> 1882.69 | M31: =K31/$L$1062 -> #N/A | N31: 3.15
B32: =C32 -> 3.2 | C32: 3.2 | F32: MOBILIZAÇÃO E DESMOBILIZAÇÃO | K32: =SUMIF(A:A,B32,K:K) -> 23554.66 | L32: =SUMIF(A:A,C32,L:L) -> 29557.93 | M32: =K32/$L$1062 -> #N/A
A33: =B33 -> 3.2 | B33: =B32 -> 3.2 | C33: 3.2.1 | D33: 012689 | E33: SBC | F33: MOBILIZACAO E DESMOBILIZACAO DE CANTEIRO | G33: UN | H33: 1 | I33: =VLOOKUP(D33,'Orçamento Analitico'!D:L,9,FALSE()) -> 6216.46 | J33: =ROUNDDOWN(I33*(1+$G$6),2) -> 7801.03 | K33: =ROUNDDOWN(H33*I33,2) -> 6216.46 | L33: =ROUNDDOWN(H33*J33,2) -> 7801.03 | M33: =K33/$L$1062 -> #N/A
A34: =B34 -> 3.2 | B34: =B33 -> 3.2 | C34: 3.2.2 | D34: 98459 | E34: SINAPI | F34: TAPUME COM TELHA METÁLICA. AF_03/2024 | G34: m² | H34: =R34 -> 165 | I34: =VLOOKUP(D34,'Orçamento Analitico'!D:L,9,FALSE()) -> 105.08 | J34: =ROUNDDOWN(I34*(1+$G$6),2) -> 131.86 | K34: =ROUNDDOWN(H34*I34,2) -> 17338.2 | L34: =ROUNDDOWN(H34*J34,2) -> 21756.9 | M34: =K34/$L$1062 -> #N/A | N34: =250*0.3 -> 75 | O34: X | P34: 2.2 | Q34: = | R34: =ROUND(N34*P34,2) -> 165 | S34: <== CERCAMENTO EXISTENTE
B35: =C35 -> 3.3 | C35: 3.3 | F35: CANTEIRO DE OBRAS (REFORMA DO EXISTENTE) | K35: =SUMIF(A:A,B35,K:K) -> 89745.72 | L35: =SUMIF(A:A,C35,L:L) -> 112611.56 | M35: =K35/$L$1062 -> #N/A | N35: Reforma Canteiro existente
A36: =B36 -> 3.3 | B36: =B35 -> 3.3 | C36: 3.3.1 | D36: 98679 | E36: SINAPI | F36: PISO CIMENTADO, TRAÇO 1:3 (CIMENTO E AREIA), ACABAMENTO LISO, ESPESSURA 2,0 CM, PREPARO MECÂNICO DA ARGAMASSA. AF_09/2020 | G36: m² | H36: =R36 -> 24 | I36: =VLOOKUP(D36,'Orçamento Analitico'!D:L,9,FALSE()) -> 40.28 | J36: =ROUNDDOWN(I36*(1+$G$6),2) -> 50.54 | K36: =ROUNDDOWN(H36*I36,2) -> 966.72 | L36: =ROUNDDOWN(H36*J36,2) -> 1212.96 | M36: =K36/$L$1062 -> #N/A | N36: 20 | O36: X | P36: 1.2 | Q36: = | R36: =ROUNDDOWN(N36*P36,2) -> 24 | T36: <== ÁREA EXTERNA
A37: =B37 -> 3.3 | B37: =B36 -> 3.3 | C37: 3.3.2 | D37: 98445 | E37: SINAPI | F37: PAREDE DE MADEIRA COMPENSADA PARA CONSTRUÇÃO TEMPORÁRIA EM CHAPA SIMPLES, EXTERNA, COM ÁREA LÍQUIDA MAIOR OU IGUAL A 6 M², COM VÃO. AF_03/2024 | G37: m² | H37: =R37 -> 90 | I37: =VLOOKUP(D37,'Orçamento Analitico'!D:L,9,FALSE()) -> 124.74 | J37: =ROUNDDOWN(I37*(1+$G$6),2) -> 156.53 | K37: =ROUNDDOWN(H37*I37,2) -> 11226.6 | L37: =ROUNDDOWN(H37*J37,2) -> 14087.7 | M37: =K37/$L$1062 -> #N/A | N37: 30 | O37: X | P37: 3 | Q37: = | R37: =ROUNDDOWN(N37*P37,2) -> 90
A38: =B38 -> 3.3 | B38: =B37 -> 3.3 | C38: 3.3.3 | D38: 90820 | E38: SINAPI | F38: PORTA DE MADEIRA PARA PINTURA, SEMI-OCA (LEVE OU MÉDIA), 60X210CM, ESPESSURA DE 3,5CM, INCLUSO DOBRADIÇAS - FORNECIMENTO E INSTALAÇÃO. AF_12/2019 | G38: UN | H38: =SUM(N38:U38) -> 4 | I38: =VLOOKUP(D38,'Orçamento Analitico'!D:L,9,FALSE()) -> 420.39 | J38: =ROUNDDOWN(I38*(1+$G$6),2) -> 527.54 | K38: =ROUNDDOWN(H38*I38,2) -> 1681.56 | L38: =ROUNDDOWN(H38*J38,2) -> 2110.16 | M38: =K38/$L$1062 -> #N/A | N38: 4 | V38: =0.6*2.1 -> 1.26
A39: =B39 -> 3.3 | B39: =B38 -> 3.3 | C39: 3.3.4 | D39: 90822 | E39: SINAPI | F39: PORTA DE MADEIRA PARA PINTURA, SEMI-OCA (LEVE OU MÉDIA), 80X210CM, ESPESSURA DE 3,5CM, INCLUSO DOBRADIÇAS - FORNECIMENTO E INSTALAÇÃO. AF_12/2019 | G39: UN | H39: =SUM(N39:U39) -> 6 | I39: =VLOOKUP(D39,'Orçamento Analitico'!D:L,9,FALSE()) -> 460.96 | J39: =ROUNDDOWN(I39*(1+$G$6),2) -> 578.45 | K39: =ROUNDDOWN(H39*I39,2) -> 2765.76 | L39: =ROUNDDOWN(H39*J39,2) -> 3470.7 | M39: =K39/$L$1062 -> #N/A | N39: 6 | V39: =0.8*2.1 -> 1.68
A40: =B40 -> 3.3 | B40: =B39 -> 3.3 | C40: 3.3.5 | D40: 91304 | E40: SINAPI | F40: FECHADURA DE EMBUTIR COM CILINDRO, EXTERNA, COMPLETA, ACABAMENTO PADRÃO POPULAR, INCLUSO EXECUÇÃO DE FURO - FORNECIMENTO E INSTALAÇÃO. AF_12/2019 | G40: UN | H40: =SUM(N40:U40) -> 6 | I40: =VLOOKUP(D40,'Orçamento Analitico'!D:L,9,FALSE()) -> 139.33 | J40: =ROUNDDOWN(I40*(1+$G$6),2) -> 174.84 | K40: =ROUNDDOWN(H40*I40,2) -> 835.98 | L40: =ROUNDDOWN(H40*J40,2) -> 1049.04 | M40: =K40/$L$1062 -> #N/A | N40: =N39 -> 6
A41: =B41 -> 3.3 | B41: =B40 -> 3.3 | C41: 3.3.6 | D41: 91305 | E41: SINAPI | F41: FECHADURA DE EMBUTIR PARA PORTA DE BANHEIRO, COMPLETA, ACABAMENTO PADRÃO POPULAR, INCLUSO EXECUÇÃO DE FURO - FORNECIMENTO E INSTALAÇÃO. AF_12/2019 | G41: UN | H41: =SUM(N41:U41) -> 4 | I41: =VLOOKUP(D41,'Orçamento Analitico'!D:L,9,FALSE()) -> 136.75 | J41: =ROUNDDOWN(I41*(1+$G$6),2) -> 171.6 | K41: =ROUNDDOWN(H41*I41,2) -> 547 | L41: =ROUNDDOWN(H41*J41,2) -> 686.4 | M41: =K41/$L$1062 -> #N/A | N41: =N38 -> 4
...

Sheet Mapa de Cotações
K1: 0.1256 | N1: EMPRESA IMECO - COT 54 A 70 E 165 A 171 - APLICAR 12,56%
B2: MAPA DE COTAÇÕES - JULHO DE 2025
B3: UFF- INSTITUTO DE QUIMICA | F3: AUTOR: | I3: FUNÇÃO:
B4: LOCAL: CAMPUS PRAIA VERMELHA | F4: PROCESSO: 23069.180351/2025-62 | I4: ART/RRT: | L4: INCC DEZ/24 ATÉ JUL/25 = | M4: 1.0439
B5: NOME/APELIDO DA OBRA: | F5: BDI | G5: BDI EQUIP. | H5: SIAPE | I5: DATA | J5: REVISÃO
B6: BASE DE DADOS: SINAPI - 07/2025 - Rio de Janeiro; SBC - 07/2025 - Rio de Janeiro; EMOP - 07/2025 - Rio de Janeiro; SCO - 07/2025 - Rio de Janeiro - DESONERADO | F6: ='Orçamento Analitico'!H6 -> 0.2549 | G6: ='Orçamento Analitico'!I6 -> 0.1612 | I6: ='Orçamento Analitico'!K6 -> 45931 | J6: ='Orçamento Analitico'!L6 -> R21 | O6: 35
A7: Categoria | B7: ITEM | C7: CÓDIGO | D7: DESCRIÇÃO | E7: EMPRESA 1 | F7: EMPRESA 2 | G7: EMPRESA 3 | H7: EMPRESA 4 | I7: EMPRESA 5 | J7: VALOR (Menor) | K7: PREÇO ATUALIZADO INCC | L7: PREÇO CPUs | M7: CONF. | N7: atualização ORÇAFASCIO | O7: 172
A8: =VLOOKUP(D8,'[2]2024 - Curva ABC de Insumos'!$E$6:$R$172,14,FALSE()) -> #N/A | B8: 10.1.19 | C8: UFF_COTAÇÃO 01 | D8: =VLOOKUP(C8,'[2]2024 - Curva ABC de Insumos'!B6:E172,4,FALSE()) -> #N/A | E8: MADEIRAMADEIRA | F8: TAQI | G8: WEB CONTINENTAL | J8: =SMALL(E9:I9,1) -> 609.83 | L8: =VLOOKUP(B8,[3]CPUs!D:L,9,FALSE()) -> #N/A | M8: =IF(J8=L8,"OK","DIF") -> #N/A | N8: Feito | O8: 224 a 274
D9: Cotação | E9: =ROUNDDOWN(3999.98/(2.2*2.4),2) -> 757.57 | F9: 609.83 | G9: 1268.17 | K9: =IF(A9="c",$M$4*J9,"")
D10: Link | E10: https://www.madeiramadeira.com.br/portao-de-aco-contrapeso-com-painel-em-chapa-frisada-220x240x8-7-868297.html | F10: https://www.taqi.com.br/portao-contrapeso-mecal-esquerdo-p402-1/185635 | G10: https://www.webcontinental.com.br/portao-de-aco-galvanizado-contrapeso-com-painel-chapa-frisada-220cmx240cmx8-7cm-cinza-000628298008/p | K10: =IF(A10="c",$M$4*J10,"")
K11: =IF(A11="c",$M$4*J11,"")
A12: =VLOOKUP(D12,'[2]2024 - Curva ABC de Insumos'!$E$6:$R$172,14,FALSE()) -> C | B12: 11.1.9 | C12: UFF_COTAÇÃO 02 | D12: CURVA 90 GRAUS EM ACO CARBONO, RAIO LONGO, SOLDAVEL, DN 4" | E12: IDEAL RV | F12: ACEPIL | G12: BRASIL VAPOR | J12: =SMALL(E13:I13,1) -> 63.87 | L12: =VLOOKUP(B12,[3]CPUs!D:L,9,FALSE()) -> #N/A | M12: =IF(J12=L12,"OK","DIF") -> #N/A | N12: ok
D13: Cotação | E13: 90.75 | F13: 63.87 | G13: 127.06 | K13: =IF(A13="c",$M$4*J13,"")
D14: Link | E14: https://lojaidealrv.com.br/curva-90o-rl-4-sch40-a-234-s-c | F14: https://loja.acepilinox.com.br/acc-90rl-curva-cotovelo-90-graus-aco-carbono-a234-wpb-asme-b16-9-sch-40/?sku=2329681.134092.0.242333 | G14: https://www.lojabrasilvapor.com.br/curva-aco-carbono-90-1-sch40-soldavel?utm_source=google&utm_medium=Shopping&utm_campaign=curva-aco-carbono-90-1-sch40-soldavel&inStock#derivacao=85/77 | K14: =IF(A14="c",$M$4*J14,"")
K15: =IF(A15="c",$M$4*J15,"")
A16: =VLOOKUP(D16,'[2]2024 - Curva ABC de Insumos'!$E$6:$R$172,14,FALSE()) -> A | B16: 11.1.21 | C16: UFF_COTAÇÃO 03 | D16: FILTRO DO TIPO VORTEX DA WISY WFF 300 OU SIMILAR, EM INOX E CARCAÇA DE POLIPROPILENO, DOTADOS DE PROLONGADORES E INSERÇÃO CEGA PARA INTERRUPÇÃO DE FILTRAGEM, COM CAPACIDADE DE FILTRAGEM DE 3.000 M² DE TELHADO | E16: ECOSOLI | F16: AQUASTOCK | J16: =SMALL(E17:I17,1) -> 46620 | L16: =VLOOKUP(B16,[3]CPUs!D:L,9,FALSE()) -> #N/A | M16: =IF(J16=L16,"OK","DIF") -> #N/A | N16: ok
D17: Cotação | E17: 64000 | F17: 46620 | K17: =IF(A17="c",$M$4*J17,"")
D18: Link | E18: ver proposta anexo | F18: ver proposta anexo | K18: =IF(A18="c",$M$4*J18,"")
D19: Justificativa pela ausência de três orçamentos: | E19: Foram feitas várias buscas em sites e pedidos de envio de orçamentos para diversas empresas do ramo específico, porém só obtivemos retorno, em tempo hábil, com as empresas mencionadas acima, dificultando assim o fechamento com três orçamentos, conforme é orientado.Comprometo-me que o valor considerado está de acordo com o preço de mercado. | K19: =IF(A19="c",$M$4*J19,"")
K20: =IF(A20="c",$M$4*J20,"")
A21: =VLOOKUP(D21,'[2]2024 - Curva ABC de Insumos'!$E$6:$R$172,14,FALSE()) -> C | B21: 11.1.21 | C21: UFF_COTAÇÃO 04 | D21: FILTRO FLUTUANTE DE Ø 1" , DA WISY OU SIMILAR, DO TIPO FILTRAGEM GROSSA, PARTÍCULAS MAIORES DE 1,2 MM, EM AÇO INOX, MONTADO COM VÁLVULA DE RETENÇÃO, FLUTUADOR ESFÉRICO DE POLIETILENO (Ø 150 MM) E MANGUEIRA FLEXÍVEL | E21: ECOSOLI | F21: AQUASTOCK | J21: =SMALL(E22:I22,1) -> 844 | L21: =VLOOKUP(B21,[3]CPUs!D:L,9,FALSE()) -> #N/A | M21: =IF(J21=L21,"OK","DIF") -> #N/A | N21: ok | O21: ATUALIZADA
D22: Cotação | E22: 1299 | F22: 844 | K22: =IF(A22="c",$M$4*J22,"")
D23: Link | E23: ver proposta anexo | F23: ver proposta anexo | K23: =IF(A23="c",$M$4*J23,"")
D24: Justificativa pela ausência de três orçamentos: | E24: Foram feitas várias buscas em sites e pedidos de envio de orçamentos para diversas empresas do ramo específico, porém só obtivemos retorno, em tempo hábil, com as empresas mencionadas acima, dificultando assim o fechamento com três orçamentos, conforme é orientado.Comprometo-me que o valor considerado está de acordo com o preço de mercado. | K24: =IF(A24="c",$M$4*J24,"")
K25: =IF(A25="c",$M$4*J25,"")
A26: =VLOOKUP(D26,'[2]2024 - Curva ABC de Insumos'!$E$6:$R$172,14,FALSE()) -> C | B26: 11.1.21 | C26: UFF_COTAÇÃO 05 | D26: KIT DE INTERLIGAÇÃO DA WISY OU SIMILAR, COM CAPACIDADE DE 30 L/MIN DE VAZÃO, COMPOSTO DE TORNEIRA, MANGUEIRA, ACIONADOR DE DESCARGA (VÁLVULA SOLENÓIDE ALIMENTADA ELETRICAMENTE), CONECTOR, BÓIA DE NÍVEL E BOCAL SEPARADOR | E26: ECOSOLI | F26: AQUASTOCK | J26: =SMALL(E27:I27,1) -> 4199 | L26: =VLOOKUP(B26,[3]CPUs!D:L,9,FALSE()) -> #N/A | M26: =IF(J26=L26,"OK","DIF") -> #N/A | N26: ok | O26: ATUALIZADA
D27: Cotação | E27: 4199 | F27: 4573 | K27: =IF(A27="c",$M$4*J27,"")
D28: Link | E28: ver proposta anexo | F28: ver proposta anexo | K28: =IF(A28="c",$M$4*J28,"")
D29: Justificativa pela ausência de três orçamentos: | E29: Foram feitas várias buscas em sites e pedidos de envio de orçamentos para diversas empresas do ramo específico, porém só obtivemos retorno, em tempo hábil, com as empresas mencionadas acima, dificultando assim o fechamento com três orçamentos, conforme é orientado.Comprometo-me que o valor considerado está de acordo com o preço de mercado. | K29: =IF(A29="c",$M$4*J29,"")
K30: =IF(A30="c",$M$4*J30,"")
A31: =VLOOKUP(D31,'[2]2024 - Curva ABC de Insumos'!$E$6:$R$172,14,FALSE()) -> C | B31: 11.1.28 | C31: UFF_COTAÇÃO 06 | D31: VOLANTE DE LATÃO PARA REGISTRO GAVETA BRUTO 1 1/2". | E31: CASA HYDRO | F31: HIDRO SHOP | G31: CASAS BAHIA | J31: =SMALL(E32:I32,1) -> 59.9 | L31: =VLOOKUP(B31,[3]CPUs!D:L,9,FALSE()) -> #N/A | M31: =IF(J31=L31,"OK","DIF") -> #N/A | N31: ok
D32: Cotação | E32: 59.9 | F32: 60.19 | G32: 62.53 | K32: =IF(A32="c",$M$4*J32,"")
D33: Link | E33: https://www.casahydro.com.br/deca/pecas-e-reparos-deca/pecas-e-reparos-registro-deca/volante-de-registro-gaveta-bruto-deca-1502b-1-12-4464084 | F33: https://www.hidroshop.com.br/valvulas-em-geral/pecas-e-reparos/volante-de-registro-gaveta-bruto-deca-1502b-1-12 | G33: - | K33: =IF(A33="c",$M$4*J33,"")
K34: =IF(A34="c",$M$4*J34,"")
A35: =VLOOKUP(D35,'[2]2024 - Curva ABC de Insumos'!$E$6:$R$172,14,FALSE()) -> C | B35: 11.1.29 | C35: UFF_COTAÇÃO 07 | D35: VOLANTE DE LATÃO PARA REGISTRO GAVETA BRUTO 2". | E35: CASA HYDRO | F35: LEROY MERLIN | G35: HIDROSHOP | J35: =SMALL(E36:I36,1) -> 77.7 | L35: =VLOOKUP(B35,[3]CPUs!D:L,9,FALSE()) -> #N/A | M35: =IF(J35=L35,"OK","DIF") -> #N/A | N35: ok
D36: Cotação | E36: 77.7 | F36: 83.5 | G36: 83.5
D37: Link | E37: https://www.casahydro.com.br/deca/banheiro/acabamentos-e-registro-deca/volante-de-registro-gaveta-bruto-deca-1502b-2-4464104?parceiro=1&gad_source=1&gclid=Cj0KCQjwyL24BhCtARIsALo0fSAJ_2qG-IYuIigBSo2KqXSXloPO-2c6ktpIRjGNoOaqlEFJS_7qvNkaAjPNEALw_wcB | F37: https://www.leroymerlin.com.br/volante-de-registro-gaveta-bruto-deca-1502b-2--4464104_1571439110?region=outros&gad_source=1&gclid=Cj0KCQjwyL24BhCtARIsALo0fSA07lAUcH2SnUA827pfc1ykmWJ3HjripH9z6XBXTepzdo5m15Pzg-kaArYjEALw_wcB | G37: https://www.hidroshop.com.br/metais-sanitarios/bases-e-registros/registro-de-gaveta/volante-de-registro-gaveta-bruto-deca-1502b-2?parceiro=5882&gad_source=1&gad_campaignid=22350096876&gbraid=0AAAAA9XnEVBl3CK2s4MniQ1f6trwv9nZd&gclid=Cj0KCQjw267GBhCSARIsAOjVJ4GEZ9b1whpwwoBc-LGALEUL7x8cJEdEX-dd7Zbx-h4JkjxR3o2dlksaAjJ-EALw_wcB
A39: =VLOOKUP(D39,'[2]2024 - Curva ABC de Insumos'!$E$6:$R$172,14,FALSE()) -> C | B39: 11.1.30 | C39: UFF_COTAÇÃO 08 | D39: VOLANTE DE LATÃO PARA REGISTRO GAVETA BRUTO 2. 1/2". | E39: HIDRO SHOP | F39: MADEIRA MADEIRA | G39: AMERICANAS | J39: =SMALL(E40:I40,1) -> 59.22 | L39: =VLOOKUP(B39,[3]CPUs!D:L,9,FALSE()) -> #N/A | M39: =IF(J39=L39,"OK","DIF") -> #N/A | N39: ok
D40: Cotação | E40: 59.22 | F40: 60.22 | G40: 61.24
D41: Link | E41: https://www.hidroshop.com.br/metais-sanitarios/bases-e-registros/registro-de-gaveta/volante-de-registro-gaveta-bruto-deca-1502b-2-12 | F41: https://www.casahydro.com.br/deca/banheiro/acabamentos-e-registro-deca/volante-de-registro-gaveta-bruto-deca-1502b-2-12-4464124?parceiro=1&gad_source=1&gad_campaignid=19143189075&gbraid=0AAAAACwtwpd-rZOCyTxPm2fj_j5cRcLOq&gclid=Cj0KCQjw267GBhCSARIsAOjVJ4FU8oCkaynRrNNSZjfGS3QqqEaN2OICTLC2LsTd7ndMkF-r0jqJB_EaAmFJEALw_wcB | G41: https://www.mercadolivre.com.br/volante-p-registro-gaveta-bruto-deca-1501-1502-212-polega-cor-amarelo/p/MLB32607593?pdp_filters=item_id%3AMLB3856012103&from=gshop&matt_tool=29457868&matt_internal_campaign_id=&matt_word=&matt_source=google&matt_campaign_id=22090354295&matt_ad_group_id=173090578996&matt_match_type=&matt_network=g&matt_device=c&matt_creative=727882730820&matt_keyword=&matt_ad_position=&matt_ad_type=pla&matt_merchant_id=735098639&matt_product_id=MLB32607593-product&matt_product_partition_id=2391454777588&matt_target_id=pla-2391454777588&cq_src=google_ads&cq_cmp=22090354295&cq_net=g&cq_plt=gp&cq_med=pla&gad_source=1&gad_campaignid=22090354295&gbraid=0AAAAAD93qcATy0G3dQhHsZ8CUZLsQ-RjD&gclid=Cj0KCQjw267GBhCSARIsAOjVJ4GUdfvHNbR0h06EGr-RYm1_4B1tEcl1kMN93-AsnhbNMNzFpdmKrtUaAtZtEALw_wcB
...

Sheet BDI
A2: PLANILHA DE MEMÓRIA DE CÁLCULO DE BDI - BÔNUS DE DESPESAS INDIRETAS
A3: UFF- INSTITUTO DE QUIMICA | E3: AUTOR: | H3: FUNÇÃO:
A4: LOCAL: CAMPUS PRAIA VERMELHA | E4: PROCESSO: 23069.000000/0000-00 | H4: ART/RRT:
A5: NOME/APELIDO DA OBRA: | E5: BDI | F5: BDI EQUIP. | G5: SIAPE | H5: DATA | I5: REVISÃO
A6: BASE DE DADOS: SINAPI - 12/2024 - Rio de Janeiro; SBC - 12/2024 - Rio de Janeiro; EMOP - 12/2024 - Rio de Janeiro; SCO - 12/2024 - Rio de Janeiro - DESONERADO | E6: =BDI!$D$66 -> 0.2549 | F6: =BDI_DIF.!D67 -> 0.1612 | H6: ='Orçamento Sintético'!H6 -> 45931 | I6: ='Orçamento Sintético'!I6 -> R21
B28: Declaro que, de acordo com a legislação tributária do município de Niterói – RJ, considerando a natureza da obra discriminada, para cálculo do valor de ISS a ser cobrado da empresa construtora, é aplicada a alíquota de 3% sobre o valor total da obra.
B30: Declaro para os devidos fins que o regime de Contribuição Previdenciária sobre a Receita Bruta adotado para elaboração do orçamento foi COM Desoneração, e que esta é a alternativa mais adequada para a Administração Pública.
B32: DETALHAMENTO DO BDI
B34: PROPONENTE: | C34: Universidade Federal Fluminense (UFF)
B35: OBRA: | C35: Instituto de Química (Campus Praia Vermelha)
C37: SERVIÇO
C38: PLANILHA DESONERADA
B39: 1. Regime de Contribuição Previdenciária
C41: Com Desoneração
B43: 2. Tipo de Intervenção
C45: Edificações
B47: 3. Incidências sobre o custo
C49: Administração Central - AC | D49: 3.4 | E49: %
C50: Riscos - R | D50: 1.27 | E50: %
C51: Seguros e Garantias Contratuais - S+G | D51: 0.8 | E51: %
C52: Despesas e Encargos Financeiros - RJ | D52: 0.59 | E52: %
C54: Lucro - L | D54: 6.16 | E54: %
B56: 4 – Incidências sobre o preço de venda
C58: Despesas Tributárias - I | D58: =D59+D60+D61+D62 -> 10.25 | E58: %
C59: ISS | D59: 3 | E59: %
C60: COFINS | D60: 3 | E60: %
C61: PIS | D61: 0.65 | E61: %
C62: INSS | D62: 3.6 | E62: %
B64: 5 – Demonstrativo de cálculo do BDI
C66: BDI= (1+(AC+S+R+G))(1+DF)(1+L)) -1 = | D66: =ROUND((((1+($D$49/100)+($D$51/100)+($D$50/100))*(1+($D$52/100))*(1+($D$54/100)))/(1-$D$58/100)-1),4) -> 0.2549
C67: ( 1- I )

Sheet BDI_DIF.
A2: PLANILHA DE MEMÓRIA DE CÁLCULO DE BDI - BÔNUS DE DESPESAS INDIRETAS
A3: UFF- INSTITUTO DE QUIMICA | E3: AUTOR: | H3: FUNÇÃO:
A4: LOCAL: CAMPUS PRAIA VERMELHA | E4: PROCESSO: 23069.000000/0000-00 | H4: ART/RRT:
A5: NOME/APELIDO DA OBRA: | E5: BDI | F5: BDI EQUIP. | G5: SIAPE | H5: DATA | I5: REVISÃO
A6: BASE DE DADOS: SINAPI - 12/2024 - Rio de Janeiro; SBC - 12/2024 - Rio de Janeiro; EMOP - 12/2024 - Rio de Janeiro; SCO - 12/2024 - Rio de Janeiro - DESONERADO | E6: =BDI_DIF.!$D$67 -> 0.1612 | F6: =D67 -> 0.1612 | H6: ='Orçamento Sintético'!H6 -> 45931 | I6: ='Orçamento Sintético'!I6 -> R21
B29: Declaro para os devidos fins que o regime de Contribuição Previdenciária sobre a Receita Bruta adotado para elaboração do orçamento foi COM Desoneração, e que esta é a alternativa mais adequada para a Administração Pública.
B33: DETALHAMENTO DO BDI
B35: PROPONENTE: | C35: Universidade Federal Fluminense (UFF)
B36: OBRA: | C36: Instituto de Química (Campus Praia Vermelha)
C38: SERVIÇO
C39: PLANILHA DESONERADA
B40: 1. Regime de Contribuição Previdenciária
C42: Com Desoneração
B44: 2. Tipo de Intervenção
C46: Edificações
B48: 3. Incidências sobre o custo
C50: Administração Central - AC | D50: 1.5 | E50: %
C51: Riscos - R | D51: 0.89 | E51: %
C52: Seguros e Garantias Contratuais - S+G | D52: 0.3 | E52: %
C53: Despesas e Encargos Financeiros - RJ | D53: 0.85 | E53: %
C55: Lucro - L | D55: 4 | E55: %
B57: 4 – Incidências sobre o preço de venda
C59: Despesas Tributárias - I | D59: =D60+D61+D62+D63 -> 7.25 | E59: %
C60: ISS | D60: 0 | E60: %
C61: COFINS | D61: 3 | E61: %
C62: PIS | D62: 0.65 | E62: %
C63: INSS | D63: 3.6 | E63: %
B65: 5 – Demonstrativo de cálculo do BDI
C67: BDI= (1+(AC+S+R+G))(1+DF)(1+L)) -1 = | D67: =ROUND((((1+($D$50/100)+($D$52/100)+($D$51/100))*(1+($D$53/100))*(1+($D$55/100)))/(1-$D$59/100)-1),4) -> 0.1612
C68: ( 1- I )

Sheet Enc. Sociais
A2: ENCARGOS SOCIAIS
A3: UFF- INSTITUTO DE QUIMICA | E3: AUTOR: | H3: FUNÇÃO:
A4: LOCAL: CAMPUS PRAIA VERMELHA | E4: PROCESSO: 23069.000000/0000-00 | H4: ART/RRT:
A5: NOME/APELIDO DA OBRA: | E5: BDI | F5: BDI EQUIP. | G5: SIAPE | H5: DATA | I5: REVISÃO
A6: =RESUMO!A16 -> BASE DE DADOS: SINAPI - 07/2025 - Rio de Janeiro; SBC - 07/2025 - Rio de Janeiro; EMOP - 07/2025 - Rio de Janeiro; SCO - 07/2025 - Rio de Janeiro - DESONERADO | E6: =BDI!E6 -> 0.2549 | F6: =BDI_DIF.!F6 -> 0.1612 | H6: ='Orçamento Sintético'!H6 -> 45931 | I6: ='Orçamento Sintético'!I6 -> R21

Sheet Curva ABC de Serviços
A2: CURVA ABC DE SERVIÇOS
A3: UFF- INSTITUTO DE QUIMICA | F3: AUTOR: | I3: FUNÇÃO:
A4: LOCAL: CAMPUS PRAIA VERMELHA | F4: =RESUMO!E14 -> PROCESSO: 23069.180351/2025-62 | I4: ART/RRT:
A5: NOME/APELIDO DA OBRA: | F5: BDI | G5: BDI EQUIP. | H5: SIAPE | I5: DATA | J5: REVISÃO
A6: =RESUMO!A16 -> BASE DE DADOS: SINAPI - 07/2025 - Rio de Janeiro; SBC - 07/2025 - Rio de Janeiro; EMOP - 07/2025 - Rio de Janeiro; SCO - 07/2025 - Rio de Janeiro - DESONERADO | F6: =BDI!E6 -> 0.2549 | G6: =BDI_DIF.!F6 -> 0.1612 | I6: ='Enc. Sociais'!H6 -> 45931 | J6: ='Orçamento Sintético'!I6 -> R21
A7: Curva ABC de Serviços
A8: Código | B8: Banco | C8: Descrição | D8: Tipo | E8: Und | F8: Quant. | G8: Valor Unit | H8: Total | I8: Peso (%) | J8: Peso Acumulado (%)
A9: UFF00066 | B9: Próprio | C9: ADMINISTRAÇÃO LOCAL | D9: CANT - CANTEIRO DE OBRAS | E9: UN | F9: 1,0 | G9: 1.439.486,86 | H9: 1.439.486,86 | I9: 7,21 | J9: 7,21
A10: UFF00266 (ADAPT_ORSE: 9728) | B10: Próprio | C10: PAINEL GERAL DE BAIXA TENSÃO, AUTOPORTANTE (QGBT-AC), FABRICADOS CONFORME IEC NBR 60439-1, TENSÃO 380V, BARRAMENTO TRIPOLAR+NEUTRO+TERRA DE 4000A, COM UM CIRCUITO DE ENTRADA COM DISJUNTOR GERAL ABERTO DE 4000A, 1 RELE DE MULTIFUNÇÃO, COM DISJUNTORES DE SAÍDA EM CAIXA MOLDADA ICC=100kA, COMPLETO. FORNECIMENTO. | D10: 80 | E10: un | F10: 1,0 | G10: 968.388,69 | H10: 968.388,69 | I10: 4,85 | J10: 12,06
A11: UFF00344 (ADAPT_CPOS:61.10.010) | B11: Próprio | C11: FORNECIMENTO - CHILLER CONDENSAÇÃO A AR COM COMPRESSOR PARAFUSO (EFETIVO) - MODELO 30XSB300 - CAPACIDADE 282,5TR - TBS EXT 38,1ºC - TBS INT 21ºC - UR EXTERNA 80% - UR INTERNA 50% - VAZÃO DE AR 168544,8m³/h - TEMP. DE ADMISSÃO 5ºC - TEMP. DE RETORNO 10,5ºC - VAZÃO DE ÁGUA 185m³/h - POTÊNCIA 325,6KW / 483A - PESO 6734kg - ALIMENTAÇÃO 3F/380V/60Hz - MARCA CARRIER OU EQUIVALENTE TÉCNICO | D11: 61.1 | E11: UN | F11: 1,0 | G11: 853.878,73 | H11: 853.878,73 | I11: 4,28 | J11: 16,34
A12: 93002 | B12: SINAPI | C12: CABO DE COBRE FLEXÍVEL ISOLADO, 300 MM², ANTI-CHAMA 0,6/1,0 KV, PARA REDE ENTERRADA DE DISTRIBUIÇÃO DE ENERGIA ELÉTRICA - FORNECIMENTO E INSTALAÇÃO. AF_12/2021 | D12: Redes Enterradas de Distribuição Elétrica | E12: M | F12: 2.180,7 | G12: 350,84 | H12: 765.076,78 | I12: 3,83 | J12: 20,17
A13: UFF00264 (ADAPT_ORSE: 9728) | B13: Próprio | C13: PAINEL GERAL DE BAIXA TENSÃO, AUTOPORTANTE (QGBT-N), FABRICADOS CONFORME IEC NBR 60439-1, TENSÃO 220/127V, BARRAMENTO TRIPOLAR+NEUTRO+TERRA DE 5500A, COM DOIS CIRCUITOS DE ENTRADA COM DISJUNTORES GERAIS ABERTOS DE 3200A, 2 RELES DE MULTIFUNÇÃO, COM DISJUNTORES DE SAÍDA EM CAIXA MOLDADA ICC=100kA, COMPLETO. FORNECIMENTO. | D13: 80 | E13: un | F13: 1,0 | G13: 563.976,25 | H13: 563.976,25 | I13: 2,83 | J13: 23,00
A14: UFF00355 | B14: Próprio | C14: MANUTENÇÃO DOS ELEVADORES DE FABRICAÇÃO THYSSENKRUP COM SUBSTITUIÇÃO DOS PAINEIS DE FORÇA E CONTROLE NAS CASAS DE MÁQUINAS, SUBESTITUIÇÃO DOS TRANSFORMADORES, SUBSTITUIÇÃO DAS BOTOEIRAS EXTERNAS, SUBSTITUIÇÃO DOS PAINÉIS DE COMANDO INTERNO DAS CABINES, SUBSTIRUIÇÃO DOS CABOS DE COMANDO ENTRE OS PAINEIS E AS CABINES E SUBSTITUIÇÃO DAS PORTAS | D14: SERT - SERVIÇOS TÉCNICOS | E14: mês | F14: 1,0 | G14: 399.237,20 | H14: 399.237,20 | I14: 2,00 | J14: 25,00
A15: 91926 | B15: SINAPI | C15: CABO DE COBRE FLEXÍVEL ISOLADO, 2,5 MM², ANTI-CHAMA 450/750 V, PARA CIRCUITOS TERMINAIS - FORNECIMENTO E INSTALAÇÃO. AF_03/2023 | D15: Instalações Elétricas - Eletrodutos Embutidos, Cabos, Caixas, Tomadas e Interruptores | E15: M | F15: 70.714,0 | G15: 4,98 | H15: 352.155,72 | I15: 1,76 | J15: 26,76
A16: 112561 | B16: SBC | C16: GUARDA-CORPO EM TUBO DE AǏ INOX (NBR 9050) | D16: ESQUADRIAS DE ALUMINIO | E16: M | F16: 401,4 | G16: 854,54 | H16: 343.012,35 | I16: 1,72 | J16: 28,48
A17: 101727 | B17: SINAPI | C17: PISO VINÍLICO SEMI-FLEXÍVEL EM PLACAS, PADRÃO LISO, ESPESSURA 3,2 MM, FIXADO COM COLA. AF_09/2020 | D17: Pisos | E17: m² | F17: 1.366,0 | G17: 223,57 | H17: 305.396,62 | I17: 1,53 | J17: 30,01
A18: 13.193.0010-A | B18: EMOP | C18: FORRO EM PLACA TIPO COLMEIA,EM ALUMINIO PRE-PINTADO,MODULACA O DE (62X62)CM,MALHA MEDINDO APROXIMADAMENTE 5X5CM,FIXADO CO M PERFIL "T" APARENTE.FORNECIMENTO E COLOCACAO | D18: 13 | E18: m² | F18: 670,74 | G18: 442,66 | H18: 296.909,76 | I18: 1,49 | J18: 31,49
A19: UFF00028 (ADAPT_CPOS:50.05.430) | B19: Próprio | C19: FORNECIMENTO E INSTALAÇÃO - DETECTOR ENDEREÇÁVEL ÓPTICO DE FUMAÇA FSP-951 DE FABRICAÇÃO NOTIFIER OU SIMILAR TÉCNICO EXCLUSIVE BASE | D19: INES - INSTALAÇÕES ESPECIAIS | E19: UN | F19: 882,0 | G19: 327,73 | H19: 289.057,86 | I19: 1,45 | J19: 32,94
A20: UFF00549 | B20: Próprio | C20: BARRAMENTO BLINDADO DE ALUMÍNIO 400A (512 X 136 X 3000), INCLUSIVE QUADRO ELÉTRICO/CAIXA DE CABOS 400A (1,4 X 0,8 X 0,25), SEM PROTEÇÃO. FORNECIMENTO E INSTALAÇÃO. | D20: INEL - INSTALAÇÃO ELÉTRICA/ELETRIFICAÇÃO E ILUMINAÇÃO EXTERNA | E20: UN | F20: 1,0 | G20: 267.442,62 | H20: 267.442,62 | I20: 1,34 | J20: 34,28
A21: UFF00359 (ADAPT_CPOS:36.01.252) | B21: Próprio | C21: PAINEL DE MÉDIA TENSÃO DA SUBESTAÇÃO. FORNECIMENTO. | D21: 36.01 | E21: CJ | F21: 1,0 | G21: 267.355,80 | H21: 267.355,80 | I21: 1,34 | J21: 35,62
A22: UFF00444 (ADAPT_EMOP:15.029.0200-A) | B22: Próprio | C22: ATUADOR PARA VÁLVULA DE GAVETA DN=4" MOTORIZADA PROPORCIONAL | D22: INEL - INSTALAÇÃO ELÉTRICA/ELETRIFICAÇÃO E ILUMINAÇÃO EXTERNA | E22: UN | F22: 4,0 | G22: 61.302,17 | H22: 245.208,68 | I22: 1,23 | J22: 36,85
A23: UFF00030 (ADAPT_SBC: 120715) | B23: Próprio | C23: FORRO TERMOACÚSTICO EM FIBRA MINERAL APOIADAS SOBRE PERFIL EM AÇO TIPO "T", MODULAÇÃO 625X625MM. REF. LINHA ARMSTRONG, MODELO SAHRA, HUNTER DOUGLAS OU EQUIVALENTE TÉCNICO. | D23: REVE - REVESTIMENTO E TRATAMENTO DE SUPERFÍCIES | E23: m² | F23: 1.064,17 | G23: 203,32 | H23: 216.367,04 | I23: 1,08 | J23: 37,93
A24: 98297 | B24: SINAPI | C24: CABO ELETRÔNICO CATEGORIA 6, INSTALADO EM EDIFICAÇÃO INSTITUCIONAL - FORNECIMENTO E INSTALAÇÃO. AF_11/2019 | D24: INES - INSTALAÇÕES ESPECIAIS | E24: M | F24: 25.590,0 | G24: 8,30 | H24: 212.397,00 | I24: 1,06 | J24: 39,00
A25: UFF00347 (ADAPT_CPOS:61.10.120) | B25: Próprio | C25: FORNECIMENTO - UNIDADE DE TRATAMENTO DE AR 100% AR EXTERNO COM MOTOR EC - MODELO TKZ - FILTROS G4 + F8 - CAPACIDADE 105,31TR - TBS EXT 38,1ºC - TBS INT. 21ºC - UR EXTERNA 80% - UR INTERNA 50% - VAZÃO DE INSUFLAMENTO 15644m³/h - TEMP. DE ADMISSÃO 5ºC - TEMP. DE RETORNO 10,5ºC - VAZÃO DE ÁGUA 57,9m³/h - Pd 100Pa - RESIST DE AQUECIMENTO 46,8kW - POTÊNCIA 6,55KW / 29,77A - PESO 1635kg - ALIMENTAÇÃO 3F/220V/60Hz - MARCA TROX OU EQUIVALENTE TÉCNICO | D25: 61.1 | E25: UN | F25: 1,0 | G25: 204.859,51 | H25: 204.859,51 | I25: 1,03 | J25: 40,02
A26: UFF00049 (ADAPT_AGESUL: 1202007081) | B26: Próprio | C26: CAMERA POE, FIXA, RESOLUÇÃO 4K, 8 MEGAPIXELS, ALCANCE DE ATÉ 60 METROS, USO INTERNO/EXTERNO, COM INFRAVERMELHO, CASE METÁLICO, INDICE DE PROTEÇÃO IP67, COM PROTEÇÃO ANTI-SURTO.ILAR- FORNECIMENTO E INSTALAÇÃO | D26: REDE DE LOGICA E CFTV | E26: UN | F26: 113,0 | G26: 1.711,95 | H26: 193.450,35 | I26: 0,97 | J26: 40,99
A27: UFF00268 (ADAPT_EMBASA: 60.14.06) | B27: Próprio | C27: PAINEL DE FORÇA E COMANDO PARA AS UTAS, 380V, INCLUINDO CONTROLE DO MOTOR DE 15CV POR INVERSOR DE FREQUENCIA, CONTROLE DE RESISTENCIAS POR MÓDULO DE POTENCIA ANALÓGICO ATÉ 100A E PROTEÇÃO TERMOMAGNÉTICA PARA OS CIRCUITO ALIMENTADOR E O CIRCUITO DA RESISTENACIA POR DISJUNTOR E DO MOTOR POR DISJUNTOR MOTOR E RELÉ TÉRMICO. FORNECIMENTO E INSTALAÇÃO. | D27: INEL - INSTALAÇÃO ELÉTRICA/ELETRIFICAÇÃO E ILUMINAÇÃO EXTERNA | E27: UN | F27: 2,0 | G27: 95.281,52 | H27: 190.563,04 | I27: 0,95 | J27: 41,95
A28: UFF00346 (ADAPT_CPOS:61.10.120) | B28: Próprio | C28: FORNECIMENTO - UNIDADE DE TRATAMENTO DE AR 100% AR EXTERNO COM MOTOR EC - MODELO TKZ - FILTROS G4 + F8 - CAPACIDADE 93,59TR - TBS EXT 38,1ºC - TBS INT. 21ºC - UR EXTERNA 80% - UR INTERNA 50% - VAZÃO DE INSUFLAMENTO 14340m³/h - TEMP. DE ADMISSÃO 5ºC - TEMP. DE RETORNO 10,5ºC - VAZÃO DE ÁGUA 51,46m³/h - Pd 100Pa - RESIST DE AQUECIMENTO 39kW - POTÊNCIA 6,29KW / 28,59A - PESO 1437kg - ALIMENTAÇÃO 3F/220V/60Hz - MARCA TROX OU EQUIVALENTE TÉCNICO | D28: 61.1 | E28: UN | F28: 1,0 | G28: 184.998,76 | H28: 184.998,76 | I28: 0,93 | J28: 42,87
A29: UFF00085 (ADAPT_EMOP:14.003.0231-A) | B29: Próprio | C29: PORTA DE ABRIR EM ALUMÍNIO COM 2 FOLHAS, ACABAMENTO PRETO FOSCO - 0,80X2,10M.(PA-10 - Conforme projeto de arquitetura) | D29: ESQV - ESQUADRIAS/FERRAGENS/VIDROS | E29: UN | F29: 62,0 | G29: 2.823,17 | H29: 175.036,54 | I29: 0,88 | J29: 43,75
A30: UFF00543 (ADAPT_SBC: 060588) | B30: Próprio | C30: LUMINARIA EMBUTIR ALETADA ALUMINIO BRILHANTE 4X9W LED. FORNECIMENTO E INSTALAÇÃO. | D30: 60 | E30: UN | F30: 605,0 | G30: 284,69 | H30: 172.237,45 | I30: 0,86 | J30: 44,61
A31: 92988 | B31: SINAPI | C31: CABO DE COBRE FLEXÍVEL ISOLADO, 50 MM², ANTI-CHAMA 0,6/1,0 KV, PARA REDE ENTERRADA DE DISTRIBUIÇÃO DE ENERGIA ELÉTRICA - FORNECIMENTO E INSTALAÇÃO. AF_12/2021 | D31: Redes Enterradas de Distribuição Elétrica | E31: M | F31: 2.768,7 | G31: 59,86 | H31: 165.734,38 | I31: 0,83 | J31: 45,44
A32: UFF00345 (ADAPT_CPOS:43.08.004) | B32: Próprio | C32: FORNECIMENTO - UNIDADE CONDENSADORA VRF TIPO - MODELO INOVA MV6-850WV2DN1 - CAPACIDADE 290kBTU/h - POTÊNCIA 25,68kW / 116,73A - ALIMENTAÇÃO 3F/220V/60Hz - PESO 507kg - MARCA CARRIER OU EQUIVALENTE TÉCNICO | D32: 43.08 | E32: UN | F32: 1,0 | G32: 155.966,19 | H32: 155.966,19 | I32: 0,78 | J32: 46,22
A33: 070963 | B33: SBC | C33: ISOLANTE TERMICO FLEXIVEL EM ESPUMA ELASTOMERICA, MANTA 25MM | D33: INSTALACOES MECANICAS - AR CONDICIONADO | E33: m² | F33: 615,0 | G33: 246,01 | H33: 151.296,15 | I33: 0,76 | J33: 46,98
A34: 88496 | B34: SINAPI | C34: EMASSAMENTO COM MASSA LÁTEX, APLICAÇÃO EM TETO, DUAS DEMÃOS, LIXAMENTO MANUAL. AF_04/2023 | D34: Pintura Interna | E34: m² | F34: 3.536,09 | G34: 40,31 | H34: 142.539,78 | I34: 0,71 | J34: 47,70
