Workbook
Name _01: #REF!
Name _01_4: #REF!
Name _10Excel_BuiltIn_Print_Area_1_1_1: #REF!
Name _11Excel_BuiltIn_Print_Area_1_1_1_1: #REF!
Name _12Excel_BuiltIn_Print_Area_1_1_1_1_1: #REF!
Name _13Excel_BuiltIn_Print_Area_5_1: #REF!
Name _14Excel_BuiltIn_Print_Area_5_1_1: #REF!
Name _15Excel_BuiltIn_Print_Area_7_1: #REF!
Name _16ILUM_4_1: #REF!
Name _17INTE_4_1: #REF!
Name _18PARA_4_1: #REF!
Name _1CABO_4_1: #REF!
Name _2CAIX_4_1: #REF!
Name _3CDT_4_1: #REF!
Name _4COND_4_1: #REF!
Name _5CONE_4_1: #REF!
Name _6DIVE_4_1: #REF!
Name _7EQUI_4_1: #REF!
Name _8Excel_BuiltIn_Print_Area_1: #REF!
Name _9Excel_BuiltIn_Print_Area_1_1: #REF!
Name _A99990: #REF!
Name _A99999: #REF!
Name _s: #REF!
Name Á1: #REF!
Name AAAA: #REF!
Name ACRES: #REF!
Name ACRES_4: #REF!
Name Área_impressão_IM: #REF!
Name Área_impressão_IM_1: #REF!
Name Área_impressão_IM_1_4: #REF!
Name Área_impressão_IM_4: #REF!
Name arredondamento: #REF!
Name BBBB: #REF!
Name bdi: #REF!
Name BuiltIn_AutoFilter___1: #REF!
Name CABO: #REF!
Name CABO_2: #REF!
Name CABO_3: #REF!
Name CABO_4: #REF!
Name CABO_4_1: #REF!
Name CABO_5: #REF!
Name CABO_6: #REF!
Name CAIX: #REF!
Name CAIX_2: #REF!
Name CAIX_3: #REF!
Name CAIX_4: #REF!
Name CAIX_4_1: #REF!
Name CAIX_5: #REF!
Name CAIX_6: #REF!
Name ccc: #REF!
Name CDT: #REF!
Name CDT_2: #REF!
Name CDT_3: #REF!
Name CDT_4: #REF!
Name CDT_4_1: #REF!
Name CDT_5: #REF!
Name CDT_6: #REF!
Name COND: #REF!
Name COND_2: #REF!
Name COND_3: #REF!

Sheet Resumo
A11: RESUMO DA PLANILHA DE ORÇAMENTOS DE PROJETOS E OBRAS
A12: UFF- DIREITO II | E12: PROCESSO: 23069.164735/2025-38
A13: LOCAL: RUA TIRADENTES, 17, INGÁ, NITERÓI/RJ, CEP 24210-510 | E13: ARTs: ANEXADAS AO PROCESSO
A14: NOME DA OBRA: RECUPERAÇÃO DO TELHADO DA FACULDADE DE DIREITO - CAMPUS II | E14: BDI | F14: BDI DIF. | G14: REGIME TRIBUTÁRIO | H14: DATA-BASE | I14: REVISÃO
A15: BASE DE DADOS: SINAPI, SICRO 3, SBC, EMOP e SCO (RJ) | E15: 0.2267 | F15: 0 | G15: NÃO DESONERADO | H15: 45778 | I15: R00
A16: RESUMO
A17: ITEM | B17: DESCRIÇÃO | H17: PREÇO TOTAL | I17: PESO (%)
A18: 1 | B18: PROJETOS | H18: 22145.34 | I18: 0.015165293
A19: 2 | B19: GERENCIAMENTO DA OBRA | H19: 120434.96 | I19: 0.082474756
A20: 3 | B20: SERVIÇOS PRELIMINARES | H20: 74708.6 | I20: 0.051161005
A21: 4 | B21: MOVIMENTO DE TERRA | H21: 2173.39 | I21: 0.0014883536
A22: 5 | B22: SUPERESTRUTURA | H22: 100144.34 | I22: 0.068579589
A23: 6 | B23: ALVENARIA (PLATIBANDAS E MURETAS COBERTURA) | H23: 36740.77 | I23: 0.025160352
A24: 7 | B24: COBERTURA | H24: 235343.2 | I24: 0.16116477
A25: 8 | B25: INSTALAÇÕES HIDROSSANITÁRIAS (PLUVIAL) | H25: 47538.08 | I25: 0.032554431
A26: 9 | B26: REVESTIMENTO | H26: 114958.53 | I26: 0.078724456
A27: 10 | B27: IMPERMEABILIZAÇÃO | H27: 202770.97 | I27: 0.13885907
A28: 11 | B28: PISO | H28: 3611.1 | I28: 0.0024729081
A29: 12 | B29: PINTURA | H29: 109033.97 | I29: 0.074667273
A30: 13 | B30: SERVIÇOS COMPLEMENTARES | H30: 390661.27 | I30: 0.26752774
A31: TOTAL GERAL | H31: =SUM(H18:H30) -> 1460264.5 | I31: =SUM(I18:I30) -> 1

Sheet Sintético
A11: PLANILHA DE ORÇAMENTOS DE PROJETOS E OBRAS - SINTÉTICA
A12: =Resumo!A12 -> UFF- DIREITO II | E12: =Resumo!E12 -> PROCESSO: 23069.164735/2025-38
A13: =Resumo!A13 -> LOCAL: RUA TIRADENTES, 17, INGÁ, NITERÓI/RJ, CEP 24210-510 | E13: =Resumo!E13 -> ARTs: ANEXADAS AO PROCESSO
A14: =Resumo!A14 -> NOME DA OBRA: RECUPERAÇÃO DO TELHADO DA FACULDADE DE DIREITO - CAMPUS II | E14: =Resumo!E14 -> BDI | F14: =Resumo!F14 -> BDI DIF. | G14: =Resumo!G14 -> REGIME TRIBUTÁRIO | H14: =Resumo!H14 -> DATA-BASE | I14: =Resumo!I14 -> REVISÃO
A15: =Resumo!A15 -> BASE DE DADOS: SINAPI, SICRO 3, SBC, EMOP e SCO (RJ) | E15: =Resumo!E15 -> 0.2267 | F15: =Resumo!F15 -> 0 | G15: =Resumo!G15 -> NÃO DESONERADO | H15: =Resumo!H15 -> 45778 | I15: =Resumo!I15 -> R00
A16: ITEM | B16: CÓDIGO | C16: BASE DE DADOS | D16: DESCRIÇÃO | E16: UNIDADE | F16: QUANTIDADE | G16: CUSTO UNITÁRIO (R$) | H16: PREÇO UNIT c/ BDI (R$) | I16: PREÇO TOTAL (R$) | J16: DESCONTO OFERTADO | K16: VALOR TOTAL COM DESCONTO
A17: 1 | D17: PROJETOS | F17: 1 | H17: 22145.34 | I17: 22145.34 | J17: =$I$176 -> 0 | K17: =I17-(I17*J17) -> 22145.34
A18: 1.1 | B18: COMP DIR 17 | C18: Próprio | D18: PROJETO EXECUTIVO DE INSTALAÇÃO ELÉTRICA PARA INSTALAÇÕES TEMPORÁRIAS DO CANTEIRO DE OBRAS, INCLUSIVE DESPESAS ADMINISTRATIVAS E DE MATERIAIS [ADAPTADO EMOP (01.050.0114-0)] | E18: UND | F18: 1 | G18: 1854.54 | H18: 2274.96 | I18: 2274.96 | J18: =$I$176 -> 0 | K18: =I18-(I18*J18) -> 2274.96
A19: 1.2 | B19: COMP DIR 18 | C19: Próprio | D19: PROJETO DE SEGURANÇA CONTRA INCÊNDIO E PÂNICO PARA CANTEIRO DE OBRA, INCLUSIVE DESPESAS ADMINISTRATIVAS E DE MATERIAIS | E19: UND | F19: 1 | G19: 1236.36 | H19: 1516.64 | I19: 1516.64 | J19: =$I$176 -> 0 | K19: =I19-(I19*J19) -> 1516.64
A20: 1.3 | B20: COMP DIR 15 | C20: Próprio | D20: ELABORAÇÃO DE LAUDO TÉCNICO APÓS RESULTADO DE ENSAIOS PARA DIAGNÓSTICO PRECISO DOS MÉTODOS DE RECUPERAÇÃO ESTRUTURAL QUE SERÃO EFETIVAMENTE NECESSÁRIOS NESSA OBRA COM RELATÓRIO FOTOGRÁFICO, INCLUSIVE DESPESAS ADMINISTRATIVAS E DE MATERIAIS [ADAPTADA EMOP 01.050.0326] | E20: m² | F20: 1591.6 | G20: 6.3 | H20: 7.72 | I20: 12287.15 | J20: =$I$176 -> 0 | K20: =I20-(I20*J20) -> 12287.15
A21: 1.4 | B21: COMP DIR 16 | C21: Próprio | D21: PROJETO EXECUTIVO DE LINHA DE VIDA, INCLUSIVE DESPESAS ADMINISTRATIVAS E DE MATERIAIS [ADAPTADA EMOP (01.050.0035-0)] | E21: UND | F21: 1 | G21: 4945.46 | H21: 6066.59 | I21: 6066.59 | J21: =$I$176 -> 0 | K21: =I21-(I21*J21) -> 6066.59
A22: 2 | D22: GERENCIAMENTO DA OBRA | F22: 1 | H22: 120434.96 | I22: 120434.96 | J22: =$I$176 -> 0 | K22: =I22-(I22*J22) -> 120434.96
A23: 2.1 | B23: COMP DIR 20 | C23: Próprio | D23: ADMINISTRAÇÃO LOCAL | E23: UND | F23: 1 | G23: 98178.01 | H23: 120434.96 | I23: 120434.96 | J23: =$I$176 -> 0 | K23: =I23-(I23*J23) -> 120434.96
A24: 3 | D24: SERVIÇOS PRELIMINARES | F24: 1 | H24: 74708.6 | I24: 74708.6 | J24: =$I$176 -> 0 | K24: =I24-(I24*J24) -> 74708.6
A25: 3.1 | D25: INSTALAÇÃO DO CANTEIRO DE OBRA | F25: 1 | H25: 31297.65 | I25: 31297.65 | J25: =$I$176 -> 0 | K25: =I25-(I25*J25) -> 31297.65
A26: 3.1.1 | B26: CANT 03 | C26: Próprio | D26: MOBILIZAÇÃO DE CANTEIRO | E26: UND | F26: 1 | G26: 1436.8 | H26: 1762.52 | I26: 1762.52 | J26: =$I$176 -> 0 | K26: =I26-(I26*J26) -> 1762.52
A27: 3.1.2 | B27: 103689 | C27: SINAPI | D27: FORNECIMENTO E INSTALAÇÃO DE PLACA DE OBRA COM CHAPA GALVANIZADA E ESTRUTURA DE MADEIRA. AF_03/2022_PS | E27: m² | F27: 3.15 | G27: 479.95 | H27: 588.75 | I27: 1854.56 | J27: =$I$176 -> 0 | K27: =I27-(I27*J27) -> 1854.56
A28: 3.1.3 | B28: CANT 05 | C28: Próprio | D28: INSTALAÇÃO E LIGAÇÃO PROVISÓRIAS DE OBRA DE ÁGUA E ESGOTO A REDE PÚBLICA [ADAPTADA SCO (AD 20.20.0100)] | E28: un | F28: 1 | G28: 2262.89 | H28: 2775.88 | I28: 2775.88 | J28: =$I$176 -> 0 | K28: =I28-(I28*J28) -> 2775.88
A29: 3.1.4 | B29: CANT 06 | C29: Próprio | D29: INSTALAÇÃO E LIGAÇÃO PROVISÓRIAS DE ALIMENTAÇÃO DE ENERGIA ELÉTRICA EM BAIXA TENSÃO, PARA CANTEIRO DE OBRA, INCLUSIVE MEDIDOR. [ADAPTADA SCO (AD 20.20.0050)] | E29: un | F29: 1 | G29: 2543.99 | H29: 3120.71 | I29: 3120.71 | J29: =$I$176 -> 0 | K29: =I29-(I29*J29) -> 3120.71
A30: 3.1.5 | B30: 02.002.0012-0 | C30: EMOP | D30: TAPUME DE VEDACAO OU PROTECAO,EXECUTADO COM TELHAS TRAPEZOID AIS DE ACO GALVANIZADO,ESPESSURA DE 0,5MM,ESTAS COM 2 VEZES DE UTILIZACAO,INCLUSIVE ENGRADAMENTO DE MADEIRA,UTILIZADO 2 VEZES,EXCLUSIVE PINTURA QUIVALENTES, Nº12X12 A 18X30 ENCARGOS SOCIAIS GOS SOCIAIS | E30: m² | F30: 96.8 | G30: 44.21 | H30: 54.23 | I30: 5249.46 | J30: =$I$176 -> 0 | K30: =I30-(I30*J30) -> 5249.46
A31: 3.1.6 | B31: 02.004.0004-0 | C31: EMOP | D31: BARRACAO OBRA C/PAREDES CHAPAS MADEIRA COMPENSADA,PLASTIF.,L ISA,COLAGEM FENOLICA,PROVA D`AGUA, COM 10MM ESP.PISO E ESTRU TURA MADEIRA 3ª,COBERTURA TELHAS ONDULADAS 6MM,FIBROCIMENTO, EXCL.PINT.E LIGACOES PROVISORIAS,INCL.INST.,APARELHOS, ESQUA DRIAS E FERRAG.,PROJ.Nº2007/EMOP,ESCRITORIO,SANITARIOS,DEPOS ITOS E TORRE C/CAIXA D`AGUA 500L,REAPROVEITADO 5 VEZES DE 5/8"X1/8" ATE 1.1/2"X1/8" QUIVALENTES, Nº12X12 A 18X30 /2" OS LADOS DE 1/2" OS LADOS, DE 1" E DE 0500 LITROS 10MM ENCARGOS SOCIAIS ARGOS SOCIAIS USIVE ENCARGOS SOCIAIS GOS SOCIAIS X2,5MM2 AMBAS AS EXTREMIDADES, DE 1/2" AMBAS AS EXTREMIDADES, DE 3/4" AMBAS AS EXTREMIDADES, DE 1" RRAS DE 6,00M, DE 040MM 0M, DE 75MM 0M, DE 100MM 4" EDONDA E PORTA GRELHA, DE (150X185X75)MM ACABAMENTO RESINADO PRETO, DE (100X86X38)MM RIMENTO DE 30CM MM DE DIAMETRO INT.,40MM DE ESPESSURA, COM ALTURA DE 300MM MM DE DIAMETRO INT.,40MM DE ESPESSURA, COM ALTURA DE 150MM OR METALICOS E BALAO PLASTICO E 3"X3"X5/64" O DE LATAO MACICO, CILINDRO DE LATAO TREFILADO, DE 30MM (55X45)CM ARGOS SOCIAIS R TETICOS (CRFS), DE (2,44X1,10)M E C/ESPES. DE 6MM HAS E ARRUELAS | E31: m² | F31: 28 | G31: 471.75 | H31: 578.69 | I31: 16203.32 | J31: =$I$176 -> 0 | K31: =I31-(I31*J31) -> 16203.32
A32: 3.1.7 | B32: 036686 | C32: SBC | D32: RECARGA DE EXTINTOR PO QUIMICO 4KG - ABC | E32: UN | F32: 3 | G32: 90 | H32: 110.4 | I32: 331.2 | J32: =$I$176 -> 0 | K32: =I32-(I32*J32) -> 331.2
A33: 3.2 | D33: LIMPEZA DO TERRENO E PODA DE ÁRVORES | F33: 1 | H33: 2529.29 | I33: 2529.29 | J33: =$I$176 -> 0 | K33: =I33-(I33*J33) -> 2529.29
A34: 3.2.1 | B34: 98524 | C34: SINAPI | D34: LIMPEZA MANUAL DE VEGETAÇÃO EM TERRENO COM ENXADA. AF_03/2024 | E34: m² | F34: 189.9126 | G34: 6.69 | H34: 8.2 | I34: 1557.28 | J34: =$I$176 -> 0 | K34: =I34-(I34*J34) -> 1557.28
A35: 3.2.2 | B35: 98533 | C35: SINAPI | D35: PODA EM ALTURA DE ÁRVORE COM DIÂMETRO DE TRONCO MAIOR OU IGUAL A 0,20 M E MENOR QUE 0,40 M. AF_03/2024 | E35: UN | F35: 2 | G35: 150.24 | H35: 184.29 | I35: 368.58 | J35: =$I$176 -> 0 | K35: =I35-(I35*J35) -> 368.58
A36: 3.2.3 | B36: 98531 | C36: SINAPI | D36: CORTE RASO E RECORTE DE ÁRVORE COM DIÂMETRO DE TRONCO MAIOR OU IGUAL A 0,60 M. AF_03/2024 | E36: UN | F36: 1 | G36: 491.92 | H36: 603.43 | I36: 603.43 | J36: =$I$176 -> 0 | K36: =I36-(I36*J36) -> 603.43
A37: 3.3 | D37: DEMOLIÇÕES / REMOÇÕES | F37: 1 | H37: 32569.32 | I37: 32569.32 | J37: =$I$176 -> 0 | K37: =I37-(I37*J37) -> 32569.32
A38: 3.3.1 | B38: 97631 | C38: SINAPI | D38: DEMOLIÇÃO DE ARGAMASSAS, DE FORMA MANUAL, SEM REAPROVEITAMENTO. AF_09/2023 | E38: m² | F38: 737.2883 | G38: 16.76 | H38: 20.55 | I38: 15151.27 | J38: =$I$176 -> 0 | K38: =I38-(I38*J38) -> 15151.27
A39: 3.3.2 | B39: 023357 | C39: SBC | D39: REMOCAO E RETIRADA CAMADA BRITA EM BASES DE PAVIMENTO | E39: m³ | F39: 1.8 | G39: 104.29 | H39: 127.93 | I39: 230.27 | J39: =$I$176 -> 0 | K39: =I39-(I39*J39) -> 230.27
A40: 3.3.3 | B40: 104789 | C40: SINAPI | D40: DEMOLIÇÃO DE PISO DE CONCRETO SIMPLES, DE FORMA MANUAL, SEM REAPROVEITAMENTO. AF_09/2023 | E40: m³ | F40: 1.535 | G40: 292.5 | H40: 358.8 | I40: 550.75 | J40: =$I$176 -> 0 | K40: =I40-(I40*J40) -> 550.75
A41: 3.3.4 | B41: COMP DIR 11 | C41: Próprio | D41: REMOÇÃO DE TELHAS DE FIBROCIMENTO ONDULADA E TRANSLÚCIDA, DE FORMA MANUAL, SEM REAPROVEITAMENTO [SINAPI 97647] | E41: m² | F41: 512.6 | G41: 5.19 | H41: 6.36 | I41: 3260.13 | J41: =$I$176 -> 0 | K41: =I41-(I41*J41) -> 3260.13
A42: 3.3.5 | B42: COMP DIR 12 | C42: Próprio | D42: REMOÇÃO DE TELHAS DE FIBROCIMENTO ONDULADA, DE FORMA MANUAL, COM REAPROVEITAMENTO, INCLUSIVE AFASTAMENTO E EMPILHAMENTO [SETOP ED-48512 e SINAPI 97647] | E42: m² | F42: 145.56 | G42: 11.65 | H42: 14.29 | I42: 2080.05 | J42: =$I$176 -> 0 | K42: =I42-(I42*J42) -> 2080.05
A43: 3.3.6 | B43: 97650 | C43: SINAPI | D43: REMOÇÃO DE TRAMA DE MADEIRA PARA COBERTURA, DE FORMA MANUAL, SEM REAPROVEITAMENTO. AF_09/2023 | E43: m² | F43: 658.16 | G43: 11.21 | H43: 13.75 | I43: 9049.7 | J43: =$I$176 -> 0 | K43: =I43-(I43*J43) -> 9049.7
A44: 3.3.7 | B44: 97651 | C44: SINAPI | D44: REMOÇÃO DE TESOURAS DE MADEIRA, COM VÃO MENOR QUE 8M, DE FORMA MANUAL, SEM REAPROVEITAMENTO. AF_09/2023 | E44: UN | F44: 15 | G44: 122.13 | H44: 149.81 | I44: 2247.15 | J44: =$I$176 -> 0 | K44: =I44-(I44*J44) -> 2247.15
A45: 3.4 | D45: ENSAIOS | F45: 1 | H45: 8312.34 | I45: 8312.34 | J45: =$I$176 -> 0 | K45: =I45-(I45*J45) -> 8312.34
A46: 3.4.1 | B46: 01.001.0139-0 | C46: EMOP | D46: AVALIACAO DA ESPESSURA DE CARBONATACAO,POR PONTO,EM ESTRUTUR AS DE CONCRETO ARMADO OU PROTENDIDO,ATRAVES DE ASPERSAO DE S OLUCAO DE FENOLFTALEINA,INCLUSIVE COLETA DA AMOSTRA ARGOS SOCIAIS | E46: UN | F46: 6 | G46: 463.55 | H46: 568.63 | I46: 3411.78 | J46: =$I$176 -> 0 | K46: =I46-(I46*J46) -> 3411.78
A47: 3.4.2 | B47: 01.001.0140-0 | C47: EMOP | D47: DETERMINACAO DO TEOR DE CLORETOS,POR AMOSTRA,EM ESTRUTURAS D E CONCRETO ARMADO OU PROTENDIDO,CONFORME NORMA DA ACI-318/31 -BR36,INCLUSIVE COLETA DA AMOSTRA ARGOS SOCIAIS | E47: UN | F47: 6 | G47: 462.37 | H47: 567.18 | I47: 3403.08 | J47: =$I$176 -> 0 | K47: =I47-(I47*J47) -> 3403.08
A48: 3.4.3 | B48: 01.001.0400-0 | C48: EMOP | D48: ENSAIOS PARA RECUPERACAO DE CORROSAO EM ARMADURAS,CONSTANDO DE ENSAIO DO POTENCIAL ELETRICO DA ARMADURA EM RELACAO AO EL EMENTO ESTRUTURAL QUE A CERCA GOS SOCIAIS ARGOS SOCIAIS | E48: UN | F48: 6 | G48: 203.46 | H48: 249.58 | I48: 1497.48 | J48: =$I$176 -> 0 | K48: =I48-(I48*J48) -> 1497.48
A49: 4 | D49: MOVIMENTO DE TERRA | F49: 1 | H49: 2173.39 | I49: 2173.39 | J49: =$I$176 -> 0 | K49: =I49-(I49*J49) -> 2173.39
A50: 4.1 | B50: 93358 | C50: SINAPI | D50: ESCAVAÇÃO MANUAL DE VALA. AF_09/2024 | E50: m³ | F50: 7.24847 | G50: 124.17 | H50: 152.31 | I50: 1104.01 | J50: =$I$176 -> 0 | K50: =I50-(I50*J50) -> 1104.01
...

Sheet Composições
A11: PLANILHA DE COMPOSIÇÕES ANALÍTICAS COM PREÇO UNITÁRIO
A12: =Sintético!A12 -> UFF- DIREITO II | E12: =Resumo!E12 -> PROCESSO: 23069.164735/2025-38
A13: =Sintético!A13 -> LOCAL: RUA TIRADENTES, 17, INGÁ, NITERÓI/RJ, CEP 24210-510 | E13: =Resumo!E13 -> ARTs: ANEXADAS AO PROCESSO
A14: =Sintético!A14 -> NOME DA OBRA: RECUPERAÇÃO DO TELHADO DA FACULDADE DE DIREITO - CAMPUS II | E14: =Resumo!E14 -> BDI | F14: =Resumo!F14 -> BDI DIF. | G14: =Resumo!G14 -> REGIME TRIBUTÁRIO | H14: =Resumo!H14 -> DATA-BASE | I14: =Resumo!I14 -> REVISÃO
A15: =Sintético!A15 -> BASE DE DADOS: SINAPI, SICRO 3, SBC, EMOP e SCO (RJ) | E15: =Resumo!E15 -> 0.2267 | F15: =Resumo!F15 -> 0 | G15: =Resumo!G15 -> NÃO DESONERADO | H15: =Resumo!H15 -> 45778 | I15: =Resumo!I15 -> R00
A16: Composições Principais
A17: 1.1 | B17: Código | C17: Banco | D17: Descrição | E17: Und | F17: Quant. | G17: Porcent. | H17: Valor Unit | I17: Total
A18: Composição | B18: COMP DIR 17 | C18: Próprio | D18: PROJETO EXECUTIVO DE INSTALAÇÃO ELÉTRICA PARA INSTALAÇÕES TEMPORÁRIAS DO CANTEIRO DE OBRAS, INCLUSIVE DESPESAS ADMINISTRATIVAS E DE MATERIAIS [ADAPTADO EMOP (01.050.0114-0)] | E18: UND | F18: 1 | H18: 1854.54 | I18: 1854.54
A19: Insumo | B19: 10965 | C19: EMOP | D19: MAO-DE-OBRA DE ARQUITETO OU ENGENHEIRO S ENIOR DE CONSULTORIA, INCLUSIVE ENCARGOS SOCIAIS | E19: H | F19: 6 | G19: 9 | H19: 283.57 | I19: 1854.54
E20: 1854.54 | F20: LS => | G20: 0 | H20: MO com LS => | I20: 1854.54
E21: 420.42 | G21: Valor com BDI => | I21: 2274.96
A23: 1.2 | B23: Código | C23: Banco | D23: Descrição | E23: Und | F23: Quant. | G23: Porcent. | H23: Valor Unit | I23: Total
A24: Composição | B24: COMP DIR 18 | C24: Próprio | D24: PROJETO DE SEGURANÇA CONTRA INCÊNDIO E PÂNICO PARA CANTEIRO DE OBRA, INCLUSIVE DESPESAS ADMINISTRATIVAS E DE MATERIAIS | E24: UND | F24: 1 | H24: 1236.36 | I24: 1236.36
A25: Insumo | B25: 10965 | C25: EMOP | D25: MAO-DE-OBRA DE ARQUITETO OU ENGENHEIRO S ENIOR DE CONSULTORIA, INCLUSIVE ENCARGOS SOCIAIS | E25: H | F25: 4 | G25: 9 | H25: 283.57 | I25: 1236.36
E26: 1236.36 | F26: LS => | G26: 0 | H26: MO com LS => | I26: 1236.36
E27: 280.28 | G27: Valor com BDI => | I27: 1516.64
A29: 1.3 | B29: Código | C29: Banco | D29: Descrição | E29: Und | F29: Quant. | G29: Porcent. | H29: Valor Unit | I29: Total
A30: Composição | B30: COMP DIR 15 | C30: Próprio | D30: ELABORAÇÃO DE LAUDO TÉCNICO APÓS RESULTADO DE ENSAIOS PARA DIAGNÓSTICO PRECISO DOS MÉTODOS DE RECUPERAÇÃO ESTRUTURAL QUE SERÃO EFETIVAMENTE NECESSÁRIOS NESSA OBRA COM RELATÓRIO FOTOGRÁFICO, INCLUSIVE DESPESAS ADMINISTRATIVAS E DE MATERIAIS [ADAPTADA EMOP 01.050.0326] | E30: m² | F30: 1 | H30: 6.3 | I30: 6.3
A31: Insumo | B31: 10995 | C31: EMOP | D31: MAO-DE-OBRA DE DIGITADOR, INCLUSIVE ENCA RGOS SOCIAIS | E31: H | F31: 0.013 | G31: 9 | H31: 25.58 | I31: 0.36
A32: Insumo | B32: 01915 | C32: EMOP | D32: MAO-DE-OBRA DE ENGENHEIRO OU ARQUITETO J UNIOR, INCLUSIVE ENCARGOS SOCIAIS | E32: H | F32: 0.04 | G32: 9 | H32: 129.56 | I32: 5.64
A33: Insumo | B33: 01924 | C33: EMOP | D33: MAO-DE-OBRA DE AUXILIAR TECNICO, INCLUSI VE ENCARGOS SOCIAIS | E33: H | F33: 0.013 | G33: 9 | H33: 21.27 | I33: 0.3
E34: 6.3 | F34: LS => | G34: 0 | H34: MO com LS => | I34: 6.3
E35: 1.42 | G35: Valor com BDI => | I35: 7.72
A37: 1.4 | B37: Código | C37: Banco | D37: Descrição | E37: Und | F37: Quant. | G37: Porcent. | H37: Valor Unit | I37: Total
A38: Composição | B38: COMP DIR 16 | C38: Próprio | D38: PROJETO EXECUTIVO DE LINHA DE VIDA, INCLUSIVE DESPESAS ADMINISTRATIVAS E DE MATERIAIS [ADAPTADA EMOP (01.050.0035-0)] | E38: UND | F38: 1 | H38: 4945.46 | I38: 4945.46
A39: Insumo | B39: 10965 | C39: EMOP | D39: MAO-DE-OBRA DE ARQUITETO OU ENGENHEIRO S ENIOR DE CONSULTORIA, INCLUSIVE ENCARGOS SOCIAIS | E39: H | F39: 16 | G39: 9 | H39: 283.57 | I39: 4945.46
E40: 4945.46 | F40: LS => | G40: 0 | H40: MO com LS => | I40: 4945.46
E41: 1121.13 | G41: Valor com BDI => | I41: 6066.59
A43: 2.1 | B43: Código | C43: Banco | D43: Descrição | E43: Und | F43: Quant. | G43: Porcent. | H43: Valor Unit | I43: Total
A44: Composição | B44: COMP DIR 20 | C44: Próprio | D44: ADMINISTRAÇÃO LOCAL | E44: UND | F44: 1 | H44: 98178.01 | I44: 98178.01
A45: Composição Auxiliar | B45: 93572 | C45: SINAPI | D45: ENCARREGADO GERAL DE OBRAS COM ENCARGOS COMPLEMENTARES | E45: MES | F45: 7 | G45: 0 | H45: 8821.83 | I45: 61752.81
A46: Composição Auxiliar | B46: GER 03 | C46: Próprio | D46: TECNICO DE SEGURANÇA COM ENCARGOS COMPLEMENTARES (2H POR DIA) | E46: MÊS | F46: 7 | G46: 0 | H46: 2106.58 | I46: 14746.06
A47: Composição Auxiliar | B47: GER 01 | C47: Próprio | D47: ENGENHEIRO CIVIL DE OBRA COM ENCARGOS COMPLEMENTARES (1H POR DIA) | E47: MÊS | F47: 7 | G47: 0 | H47: 3097.02 | I47: 21679.14
E48: 93205.42 | F48: LS => | G48: 0 | H48: MO com LS => | I48: 93205.42
E49: 22256.95 | G49: Valor com BDI => | I49: 120434.96
A51: 3.1.1 | B51: Código | C51: Banco | D51: Descrição | E51: Und | F51: Quant. | G51: Porcent. | H51: Valor Unit | I51: Total
A52: Composição | B52: CANT 03 | C52: Próprio | D52: MOBILIZAÇÃO DE CANTEIRO | E52: UND | F52: 1 | H52: 1436.8 | I52: 1436.8
A53: Composição Auxiliar | B53: 88316 | C53: SINAPI | D53: SERVENTE COM ENCARGOS COMPLEMENTARES | E53: H | F53: 16 | G53: 0 | H53: 31.39 | I53: 502.24
A54: Composição Auxiliar | B54: 92138 | C54: SINAPI | D54: CAMINHONETE COM MOTOR A DIESEL, POTÊNCIA 180 CV, CABINE DUPLA, 4X4 - CHP DIURNO. AF_11/2015 | E54: CHP | F54: 8 | G54: 0 | H54: 116.82 | I54: 934.56
E55: 642.16 | F55: LS => | G55: 0 | H55: MO com LS => | I55: 642.16
...

Sheet Cotacoes
A11: PLANILHA DE COTAÇÕES DO ORÇAMENTO
A12: =Composições!A12 -> UFF- DIREITO II | E12: =Composições!E12 -> PROCESSO: 23069.164735/2025-38
A13: =Composições!A13 -> LOCAL: RUA TIRADENTES, 17, INGÁ, NITERÓI/RJ, CEP 24210-510 | E13: =Composições!E13 -> ARTs: ANEXADAS AO PROCESSO
A14: =Composições!A14 -> NOME DA OBRA: RECUPERAÇÃO DO TELHADO DA FACULDADE DE DIREITO - CAMPUS II | E14: BDI | F14: BDI DIF. | G14: =Composições!G14 -> REGIME TRIBUTÁRIO | I14: =Composições!H14 -> DATA-BASE | J14: REVISÃO
A15: =Composições!A15 -> BASE DE DADOS: SINAPI, SICRO 3, SBC, EMOP e SCO (RJ) | E15: =Composições!E15 -> 0.2267 | G15: =Composições!G15 -> NÃO DESONERADO | I15: =Composições!H15 -> 45778
A17: ITEM | B17: CÓDIGO | C17: DESCRIÇÃO | D17: UNIDADE | E17: EMPRESA 1 | F17: EMPRESA 2 | G17: EMPRESA 3 | H17: EMPRESA 4 | I17: EMPRESA 5 | J17: MEDIANA (R$)
A18: 1 | B18: COT 01 | C18: INSUMO - 41946 - ABRACADEIRA EM ACO GALVANIZADO PARA SISTEMA DE LINHA DE VIDA, PARA POSTE TUBULAR DE DIAMETRO 3" E CABO DE ACO DE DIAMETRO 12,7 MM [INSUMO SINAPI SEM PREÇO NA BASE DE DADOS] | D18: UND | E18: MULTISEG | F18: IW8 (M.L.)
A19: PREÇO UNITÁRIO (R$) | E19: 84.88 | F19: 79 | J19: =MEDIAN(E19:I19) -> 81.94
A20: DATA DA COTAÇÃO | E20: 45842 | F20: 45842
A21: COTAÇÃO / PROPOSTA | E21: EM ANEXO | F21: EM ANEXO
A23: ITEM | B23: CÓDIGO | C23: DESCRIÇÃO | D23: UNIDADE | E23: EMPRESA 1 | F23: EMPRESA 2 | G23: EMPRESA 3 | H23: EMPRESA 4 | I23: EMPRESA 5 | J23: MEDIANA (R$)
A24: 2 | B24: COT 02 | C24: INSUMO - 41947 - ESTICADOR FORJADO PARA CABO DE ACO DE DIAMETRO 12,7 MM (1/2"), TIPO GANCHO X OLHAL (DIN 1480) [INSUMO SINAPI SEM PREÇO NA BASE DE DADOS] | D24: UND | E24: FATI | F24: FERRAMENTAS GERAIS
A25: PREÇO UNITÁRIO (R$) | E25: 33.75 | F25: 10.33 | J25: =MEDIAN(E25:I25) -> 22.04
A26: DATA DA COTAÇÃO | E26: 45842 | F26: 45842
A27: COTAÇÃO / PROPOSTA | E27: EM ANEXO | F27: EM ANEXO
A29: ITEM | B29: CÓDIGO | C29: DESCRIÇÃO | D29: UNIDADE | E29: EMPRESA 1 | F29: EMPRESA 2 | G29: EMPRESA 3 | H29: EMPRESA 4 | I29: EMPRESA 5 | J29: MEDIANA (R$)
A30: 3 | B30: COT 03 | C30: INSUMO - 41950 - GRAMPO PESADO FORJADO EM ACO CARBONO 1045 GALVANIZADO (CLIP'S) PARA CABO DE ACO DE DIAMETRO 12,7 MM (1/2") (FS FF-C-450D, TIPO 1, CLASSE 1 [INSUMO SINAPI SEM PREÇO NA BASE DE DADOS] | D30: UND | E30: FERRAMENTAS GERAIS | F30: PARAFUSO FÁCIL | G30: FERRAMENTAS KENNEDY
A31: PREÇO UNITÁRIO (R$) | E31: 35.99 | F31: 24.83 | G31: 36.99 | J31: =MEDIAN(E31:I31) -> 35.99
A32: DATA DA COTAÇÃO | E32: 45842 | F32: 45842 | G32: 45842
A33: COTAÇÃO / PROPOSTA | E33: EM ANEXO | F33: EM ANEXO | G33: EM ANEXO
A35: ITEM | B35: CÓDIGO | C35: DESCRIÇÃO | D35: UNIDADE | E35: EMPRESA 1 | F35: EMPRESA 2 | G35: EMPRESA 3 | H35: EMPRESA 4 | I35: EMPRESA 5 | J35: MEDIANA (R$)
A36: 4 | B36: COT 04 | C36: INSUMO - 41952 - MANILHA RETA PESADA PADRAO "D", CORPO EM ACO CARBONO 1045 E PINO REFORCADO EM ACO ALLOY, GALVANIZADO, ROSCADO, DIAMETRO 1/2" [INSUMO SINAPI SEM PREÇO NA BASE DE DADOS] | D36: UND | E36: FATI | F36: PARAFUSO FÁCIL
A37: PREÇO UNITÁRIO (R$) | E37: 29.97 | F37: 21.18 | J37: =MEDIAN(E37:I37) -> 25.575
A38: DATA DA COTAÇÃO | E38: 45842 | F38: 45842
A39: COTAÇÃO / PROPOSTA | E39: EM ANEXO | F39: EM ANEXO
A41: ITEM | B41: CÓDIGO | C41: DESCRIÇÃO | D41: UNIDADE | E41: EMPRESA 1 | F41: EMPRESA 2 | G41: EMPRESA 3 | H41: EMPRESA 4 | I41: EMPRESA 5 | J41: MEDIANA (R$)
A42: 5 | B42: COT DIR 01 | C42: CHAPIM EM CONCRETO PRÉ-MOLDADO (23X80X5)CM [OBS: DIMENSÕES COMERCIAIS MAIS PRÓXIMAS DO PROJETO] | D42: M | E42: RMARTEFATOSDECIMENTO (M.L.) | F42: VALDIRCARLOS(M.L.) | G42: REQUINTE LAZER | H42: BLOCOU | I42: MADEMAXI
A43: PREÇO UNITÁRIO (R$) | E43: 30.55 | F43: 21.25 | G43: 50 | H43: 22.5 | I43: 44.01 | J43: =MEDIAN(E43:I43) -> 30.55
A44: DATA DA COTAÇÃO | E44: 45821 | F44: 45821 | G44: 45821 | H44: 45821 | I44: 45821
A45: COTAÇÃO / PROPOSTA | E45: EM ANEXO | F45: EM ANEXO | G45: EM ANEXO | H45: EM ANEXO | I45: EM ANEXO

Sheet Memória de Cálculo
A11: PLANILHA DE MEMÓRIA DE CÁLCULOS
A12: =Resumo!A12 -> UFF- DIREITO II | E12: =Resumo!E12 -> PROCESSO: 23069.164735/2025-38
A13: =Resumo!A13 -> LOCAL: RUA TIRADENTES, 17, INGÁ, NITERÓI/RJ, CEP 24210-510 | E13: =Resumo!E13 -> ARTs: ANEXADAS AO PROCESSO
A14: =Resumo!A14 -> NOME DA OBRA: RECUPERAÇÃO DO TELHADO DA FACULDADE DE DIREITO - CAMPUS II | E14: =Resumo!E14 -> BDI | F14: =Resumo!F14 -> BDI DIF. | G14: =Resumo!G14 -> REGIME TRIBUTÁRIO | H14: =Resumo!H14 -> DATA-BASE | I14: =Resumo!I14 -> REVISÃO
A15: =Resumo!A15 -> BASE DE DADOS: SINAPI, SICRO 3, SBC, EMOP e SCO (RJ) | E15: =Resumo!E15 -> 0.2267 | F15: =Resumo!F15 -> 0 | G15: =Resumo!G15 -> NÃO DESONERADO | H15: =Resumo!H15 -> 45778 | I15: =Resumo!I15 -> R00
A16: Item | B16: Código | C16: Banco | D16: Descrição | E16: Und | F16: Quant. | G16: Valor Unit | H16: Valor Unit com BDI | I16: Total
A17: 1 | D17: PROJETOS | F17: 1 | H17: 22145.34 | I17: 22145.34
A18: 1.1 | B18: COMP DIR 17 | C18: Próprio | D18: PROJETO EXECUTIVO DE INSTALAÇÃO ELÉTRICA PARA INSTALAÇÕES TEMPORÁRIAS DO CANTEIRO DE OBRAS, INCLUSIVE DESPESAS ADMINISTRATIVAS E DE MATERIAIS [ADAPTADO EMOP (01.050.0114-0)] | E18: UND | F18: 1 | G18: 1854.54 | H18: 2274.96 | I18: 2274.96
A19: 1.2 | B19: COMP DIR 18 | C19: Próprio | D19: PROJETO DE SEGURANÇA CONTRA INCÊNDIO E PÂNICO PARA CANTEIRO DE OBRA, INCLUSIVE DESPESAS ADMINISTRATIVAS E DE MATERIAIS | E19: UND | F19: 1 | G19: 1236.36 | H19: 1516.64 | I19: 1516.64
A20: 1.3 | B20: COMP DIR 15 | C20: Próprio | D20: ELABORAÇÃO DE LAUDO TÉCNICO APÓS RESULTADO DE ENSAIOS PARA DIAGNÓSTICO PRECISO DOS MÉTODOS DE RECUPERAÇÃO ESTRUTURAL QUE SERÃO EFETIVAMENTE NECESSÁRIOS NESSA OBRA COM RELATÓRIO FOTOGRÁFICO, INCLUSIVE DESPESAS ADMINISTRATIVAS E DE MATERIAIS [ADAPTADA EMOP 01.050.0326] | E20: m² | F20: 1591.6 | G20: 6.3 | H20: 7.72 | I20: 12287.15
A21: Local | D21: Descrição | E21: Fórmula | I21: Quantidade
D22: ESCADA | E22: 22,60 | I22: 22.6
D23: ÁREA PROJ (2 PAVIMENTOS) | E23: 784,50*2 | I23: 1569
A24: 1.4 | B24: COMP DIR 16 | C24: Próprio | D24: PROJETO EXECUTIVO DE LINHA DE VIDA, INCLUSIVE DESPESAS ADMINISTRATIVAS E DE MATERIAIS [ADAPTADA EMOP (01.050.0035-0)] | E24: UND | F24: 1 | G24: 4945.46 | H24: 6066.59 | I24: 6066.59
A25: 2 | D25: GERENCIAMENTO DA OBRA | F25: 1 | H25: 120434.96 | I25: 120434.96
A26: 2.1 | B26: COMP DIR 20 | C26: Próprio | D26: ADMINISTRAÇÃO LOCAL | E26: UND | F26: 1 | G26: 98178.01 | H26: 120434.96 | I26: 120434.96
A27: 3 | D27: SERVIÇOS PRELIMINARES | F27: 1 | H27: 74708.6 | I27: 74708.6
A28: 3.1 | D28: INSTALAÇÃO DO CANTEIRO DE OBRA | F28: 1 | H28: 31297.65 | I28: 31297.65
A29: 3.1.1 | B29: CANT 03 | C29: Próprio | D29: MOBILIZAÇÃO DE CANTEIRO | E29: UND | F29: 1 | G29: 1436.8 | H29: 1762.52 | I29: 1762.52
A30: 3.1.2 | B30: 103689 | C30: SINAPI | D30: FORNECIMENTO E INSTALAÇÃO DE PLACA DE OBRA COM CHAPA GALVANIZADA E ESTRUTURA DE MADEIRA. AF_03/2022_PS | E30: m² | F30: 3.15 | G30: 479.95 | H30: 588.75 | I30: 1854.56
A31: 3.1.3 | B31: CANT 05 | C31: Próprio | D31: INSTALAÇÃO E LIGAÇÃO PROVISÓRIAS DE OBRA DE ÁGUA E ESGOTO A REDE PÚBLICA [ADAPTADA SCO (AD 20.20.0100)] | E31: un | F31: 1 | G31: 2262.89 | H31: 2775.88 | I31: 2775.88
A32: 3.1.4 | B32: CANT 06 | C32: Próprio | D32: INSTALAÇÃO E LIGAÇÃO PROVISÓRIAS DE ALIMENTAÇÃO DE ENERGIA ELÉTRICA EM BAIXA TENSÃO, PARA CANTEIRO DE OBRA, INCLUSIVE MEDIDOR. [ADAPTADA SCO (AD 20.20.0050)] | E32: un | F32: 1 | G32: 2543.99 | H32: 3120.71 | I32: 3120.71
A33: 3.1.5 | B33: 02.002.0012-0 | C33: EMOP | D33: TAPUME DE VEDACAO OU PROTECAO,EXECUTADO COM TELHAS TRAPEZOID AIS DE ACO GALVANIZADO,ESPESSURA DE 0,5MM,ESTAS COM 2 VEZES DE UTILIZACAO,INCLUSIVE ENGRADAMENTO DE MADEIRA,UTILIZADO 2 VEZES,EXCLUSIVE PINTURA QUIVALENTES, Nº12X12 A 18X30 ENCARGOS SOCIAIS GOS SOCIAIS | E33: m² | F33: 96.8 | G33: 44.21 | H33: 54.23 | I33: 5249.46
A34: Local | D34: Descrição | E34: Fórmula | I34: Quantidade
E35: 44*2,2 | I35: 96.8
A36: 3.1.6 | B36: 02.004.0004-0 | C36: EMOP | D36: BARRACAO OBRA C/PAREDES CHAPAS MADEIRA COMPENSADA,PLASTIF.,L ISA,COLAGEM FENOLICA,PROVA D`AGUA, COM 10MM ESP.PISO E ESTRU TURA MADEIRA 3ª,COBERTURA TELHAS ONDULADAS 6MM,FIBROCIMENTO, EXCL.PINT.E LIGACOES PROVISORIAS,INCL.INST.,APARELHOS, ESQUA DRIAS E FERRAG.,PROJ.Nº2007/EMOP,ESCRITORIO,SANITARIOS,DEPOS ITOS E TORRE C/CAIXA D`AGUA 500L,REAPROVEITADO 5 VEZES DE 5/8"X1/8" ATE 1.1/2"X1/8" QUIVALENTES, Nº12X12 A 18X30 /2" OS LADOS DE 1/2" OS LADOS, DE 1" E DE 0500 LITROS 10MM ENCARGOS SOCIAIS ARGOS SOCIAIS USIVE ENCARGOS SOCIAIS GOS SOCIAIS X2,5MM2 AMBAS AS EXTREMIDADES, DE 1/2" AMBAS AS EXTREMIDADES, DE 3/4" AMBAS AS EXTREMIDADES, DE 1" RRAS DE 6,00M, DE 040MM 0M, DE 75MM 0M, DE 100MM 4" EDONDA E PORTA GRELHA, DE (150X185X75)MM ACABAMENTO RESINADO PRETO, DE (100X86X38)MM RIMENTO DE 30CM MM DE DIAMETRO INT.,40MM DE ESPESSURA, COM ALTURA DE 300MM MM DE DIAMETRO INT.,40MM DE ESPESSURA, COM ALTURA DE 150MM OR METALICOS E BALAO PLASTICO E 3"X3"X5/64" O DE LATAO MACICO, CILINDRO DE LATAO TREFILADO, DE 30MM (55X45)CM ARGOS SOCIAIS R TETICOS (CRFS), DE (2,44X1,10)M E C/ESPES. DE 6MM HAS E ARRUELAS | E36: m² | F36: 28 | G36: 471.75 | H36: 578.69 | I36: 16203.32
A37: Local | D37: Descrição | E37: Fórmula | I37: Quantidade
D38: VESTIÁRIO E BANHEIRO | E38: 12 | I38: 12
D39: ESCRITÓRIO | E39: 8 | I39: 8
D40: REFEITÓRIO | E40: 8 | I40: 8
A41: 3.1.7 | B41: 036686 | C41: SBC | D41: RECARGA DE EXTINTOR PO QUIMICO 4KG - ABC | E41: UN | F41: 3 | G41: 90 | H41: 110.4 | I41: 331.2
A42: 3.2 | D42: LIMPEZA DO TERRENO E PODA DE ÁRVORES | F42: 1 | H42: 2529.29 | I42: 2529.29
A43: 3.2.1 | B43: 98524 | C43: SINAPI | D43: LIMPEZA MANUAL DE VEGETAÇÃO EM TERRENO COM ENXADA. AF_03/2024 | E43: m² | F43: 189.9126 | G43: 6.69 | H43: 8.2 | I43: 1557.28
A44: 3.2.2 | B44: 98533 | C44: SINAPI | D44: PODA EM ALTURA DE ÁRVORE COM DIÂMETRO DE TRONCO MAIOR OU IGUAL A 0,20 M E MENOR QUE 0,40 M. AF_03/2024 | E44: UN | F44: 2 | G44: 150.24 | H44: 184.29 | I44: 368.58
A45: 3.2.3 | B45: 98531 | C45: SINAPI | D45: CORTE RASO E RECORTE DE ÁRVORE COM DIÂMETRO DE TRONCO MAIOR OU IGUAL A 0,60 M. AF_03/2024 | E45: UN | F45: 1 | G45: 491.92 | H45: 603.43 | I45: 603.43
A46: 3.3 | D46: DEMOLIÇÕES / REMOÇÕES | F46: 1 | H46: 32569.32 | I46: 32569.32
A47: 3.3.1 | B47: 97631 | C47: SINAPI | D47: DEMOLIÇÃO DE ARGAMASSAS, DE FORMA MANUAL, SEM REAPROVEITAMENTO. AF_09/2023 | E47: m² | F47: 737.2883 | G47: 16.76 | H47: 20.55 | I47: 15151.27
A48: Local | D48: Descrição | E48: Fórmula | I48: Quantidade
D49: ÁREA DO RESERVATÓRIO | E49: 75 | I49: 75
D50: ÁREA DAS CALHAS | E50: 0,75*(46,25+14,53*2*0,2*5+20,93*0,2*2) | I50: 62.7615
...

Sheet BDI
A11: PLANILHA DE MEMÓRIA DE CÁLCULO DE BDI - BÔNUS E DESPESAS INDIRETAS PRINCIPAL
A12: =Sintético!A12 -> UFF- DIREITO II | E12: =Sintético!E12 -> PROCESSO: 23069.164735/2025-38
A13: =Sintético!A13 -> LOCAL: RUA TIRADENTES, 17, INGÁ, NITERÓI/RJ, CEP 24210-510 | E13: =Sintético!E13 -> ARTs: ANEXADAS AO PROCESSO
A14: =Sintético!A14 -> NOME DA OBRA: RECUPERAÇÃO DO TELHADO DA FACULDADE DE DIREITO - CAMPUS II | E14: =Sintético!E14 -> BDI | F14: =Sintético!F14 -> BDI DIF. | G14: =Sintético!G14 -> REGIME TRIBUTÁRIO | H14: =Sintético!H14 -> DATA-BASE | I14: =Sintético!I14 -> REVISÃO
A15: =Sintético!A15 -> BASE DE DADOS: SINAPI, SICRO 3, SBC, EMOP e SCO (RJ) | E15: =Sintético!E15 -> 0.2267 | F15: =Sintético!F15 -> 0 | G15: =Sintético!G15 -> NÃO DESONERADO | H15: =Sintético!H15 -> 45778 | I15: =Sintético!I15 -> R00
B37: Demonstração:
B38: AC = taxa de Administração Central
B39: S = taxa de Seguros
B40: R = taxa de Riscos
B41: G = taxa de Garantias
B42: DF = taxa de Despesas Financeiras
B43: L = taxa de Lucro/ remuneração
B44: I = taxa de incidência de Impostos (PIS, COFINS e ISS)
B46: Administração Central (AC)
B47: Considerado = x % (varia entre 3 a 5,50% do custo direto da obra)
B49: Seguro + Garantia (S + G)
B50: Considerado =x% (varia entre 0,8 a 1,0% do custo da obra)
... B61: Tributos sobre o faturamento (I)
B63: TRIBUTO | D63: ALIQUOTA
B64: COFINS | D64: 0.03
B65: PIS/PASEP | D65: 0.0065
B66: ISS (Niterói) | D66: 0.03
B67: TOTAL | D67: =SUM(D64:D66) -> 0.0665
B69: CPRB (INSS) | D69: 0
F73: TABELA DE ISS - UNIDADES UFF - OBRA | J73: Obra 7.02 | K73: PJ 7.03
F74: ISS (%) | G74: UF | H74: MUNICÍPIO | J74: ISS Projeto (%) | K74: LEI
F75: 3% (50%) | G75: RJ | H75: Niterói | J75: 3 | K75: 2597/2008 | L75: Código Tributário de Niterói
F76: 5%(50%) com dedução ou 3%(100%) do total | G76: RJ | H76: Angra dos Reis | J76: 5 | K76: 262/84 | L76: Código Tributário de Angra dos Reis | M76: Ver Art 54 e 63
F77: 5 | G77: RJ | H77: Cachoeira de Macacú | J77: 5 | K77: 014/2003 | L77: Lei Complementar 014/2003
F78: 2 | G78: RJ | H78: Santo Antônio de Pádua | J78: 2 | K78: 002/2018 | L78: Lei Complementar 002/2018
F79: 5 | G79: RJ | H79: Campos dos Goytacazes | J79: 5 | K79: 001/2017 | L79: Lei Complementar 001/2017
F80: 2 | G80: RJ | H80: Macaé | J80: 2 | K80: 282/2018 | L80: Lei Complementar 282/2018
F81: 3 | G81: RJ | H81: Nova Friburgo | J81: 3 | K81: 124/2018 | L81: Lei Complementar 124/2018
F82: 2.5 | G82: RJ | H82: Rio das Ostras | J82: 3 | K82: 508/2000 | L82: Lei 508/2000
F83: 3 | G83: RJ | H83: Volta Redonda | J83: 3 | K83: 1986/84 | L83: Lei 1986/84
F84: 3 | G84: RJ | H84: Petropolis | J84: 3 | K84: 3970/78 | L84: Lei 3970/1978
F85: 5 | G85: PA | H85: Oriximiná | J85: 5 | K85: 9111/17 | L85: Lei 9111/2017
F86: Obras 7.02 | J86: PJ 7.03

Sheet Curva ABC de Serviços
A11: CURVA ABC DE SERVIÇOS
A12: =Sintético!A12 -> UFF- DIREITO II | E12: =Sintético!E12 -> PROCESSO: 23069.164735/2025-38
A13: =Sintético!A13 -> LOCAL: RUA TIRADENTES, 17, INGÁ, NITERÓI/RJ, CEP 24210-510 | E13: =Sintético!E13 -> ARTs: ANEXADAS AO PROCESSO
A14: =Sintético!A14 -> NOME DA OBRA: RECUPERAÇÃO DO TELHADO DA FACULDADE DE DIREITO - CAMPUS II | E14: =Sintético!E14 -> BDI | F14: =Sintético!F14 -> BDI DIF. | G14: =Sintético!G14 -> REGIME TRIBUTÁRIO | H14: =Sintético!H14 -> DATA-BASE | I14: =Sintético!I14 -> REVISÃO
A15: =Sintético!A15 -> BASE DE DADOS: SINAPI, SICRO 3, SBC, EMOP e SCO (RJ) | E15: =Sintético!E15 -> 0.2267 | F15: =Sintético!F15 -> 0 | G15: =Sintético!G15 -> NÃO DESONERADO | H15: =Sintético!H15 -> 45778 | I15: =Sintético!I15 -> R00
A16: Código | B16: Banco | C16: Descrição | D16: Und | E16: Quant. | F16: Valor Unit | G16: Total | H16: Peso (%) | I16: Peso Acumulado (%)
A17: 00020193 | B17: SINAPI | C17: LOCACAO DE ANDAIME METALICO TIPO FACHADEIRO, PECAS COM APROXIMADAMENTE 1,20 M DE LARGURA E 2,0 M DE ALTURA, INCLUINDO DIAGONAIS EM X, BARRAS DE LIGACAO, SAPATAS E DEMAIS ITENS NECESSARIOS A MONTAGEM (NAO INCLUI INSTALACAO) | D17: M2/MES | E17: 5.795,52 | F17: 27,60 | G17: 159.956,35 | H17: 10,95 | I17: 10,95
A18: COMP DIR 20 | B18: Próprio | C18: ADMINISTRAÇÃO LOCAL | D18: UND | E18: 1,0 | F18: 120.434,96 | G18: 120.434,96 | H18: 8,25 | I18: 19,20
A19: 98547 | B19: SINAPI | C19: IMPERMEABILIZAÇÃO DE SUPERFÍCIE COM MANTA ASFÁLTICA, DUAS CAMADAS, INCLUSIVE APLICAÇÃO DE PRIMER ASFÁLTICO, E=3MM E E=4MM. AF_09/2023 | D19: m² | E19: 258,03 | F19: 295,31 | G19: 76.198,83 | H19: 5,22 | I19: 24,42
A20: COMP DIR 01 | B20: Próprio | C20: FABRICAÇÃO E INSTALAÇÃO DE PONTALETES DE MADEIRA NÃO APARELHADA PARA TELHADOS COM ATÉ 2 ÁGUAS E COM TELHA ONDULADA DE FIBROCIMENTO, INCLUSO TRANSPORTE VERTICAL. [ADAPTADA SINAPI (100384)] | D20: m² | E20: 661,15 | F20: 113,77 | G20: 75.219,03 | H20: 5,15 | I20: 29,57
A21: 97063 | B21: SINAPI | C21: MONTAGEM E DESMONTAGEM DE ANDAIME MODULAR FACHADEIRO, COM PISO METÁLICO, PARA EDIFÍCIOS COM MULTIPLOS PAVIMENTOS (EXCLUSIVE ANDAIME E LIMPEZA). AF_03/2024 | D21: m² | E21: 1.931,84 | F21: 36,56 | G21: 70.628,07 | H21: 4,84 | I21: 34,41
A22: COMP DIR 10 | B22: Próprio | C22: TELHAMENTO COM TELHA ONDULADA DE FIBROCIMENTO E = 6 MM (1,83X1,1)M, COM RECOBRIMENTO LATERAL DE 1/4 DE ONDA PARA TELHADO COM INCLINAÇÃO MAIOR QUE 10°, COM ATÉ 2 ÁGUAS, INCLUSO IÇAMENTO. [ADAPTADA SINAPI (94207)] | D22: m² | E22: 495,8625 | F22: 117,76 | G22: 58.392,76 | H22: 4,00 | I22: 38,41
A23: 104234 | B23: SINAPI | C23: EMBOÇO OU MASSA ÚNICA EM ARGAMASSA TRAÇO 1:2:8, PREPARO MANUAL, APLICADA MANUALMENTE EM PANOS DE FACHADA SEM PRESENÇA DE VÃOS, ESPESSURA DE 25 MM, ACESSO POR ANDAIME. AF_08/2022 | D23: m² | E23: 839,08 | F23: 64,99 | G23: 54.531,80 | H23: 3,73 | I23: 42,14
A24: PINT 02 | B24: Próprio | C24: APLICAÇÃO MANUAL DE TINTA LÁTEX ACRÍLICA EM FACHADA, DUAS DEMÃOS. [SINAPI (95624)] | D24: m² | E24: 1.478,6 | F24: 35,64 | G24: 52.697,30 | H24: 3,61 | I24: 45,75
A25: 98554 | B25: SINAPI | C25: IMPERMEABILIZAÇÃO DE SUPERFÍCIE COM MEMBRANA À BASE DE RESINA ACRÍLICA, 3 DEMÃOS. AF_09/2023 | D25: m² | E25: 684,09 | F25: 72,64 | G25: 49.692,29 | H25: 3,40 | I25: 49,15
A26: COMP DIR 21 | B26: Próprio | C26: LINHA DE VIDA HORIZONTAL PERMANENTE TIPO VARAL DE SEGURANÇA COM CABO DE AÇO [ADAPTADA SINAPI (97043)] | D26: M | E26: 280,0 | F26: 149,24 | G26: 41.787,20 | H26: 2,86 | I26: 52,01
A27: 05.005.0055-0 | B27: EMOP | C27: PLATAFORMA DE PROTECAO A TRANSEUNTES(PARA-LIXO),EM MADEIRA D E 1ª,EM PECAS DE 3"X6" E 1"X12",COM 2,00M DE LARGURA,COM APR OVEITAMENTO DA MADEIRA 2 VEZES,INCLUSIVE A DESMONTAGEM E RET IRADA DA MADEIRA RUPO I QUIVALENTES, Nº12X12 A 18X30 NCARGOS SOCIAIS GOS SOCIAIS | D27: M | E27: 124,4 | F27: 286,09 | G27: 35.589,59 | H27: 2,44 | I27: 54,45
... A141: 100717 | B141: SINAPI | C141: LIXAMENTO MANUAL EM SUPERFÍCIES METÁLICAS EM OBRA. AF_01/2020 | D141: m² | E141: 4,022304 | F141: 16,31 | G141: 65,60 | H141: 0,00 | I141: 100,00

Sheet Curva ABC de Insumos
A11: CURVA ABC DE INSUMOS
A12: =Sintético!A12 -> UFF- DIREITO II | E12: =Sintético!E12 -> PROCESSO: 23069.164735/2025-38
A13: =Sintético!A13 -> LOCAL: RUA TIRADENTES, 17, INGÁ, NITERÓI/RJ, CEP 24210-510 | E13: =Sintético!E13 -> ARTs: ANEXADAS AO PROCESSO
A14: =Sintético!A14 -> NOME DA OBRA: RECUPERAÇÃO DO TELHADO DA FACULDADE DE DIREITO - CAMPUS II | E14: =Sintético!E14 -> BDI | F14: =Sintético!F14 -> BDI DIF. | G14: =Sintético!G14 -> REGIME TRIBUTÁRIO | H14: =Sintético!H14 -> DATA-BASE | I14: =Sintético!I14 -> REVISÃO
A15: =Sintético!A15 -> BASE DE DADOS: SINAPI, SICRO 3, SBC, EMOP e SCO (RJ) | E15: =Sintético!E15 -> 0.2267 | F15: =Sintético!F15 -> 0 | G15: =Sintético!G15 -> NÃO DESONERADO | H15: =Sintético!H15 -> 45778 | I15: =Sintético!I15 -> R00
A16: Código | B16: Banco | C16: Descrição | D16: Tipo | E16: Und | F16: Quantidade | H16: Valor Unitário | J16: Total | M16: Peso | N16: Valor Acumulado | O16: Peso Acumulado
F17: Operativa | G17: Improdutiva | H17: Operativa | I17: Improdutiva | J17: Operativa | K17: Improdutiva | L17: Geral
A18: 00020193 | B18: SINAPI | C18: LOCACAO DE ANDAIME METALICO TIPO FACHADEIRO, PECAS COM APROXIMADAMENTE 1,20 M DE LARGURA E 2,0 M DE ALTURA, INCLUINDO DIAGONAIS EM X, BARRAS DE LIGACAO, SAPATAS E DEMAIS ITENS NECESSARIOS A MONTAGEM (NAO INCLUI INSTALACAO) | D18: Equipamento | E18: M2/MES | F18: 5.795,5200000 | H18: 27,60 | J18: 159.956,35 | L18: 159956.35 | M18: 10,95% | N18: 159956.35 | O18: 10,95%
A19: 00006111 | B19: SINAPI | C19: SERVENTE DE OBRAS (HORISTA) | D19: Mão de Obra | E19: H | F19: 3.903,3402467 | H19: 25,78 | J19: 100.628,11 | L19: 100628.11 | M19: 6,89% | N19: 260584.46 | O19: 17,85%
A20: 00040818 | B20: SINAPI | C20: ENCARREGADO GERAL DE OBRAS (MENSALISTA) | D20: Mão de Obra | E20: MES | F20: 7,1117900 | H20: 9.995,50 | J20: 71.085,90 | L20: 71085.897 | M20: 4,87% | N20: 331670.36 | O20: 22,71%
A21: 00004750 | B21: SINAPI | C21: PEDREIRO (HORISTA) | D21: Mão de Obra | E21: H | F21: 1.964,9700579 | H21: 36,13 | J21: 70.994,37 | L21: 70994.368 | M21: 4,86% | N21: 402664.73 | O21: 27,57%
A22: 00037370 | B22: SINAPI | C22: ALIMENTACAO - HORISTA (COLETADO CAIXA - ENCARGOS COMPLEMENTARES) | D22: Material | E22: H | F22: 11.832,4662162 | H22: 5,93 | J22: 70.166,52 | L22: 70166.525 | M22: 4,81% | N22: 472831.25 | O22: 32,38%
A23: 00004783 | B23: SINAPI | C23: PINTOR (HORISTA) | D23: Mão de Obra | E23: H | F23: 1.466,6475072 | H23: 34,98 | J23: 51.303,33 | L23: 51303.33 | M23: 3,51% | N23: 524134.58 | O23: 35,89%
A24: 00007186 | B24: SINAPI | C24: TELHA DE FIBROCIMENTO ONDULADA E = 6 MM, DE 1,83 X 1,10 M (SEM AMIANTO) | D24: Material | E24: UN | F24: 632,2246875 | H24: 76,66 | J24: 48.466,34 | L24: 48466.345 | M24: 3,32% | N24: 572600.93 | O24: 39,21%
A25: 00044497 | B25: SINAPI | C25: MONTADOR DE ESTRUTURAS METALICAS HORISTA | D25: Mão de Obra | E25: H | F25: 1.097,6484795 | H25: 40,21 | J25: 44.136,45 | L25: 44136.445 | M25: 3,02% | N25: 616737.37 | O25: 42,23%
A26: 00012873 | B26: SINAPI | C26: IMPERMEABILIZADOR (HORISTA) | D26: Mão de Obra | E26: H | F26: 1.094,3608809 | H26: 36,29 | J26: 39.714,36 | L26: 39714.356 | M26: 2,72% | N26: 656451.73 | O26: 44,95%
A27: 00001213 | B27: SINAPI | C27: CARPINTEIRO DE FORMAS PARA CONCRETO (HORISTA) | D27: Mão de Obra | E27: H | F27: 1.030,0356367 | H27: 35,66 | J27: 36.731,07 | L27: 36731.071 | M27: 2,52% | N27: 693182.8 | O27: 47,47%
A28: 00004015 | B28: SINAPI | C28: MANTA ASFALTICA ELASTOMERICA EM POLIESTER 4 MM, TIPO III, CLASSE B, ACABAMENTO PP (NBR 9952) | D28: Material | E28: M² | F28: 292,0641570 | H28: 92,82 | J28: 27.109,40 | L28: 27109.395 | M28: 1,86% | N28: 720292.2 | O28: 49,33%
A29: 00043147 | B29: SINAPI | C29: MEMBRANA IMPERMEABILIZANTE ACRILICA MONOCOMPONENTE | D29: Material | E29: KG | F29: 820,9080000 | H29: 32,80 | J29: 26.925,78 | L29: 26925.782 | M29: 1,84% | N29: 747217.98 | O29: 51,17%
... A193: 00043485 | B193: SINAPI | C193: EPI - FAMILIA ENCANADOR - HORISTA (ENCARGOS COMPLEMENTARES - COLETADO CAIXA) | D193: Material | E193: H | F193: 177,7075800 | H193: 1,38 | J193: 245,24 | L193: 245.23646 | M193: 0,02% | N193: 1451768.3 | O193: 99,42%
A194: E9646 | B194: SICRO3 | C194: Compressor de ar portátil de 58,52 l/s (124 PCM) - 27 kW | D194: Equipamento | E194: H | F194: 4,4000000 | G194: 0,0000000 | H194: 53,69 | I194: 10,54 | J194: 236,22 | K194: 0,00 | L194: 236.21972 | M194: 0,02% | N194: 1452004.6 | O194: 99,43%
A195: 00004011 | B195: SINAPI | C195: GEOTEXTIL NAO TECIDO AGULHADO DE FILAMENTOS CONTINUOS 100% POLIESTER, RESITENCIA A TRACAO = 10 KN/M | D195: Material | E195: m² | F195: 22,0000000 | H195: 10,67 | J195: 234,74 | L195: 234.74 | M195: 0,02% | N195: 1452239.3 | O195: 99,45%
A196: 099900 | B196: SBC | C196: SERVENTE | D196: Mão de Obra | E196: H | F196: 9,6300000 | H196: 23,90 | J196: 230,20 | L196: 230.20232 | M196: 0,02% | N196: 1452469.5 | O196: 99,47%
A197: 00005068 | B197: SINAPI | C197: PREGO DE ACO POLIDO COM CABECA 17 X 21 (2 X 11) | D197: Material | E197: KG | F197: 9,0418440 | H197: 23,51 | J197: 212,57 | L197: 212.57375 | M197: 0,01% | N197: 1452682.1 | O197: 99,48%
A198: 00007304 | B198: SINAPI | C198: TINTA EPOXI BASE AGUA PREMIUM, BRANCA | D198: Material | E198: L | F198: 1,6246086 | H198: 130,00 | J198: 211,20 | L198: 211.19912 | M198: 0,01% | N198: 1452893.3 | O198: 99,50%
A199: 00000012 | B199: SINAPI | C199: ESCOVA DE ACO, COM CABO, *4 X 15* FILEIRAS DE CERDAS | D199: Material | E199: UN | F199: 11,0000000 | H199: 18,40 | J199: 202,40 | L199: 202.4 | M199: 0,01% | N199: 1453095.7 | O199: 99,51%
A200: 02563 | B200: EMOP | C200: TUBO DE PVC RIGIDO ROSQUEAVEL, EM BARRAS DE 6,00M, ROSCA EM AMBAS AS EXTREMIDADE S, DE 3/4" | D200: Material | E200: UN | F200: 2,5844000 | H200: 76,69 | J200: 198,20 | L200: 198.19764 | M200: 0,01% | N200: 1453293.9 | O200: 99,52%
A201: 00034548 | B201: SINAPI | C201: TELA DE ACO SOLDADA GALVANIZADA/ZINCADA PARA ALVENARIA, FIO D = *1,20 A 1,70* MM, MALHA 15 X 15 MM, (C X L) *50 X 17,5* CM | D201: Material | E201: M | F201: 29,8242000 | H201: 6,62 | J201: 197,44 | L201: 197.4362 | M201: 0,01% | N201: 1453491.3 | O201: 99,54%
A202: 00043479 | B202: SINAPI | C202: FERRAMENTAS - FAMILIA SERVENTE - MENSALISTA (ENCARGOS COMPLEMENTARES - COLETADO CAIXA) | D202: Equipamento | E202: MES | F202: 1,4000000 | H202: 140,78 | J202: 197,09 | L202: 197.092 | M202: 0,01% | N202: 1453688.4 | O202: 99,55%
A203: 00039027 | B203: SINAPI | C203: PREGO DE ACO POLIDO COM CABECA 19 X 36 (3 1/4 X 9) | D203: Material | E203: KG | F203: 8,2500000 | H203: 23,50 | J203: 193,88 | L203: 193.875 | M203: 0,01% | N203: 1453882.3 | O203: 99,56%
A204: 00037395 | B204: SINAPI | C204: PINO DE ACO COM FURO, HASTE = 27 MM (ACAO DIRETA) | D204: Material | E204: CENTO | F204: 2,1727500 | H204: 86,93 | J204: 188,88 | L204: 188.87716 | M204: 0,01% | N204: 1454071.2 | O204: 99,58%
A205: 00004250 | B205: SINAPI | C205: OPERADOR DE COMPRESSOR DE AR OU COMPRESSORISTA (HORISTA) | D205: Mão de Obra | E205: H | F205: 4,4365640 | H205: 37,36 | J205: 165,75 | L205: 165.75003 | M205: 0,01% | N205: 1454236.9 | O205: 99,59%
A206: 00043498 | B206: SINAPI | C206: EPI - FAMILIA ENGENHEIRO CIVIL - MENSALISTA (ENCARGOS COMPLEMENTARES - COLETADO CAIXA) | D206: Equipamento | E206: MES | F206: 0,8750000 | H206: 179,09 | J206: 156,70 | L206: 156.70375 | M206: 0,01% | N206: 1454393.6 | O206: 99,60%
... A382: 00043476 | B382: SINAPI | C382: FERRAMENTAS - FAMILIA OPERADOR ESCAVADEIRA - MENSALISTA (ENCARGOS COMPLEMENTARES - COLETADO CAIXA) | D382: Equipamento | E382: MES | F382: 4,0000000 | H382: 0,01 | J382: 0,04 | L382: 0.04 | M382: 0,00% | N382: 1460249.5 | O382: 100,00%
L383: Totais por Tipo
K384: Equipamento | O384: R$ 173.415,55
K385: Equipamento para Aquisição Permanente | O385: R$ 599,27
K386: Mão de Obra | O386: R$ 595.856,06
K387: Material | O387: R$ 690.248,14
K388: Serviços | O388: R$ 0,00
...

Sheet Enc. Sociais
A11: PLANILHA DE ENCARGOS SOCIAIS
A12: =Sintético!A12 -> UFF- DIREITO II | E12: =Sintético!E12 -> PROCESSO: 23069.164735/2025-38
A13: =Sintético!A13 -> LOCAL: RUA TIRADENTES, 17, INGÁ, NITERÓI/RJ, CEP 24210-510 | E13: =Sintético!E13 -> ARTs: ANEXADAS AO PROCESSO
A14: =Sintético!A14 -> NOME DA OBRA: RECUPERAÇÃO DO TELHADO DA FACULDADE DE DIREITO - CAMPUS II | E14: =Sintético!E14 -> BDI | F14: =Sintético!F14 -> BDI DIF. | G14: =Sintético!G14 -> REGIME TRIBUTÁRIO | H14: =Sintético!H14 -> DATA-BASE | I14: =Sintético!I14 -> REVISÃO
A15: =Sintético!A15 -> BASE DE DADOS: SINAPI, SICRO 3, SBC, EMOP e SCO (RJ) | E15: =Sintético!E15 -> 0.2267 | F15: =Sintético!F15 -> 0 | G15: =Sintético!G15 -> NÃO DESONERADO | H15: =Sintético!H15 -> 45778 | I15: =Sintético!I15 -> R00

Sheet Fisico Financeiro
A11: PLANILHA DE CRONOGRAMA FÍSICO-FINANCEIRO
A12: ='Enc. Sociais'!A12:D12 -> UFF- DIREITO II | E12: ='Enc. Sociais'!E12:I12 -> PROCESSO: 23069.164735/2025-38
A13: ='Enc. Sociais'!A13:D13 -> LOCAL: RUA TIRADENTES, 17, INGÁ, NITERÓI/RJ, CEP 24210-510 | E13: ='Enc. Sociais'!E13:I13 -> ARTs: ANEXADAS AO PROCESSO
A14: ='Enc. Sociais'!A14:D14 -> NOME DA OBRA: RECUPERAÇÃO DO TELHADO DA FACULDADE DE DIREITO - CAMPUS II | E14: BDI | F14: BDI DIF | G14: REGIME TRIBUTÁRIO | I14: DATA-BASE | O14: REVISÃO
A15: ='Enc. Sociais'!A15:D15 -> BASE DE DADOS: SINAPI, SICRO 3, SBC, EMOP e SCO (RJ) | E15: 0.2267 | G15: NÃO DESONERADO | I15: ='Enc. Sociais'!H15 -> 45778
A17: ITEM | B17: SERVIÇO | C17: TOTAL POR ETAPA | D17: Mês 01 | E17: Mês 02 | F17: Mês 03 | G17: Mês 04 | H17: Mês 05 | I17: Mês 06 | J17: Mês 07 | K17: Mês 08 | L17: Mês 09 | M17: Mês 10 | N17: Mês 11 | O17: % GLOBAL
C18: % Planejado | O18: TOTAL (R$)
O19: % TOTAL
A20: 1 | B20: PROJETO | O20: =TRUNC(O21/$C$103,2) -> 0
D21: =$C$20*D22 -> 0 | E21: =$C$20*E22 -> 0 | F21: =$C$20*F22 -> 0 | G21: =$C$20*G22 -> 0 | H21: =$C$20*H22 -> 0 | I21: =$C$20*I22 -> 0 | J21: =$C$20*J22 -> 0 | N21: =$C$20*N22 -> 0 | O21: =SUM(D21:N21) -> 0
D22: 0 | E22: 0 | F22: 0 | G22: 0 | H22: 0 | I22: 0 | J22: 0 | N22: 0 | O22: =SUM(D22:N22) -> 0
A23: 1 | B23: PROJETOS | C23: 22145.34 | O23: =TRUNC(O24/$C$103,2) -> 0.01
D24: =$C$23*D25 -> 3764.7078 | E24: =$C$23*E25 -> 18380.632 | F24: =$C$23*F25 -> 0 | G24: =$C$23*G25 -> 0 | H24: =$C$23*H25 -> 0 | I24: =$C$23*I25 -> 0 | J24: =$C$23*J25 -> 0 | K24: =$C$23*K25 -> 0 | ... N24: =$C$23*N25 -> 0 | O24: =SUM(D24:N24) -> 22145.34
D25: 0.17 | E25: 0.83 | F25: 0 | G25: 0 | H25: 0 | I25: 0 | J25: 0 | K25: 0 | L25: 0 | M25: 0 | N25: 0 | O25: =SUM(D25:N25) -> 1
A26: 2 | B26: GERENCIAMENTO DA OBRA | C26: 120434.96 | O26: =TRUNC(O27/$C$103,2) -> 0.08
D27: =$C$26*D28 -> 3613.0488 | E27: =$C$26*E28 -> 6021.748 | F27: =$C$26*F28 -> 14452.195 | G27: =$C$26*G28 -> 31313.09 | H27: =$C$26*H28 -> 30108.74 | I27: =$C$26*I28 -> 27700.041 | J27: =$C$26*J28 -> 7226.0976 | K27: =$C$26*K28 -> 0 | ... N27: =$C$26*N28 -> 0 | O27: =SUM(D27:N27) -> 120434.96
D28: 0.03 | E28: 0.05 | F28: 0.12 | G28: 0.26 | H28: 0.25 | I28: 0.23 | J28: 0.06 | K28: 0 | L28: 0 | M28: 0 | N28: 0 | O28: =SUM(D28:N28) -> 1
A29: 3 | B29: SERVIÇOS PRELIMINARES | C29: 74708.6 | O29: =TRUNC(O30/$C$103,2) -> 0.05
D30: =$C$29*D31 -> 33618.87 | E30: =$C$29*E31 -> 41089.73 | F30: =$C$29*F31 -> 0 | G30: =$C$29*G31 -> 0 | H30: =$C$29*H31 -> 0 | I30: =$C$29*I31 -> 0 | J30: =$C$29*J31 -> 0 | K30: =$C$29*K31 -> 0 | ... N30: =$C$29*N31 -> 0 | O30: =SUM(D30:N30) -> 74708.6
D31: 0.45 | E31: 0.55 | F31: 0 | G31: 0 | H31: 0 | I31: 0 | J31: 0 | K31: 0 | L31: 0 | M31: 0 | N31: 0 | O31: =SUM(D31:N31) -> 1
A32: 4 | B32: MOVIMENTO DE TERRA | C32: 2173.39 | O32: =TRUNC(O33/$C$103,2) -> 0
D33: =$C$32*D34 -> 0 | E33: =$C$32*E34 -> 0 | F33: =$C$32*F34 -> 869.356 | G33: =$C$32*G34 -> 1304.034 | H33: =$C$32*H34 -> 0 | I33: =$C$32*I34 -> 0 | J33: =$C$32*J34 -> 0 | K33: =$C$32*K34 -> 0 | ... N33: =$C$32*N34 -> 0 | O33: =SUM(D33:N33) -> 2173.39
D34: 0 | E34: 0 | F34: 0.4 | G34: 0.6 | H34: 0 | I34: 0 | J34: 0 | K34: 0 | L34: 0 | M34: 0 | N34: 0 | O34: =SUM(D34:N34) -> 1
A35: 5 | B35: SUPERESTRUTURA | C35: 100144.34 | O35: =TRUNC(O36/$C$103,2) -> 0.06
D36: =$C$35*D37 -> 0 | E36: =$C$35*E37 -> 0 | F36: =$C$35*F37 -> 0 | G36: =$C$35*G37 -> 35050.519 | H36: =$C$35*H37 -> 40057.736 | I36: =$C$35*I37 -> 25036.085 | J36: =$C$35*J37 -> 0 | K36: =$C$35*K37 -> 0 | ... N36: =$C$35*N37 -> 0 | O36: =SUM(D36:N36) -> 100144.34
D37: 0 | E37: 0 | F37: 0 | G37: 0.35 | H37: 0.4 | I37: 0.25 | J37: 0 | K37: 0 | L37: 0 | M37: 0 | N37: 0 | O37: =SUM(D37:N37) -> 1
A38: 6 | B38: ALVENARIA | C38: 36740.77 | O38: =TRUNC(O39/$C$103,2) -> 0.02
D39: =$C$38*D40 -> 0 | E39: =$C$38*E40 -> 0 | F39: =$C$38*F40 -> 22044.462 | G39: =$C$38*G40 -> 14696.308 | H39: =$C$38*H40 -> 0 | I39: =$C$38*I40 -> 0 | J39: =$C$38*J40 -> 0 | K39: =$C$38*K40 -> 0 | ... N39: =$C$38*N40 -> 0 | O39: =SUM(D39:N39) -> 36740.77
D40: 0 | E40: 0 | F40: 0.6 | G40: 0.4 | H40: 0 | I40: 0 | J40: 0 | K40: 0 | L40: 0 | M40: 0 | N40: 0 | O40: =SUM(D40:N40) -> 1
A41: 7 | B41: COBERTURA | C41: 235343.2 | O41: =TRUNC(O42/$C$103,2) -> 0.16
D42: =$C$41*D43 -> 0 | E42: =$C$41*E43 -> 0 | F42: =$C$41*F43 -> 47068.64 | G42: =$C$41*G43 -> 70602.96 | H42: =$C$41*H43 -> 70602.96 | I42: =$C$41*I43 -> 47068.64 | J42: =$C$41*J43 -> 0 | K42: =$C$41*K43 -> 0 | ... N42: =$C$41*N43 -> 0 | O42: =SUM(D42:N42) -> 235343.2
D43: 0 | E43: 0 | F43: 0.2 | G43: 0.3 | H43: 0.3 | I43: 0.2 | J43: 0 | K43: 0 | L43: 0 | M43: 0 | N43: 0 | O43: =SUM(D43:N43) -> 1
A44: 8 | B44: INSTALAÇÕES PLUVIAIS | C44: 47538.08 | O44: =TRUNC(O45/$C$103,2) -> 0.03
D45: =$C$44*D46 -> 0 | E45: =$C$44*E46 -> 0 | F45: =$C$44*F46 -> 23769.04 | G45: =$C$44*G46 -> 23769.04 | H45: =$C$44*H46 -> 0 | I45: =$C$44*I46 -> 0 | J45: =$C$44*J46 -> 0 | K45: =$C$44*K46 -> 0 | ... N45: =$C$44*N46 -> 0 | O45: =SUM(D45:N45) -> 47538.08
D46: 0 | E46: 0 | F46: 0.5 | G46: 0.5 | H46: 0 | I46: 0 | J46: 0 | K46: 0 | L46: 0 | M46: 0 | N46: 0 | O46: =SUM(D46:N46) -> 1
A47: 9 | B47: REVESTIMENTO | C47: 114958.53 | O47: =TRUNC(O48/$C$103,2) -> 0.07
D48: =$C$47*D49 -> 0 | E48: =$C$47*E49 -> 0 | F48: =$C$47*F49 -> 0 | G48: =$C$47*G49 -> 68975.118 | H48: =$C$47*H49 -> 45983.412 | I48: =$C$47*I49 -> 0 | J48: =$C$47*J49 -> 0 | K48: =$C$47*K49 -> 0 | ... N48: =$C$47*N49 -> 0 | O48: =SUM(D48:N48) -> 114958.53
D49: 0 | E49: 0 | F49: 0 | G49: 0.6 | H49: 0.4 | I49: 0 | J49: 0 | K49: 0 | L49: 0 | M49: 0 | N49: 0 | O49: =SUM(D49:N49) -> 1
A50: 10 | B50: IMPERMEABILIZAÇÃO | C50: 202770.97 | O50: =TRUNC(O51/$C$103,2) -> 0.13
D51: =$C$50*D52 -> 0 | E51: =$C$50*E52 -> 0 | F51: =$C$50*F52 -> 60831.291 | G51: =$C$50*G52 -> 58803.581 | H51: =$C$50*H52 -> 58803.581 | I51: =$C$50*I52 -> 24332.516 | J51: =$C$50*J52 -> 0 | K51: =$C$50*K52 -> 0 | ... N51: =$C$50*N52 -> 0 | O51: =SUM(D51:N51) -> 202770.97
...

Sheet Entulho
A11: RESUMO QUANTITATIVO ENTULHO
