Workbook

Sheet Resumo
A8: Serviço Público Federal
A9: Ministério da Educação
A10: Universidade Federal Fluminense
A11: Coordenação de Manutenção - Superintendência de Operações e Manutenção
A12: Rua Prof. Marcos Waldemar de Freitas Reis s/nº, bloco B, 5º andar (setor ímpar) - Campus Universitário do Gragoatá
A14: ANEXO I - PLANILHA DE PREÇOS
A15: ITEM | B15: DISCRIMINAÇÃO | C15: QUANT. | D15: UNID. | E15: PREÇO UNIT. | F15: PREÇO TOTAL
A16: 1 | B16: Serviços de instalação e desinstalação de aparelhos de ar-condicionado tipo split, com potências entre 7.500BTU e 60.000BTU, incluindo o fornecimento de mão-de-obra necessária, além de todos os materiais e componentes para a completa fixação e funcionamento dos equipamentos. | C16: 12 | D16: Mês | E16: =F16/12 -> 81916.542 | F16: =Detalhado!F48 -> 982998.5
A17: TOTAL PARA 12 MESES | F17: =SUM(F16:F16) -> 982998.5

Sheet Detalhado
A8: Serviço Público Federal
A9: Ministério da Educação
A10: Universidade Federal Fluminense
A11: Coordenação de Manutenção - Superintendência de Operações e Manutenção
A12: Rua Prof. Marcos Waldemar de Freitas Reis s/nº, bloco B, 5º andar (setor ímpar) - Campus Universitário do Gragoatá
A14: ANEXO I - PLANILHA DE PREÇOS
A15: ITEM | B15: DISCRIMINAÇÃO | C15: QUANT. | D15: UNID. | E15: PREÇO UNIT. | F15: PREÇO TOTAL
A16: 1 | B16: Instalação de aparelho, com capacidade de 7500 BTU, incluindo o material de instalação até a distância de 5 m de linha, mão-de-obra necessária, além de todos os materiais e componentes para a completa fixação e funcionamento do equipamento, inclusive sua conexão ao ponto de energia disponível para sua instalação. | C16: 50 | D16: Unid. | E16: ='Orc Sintetico - 7500BTU'!H45 -> 860.54 | F16: =C16*E16 -> 43027
A17: 2 | B17: Instalação de aparelho, com capacidade de 9000 BTU, incluindo o material de instalação até a distância de 5 m de linha, mão-de-obra necessária, além de todos os materiais e componentes para a completa fixação e funcionamento do equipamento, inclusive sua conexão ao ponto de energia disponível para sua instalação. | C17: 50 | D17: Unid. | E17: ='Orc Sintetico - 9000BTU'!H45 -> 860.54 | F17: =C17*E17 -> 43027
A18: 3 | B18: Instalação de aparelho, com capacidade de 12000 BTU, incluindo o material de instalação até a distância de 5 m de linha, mão-de-obra necessária, além de todos os materiais e componentes para a completa fixação e funcionamento do equipamento, inclusive sua conexão ao ponto de energia disponível para sua instalação. | C18: 100 | D18: Unid. | E18: ='Orc Sintetico - 12000BTU'!H45 -> 860.54 | F18: =C18*E18 -> 86054
A19: 4 | B19: Instalação de aparelho, com capacidade de 18000 BTU, incluindo o material de instalação até a distância de 5 m de linha, mão-de-obra necessária, além de todos os materiais e componentes para a completa fixação e funcionamento do equipamento, inclusive sua conexão ao ponto de energia disponível para sua instalação. | C19: 100 | D19: Unid. | E19: ='Orc Sintetico - 18000BTU'!H45 -> 932.225 | F19: =C19*E19 -> 93222.5
A20: 5 | B20: Instalação de aparelho, com capacidade de 22000 BTU, incluindo o material de instalação até a distância de 5 m de linha, mão-de-obra necessária, além de todos os materiais e componentes para a completa fixação e funcionamento do equipamento, inclusive sua conexão ao ponto de energia disponível para sua instalação. | C20: 50 | D20: Unid. | E20: ='Orc Sintetico - 22000BTU'!H45 -> 1240.145 | F20: =C20*E20 -> 62007.25
A21: 6 | B21: Instalação de aparelho, com capacidade de 24000 BTU, incluindo o material de instalação até a distância de 5 m de linha, mão-de-obra necessária, além de todos os materiais e componentes para a completa fixação e funcionamento do equipamento, inclusive sua conexão ao ponto de energia disponível para sua instalação. | C21: 50 | D21: Unid. | E21: ='Orc Sintetico - 24000BTU'!H45 -> 1240.145 | F21: =C21*E21 -> 62007.25
A22: 7 | B22: Instalação de aparelho, com capacidade de 30000 BTU, incluindo o material de instalação até a distância de 5 m de linha, mão-de-obra necessária, além de todos os materiais e componentes para a completa fixação e funcionamento do equipamento, inclusive sua conexão ao ponto de energia disponível para sua instalação. | C22: 50 | D22: Unid. | E22: ='Orc Sintetico - 30000BTU'!H45 -> 1240.145 | F22: =C22*E22 -> 62007.25
A23: 8 | B23: Instalação de aparelho, com capacidade de 36000 BTU, incluindo o material de instalação até a distância de 5 m de linha, mão-de-obra necessária, além de todos os materiais e componentes para a completa fixação e funcionamento do equipamento, inclusive sua conexão ao ponto de energia disponível para sua instalação. | C23: 100 | D23: Unid. | E23: ='Orc Sintetico - 36000BTU'!H45 -> 1240.145 | F23: =C23*E23 -> 124014.5
A24: 9 | B24: Instalação de aparelho, com capacidade de 48000 BTU, incluindo o material de instalação até a distância de 5 m de linha, mão-de-obra necessária, além de todos os materiais e componentes para a completa fixação e funcionamento do equipamento, inclusive sua conexão ao ponto de energia disponível para sua instalação. | C24: 50 | D24: Unid. | E24: ='Orc Sintetico - 48000BTU'!H45 -> 1282.06 | F24: =C24*E24 -> 64103
A25: 10 | B25: Instalação de aparelho, com capacidade de 60000 BTU, incluindo o material de instalação até a distância de 5 m de linha, mão-de-obra necessária, além de todos os materiais e componentes para a completa fixação e funcionamento do equipamento, inclusive sua conexão ao ponto de energia disponível para sua instalação. | C25: 100 | D25: Unid. | E25: ='Orc Sintetico - 60000BTU'!H45 -> 1361.54 | F25: =C25*E25 -> 136154
A26: 11 | B26: Instalação incluindo isolamento e fixação de dutos de cobre 1/4", medida pela quantidade superior aos 5 m da franquia inicial | C26: 200 | D26: m | E26: ='Orc Sintetico - Tubul. 1 4'!H27 -> 34.94 | F26: =C26*E26 -> 6988
A27: 12 | B27: Instalação incluindo isolamento e fixação de dutos de cobre 3/8", medida pela quantidade superior aos 5 m da franquia inicial | C27: 200 | D27: m | E27: ='Orc Sintetico - Tubul. 3 8'!H27 -> 57.93 | F27: =C27*E27 -> 11586
A28: 13 | B28: Instalação incluindo isolamento e fixação de dutos de cobre 1/2", medida pela quantidade superior aos 5 m da franquia inicial | C28: 150 | D28: m | E28: ='Orc Sintetico - Tubul. 1 2'!H27 -> 74.14 | F28: =C28*E28 -> 11121
A29: 14 | B29: Instalação incluindo isolamento e fixação de dutos de cobre 5/8", medida pela quantidade superior aos 5 m da franquia inicial | C29: 150 | D29: m | E29: ='Orc Sintetico - Tubul. 5 8'!H27 -> 90.98 | F29: =C29*E29 -> 13647
A30: 15 | B30: Instalação e fixação de tubulação aparente em eletroduto de PVC rígido de ¾ “, incluindo caixas de derivação medida pela quantidade superior aos 5 m da franquia inicial | C30: 400 | D30: m | E30: ='Orc Sintetico - Elet. 3 4'!H27 -> 25.52 | F30: =C30*E30 -> 10208
A31: 16 | B31: Instalação e fixação de tubulação aparente em eletroduto de PVC rígido de 1“, incluindo caixas de derivação medida pela quantidade superior aos 5 m da franquia inicial | C31: 250 | D31: m | E31: ='Orc Sintetico - Elet. 1'!H27 -> 25.57 | F31: =C31*E31 -> 6392.5
A32: 17 | B32: Instalação e fixação de tubulação aparente em eletroduto de PVC rígido de 1 1/2“, incluindo caixas de derivação medida pela quantidade superior aos 5 m da franquia inicial | C32: 100 | D32: m | E32: ='Orc Sintetico - Elet. 1 1 2'!H27 -> 28.76 | F32: =C32*E32 -> 2876
A33: 18 | B33: Instalação e fixação de quadro sobrepor de comando com disjuntor de proteção do tipo DIN em potência entre 6 e 50 A, incluindo terminais de interligação | C33: 100 | D33: Unid. | E33: ='Orc Sintetico - Quadro'!H29 -> 220.91 | F33: =C33*E33 -> 22091
A34: 19 | B34: Instalação e fixação de disjuntor de proteção do tipo DIN, bipolar, em potência entre 6 e 32 A, incluindo terminais de interligação em quadro elétrico existente | C34: 100 | D34: Unid. | E34: ='Orc Sintetico - Disj. 6.32'!H27 -> 54.53 | F34: =C34*E34 -> 5453
A35: 20 | B35: Instalação e fixação de disjuntor de proteção do tipo DIN, bipolar, em potência entre 40 a 50 A, incluindo terminais de interligação em quadro elétrico existente | C35: 100 | D35: Unid. | E35: ='Orc Sintetico - Disj. 40.50'!H27 -> 53.69 | F35: =C35*E35 -> 5369
A36: 21 | B36: Instalação e fixação de disjuntor de proteção do tipo DIN, tripolar, em potência entre 10 a 50 A, incluindo terminais de interligação em quadro elétrico existente | C36: 100 | D36: Unid. | E36: ='Orc Sintetico - Disj. 10.50'!H27 -> 66.81 | F36: =C36*E36 -> 6681
A37: 22 | B37: Execução de circuito triplo de alimentação individual em cabo multipolar (cabo PP) de 2,5 mm² medido pela quantidade superior aos 5 m da franquia inicial | C37: 400 | D37: m | E37: ='Orc Sintetico - Circ. 2 5'!H27 -> 11.03 | F37: =C37*E37 -> 4412
A38: 23 | B38: Execução de circuito triplo de alimentação individual em cabo multipolar (cabo PP) de 4,0 mm² medido pela quantidade superior aos 5 m da franquia inicial | C38: 400 | D38: m | E38: ='Orc Sintetico - Circ. 4'!H27 -> 16.98 | F38: =C38*E38 -> 6792
A39: 24 | B39: Execução de circuito triplo de alimentação individual em cabo multipolar (cabo PP) de 6,0 mm² medido pela quantidade superior aos 5 m da franquia inicial | C39: 300 | D39: m | E39: ='Orc Sintetico - Circ. 6'!H27 -> 26.01 | F39: =C39*E39 -> 7803
A40: 25 | B40: Execução de circuito triplo de alimentação individual em cabo multipolar (cabo PP) de 10,0 mm² medido pela quantidade superior aos 5 m da franquia inicial | C40: 300 | D40: m | E40: ='Orc Sintetico - Circ. 10'!H27 -> 41.91 | F40: =C40*E40 -> 12573
A41: 26 | B41: Execução de tubulação de drenagem aparente em tubos de pvc rígido sd 25 mm medida pela quantidade superior aos 5 m da franquia inicial | C41: 200 | D41: m | E41: ='Orc Sintetico - hidr. 25'!H29 -> 8.11 | F41: =C41*E41 -> 1622
A42: 27 | B42: Execução de tubulação de drenagem aparente em tubos de pvc rígido sd 32 mm medida pela quantidade superior aos 5 m da franquia inicial | C42: 50 | D42: m | E42: ='Orc Sintetico - hidr. 32'!H29 -> 19.75 | F42: =C42*E42 -> 987.5
A43: 28 | B43: Execução de tubulação de drenagem aparente em tubos de pvc rígido sd 40 mm medida pela quantidade superior aos 5 m da franquia inicial | C43: 50 | D43: m | E43: ='Orc Sintetico - hidr. 40'!H29 -> 32.98 | F43: =C43*E43 -> 1649
A44: 29 | B44: Desinstalação/retirada de aparelho tipo split e suas tubulações frigorígenas, com capacidade de 7500 BTU a 60000BTU, incluindo mão-de-obra necessária, além de todos os materiais e componentes para a completa execução dos serviços | C44: 150 | D44: Unid. | E44: ='Orc Sintetico - Desinstalação'!H28 -> 125.735 | F44: =C44*E44 -> 18860.25
A45: 30 | B45: Complementação de Carga de gás refrigerante R-22 pela quantidade superior aos 5 m da franquia inicial | C45: 150 | D45: Kg | E45: ='Orc Sintetico - Carga Gás R22'!H26 -> 91.5 | F45: =C45*E45 -> 13725
A46: 31 | B46: Complementação de Carga de gás refrigerante R-410A pela quantidade superior aos 5 m da franquia inicial | C46: 150 | D46: Kg | E46: ='Orc Sintetico - Carga Gás R410'!H26 -> 115.11 | F46: =C46*E46 -> 17266.5
A47: 32 | B47: Complementação de Carga de gás refrigerante R-32 pela quantidade superior aos 5 m da franquia inicial | C47: 150 | D47: Kg | E47: ='Orc Sintetico - Carga Gás R32'!H26 -> 128.48 | F47: =C47*E47 -> 19272
A48: TOTAL PARA 12 MESES | F48: =SUM(F16:F47) -> 982998.5

Sheet Orc Sintetico - 7500BTU
A7: Serviço Público Federal
A8: Ministério da Educação
A9: Universidade Federal Fluminense
A10: Coordenação de Manutenção - Superintendência de Operações e Manutenção
A11: Rua Prof. Marcos Waldemar de Freitas Reis s/nº, bloco B, 5º andar (setor ímpar) - Campus Universitário do Gragoatá
A13: ANEXO I - PLANILHA DE PREÇOS
A14: LOCAL: UNIVERSIDADE FEDERAL FLUMINENSE | F14: DATA: 25/08/2025 | H14: SINAPI: 07/2025
A16: SERVIÇO: INSTALAÇÃO DE AR CONDICIONADO TIPO SPLIT
A17: ITEM | B17: DESCRIÇÃO DO SERVIÇO | C17: FONTE | D17: CÓDIGO | E17: UNID | F17: QUANT | G17: PREÇO UNITÁRIO | H17: PREÇO TOTAL
A18: 1 | B18: Instalação de aparelho, com capacidade de 7500 BTU, incluindo o material de instalação até a distância de 5 m de linha, mão-de-obra necessária, além de todos os materiais e componentes para a completa fixação e funcionamento do equipamento, inclusive sua conexão ao ponto de energia disponível para sua instalação.
A19: 1.1 | B19: MECÂNICO DE REFRIGERAÇÃO COM ENCARGOS COMPLEMENTARES | C19: SINAPI | D19: 100308 | E19: H | F19: 3 | G19: 36.04 | H19: =F19*G19 -> 108.12
A20: 1.2 | B20: AJUDANTE ESPECIALIZADO COM ENCARGOS COMPLEMENTARES | C20: SINAPI | D20: 88243 | E20: H | F20: 3 | G20: 32.67 | H20: =F20*G20 -> 98.01
A21: 1.3 | B21: TUBO DE COBRE FLEXIVEL, D = 1/4 ", E = 0,79 MM, PARA AR-CONDICIONADO/ INSTALACOES GAS RESIDENCIAIS E COMERCIAIS | C21: SINAPI | D21: 39662 | E21: M | F21: 5 | G21: 20.61 | H21: =F21*G21 -> 103.05
A22: 1.4 | B22: TUBO DE COBRE FLEXIVEL, D = 3/8 ", E = 0,79 MM, PARA AR-CONDICIONADO/ INSTALACOES GAS RESIDENCIAIS E COMERCIAIS | C22: SINAPI | D22: 39664 | E22: M | F22: 5 | G22: 31.7 | H22: =F22*G22 -> 158.5
A23: 1.5 | B23: SUPORTE MAO-FRANCESA EM ACO, ABAS IGUAIS 40 CM, CAPACIDADE MINIMA 70 KG, BRANCO | C23: SINAPI | D23: 37591 | E23: UNID | F23: 2 | G23: 20.27 | H23: =F23*G23 -> 40.54
A24: 1.6 | B24: TUBO DE BORRACHA ELASTOMERICA FLEXIVEL, PRETA, PARA ISOLAMENTO TERMICO DE TUBULACAO, DN 1/4" (6 MM), E= 9 MM, COEFICIENTE DE CONDUTIVIDADE TERMICA 0,036W/MK, VAPOR DE AGUA MAIOR OU IGUAL A 10.000 | C24: SINAPI | D24: 39738 | E24: M | F24: 5 | G24: 4.42 | H24: =F24*G24 -> 22.1
A25: 1.7 | B25: TUBO DE BORRACHA ELASTOMERICA FLEXIVEL, PRETA, PARA ISOLAMENTO TERMICO DE TUBULACAO, DN 3/8" (10 MM), E= 19 MM, COEFICIENTE DE CONDUTIVIDADE TERMICA 0,036W/MK, VAPOR DE AGUA MAIOR OU IGUAL A 10.000 | C25: SINAPI | D25: 39741 | E25: M | F25: 5 | G25: 11.13 | H25: =F25*G25 -> 55.65
A26: 1.8 | B26: CABO MULTIPOLAR DE COBRE, FLEXIVEL, CLASSE 4 OU 5, ISOLACAO EM HEPR, COBERTURA EM PVC-ST2, ANTICHAMA BWF-B, 0,6/1 KV, 3 CONDUTORES DE 2,5 MM2 | C26: SINAPI | D26: 39258 | E26: M | F26: 5 | G26: 9.04 | H26: =F26*G26 -> 45.2
A27: 1.9 | B27: ABRACADEIRA EM ACO PARA AMARRACAO DE ELETRODUTOS, TIPO D, COM 3/4" E PARAFUSO DE FIXACAO | C27: SINAPI | D27: 400 | E27: UNID | F27: 2 | G27: 2.25 | H27: =F27*G27 -> 4.5
A28: 1.10 | B28: CAIXA DE LUZ "4 X 2" EM ACO ESMALTADA | C28: SINAPI | D28: 2556 | E28: UNID | F28: 2 | G28: 1.51 | H28: =F28*G28 -> 3.02
A29: 1.11 | B29: LUVA EM PVC RIGIDO ROSCAVEL, DE 3/4", PARA ELETRODUTO | C29: SINAPI | D29: 1891 | E29: UNID | F29: 2 | G29: 1.52 | H29: =F29*G29 -> 3.04
A30: 1.12 | B30: ELETRODUTO DE PVC RIGIDO ROSCAVEL DE 3/4 ", SEM LUVA | C30: SINAPI | D30: 2674 | E30: M | F30: 5 | G30: 4.92 | H30: =F30*G30 -> 24.6
... A33: 1.15 | B33: FURO MECANIZADO EM ALVENARIA, PARA INSTALAÇÕES ELÉTRICAS, DIÂMETROS MAIORES QUE 40 MM E MENORES OU IGUAIS A 75 MM. AF_09/2023 | C33: SINAPI | D33: 104770 | E33: UNID | F33: 1 | G33: 2.42 | H33: =F33*G33 -> 2.42
A34: 1.16 | B34: BUCHA DE REDUCAO DE PVC, SOLDAVEL, LONGA, COM 40 X 25 MM, PARA AGUA FRIA PREDIAL | C34: SINAPI | D34: 834 | E34: UNID | F34: 1 | G34: 3.8 | H34: =F34*G34 -> 3.8
A35: 1.17 | B35: JOELHO, PVC SOLDAVEL, 45 GRAUS, 25 MM, PARA AGUA FRIA PREDIAL | C35: SINAPI | D35: 3500 | E35: UNID | F35: 1 | G35: 1.56 | H35: =F35*G35 -> 1.56
A36: 1.18 | B36: JOELHO PVC, SOLDAVEL, 90 GRAUS, 25 MM, PARA AGUA FRIA PREDIAL | C36: SINAPI | D36: 3529 | E36: UNID | F36: 2 | G36: 0.76 | H36: =F36*G36 -> 1.52
A37: 1.19 | B37: TUBO PVC, SOLDAVEL, DN 25 MM, AGUA FRIA (NBR-5648) | C37: SINAPI | D37: 9868 | E37: M | F37: 5 | G37: 4.33 | H37: =F37*G37 -> 21.65
G41: SUB-TOTAL | H41: =SUM(H19:H39) -> 705.36
G43: BDI - 22% | H43: =ROUND((22%*H41),2) -> 155.18
G45: TOTAL GERAL | H45: =H43+H41 -> 860.54

Sheet Orc Sintetico - 9000BTU
A7: Serviço Público Federal
A8: Ministério da Educação
A9: Universidade Federal Fluminense
A10: Coordenação de Manutenção - Superintendência de Operações e Manutenção
A11: Rua Prof. Marcos Waldemar de Freitas Reis s/nº, bloco B, 5º andar (setor ímpar) - Campus Universitário do Gragoatá
A13: ANEXO I - PLANILHA DE PREÇOS
A14: LOCAL: UNIVERSIDADE FEDERAL FLUMINENSE | F14: DATA: 25/08/2025 | H14: SINAPI: 07/2025
A16: SERVIÇO: INSTALAÇÃO DE AR CONDICIONADO TIPO SPLIT
A17: ITEM | B17: DESCRIÇÃO DO SERVIÇO | C17: FONTE | D17: CÓDIGO | E17: UNID | F17: QUANT | G17: PREÇO UNITÁRIO | H17: PREÇO TOTAL
A18: 1 | B18: Instalação de aparelho, com capacidade de 9000 BTU, incluindo o material de instalação até a distância de 5 m de linha, mão-de-obra necessária, além de todos os materiais e componentes para a completa fixação e funcionamento do equipamento, inclusive sua conexão ao ponto de energia disponível para sua instalação.
A19: 1.1 | B19: MECÂNICO DE REFRIGERAÇÃO COM ENCARGOS COMPLEMENTARES | C19: SINAPI | D19: 100308 | E19: H | F19: 3 | G19: 36.04 | H19: =F19*G19 -> 108.12
A20: 1.2 | B20: AJUDANTE ESPECIALIZADO COM ENCARGOS COMPLEMENTARES | C20: SINAPI | D20: 88243 | E20: H | F20: 3 | G20: 32.67 | H20: =F20*G20 -> 98.01
A21: 1.3 | B21: TUBO DE COBRE FLEXIVEL, D = 1/4 ", E = 0,79 MM, PARA AR-CONDICIONADO/ INSTALACOES GAS RESIDENCIAIS E COMERCIAIS | C21: SINAPI | D21: 39662 | E21: M | F21: 5 | G21: 20.61 | H21: =F21*G21 -> 103.05
A22: 1.4 | B22: TUBO DE COBRE FLEXIVEL, D = 3/8 ", E = 0,79 MM, PARA AR-CONDICIONADO/ INSTALACOES GAS RESIDENCIAIS E COMERCIAIS | C22: SINAPI | D22: 39664 | E22: M | F22: 5 | G22: 31.7 | H22: =F22*G22 -> 158.5
A23: 1.5 | B23: SUPORTE MAO-FRANCESA EM ACO, ABAS IGUAIS 40 CM, CAPACIDADE MINIMA 70 KG, BRANCO | C23: SINAPI | D23: 37591 | E23: UNID | F23: 2 | G23: 20.27 | H23: =F23*G23 -> 40.54
A24: 1.6 | B24: TUBO DE BORRACHA ELASTOMERICA FLEXIVEL, PRETA, PARA ISOLAMENTO TERMICO DE TUBULACAO, DN 1/4" (6 MM), E= 9 MM, COEFICIENTE DE CONDUTIVIDADE TERMICA 0,036W/MK, VAPOR DE AGUA MAIOR OU IGUAL A 10.000 | C24: SINAPI | D24: 39738 | E24: M | F24: 5 | G24: 4.42 | H24: =F24*G24 -> 22.1
A25: 1.7 | B25: TUBO DE BORRACHA ELASTOMERICA FLEXIVEL, PRETA, PARA ISOLAMENTO TERMICO DE TUBULACAO, DN 3/8" (10 MM), E= 19 MM, COEFICIENTE DE CONDUTIVIDADE TERMICA 0,036W/MK, VAPOR DE AGUA MAIOR OU IGUAL A 10.000 | C25: SINAPI | D25: 39741 | E25: M | F25: 5 | G25: 11.13 | H25: =F25*G25 -> 55.65
A26: 1.8 | B26: CABO MULTIPOLAR DE COBRE, FLEXIVEL, CLASSE 4 OU 5, ISOLACAO EM HEPR, COBERTURA EM PVC-ST2, ANTICHAMA BWF-B, 0,6/1 KV, 3 CONDUTORES DE 2,5 MM2 | C26: SINAPI | D26: 39258 | E26: M | F26: 5 | G26: 9.04 | H26: =F26*G26 -> 45.2
A27: 1.9 | B27: CAIXA DE LUZ "4 X 2" EM ACO ESMALTADA | C27: SINAPI | D27: 2556 | E27: UNID | F27: 2 | G27: 1.51 | H27: =F27*G27 -> 3.02
A28: 1.10 | B28: ABRACADEIRA EM ACO PARA AMARRACAO DE ELETRODUTOS, TIPO D, COM 3/4" E PARAFUSO DE FIXACAO | C28: SINAPI | D28: 400 | E28: UNID | F28: 2 | G28: 2.25 | H28: =F28*G28 -> 4.5
A29: 1.11 | B29: LUVA EM PVC RIGIDO ROSCAVEL, DE 3/4", PARA ELETRODUTO | C29: SINAPI | D29: 1891 | E29: UNID | F29: 2 | G29: 1.52 | H29: =F29*G29 -> 3.04
A30: 1.12 | B30: ELETRODUTO DE PVC RIGIDO ROSCAVEL DE 3/4 ", SEM LUVA | C30: SINAPI | D30: 2674 | E30: M | F30: 5 | G30: 4.92 | H30: =F30*G30 -> 24.6
... A33: 1.15 | B33: FURO MECANIZADO EM ALVENARIA, PARA INSTALAÇÕES ELÉTRICAS, DIÂMETROS MAIORES QUE 40 MM E MENORES OU IGUAIS A 75 MM. AF_09/2023 | C33: SINAPI | D33: 104770 | E33: UNID | F33: 1 | G33: 2.42 | H33: =F33*G33 -> 2.42
A34: 1.16 | B34: BUCHA DE REDUCAO DE PVC, SOLDAVEL, LONGA, COM 40 X 25 MM, PARA AGUA FRIA PREDIAL | C34: SINAPI | D34: 834 | E34: UNID | F34: 1 | G34: 3.8 | H34: =F34*G34 -> 3.8
A35: 1.17 | B35: JOELHO, PVC SOLDAVEL, 45 GRAUS, 25 MM, PARA AGUA FRIA PREDIAL | C35: SINAPI | D35: 3500 | E35: UNID | F35: 1 | G35: 1.56 | H35: =F35*G35 -> 1.56
A36: 1.18 | B36: JOELHO PVC, SOLDAVEL, 90 GRAUS, 25 MM, PARA AGUA FRIA PREDIAL | C36: SINAPI | D36: 3529 | E36: UNID | F36: 2 | G36: 0.76 | H36: =F36*G36 -> 1.52
A37: 1.19 | B37: TUBO PVC, SOLDAVEL, DN 25 MM, AGUA FRIA (NBR-5648) | C37: SINAPI | D37: 9868 | E37: M | F37: 5 | G37: 4.33 | H37: =F37*G37 -> 21.65
G41: SUB-TOTAL | H41: =SUM(H19:H39) -> 705.36
G43: BDI - 22% | H43: =ROUND((22%*H41),2) -> 155.18
G45: TOTAL GERAL | H45: =H43+H41 -> 860.54

Sheet Orc Sintetico - 12000BTU
A7: Serviço Público Federal
A8: Ministério da Educação
A9: Universidade Federal Fluminense
A10: Coordenação de Manutenção - Superintendência de Operações e Manutenção
A11: Rua Prof. Marcos Waldemar de Freitas Reis s/nº, bloco B, 5º andar (setor ímpar) - Campus Universitário do Gragoatá
A13: ANEXO I - PLANILHA DE PREÇOS
A14: LOCAL: UNIVERSIDADE FEDERAL FLUMINENSE | F14: DATA: 25/08/2025 | H14: SINAPI: 07/2025
A16: SERVIÇO: INSTALAÇÃO DE AR CONDICIONADO TIPO SPLIT
A17: ITEM | B17: DESCRIÇÃO DO SERVIÇO | C17: FONTE | D17: CÓDIGO | E17: UNID | F17: QUANT | G17: PREÇO UNITÁRIO | H17: PREÇO TOTAL
A18: 1 | B18: Instalação de aparelho, com capacidade de 12000 BTU, incluindo o material de instalação até a distância de 5 m de linha, mão-de-obra necessária, além de todos os materiais e componentes para a completa fixação e funcionamento do equipamento, inclusive sua conexão ao ponto de energia disponível para sua instalação.
A19: 1.1 | B19: MECÂNICO DE REFRIGERAÇÃO COM ENCARGOS COMPLEMENTARES | C19: SINAPI | D19: 100308 | E19: H | F19: 3 | G19: 36.04 | H19: =F19*G19 -> 108.12
A20: 1.2 | B20: AJUDANTE ESPECIALIZADO COM ENCARGOS COMPLEMENTARES | C20: SINAPI | D20: 88243 | E20: H | F20: 3 | G20: 32.67 | H20: =F20*G20 -> 98.01
A21: 1.3 | B21: TUBO DE COBRE FLEXIVEL, D = 1/4 ", E = 0,79 MM, PARA AR-CONDICIONADO/ INSTALACOES GAS RESIDENCIAIS E COMERCIAIS | C21: SINAPI | D21: 39662 | E21: M | F21: 5 | G21: 20.61 | H21: =F21*G21 -> 103.05
A22: 1.4 | B22: TUBO DE COBRE FLEXIVEL, D = 3/8 ", E = 0,79 MM, PARA AR-CONDICIONADO/ INSTALACOES GAS RESIDENCIAIS E COMERCIAIS | C22: SINAPI | D22: 39664 | E22: M | F22: 5 | G22: 31.7 | H22: =F22*G22 -> 158.5
A23: 1.5 | B23: SUPORTE MAO-FRANCESA EM ACO, ABAS IGUAIS 40 CM, CAPACIDADE MINIMA 70 KG, BRANCO | C23: SINAPI | D23: 37591 | E23: UNID | F23: 2 | G23: 20.27 | H23: =F23*G23 -> 40.54
A24: 1.6 | B24: TUBO DE BORRACHA ELASTOMERICA FLEXIVEL, PRETA, PARA ISOLAMENTO TERMICO DE TUBULACAO, DN 1/4" (6 MM), E= 9 MM, COEFICIENTE DE CONDUTIVIDADE TERMICA 0,036W/MK, VAPOR DE AGUA MAIOR OU IGUAL A 10.000 | C24: SINAPI | D24: 39738 | E24: M | F24: 5 | G24: 4.42 | H24: =F24*G24 -> 22.1
A25: 1.7 | B25: TUBO DE BORRACHA ELASTOMERICA FLEXIVEL, PRETA, PARA ISOLAMENTO TERMICO DE TUBULACAO, DN 3/8" (10 MM), E= 19 MM, COEFICIENTE DE CONDUTIVIDADE TERMICA 0,036W/MK, VAPOR DE AGUA MAIOR OU IGUAL A 10.000 | C25: SINAPI | D25: 39741 | E25: M | F25: 5 | G25: 11.13 | H25: =F25*G25 -> 55.65
A26: 1.8 | B26: CABO MULTIPOLAR DE COBRE, FLEXIVEL, CLASSE 4 OU 5, ISOLACAO EM HEPR, COBERTURA EM PVC-ST2, ANTICHAMA BWF-B, 0,6/1 KV, 3 CONDUTORES DE 2,5 MM2 | C26: SINAPI | D26: 39258 | E26: M | F26: 5 | G26: 9.04 | H26: =F26*G26 -> 45.2
A27: 1.9 | B27: CAIXA DE LUZ "4 X 2" EM ACO ESMALTADA | C27: SINAPI | D27: 2556 | E27: UNID | F27: 2 | G27: 1.51 | H27: =F27*G27 -> 3.02
A28: 1.10 | B28: ABRACADEIRA EM ACO PARA AMARRACAO DE ELETRODUTOS, TIPO D, COM 3/4" E PARAFUSO DE FIXACAO | C28: SINAPI | D28: 400 | E28: UNID | F28: 2 | G28: 2.25 | H28: =F28*G28 -> 4.5
A29: 1.11 | B29: LUVA EM PVC RIGIDO ROSCAVEL, DE 3/4", PARA ELETRODUTO | C29: SINAPI | D29: 1891 | E29: UNID | F29: 2 | G29: 1.52 | H29: =F29*G29 -> 3.04
A30: 1.12 | B30: ELETRODUTO DE PVC RIGIDO ROSCAVEL DE 3/4 ", SEM LUVA | C30: SINAPI | D30: 2674 | E30: M | F30: 5 | G30: 4.92 | H30: =F30*G30 -> 24.6
... A33: 1.15 | B33: FURO MECANIZADO EM ALVENARIA, PARA INSTALAÇÕES ELÉTRICAS, DIÂMETROS MAIORES QUE 40 MM E MENORES OU IGUAIS A 75 MM. AF_09/2023 | C33: SINAPI | D33: 104770 | E33: UNID | F33: 1 | G33: 2.42 | H33: =F33*G33 -> 2.42
A34: 1.16 | B34: BUCHA DE REDUCAO DE PVC, SOLDAVEL, LONGA, COM 40 X 25 MM, PARA AGUA FRIA PREDIAL | C34: SINAPI | D34: 834 | E34: UNID | F34: 1 | G34: 3.8 | H34: =F34*G34 -> 3.8
A35: 1.17 | B35: JOELHO, PVC SOLDAVEL, 45 GRAUS, 25 MM, PARA AGUA FRIA PREDIAL | C35: SINAPI | D35: 3500 | E35: UNID | F35: 1 | G35: 1.56 | H35: =F35*G35 -> 1.56
A36: 1.18 | B36: JOELHO PVC, SOLDAVEL, 90 GRAUS, 25 MM, PARA AGUA FRIA PREDIAL | C36: SINAPI | D36: 3529 | E36: UNID | F36: 2 | G36: 0.76 | H36: =F36*G36 -> 1.52
A37: 1.19 | B37: TUBO PVC, SOLDAVEL, DN 25 MM, AGUA FRIA (NBR-5648) | C37: SINAPI | D37: 9868 | E37: M | F37: 5 | G37: 4.33 | H37: =F37*G37 -> 21.65
G41: SUB-TOTAL | H41: =SUM(H19:H39) -> 705.36
G43: BDI - 22% | H43: =ROUND((22%*H41),2) -> 155.18
G45: TOTAL GERAL | H45: =H43+H41 -> 860.54

Sheet Orc Sintetico - 18000BTU
A7: Serviço Público Federal
A8: Ministério da Educação
A9: Universidade Federal Fluminense
A10: Coordenação de Manutenção - Superintendência de Operações e Manutenção
A11: Rua Prof. Marcos Waldemar de Freitas Reis s/nº, bloco B, 5º andar (setor ímpar) - Campus Universitário do Gragoatá
A13: ANEXO I - PLANILHA DE PREÇOS
A14: LOCAL: UNIVERSIDADE FEDERAL FLUMINENSE | F14: DATA: 25/08/2025 | H14: SINAPI: 07/2025
A16: SERVIÇO: INSTALAÇÃO DE AR CONDICIONADO TIPO SPLIT
A17: ITEM | B17: DESCRIÇÃO DO SERVIÇO | C17: FONTE | D17: CÓDIGO | E17: UNID | F17: QUANT | G17: PREÇO UNITÁRIO | H17: PREÇO TOTAL
A18: 1 | B18: Instalação de aparelho, com capacidade de 18000 BTU, incluindo o material de instalação até a distância de 5 m de linha, mão-de-obra necessária, além de todos os materiais e componentes para a completa fixação e funcionamento do equipamento, inclusive sua conexão ao ponto de energia disponível para sua instalação.
A19: 1.1 | B19: MECÂNICO DE REFRIGERAÇÃO COM ENCARGOS COMPLEMENTARES | C19: SINAPI | D19: 100308 | E19: H | F19: 3.5 | G19: 36.04 | H19: =F19*G19 -> 126.14
A20: 1.2 | B20: AJUDANTE ESPECIALIZADO COM ENCARGOS COMPLEMENTARES | C20: SINAPI | D20: 88243 | E20: H | F20: 3.5 | G20: 32.67 | H20: =F20*G20 -> 114.345
A21: 1.3 | B21: TUBO DE COBRE FLEXIVEL, D = 1/4 ", E = 0,79 MM, PARA AR-CONDICIONADO/ INSTALACOES GAS RESIDENCIAIS E COMERCIAIS | C21: SINAPI | D21: 39662 | E21: M | F21: 5 | G21: 20.61 | H21: =F21*G21 -> 103.05
A22: 1.4 | B22: TUBO DE COBRE FLEXIVEL, D = 3/8 ", E = 0,79 MM, PARA AR-CONDICIONADO/ INSTALACOES GAS RESIDENCIAIS E COMERCIAIS | C22: SINAPI | D22: 39664 | E22: M | F22: 5 | G22: 31.7 | H22: =F22*G22 -> 158.5
A23: 1.5 | B23: SUPORTE MAO-FRANCESA EM ACO, ABAS IGUAIS 40 CM, CAPACIDADE MINIMA 70 KG, BRANCO | C23: SINAPI | D23: 37591 | E23: UNID | F23: 2 | G23: 20.27 | H23: =F23*G23 -> 40.54
A24: 1.6 | B24: TUBO DE BORRACHA ELASTOMERICA FLEXIVEL, PRETA, PARA ISOLAMENTO TERMICO DE TUBULACAO, DN 1/4" (6 MM), E= 9 MM, COEFICIENTE DE CONDUTIVIDADE TERMICA 0,036W/MK, VAPOR DE AGUA MAIOR OU IGUAL A 10.000 | C24: SINAPI | D24: 39738 | E24: M | F24: 5 | G24: 4.42 | H24: =F24*G24 -> 22.1
A25: 1.7 | B25: TUBO DE BORRACHA ELASTOMERICA FLEXIVEL, PRETA, PARA ISOLAMENTO TERMICO DE TUBULACAO, DN 3/8" (10 MM), E= 19 MM, COEFICIENTE DE CONDUTIVIDADE TERMICA 0,036W/MK, VAPOR DE AGUA MAIOR OU IGUAL A 10.000 | C25: SINAPI | D25: 39741 | E25: M | F25: 5 | G25: 11.13 | H25: =F25*G25 -> 55.65
A26: 1.6 | B26: CABO MULTIPOLAR DE COBRE, FLEXIVEL, CLASSE 4 OU 5, ISOLACAO EM HEPR, COBERTURA EM PVC-ST2, ANTICHAMA BWF-B, 0,6/1 KV, 3 CONDUTORES DE 4 MM2 | C26: SINAPI | D26: 39259 | E26: M | F26: 5 | G26: 13.92 | H26: =F26*G26 -> 69.6
A27: 1.9 | B27: CAIXA DE LUZ "4 X 2" EM ACO ESMALTADA | C27: SINAPI | D27: 2556 | E27: UNID | F27: 2 | G27: 1.51 | H27: =F27*G27 -> 3.02
A28: 1.10 | B28: ABRACADEIRA EM ACO PARA AMARRACAO DE ELETRODUTOS, TIPO D, COM 3/4" E PARAFUSO DE FIXACAO | C28: SINAPI | D28: 400 | E28: UNID | F28: 2 | G28: 2.25 | H28: =F28*G28 -> 4.5
A29: 1.11 | B29: LUVA EM PVC RIGIDO ROSCAVEL, DE 3/4", PARA ELETRODUTO | C29: SINAPI | D29: 1891 | E29: UNID | F29: 2 | G29: 1.52 | H29: =F29*G29 -> 3.04
A30: 1.12 | B30: ELETRODUTO DE PVC RIGIDO ROSCAVEL DE 3/4 ", SEM LUVA | C30: SINAPI | D30: 2674 | E30: M | F30: 5 | G30: 4.92 | H30: =F30*G30 -> 24.6
... A33: 1.15 | B33: FURO MECANIZADO EM ALVENARIA, PARA INSTALAÇÕES ELÉTRICAS, DIÂMETROS MAIORES QUE 40 MM E MENORES OU IGUAIS A 75 MM. AF_09/2023 | C33: SINAPI | D33: 104770 | E33: UNID | F33: 1 | G33: 2.42 | H33: =F33*G33 -> 2.42
A34: 1.16 | B34: BUCHA DE REDUCAO DE PVC, SOLDAVEL, LONGA, COM 40 X 25 MM, PARA AGUA FRIA PREDIAL | C34: SINAPI | D34: 834 | E34: UNID | F34: 1 | G34: 3.8 | H34: =F34*G34 -> 3.8
A35: 1.17 | B35: JOELHO, PVC SOLDAVEL, 45 GRAUS, 25 MM, PARA AGUA FRIA PREDIAL | C35: SINAPI | D35: 3500 | E35: UNID | F35: 1 | G35: 1.56 | H35: =F35*G35 -> 1.56
A36: 1.18 | B36: JOELHO PVC, SOLDAVEL, 90 GRAUS, 25 MM, PARA AGUA FRIA PREDIAL | C36: SINAPI | D36: 3529 | E36: UNID | F36: 2 | G36: 0.76 | H36: =F36*G36 -> 1.52
A37: 1.19 | B37: TUBO PVC, SOLDAVEL, DN 25 MM, AGUA FRIA (NBR-5648) | C37: SINAPI | D37: 9868 | E37: M | F37: 5 | G37: 4.33 | H37: =F37*G37 -> 21.65
G41: SUB-TOTAL | H41: =SUM(H19:H39) -> 764.115
G43: BDI - 22% | H43: =ROUND((22%*H41),2) -> 168.11
G45: TOTAL GERAL | H45: =H43+H41 -> 932.225

Sheet Orc Sintetico - 22000BTU
A7: Serviço Público Federal
A8: Ministério da Educação
A9: Universidade Federal Fluminense
A10: Coordenação de Manutenção - Superintendência de Operações e Manutenção
A11: Rua Prof. Marcos Waldemar de Freitas Reis s/nº, bloco B, 5º andar (setor ímpar) - Campus Universitário do Gragoatá
A13: ANEXO I - PLANILHA DE PREÇOS
A14: LOCAL: UNIVERSIDADE FEDERAL FLUMINENSE | F14: DATA: 25/08/2025 | H14: SINAPI: 07/2025
A16: SERVIÇO: INSTALAÇÃO DE AR CONDICIONADO TIPO SPLIT
A17: ITEM | B17: DESCRIÇÃO DO SERVIÇO | C17: FONTE | D17: CÓDIGO | E17: UNID | F17: QUANT | G17: PREÇO UNITÁRIO | H17: PREÇO TOTAL
A18: 1 | B18: Instalação de aparelho, com capacidade de 22000 BTU, incluindo o material de instalação até a distância de 5 m de linha, mão-de-obra necessária, além de todos os materiais e componentes para a completa fixação e funcionamento do equipamento, inclusive sua conexão ao ponto de energia disponível para sua instalação.
A19: 1.1 | B19: MECÂNICO DE REFRIGERAÇÃO COM ENCARGOS COMPLEMENTARES | C19: SINAPI | D19: 100308 | E19: H | F19: 3.5 | G19: 36.04 | H19: =F19*G19 -> 126.14
A20: 1.2 | B20: AJUDANTE ESPECIALIZADO COM ENCARGOS COMPLEMENTARES | C20: SINAPI | D20: 88243 | E20: H | F20: 3.5 | G20: 32.67 | H20: =F20*G20 -> 114.345
A21: 1.3 | B21: TUBO DE COBRE FLEXIVEL, D = 5/8 ", E = 0,79 MM, PARA AR-CONDICIONADO/ INSTALACOES GAS RESIDENCIAIS E COMERCIAIS | C21: SINAPI | D21: 39665 | E21: M | F21: 5 | G21: 53.49 | H21: =F21*G21 -> 267.45
A22: 1.4 | B22: TUBO DE COBRE FLEXIVEL, D = 3/8 ", E = 0,79 MM, PARA AR-CONDICIONADO/ INSTALACOES GAS RESIDENCIAIS E COMERCIAIS | C22: SINAPI | D22: 39664 | E22: M | F22: 5 | G22: 31.7 | H22: =F22*G22 -> 158.5
A23: 1.5 | B23: SUPORTE MAO-FRANCESA EM ACO, ABAS IGUAIS 40 CM, CAPACIDADE MINIMA 70 KG, BRANCO | C23: SINAPI | D23: 37591 | E23: UNID | F23: 2 | G23: 20.27 | H23: =F23*G23 -> 40.54
A24: 1.6 | B24: TUBO DE BORRACHA ELASTOMERICA FLEXIVEL, PRETA, PARA ISOLAMENTO TERMICO DE TUBULACAO, DN 5/8" (15 MM), E= 19 MM, COEFICIENTE DE CONDUTIVIDADE TERMICA 0,036W/MK, VAPOR DE AGUA MAIOR OU IGUAL A 10.000 | C24: SINAPI | D24: 39853 | E24: M | F24: 5 | G24: 14.62 | H24: =F24*G24 -> 73.1
A25: 1.7 | B25: TUBO DE BORRACHA ELASTOMERICA FLEXIVEL, PRETA, PARA ISOLAMENTO TERMICO DE TUBULACAO, DN 3/8" (10 MM), E= 19 MM, COEFICIENTE DE CONDUTIVIDADE TERMICA 0,036W/MK, VAPOR DE AGUA MAIOR OU IGUAL A 10.000 | C25: SINAPI | D25: 39741 | E25: M | F25: 5 | G25: 11.13 | H25: =F25*G25 -> 55.65
A26: 1.6 | B26: CABO MULTIPOLAR DE COBRE, FLEXIVEL, CLASSE 4 OU 5, ISOLACAO EM HEPR, COBERTURA EM PVC-ST2, ANTICHAMA BWF-B, 0,6/1 KV, 3 CONDUTORES DE 6 MM2 | C26: SINAPI | D26: 39260 | E26: M | F26: 5 | G26: 21.32 | H26: =F26*G26 -> 106.6
A27: 1.9 | B27: CAIXA DE LUZ "4 X 2" EM ACO ESMALTADA | C27: SINAPI | D27: 2556 | E27: UNID | F27: 2 | G27: 1.51 | H27: =F27*G27 -> 3.02
A28: 1.10 | B28: ABRACADEIRA EM ACO PARA AMARRACAO DE ELETRODUTOS, TIPO D, COM 3/4" E PARAFUSO DE FIXACAO | C28: SINAPI | D28: 400 | E28: UNID | F28: 2 | G28: 2.25 | H28: =F28*G28 -> 4.5
A29: 1.11 | B29: LUVA EM PVC RIGIDO ROSCAVEL, DE 3/4", PARA ELETRODUTO | C29: SINAPI | D29: 1891 | E29: UNID | F29: 2 | G29: 1.52 | H29: =F29*G29 -> 3.04
A30: 1.12 | B30: ELETRODUTO DE PVC RIGIDO ROSCAVEL DE 3/4 ", SEM LUVA | C30: SINAPI | D30: 2674 | E30: M | F30: 5 | G30: 4.92 | H30: =F30*G30 -> 24.6
... A33: 1.15 | B33: FURO MECANIZADO EM ALVENARIA, PARA INSTALAÇÕES ELÉTRICAS, DIÂMETROS MAIORES QUE 40 MM E MENORES OU IGUAIS A 75 MM. AF_09/2023 | C33: SINAPI | D33: 104770 | E33: UNID | F33: 1 | G33: 2.42 | H33: =F33*G33 -> 2.42
A34: 1.16 | B34: BUCHA DE REDUCAO DE PVC, SOLDAVEL, LONGA, COM 40 X 25 MM, PARA AGUA FRIA PREDIAL | C34: SINAPI | D34: 834 | E34: UNID | F34: 1 | G34: 3.8 | H34: =F34*G34 -> 3.8
A35: 1.17 | B35: JOELHO, PVC SOLDAVEL, 45 GRAUS, 25 MM, PARA AGUA FRIA PREDIAL | C35: SINAPI | D35: 3500 | E35: UNID | F35: 1 | G35: 1.56 | H35: =F35*G35 -> 1.56
A36: 1.18 | B36: JOELHO PVC, SOLDAVEL, 90 GRAUS, 25 MM, PARA AGUA FRIA PREDIAL | C36: SINAPI | D36: 3529 | E36: UNID | F36: 2 | G36: 0.76 | H36: =F36*G36 -> 1.52
A37: 1.19 | B37: TUBO PVC, SOLDAVEL, DN 25 MM, AGUA FRIA (NBR-5648) | C37: SINAPI | D37: 9868 | E37: M | F37: 5 | G37: 4.33 | H37: =F37*G37 -> 21.65
G41: SUB-TOTAL | H41: =SUM(H19:H39) -> 1016.515
G43: BDI - 22% | H43: =ROUND((22%*H41),2) -> 223.63
G45: TOTAL GERAL | H45: =H43+H41 -> 1240.145

Sheet Orc Sintetico - 24000BTU
A7: Serviço Público Federal
A8: Ministério da Educação
A9: Universidade Federal Fluminense
A10: Coordenação de Manutenção - Superintendência de Operações e Manutenção
A11: Rua Prof. Marcos Waldemar de Freitas Reis s/nº, bloco B, 5º andar (setor ímpar) - Campus Universitário do Gragoatá
A13: ANEXO I - PLANILHA DE PREÇOS
A14: LOCAL: UNIVERSIDADE FEDERAL FLUMINENSE | F14: DATA: 25/08/2025 | H14: SINAPI: 07/2025
A16: SERVIÇO: INSTALAÇÃO DE AR CONDICIONADO TIPO SPLIT
A17: ITEM | B17: DESCRIÇÃO DO SERVIÇO | C17: FONTE | D17: CÓDIGO | E17: UNID | F17: QUANT | G17: PREÇO UNITÁRIO | H17: PREÇO TOTAL
A18: 1 | B18: Instalação de aparelho, com capacidade de 24000 BTU, incluindo o material de instalação até a distância de 5 m de linha, mão-de-obra necessária, além de todos os materiais e componentes para a completa fixação e funcionamento do equipamento, inclusive sua conexão ao ponto de energia disponível para sua instalação.
A19: 1.1 | B19: MECÂNICO DE REFRIGERAÇÃO COM ENCARGOS COMPLEMENTARES | C19: SINAPI | D19: 100308 | E19: H | F19: 3.5 | G19: 36.04 | H19: =F19*G19 -> 126.14
A20: 1.2 | B20: AJUDANTE ESPECIALIZADO COM ENCARGOS COMPLEMENTARES | C20: SINAPI | D20: 88243 | E20: H | F20: 3.5 | G20: 32.67 | H20: =F20*G20 -> 114.345
A21: 1.3 | B21: TUBO DE COBRE FLEXIVEL, D = 5/8 ", E = 0,79 MM, PARA AR-CONDICIONADO/ INSTALACOES GAS RESIDENCIAIS E COMERCIAIS | C21: SINAPI | D21: 39665 | E21: M | F21: 5 | G21: 53.49 | H21: =F21*G21 -> 267.45
A22: 1.4 | B22: TUBO DE COBRE FLEXIVEL, D = 3/8 ", E = 0,79 MM, PARA AR-CONDICIONADO/ INSTALACOES GAS RESIDENCIAIS E COMERCIAIS | C22: SINAPI | D22: 39664 | E22: M | F22: 5 | G22: 31.7 | H22: =F22*G22 -> 158.5
A23: 1.5 | B23: SUPORTE MAO-FRANCESA EM ACO, ABAS IGUAIS 40 CM, CAPACIDADE MINIMA 70 KG, BRANCO | C23: SINAPI | D23: 37591 | E23: UNID | F23: 2 | G23: 20.27 | H23: =F23*G23 -> 40.54
A24: 1.6 | B24: TUBO DE BORRACHA ELASTOMERICA FLEXIVEL, PRETA, PARA ISOLAMENTO TERMICO DE TUBULACAO, DN 5/8" (15 MM), E= 19 MM, COEFICIENTE DE CONDUTIVIDADE TERMICA 0,036W/MK, VAPOR DE AGUA MAIOR OU IGUAL A 10.000 | C24: SINAPI | D24: 39853 | E24: M | F24: 5 | G24: 14.62 | H24: =F24*G24 -> 73.1
A25: 1.7 | B25: TUBO DE BORRACHA ELASTOMERICA FLEXIVEL, PRETA, PARA ISOLAMENTO TERMICO DE TUBULACAO, DN 3/8" (10 MM), E= 19 MM, COEFICIENTE DE CONDUTIVIDADE TERMICA 0,036W/MK, VAPOR DE AGUA MAIOR OU IGUAL A 10.000 | C25: SINAPI | D25: 39741 | E25: M | F25: 5 | G25: 11.13 | H25: =F25*G25 -> 55.65
A26: 1.6 | B26: CABO MULTIPOLAR DE COBRE, FLEXIVEL, CLASSE 4 OU 5, ISOLACAO EM HEPR, COBERTURA EM PVC-ST2, ANTICHAMA BWF-B, 0,6/1 KV, 3 CONDUTORES DE 6 MM2 | C26: SINAPI | D26: 39260 | E26: M | F26: 5 | G26: 21.32 | H26: =F26*G26 -> 106.6
A27: 1.9 | B27: CAIXA DE LUZ "4 X 2" EM ACO ESMALTADA | C27: SINAPI | D27: 2556 | E27: UNID | F27: 2 | G27: 1.51 | H27: =F27*G27 -> 3.02
A28: 1.10 | B28: ABRACADEIRA EM ACO PARA AMARRACAO DE ELETRODUTOS, TIPO D, COM 3/4" E PARAFUSO DE FIXACAO | C28: SINAPI | D28: 400 | E28: UNID | F28: 2 | G28: 2.25 | H28: =F28*G28 -> 4.5
A29: 1.11 | B29: LUVA EM PVC RIGIDO ROSCAVEL, DE 3/4", PARA ELETRODUTO | C29: SINAPI | D29: 1891 | E29: UNID | F29: 2 | G29: 1.52 | H29: =F29*G29 -> 3.04
A30: 1.12 | B30: ELETRODUTO DE PVC RIGIDO ROSCAVEL DE 3/4 ", SEM LUVA | C30: SINAPI | D30: 2674 | E30: M | F30: 5 | G30: 4.92 | H30: =F30*G30 -> 24.6
... A33: 1.15 | B33: FURO MECANIZADO EM ALVENARIA, PARA INSTALAÇÕES ELÉTRICAS, DIÂMETROS MAIORES QUE 40 MM E MENORES OU IGUAIS A 75 MM. AF_09/2023 | C33: SINAPI | D33: 104770 | E33: UNID | F33: 1 | G33: 2.42 | H33: =F33*G33 -> 2.42
A34: 1.16 | B34: BUCHA DE REDUCAO DE PVC, SOLDAVEL, LONGA, COM 40 X 25 MM, PARA AGUA FRIA PREDIAL | C34: SINAPI | D34: 834 | E34: UNID | F34: 1 | G34: 3.8 | H34: =F34*G34 -> 3.8
A35: 1.17 | B35: JOELHO, PVC SOLDAVEL, 45 GRAUS, 25 MM, PARA AGUA FRIA PREDIAL | C35: SINAPI | D35: 3500 | E35: UNID | F35: 1 | G35: 1.56 | H35: =F35*G35 -> 1.56
A36: 1.18 | B36: JOELHO PVC, SOLDAVEL, 90 GRAUS, 25 MM, PARA AGUA FRIA PREDIAL | C36: SINAPI | D36: 3529 | E36: UNID | F36: 2 | G36: 0.76 | H36: =F36*G36 -> 1.52
A37: 1.19 | B37: TUBO PVC, SOLDAVEL, DN 25 MM, AGUA FRIA (NBR-5648) | C37: SINAPI | D37: 9868 | E37: M | F37: 5 | G37: 4.33 | H37: =F37*G37 -> 21.65
G41: SUB-TOTAL | H41: =SUM(H19:H39) -> 1016.515
G43: BDI - 22% | H43: =ROUND((22%*H41),2) -> 223.63
G45: TOTAL GERAL | H45: =H43+H41 -> 1240.145

Sheet Orc Sintetico - 30000BTU
A7: Serviço Público Federal
A8: Ministério da Educação
A9: Universidade Federal Fluminense
A10: Coordenação de Manutenção - Superintendência de Operações e Manutenção
A11: Rua Prof. Marcos Waldemar de Freitas Reis s/nº, bloco B, 5º andar (setor ímpar) - Campus Universitário do Gragoatá
A13: ANEXO I - PLANILHA DE PREÇOS
A14: LOCAL: UNIVERSIDADE FEDERAL FLUMINENSE | F14: DATA: 25/08/2025 | H14: SINAPI: 07/2025
A16: SERVIÇO: INSTALAÇÃO DE AR CONDICIONADO TIPO SPLIT
A17: ITEM | B17: DESCRIÇÃO DO SERVIÇO | C17: FONTE | D17: CÓDIGO | E17: UNID | F17: QUANT | G17: PREÇO UNITÁRIO | H17: PREÇO TOTAL
A18: 1 | B18: Instalação de aparelho, com capacidade de 30000 BTU, incluindo o material de instalação até a distância de 5 m de linha, mão-de-obra necessária, além de todos os materiais e componentes para a completa fixação e funcionamento do equipamento, inclusive sua conexão ao ponto de energia disponível para sua instalação.
A19: 1.1 | B19: MECÂNICO DE REFRIGERAÇÃO COM ENCARGOS COMPLEMENTARES | C19: SINAPI | D19: 100308 | E19: H | F19: 3.5 | G19: 36.04 | H19: =F19*G19 -> 126.14
A20: 1.2 | B20: AJUDANTE ESPECIALIZADO COM ENCARGOS COMPLEMENTARES | C20: SINAPI | D20: 88243 | E20: H | F20: 3.5 | G20: 32.67 | H20: =F20*G20 -> 114.345
A21: 1.3 | B21: TUBO DE COBRE FLEXIVEL, D = 5/8 ", E = 0,79 MM, PARA AR-CONDICIONADO/ INSTALACOES GAS RESIDENCIAIS E COMERCIAIS | C21: SINAPI | D21: 39665 | E21: M | F21: 5 | G21: 53.49 | H21: =F21*G21 -> 267.45
A22: 1.4 | B22: TUBO DE COBRE FLEXIVEL, D = 3/8 ", E = 0,79 MM, PARA AR-CONDICIONADO/ INSTALACOES GAS RESIDENCIAIS E COMERCIAIS | C22: SINAPI | D22: 39664 | E22: M | F22: 5 | G22: 31.7 | H22: =F22*G22 -> 158.5
A23: 1.5 | B23: SUPORTE MAO-FRANCESA EM ACO, ABAS IGUAIS 40 CM, CAPACIDADE MINIMA 70 KG, BRANCO | C23: SINAPI | D23: 37591 | E23: UNID | F23: 2 | G23: 20.27 | H23: =F23*G23 -> 40.54
A24: 1.6 | B24: TUBO DE BORRACHA ELASTOMERICA FLEXIVEL, PRETA, PARA ISOLAMENTO TERMICO DE TUBULACAO, DN 5/8" (15 MM), E= 19 MM, COEFICIENTE DE CONDUTIVIDADE TERMICA 0,036W/MK, VAPOR DE AGUA MAIOR OU IGUAL A 10.000 | C24: SINAPI | D24: 39853 | E24: M | F24: 5 | G24: 14.62 | H24: =F24*G24 -> 73.1
A25: 1.7 | B25: TUBO DE BORRACHA ELASTOMERICA FLEXIVEL, PRETA, PARA ISOLAMENTO TERMICO DE TUBULACAO, DN 3/8" (10 MM), E= 19 MM, COEFICIENTE DE CONDUTIVIDADE TERMICA 0,036W/MK, VAPOR DE AGUA MAIOR OU IGUAL A 10.000 | C25: SINAPI | D25: 39741 | E25: M | F25: 5 | G25: 11.13 | H25: =F25*G25 -> 55.65
A26: 1.6 | B26: CABO MULTIPOLAR DE COBRE, FLEXIVEL, CLASSE 4 OU 5, ISOLACAO EM HEPR, COBERTURA EM PVC-ST2, ANTICHAMA BWF-B, 0,6/1 KV, 3 CONDUTORES DE 6 MM2 | C26: SINAPI | D26: 39260 | E26: M | F26: 5 | G26: 21.32 | H26: =F26*G26 -> 106.6
A27: 1.9 | B27: CAIXA DE LUZ "4 X 2" EM ACO ESMALTADA | C27: SINAPI | D27: 2556 | E27: UNID | F27: 2 | G27: 1.51 | H27: =F27*G27 -> 3.02
A28: 1.10 | B28: ABRACADEIRA EM ACO PARA AMARRACAO DE ELETRODUTOS, TIPO D, COM 3/4" E PARAFUSO DE FIXACAO | C28: SINAPI | D28: 400 | E28: UNID | F28: 2 | G28: 2.25 | H28: =F28*G28 -> 4.5
A29: 1.11 | B29: LUVA EM PVC RIGIDO ROSCAVEL, DE 3/4", PARA ELETRODUTO | C29: SINAPI | D29: 1891 | E29: UNID | F29: 2 | G29: 1.52 | H29: =F29*G29 -> 3.04
A30: 1.12 | B30: ELETRODUTO DE PVC RIGIDO ROSCAVEL DE 3/4 ", SEM LUVA | C30: SINAPI | D30: 2674 | E30: M | F30: 5 | G30: 4.92 | H30: =F30*G30 -> 24.6
... A33: 1.15 | B33: FURO MECANIZADO EM ALVENARIA, PARA INSTALAÇÕES ELÉTRICAS, DIÂMETROS MAIORES QUE 40 MM E MENORES OU IGUAIS A 75 MM. AF_09/2023 | C33: SINAPI | D33: 104770 | E33: UNID | F33: 1 | G33: 2.42 | H33: =F33*G33 -> 2.42
A34: 1.16 | B34: BUCHA DE REDUCAO DE PVC, SOLDAVEL, LONGA, COM 40 X 25 MM, PARA AGUA FRIA PREDIAL | C34: SINAPI | D34: 834 | E34: UNID | F34: 1 | G34: 3.8 | H34: =F34*G34 -> 3.8
A35: 1.17 | B35: JOELHO, PVC SOLDAVEL, 45 GRAUS, 25 MM, PARA AGUA FRIA PREDIAL | C35: SINAPI | D35: 3500 | E35: UNID | F35: 1 | G35: 1.56 | H35: =F35*G35 -> 1.56
A36: 1.18 | B36: JOELHO PVC, SOLDAVEL, 90 GRAUS, 25 MM, PARA AGUA FRIA PREDIAL | C36: SINAPI | D36: 3529 | E36: UNID | F36: 2 | G36: 0.76 | H36: =F36*G36 -> 1.52
A37: 1.19 | B37: TUBO PVC, SOLDAVEL, DN 25 MM, AGUA FRIA (NBR-5648) | C37: SINAPI | D37: 9868 | E37: M | F37: 5 | G37: 4.33 | H37: =F37*G37 -> 21.65
G41: SUB-TOTAL | H41: =SUM(H19:H39) -> 1016.515
G43: BDI - 22% | H43: =ROUND((22%*H41),2) -> 223.63
G45: TOTAL GERAL | H45: =H43+H41 -> 1240.145

Sheet Orc Sintetico - 36000BTU
A7: Serviço Público Federal
A8: Ministério da Educação
A9: Universidade Federal Fluminense
A10: Coordenação de Manutenção - Superintendência de Operações e Manutenção
A11: Rua Prof. Marcos Waldemar de Freitas Reis s/nº, bloco B, 5º andar (setor ímpar) - Campus Universitário do Gragoatá
A13: ANEXO I - PLANILHA DE PREÇOS
A14: LOCAL: UNIVERSIDADE FEDERAL FLUMINENSE | F14: DATA: 25/08/2025 | H14: SINAPI: 07/2025
A16: SERVIÇO: INSTALAÇÃO DE AR CONDICIONADO TIPO SPLIT
A17: ITEM | B17: DESCRIÇÃO DO SERVIÇO | C17: FONTE | D17: CÓDIGO | E17: UNID | F17: QUANT | G17: PREÇO UNITÁRIO | H17: PREÇO TOTAL
A18: 1 | B18: Instalação de aparelho, com capacidade de 36000 BTU, incluindo o material de instalação até a distância de 5 m de linha, mão-de-obra necessária, além de todos os materiais e componentes para a completa fixação e funcionamento do equipamento, inclusive sua conexão ao ponto de energia disponível para sua instalação.
A19: 1.1 | B19: MECÂNICO DE REFRIGERAÇÃO COM ENCARGOS COMPLEMENTARES | C19: SINAPI | D19: 100308 | E19: H | F19: 3.5 | G19: 36.04 | H19: =F19*G19 -> 126.14
A20: 1.2 | B20: AJUDANTE ESPECIALIZADO COM ENCARGOS COMPLEMENTARES | C20: SINAPI | D20: 88243 | E20: H | F20: 3.5 | G20: 32.67 | H20: =F20*G20 -> 114.345
A21: 1.3 | B21: TUBO DE COBRE FLEXIVEL, D = 5/8 ", E = 0,79 MM, PARA AR-CONDICIONADO/ INSTALACOES GAS RESIDENCIAIS E COMERCIAIS | C21: SINAPI | D21: 39665 | E21: M | F21: 5 | G21: 53.49 | H21: =F21*G21 -> 267.45
A22: 1.4 | B22: TUBO DE COBRE FLEXIVEL, D = 3/8 ", E = 0,79 MM, PARA AR-CONDICIONADO/ INSTALACOES GAS RESIDENCIAIS E COMERCIAIS | C22: SINAPI | D22: 39664 | E22: M | F22: 5 | G22: 31.7 | H22: =F22*G22 -> 158.5
A23: 1.5 | B23: SUPORTE MAO-FRANCESA EM ACO, ABAS IGUAIS 40 CM, CAPACIDADE MINIMA 70 KG, BRANCO | C23: SINAPI | D23: 37591 | E23: UNID | F23: 2 | G23: 20.27 | H23: =F23*G23 -> 40.54
A24: 1.6 | B24: TUBO DE BORRACHA ELASTOMERICA FLEXIVEL, PRETA, PARA ISOLAMENTO TERMICO DE TUBULACAO, DN 5/8" (15 MM), E= 19 MM, COEFICIENTE DE CONDUTIVIDADE TERMICA 0,036W/MK, VAPOR DE AGUA MAIOR OU IGUAL A 10.000 | C24: SINAPI | D24: 39853 | E24: M | F24: 5 | G24: 14.62 | H24: =F24*G24 -> 73.1
A25: 1.7 | B25: TUBO DE BORRACHA ELASTOMERICA FLEXIVEL, PRETA, PARA ISOLAMENTO TERMICO DE TUBULACAO, DN 3/8" (10 MM), E= 19 MM, COEFICIENTE DE CONDUTIVIDADE TERMICA 0,036W/MK, VAPOR DE AGUA MAIOR OU IGUAL A 10.000 | C25: SINAPI | D25: 39741 | E25: M | F25: 5 | G25: 11.13 | H25: =F25*G25 -> 55.65
A26: 1.6 | B26: CABO MULTIPOLAR DE COBRE, FLEXIVEL, CLASSE 4 OU 5, ISOLACAO EM HEPR, COBERTURA EM PVC-ST2, ANTICHAMA BWF-B, 0,6/1 KV, 3 CONDUTORES DE 6 MM2 | C26: SINAPI | D26: 39260 | E26: M | F26: 5 | G26: 21.32 | H26: =F26*G26 -> 106.6
A27: 1.9 | B27: CAIXA DE LUZ "4 X 2" EM ACO ESMALTADA | C27: SINAPI | D27: 2556 | E27: UNID | F27: 2 | G27: 1.51 | H27: =F27*G27 -> 3.02
A28: 1.10 | B28: ABRACADEIRA EM ACO PARA AMARRACAO DE ELETRODUTOS, TIPO D, COM 3/4" E PARAFUSO DE FIXACAO | C28: SINAPI | D28: 400 | E28: UNID | F28: 2 | G28: 2.25 | H28: =F28*G28 -> 4.5
A29: 1.11 | B29: LUVA EM PVC RIGIDO ROSCAVEL, DE 3/4", PARA ELETRODUTO | C29: SINAPI | D29: 1891 | E29: UNID | F29: 2 | G29: 1.52 | H29: =F29*G29 -> 3.04
A30: 1.12 | B30: ELETRODUTO DE PVC RIGIDO ROSCAVEL DE 3/4 ", SEM LUVA | C30: SINAPI | D30: 2674 | E30: M | F30: 5 | G30: 4.92 | H30: =F30*G30 -> 24.6
... A33: 1.15 | B33: FURO MECANIZADO EM ALVENARIA, PARA INSTALAÇÕES ELÉTRICAS, DIÂMETROS MAIORES QUE 40 MM E MENORES OU IGUAIS A 75 MM. AF_09/2023 | C33: SINAPI | D33: 104770 | E33: UNID | F33: 1 | G33: 2.42 | H33: =F33*G33 -> 2.42
A34: 1.16 | B34: BUCHA DE REDUCAO DE PVC, SOLDAVEL, LONGA, COM 40 X 25 MM, PARA AGUA FRIA PREDIAL | C34: SINAPI | D34: 834 | E34: UNID | F34: 1 | G34: 3.8 | H34: =F34*G34 -> 3.8
A35: 1.17 | B35: JOELHO, PVC SOLDAVEL, 45 GRAUS, 25 MM, PARA AGUA FRIA PREDIAL | C35: SINAPI | D35: 3500 | E35: UNID | F35: 1 | G35: 1.56 | H35: =F35*G35 -> 1.56
A36: 1.18 | B36: JOELHO PVC, SOLDAVEL, 90 GRAUS, 25 MM, PARA AGUA FRIA PREDIAL | C36: SINAPI | D36: 3529 | E36: UNID | F36: 2 | G36: 0.76 | H36: =F36*G36 -> 1.52
A37: 1.19 | B37: TUBO PVC, SOLDAVEL, DN 25 MM, AGUA FRIA (NBR-5648) | C37: SINAPI | D37: 9868 | E37: M | F37: 5 | G37: 4.33 | H37: =F37*G37 -> 21.65
G41: SUB-TOTAL | H41: =SUM(H19:H39) -> 1016.515
G43: BDI - 22% | H43: =ROUND((22%*H41),2) -> 223.63
G45: TOTAL GERAL | H45: =H43+H41 -> 1240.145

Sheet Orc Sintetico - 48000BTU
A7: Serviço Público Federal
A8: Ministério da Educação
A9: Universidade Federal Fluminense
A10: Coordenação de Manutenção - Superintendência de Operações e Manutenção
A11: Rua Prof. Marcos Waldemar de Freitas Reis s/nº, bloco B, 5º andar (setor ímpar) - Campus Universitário do Gragoatá
A13: ANEXO I - PLANILHA DE PREÇOS
A14: LOCAL: UNIVERSIDADE FEDERAL FLUMINENSE | F14: DATA: 25/08/2025 | H14: SINAPI: 07/2025
A16: SERVIÇO: INSTALAÇÃO DE AR CONDICIONADO TIPO SPLIT
A17: ITEM | B17: DESCRIÇÃO DO SERVIÇO | C17: FONTE | D17: CÓDIGO | E17: UNID | F17: QUANT | G17: PREÇO UNITÁRIO | H17: PREÇO TOTAL
A18: 1 | B18: Instalação de aparelho, com capacidade de 48000 BTU, incluindo o material de instalação até a distância de 5 m de linha, mão-de-obra necessária, além de todos os materiais e componentes para a completa fixação e funcionamento do equipamento, inclusive sua conexão ao ponto de energia disponível para sua instalação.
A19: 1.1 | B19: MECÂNICO DE REFRIGERAÇÃO COM ENCARGOS COMPLEMENTARES | C19: SINAPI | D19: 100308 | E19: H | F19: 4 | G19: 36.04 | H19: =F19*G19 -> 144.16
A20: 1.2 | B20: AJUDANTE ESPECIALIZADO COM ENCARGOS COMPLEMENTARES | C20: SINAPI | D20: 88243 | E20: H | F20: 4 | G20: 32.67 | H20: =F20*G20 -> 130.68
A21: 1.3 | B21: TUBO DE COBRE FLEXIVEL, D = 5/8 ", E = 0,79 MM, PARA AR-CONDICIONADO/ INSTALACOES GAS RESIDENCIAIS E COMERCIAIS | C21: SINAPI | D21: 39665 | E21: M | F21: 5 | G21: 53.49 | H21: =F21*G21 -> 267.45
A22: 1.4 | B22: TUBO DE COBRE FLEXIVEL, D = 3/8 ", E = 0,79 MM, PARA AR-CONDICIONADO/ INSTALACOES GAS RESIDENCIAIS E COMERCIAIS | C22: SINAPI | D22: 39664 | E22: M | F22: 5 | G22: 31.7 | H22: =F22*G22 -> 158.5
A23: 1.5 | B23: SUPORTE MAO-FRANCESA EM ACO, ABAS IGUAIS 40 CM, CAPACIDADE MINIMA 70 KG, BRANCO | C23: SINAPI | D23: 37591 | E23: UNID | F23: 2 | G23: 20.27 | H23: =F23*G23 -> 40.54
A24: 1.6 | B24: TUBO DE BORRACHA ELASTOMERICA FLEXIVEL, PRETA, PARA ISOLAMENTO TERMICO DE TUBULACAO, DN 5/8" (15 MM), E= 19 MM, COEFICIENTE DE CONDUTIVIDADE TERMICA 0,036W/MK, VAPOR DE AGUA MAIOR OU IGUAL A 10.000 | C24: SINAPI | D24: 39853 | E24: M | F24: 5 | G24: 14.62 | H24: =F24*G24 -> 73.1
A25: 1.7 | B25: TUBO DE BORRACHA ELASTOMERICA FLEXIVEL, PRETA, PARA ISOLAMENTO TERMICO DE TUBULACAO, DN 3/8" (10 MM), E= 19 MM, COEFICIENTE DE CONDUTIVIDADE TERMICA 0,036W/MK, VAPOR DE AGUA MAIOR OU IGUAL A 10.000 | C25: SINAPI | D25: 39741 | E25: M | F25: 5 | G25: 11.13 | H25: =F25*G25 -> 55.65
A26: 1.6 | B26: CABO MULTIPOLAR DE COBRE, FLEXIVEL, CLASSE 4 OU 5, ISOLACAO EM HEPR, COBERTURA EM PVC-ST2, ANTICHAMA BWF-B, 0,6/1 KV, 3 CONDUTORES DE 6 MM2 | C26: SINAPI | D26: 39260 | E26: M | F26: 5 | G26: 21.32 | H26: =F26*G26 -> 106.6
A27: 1.9 | B27: CAIXA DE LUZ "4 X 2" EM ACO ESMALTADA | C27: SINAPI | D27: 2556 | E27: UNID | F27: 2 | G27: 1.51 | H27: =F27*G27 -> 3.02
A28: 1.10 | B28: ABRACADEIRA EM ACO PARA AMARRACAO DE ELETRODUTOS, TIPO D, COM 3/4" E PARAFUSO DE FIXACAO | C28: SINAPI | D28: 400 | E28: UNID | F28: 2 | G28: 2.25 | H28: =F28*G28 -> 4.5
A29: 1.11 | B29: LUVA EM PVC RIGIDO ROSCAVEL, DE 3/4", PARA ELETRODUTO | C29: SINAPI | D29: 1891 | E29: UNID | F29: 2 | G29: 1.52 | H29: =F29*G29 -> 3.04
A30: 1.12 | B30: ELETRODUTO DE PVC RIGIDO ROSCAVEL DE 3/4 ", SEM LUVA | C30: SINAPI | D30: 2674 | E30: M | F30: 5 | G30: 4.92 | H30: =F30*G30 -> 24.6
... A33: 1.15 | B33: FURO MECANIZADO EM ALVENARIA, PARA INSTALAÇÕES ELÉTRICAS, DIÂMETROS MAIORES QUE 40 MM E MENORES OU IGUAIS A 75 MM. AF_09/2023 | C33: SINAPI | D33: 104770 | E33: UNID | F33: 1 | G33: 2.42 | H33: =F33*G33 -> 2.42
A34: 1.16 | B34: BUCHA DE REDUCAO DE PVC, SOLDAVEL, LONGA, COM 40 X 25 MM, PARA AGUA FRIA PREDIAL | C34: SINAPI | D34: 834 | E34: UNID | F34: 1 | G34: 3.8 | H34: =F34*G34 -> 3.8
A35: 1.17 | B35: JOELHO, PVC SOLDAVEL, 45 GRAUS, 25 MM, PARA AGUA FRIA PREDIAL | C35: SINAPI | D35: 3500 | E35: UNID | F35: 1 | G35: 1.56 | H35: =F35*G35 -> 1.56
A36: 1.18 | B36: JOELHO PVC, SOLDAVEL, 90 GRAUS, 25 MM, PARA AGUA FRIA PREDIAL | C36: SINAPI | D36: 3529 | E36: UNID | F36: 2 | G36: 0.76 | H36: =F36*G36 -> 1.52
A37: 1.19 | B37: TUBO PVC, SOLDAVEL, DN 25 MM, AGUA FRIA (NBR-5648) | C37: SINAPI | D37: 9868 | E37: M | F37: 5 | G37: 4.33 | H37: =F37*G37 -> 21.65
G41: SUB-TOTAL | H41: =SUM(H19:H39) -> 1050.87
G43: BDI - 22% | H43: =ROUND((22%*H41),2) -> 231.19
G45: TOTAL GERAL | H45: =H43+H41 -> 1282.06

Sheet Orc Sintetico - 60000BTU
A7: Serviço Público Federal
A8: Ministério da Educação
A9: Universidade Federal Fluminense
A10: Coordenação de Manutenção - Superintendência de Operações e Manutenção
A11: Rua Prof. Marcos Waldemar de Freitas Reis s/nº, bloco B, 5º andar (setor ímpar) - Campus Universitário do Gragoatá
A13: ANEXO I - PLANILHA DE PREÇOS
A14: LOCAL: UNIVERSIDADE FEDERAL FLUMINENSE | F14: DATA: 25/08/2025 | H14: SINAPI: 07/2025
A16: SERVIÇO: INSTALAÇÃO DE AR CONDICIONADO TIPO SPLIT
A17: ITEM | B17: DESCRIÇÃO DO SERVIÇO | C17: FONTE | D17: CÓDIGO | E17: UNID | F17: QUANT | G17: PREÇO UNITÁRIO | H17: PREÇO TOTAL
A18: 1 | B18: Instalação de aparelho, com capacidade de 60000 BTU, incluindo o material de instalação até a distância de 5 m de linha, mão-de-obra necessária, além de todos os materiais e componentes para a completa fixação e funcionamento do equipamento, inclusive sua conexão ao ponto de energia disponível para sua instalação.
A19: 1.1 | B19: MECÂNICO DE REFRIGERAÇÃO COM ENCARGOS COMPLEMENTARES | C19: SINAPI | D19: 100308 | E19: H | F19: 4 | G19: 36.04 | H19: =F19*G19 -> 144.16
A20: 1.2 | B20: AJUDANTE ESPECIALIZADO COM ENCARGOS COMPLEMENTARES | C20: SINAPI | D20: 88243 | E20: H | F20: 4 | G20: 32.67 | H20: =F20*G20 -> 130.68
A21: 1.3 | B21: TUBO DE COBRE FLEXIVEL, D = 5/8 ", E = 0,79 MM, PARA AR-CONDICIONADO/ INSTALACOES GAS RESIDENCIAIS E COMERCIAIS | C21: SINAPI | D21: 39665 | E21: M | F21: 5 | G21: 53.49 | H21: =F21*G21 -> 267.45
A22: 1.4 | B22: TUBO DE COBRE FLEXIVEL, D = 3/8 ", E = 0,79 MM, PARA AR-CONDICIONADO/ INSTALACOES GAS RESIDENCIAIS E COMERCIAIS | C22: SINAPI | D22: 39664 | E22: M | F22: 5 | G22: 31.7 | H22: =F22*G22 -> 158.5
A23: 1.5 | B23: SUPORTE MAO-FRANCESA EM ACO, ABAS IGUAIS 40 CM, CAPACIDADE MINIMA 70 KG, BRANCO | C23: SINAPI | D23: 37591 | E23: UNID | F23: 2 | G23: 20.27 | H23: =F23*G23 -> 40.54
A24: 1.6 | B24: TUBO DE BORRACHA ELASTOMERICA FLEXIVEL, PRETA, PARA ISOLAMENTO TERMICO DE TUBULACAO, DN 5/8" (15 MM), E= 19 MM, COEFICIENTE DE CONDUTIVIDADE TERMICA 0,036W/MK, VAPOR DE AGUA MAIOR OU IGUAL A 10.000 | C24: SINAPI | D24: 39853 | E24: M | F24: 5 | G24: 14.62 | H24: =F24*G24 -> 73.1
A25: 1.7 | B25: TUBO DE BORRACHA ELASTOMERICA FLEXIVEL, PRETA, PARA ISOLAMENTO TERMICO DE TUBULACAO, DN 3/8" (10 MM), E= 19 MM, COEFICIENTE DE CONDUTIVIDADE TERMICA 0,036W/MK, VAPOR DE AGUA MAIOR OU IGUAL A 10.000 | C25: SINAPI | D25: 39741 | E25: M | F25: 5 | G25: 11.13 | H25: =F25*G25 -> 55.65
A26: 1.6 | B26: CABO MULTIPOLAR DE COBRE, FLEXIVEL, CLASSE 4 OU 5, ISOLACAO EM HEPR, COBERTURA EM PVC-ST2, ANTICHAMA BWF-B, 0,6/1 KV, 3 CONDUTORES DE 10 MM2 | C26: SINAPI | D26: 39261 | E26: M | F26: 5 | G26: 34.35 | H26: =F26*G26 -> 171.75
A27: 1.9 | B27: CAIXA DE LUZ "4 X 2" EM ACO ESMALTADA | C27: SINAPI | D27: 2556 | E27: UNID | F27: 2 | G27: 1.51 | H27: =F27*G27 -> 3.02
A28: 1.10 | B28: ABRACADEIRA EM ACO PARA AMARRACAO DE ELETRODUTOS, TIPO D, COM 3/4" E PARAFUSO DE FIXACAO | C28: SINAPI | D28: 400 | E28: UNID | F28: 2 | G28: 2.25 | H28: =F28*G28 -> 4.5
A29: 1.11 | B29: LUVA EM PVC RIGIDO ROSCAVEL, DE 3/4", PARA ELETRODUTO | C29: SINAPI | D29: 1891 | E29: UNID | F29: 2 | G29: 1.52 | H29: =F29*G29 -> 3.04
A30: 1.12 | B30: ELETRODUTO DE PVC RIGIDO ROSCAVEL DE 3/4 ", SEM LUVA | C30: SINAPI | D30: 2674 | E30: M | F30: 5 | G30: 4.92 | H30: =F30*G30 -> 24.6
... A33: 1.15 | B33: FURO MECANIZADO EM ALVENARIA, PARA INSTALAÇÕES ELÉTRICAS, DIÂMETROS MAIORES QUE 40 MM E MENORES OU IGUAIS A 75 MM. AF_09/2023 | C33: SINAPI | D33: 104770 | E33: UNID | F33: 1 | G33: 2.42 | H33: =F33*G33 -> 2.42
A34: 1.16 | B34: BUCHA DE REDUCAO DE PVC, SOLDAVEL, LONGA, COM 40 X 25 MM, PARA AGUA FRIA PREDIAL | C34: SINAPI | D34: 834 | E34: UNID | F34: 1 | G34: 3.8 | H34: =F34*G34 -> 3.8
A35: 1.17 | B35: JOELHO, PVC SOLDAVEL, 45 GRAUS, 25 MM, PARA AGUA FRIA PREDIAL | C35: SINAPI | D35: 3500 | E35: UNID | F35: 1 | G35: 1.56 | H35: =F35*G35 -> 1.56
A36: 1.18 | B36: JOELHO PVC, SOLDAVEL, 90 GRAUS, 25 MM, PARA AGUA FRIA PREDIAL | C36: SINAPI | D36: 3529 | E36: UNID | F36: 2 | G36: 0.76 | H36: =F36*G36 -> 1.52
A37: 1.19 | B37: TUBO PVC, SOLDAVEL, DN 25 MM, AGUA FRIA (NBR-5648) | C37: SINAPI | D37: 9868 | E37: M | F37: 5 | G37: 4.33 | H37: =F37*G37 -> 21.65
G41: SUB-TOTAL | H41: =SUM(H19:H39) -> 1116.02
G43: BDI - 22% | H43: =ROUND((22%*H41),2) -> 245.52
G45: TOTAL GERAL | H45: =H43+H41 -> 1361.54

Sheet Orc Sintetico - Tubul. 1 4
A7: Serviço Público Federal
A8: Ministério da Educação
A9: Universidade Federal Fluminense
A10: Coordenação de Manutenção - Superintendência de Operações e Manutenção
A11: Rua Prof. Marcos Waldemar de Freitas Reis s/nº, bloco B, 5º andar (setor ímpar) - Campus Universitário do Gragoatá
A13: ANEXO I - PLANILHA DE PREÇOS
A14: LOCAL: UNIVERSIDADE FEDERAL FLUMINENSE | F14: DATA: 25/08/2025 | H14: SINAPI: 07/2025
A16: SERVIÇO: INSTALAÇÃO DE AR CONDICIONADO TIPO SPLIT
A17: ITEM | B17: DESCRIÇÃO DO SERVIÇO | C17: FONTE | D17: CÓDIGO | E17: UNID | F17: QUANT | G17: PREÇO UNITÁRIO | H17: PREÇO TOTAL
A18: 1 | B18: Instalação incluindo isolamento e fixação de dutos de cobre 1/4", medida pela quantidade superior aos 5 m da franquia inicial
A19: 1.1 | B19: TUBO EM COBRE FLEXÍVEL, DN 1/4, COM ISOLAMENTO, INSTALADO EM RAMAL DE ALIMENTAÇÃO DE AR CONDICIONADO COM CONDENSADORA INDIVIDUAL FORNECIMENTO E I NSTALAÇÃO. | C19: SINAPI | D19: 97327 | E19: M | F19: 1 | G19: 28.64 | H19: =F19*G19 -> 28.64
G23: SUB-TOTAL | H23: =SUM(H19:H21) -> 28.64
G25: BDI - 22% | H25: =ROUND((22%*H23),2) -> 6.3
G27: TOTAL GERAL | H27: =H25+H23 -> 34.94

Sheet Orc Sintetico - Tubul. 3 8
A7: Serviço Público Federal
A8: Ministério da Educação
A9: Universidade Federal Fluminense
A10: Coordenação de Manutenção - Superintendência de Operações e Manutenção
A11: Rua Prof. Marcos Waldemar de Freitas Reis s/nº, bloco B, 5º andar (setor ímpar) - Campus Universitário do Gragoatá
A13: ANEXO I - PLANILHA DE PREÇOS
A14: LOCAL: UNIVERSIDADE FEDERAL FLUMINENSE | F14: DATA: 25/08/2025 | H14: SINAPI: 07/2025
A16: SERVIÇO: INSTALAÇÃO DE AR CONDICIONADO TIPO SPLIT
A17: ITEM | B17: DESCRIÇÃO DO SERVIÇO | C17: FONTE | D17: CÓDIGO | E17: UNID | F17: QUANT | G17: PREÇO UNITÁRIO | H17: PREÇO TOTAL
A18: 1 | B18: Instalação incluindo isolamento e fixação de dutos de cobre 3/8", medida pela quantidade superior aos 5 m da franquia inicial
A19: 1.1 | B19: TUBO EM COBRE FLEXÍVEL, DN 3/8, COM ISOLAMENTO, INSTALADO EM RAMAL DE ALIMENTAÇÃO DE AR CONDICIONADO COM CONDENSADORA INDIVIDUAL FORNECIMENTO E I NSTALAÇÃO. | C19: SINAPI | D19: 97328 | E19: M | F19: 1 | G19: 47.48 | H19: =F19*G19 -> 47.48
G23: SUB-TOTAL | H23: =SUM(H19:H21) -> 47.48
G25: BDI - 22% | H25: =ROUND((22%*H23),2) -> 10.45
G27: TOTAL GERAL | H27: =H25+H23 -> 57.93

Sheet Orc Sintetico - Tubul. 1 2
A7: Serviço Público Federal
A8: Ministério da Educação
A9: Universidade Federal Fluminense
A10: Coordenação de Manutenção - Superintendência de Operações e Manutenção
A11: Rua Prof. Marcos Waldemar de Freitas Reis s/nº, bloco B, 5º andar (setor ímpar) - Campus Universitário do Gragoatá
A13: ANEXO I - PLANILHA DE PREÇOS
A14: LOCAL: UNIVERSIDADE FEDERAL FLUMINENSE | F14: DATA: 25/08/2025 | H14: SINAPI: 07/2025
A16: SERVIÇO: INSTALAÇÃO DE AR CONDICIONADO TIPO SPLIT
A17: ITEM | B17: DESCRIÇÃO DO SERVIÇO | C17: FONTE | D17: CÓDIGO | E17: UNID | F17: QUANT | G17: PREÇO UNITÁRIO | H17: PREÇO TOTAL
A18: 1 | B18: Instalação incluindo isolamento e fixação de dutos de cobre 1/2", medida pela quantidade superior aos 5 m da franquia inicial
A19: 1.1 | B19: TUBO EM COBRE FLEXÍVEL, DN 1/2, COM ISOLAMENTO, INSTALADO EM RAMAL DE ALIMENTAÇÃO DE AR CONDICIONADO COM CONDENSADORA INDIVIDUAL FORNECIMENTO E INSTALAÇÃO. | C19: SINAPI | D19: 97329 | E19: M | F19: 1 | G19: 60.77 | H19: =F19*G19 -> 60.77
G23: SUB-TOTAL | H23: =SUM(H19:H21) -> 60.77
G25: BDI - 22% | H25: =ROUND((22%*H23),2) -> 13.37
G27: TOTAL GERAL | H27: =H25+H23 -> 74.14

Sheet Orc Sintetico - Tubul. 5 8
A7: Serviço Público Federal
A8: Ministério da Educação
A9: Universidade Federal Fluminense
A10: Coordenação de Manutenção - Superintendência de Operações e Manutenção
A11: Rua Prof. Marcos Waldemar de Freitas Reis s/nº, bloco B, 5º andar (setor ímpar) - Campus Universitário do Gragoatá
A13: ANEXO I - PLANILHA DE PREÇOS
A14: LOCAL: UNIVERSIDADE FEDERAL FLUMINENSE | F14: DATA: 25/08/2025 | H14: SINAPI: 07/2025
A16: SERVIÇO: INSTALAÇÃO DE AR CONDICIONADO TIPO SPLIT
A17: ITEM | B17: DESCRIÇÃO DO SERVIÇO | C17: FONTE | D17: CÓDIGO | E17: UNID | F17: QUANT | G17: PREÇO UNITÁRIO | H17: PREÇO TOTAL
A18: 1 | B18: Instalação incluindo isolamento e fixação de dutos de cobre 5/8", medida pela quantidade superior aos 5 m da franquia inicial
A19: 1.1 | B19: TUBO EM COBRE FLEXÍVEL, DN 5/8, COM ISOLAMENTO, INSTALADO EM RAMAL DE ALIMENTAÇÃO DE AR CONDICIONADO COM CONDENSADORA INDIVIDUAL FORNECIMENTO E INSTALAÇÃO. | C19: SINAPI | D19: 97330 | E19: M | F19: 1 | G19: 74.57 | H19: =F19*G19 -> 74.57
G23: SUB-TOTAL | H23: =SUM(H19:H21) -> 74.57
G25: BDI - 22% | H25: =ROUND((22%*H23),2) -> 16.41
G27: TOTAL GERAL | H27: =H25+H23 -> 90.98

Sheet Orc Sintetico - Elet. 3 4
A7: Serviço Público Federal
A8: Ministério da Educação
A9: Universidade Federal Fluminense
A10: Coordenação de Manutenção - Superintendência de Operações e Manutenção
A11: Rua Prof. Marcos Waldemar de Freitas Reis s/nº, bloco B, 5º andar (setor ímpar) - Campus Universitário do Gragoatá
A13: ANEXO I - PLANILHA DE PREÇOS
A14: LOCAL: UNIVERSIDADE FEDERAL FLUMINENSE | F14: DATA: 25/08/2025 | H14: SINAPI: 07/2025
