Workbook

Sheet Anexo III
A1: PRÓ-REITORIA DE ADMINISTRAÇÃO
A2: COORDENAÇÃO DE MATERIAIS
A3: ANEXO III - PLANILHA ESTIMATIVA DE DESCRIÇÃO E PREÇOS
A5: ITEM LICITAÇÃO | B5: DESCRIÇÃO/ ESPECIFICAÇÃO | C5: UNIDADE DE MEDIDA | D5: SUGESTÃO DE CATMAT | E5: INFORMAÇÕES ADICIONAIS | F5: QUANTIDADE UASG 150182 | G5: QUANTIDADE UASG 160251 | H5: QUANTIDADE TOTAL | I5: VALOR UNITÁRIO | J5: VALOR TOTAL | K5: EXCLUSIVO ME/EPP | L5: MARGEM DE PREFERÊNCIA | M5: MODO DE DISPUTA | N5: INTERVALO LANCES
A6: 1 | B6: Água, estéril e apirogênica, seu uso objetiva a diluição e solubilização de medicamentos injetáveis. Fornecimento em caixa com 200 frascos de 10ml | C6: frasco 10ml | D6: 276839 | E6: Anvisa | F6: 3000 | G6: 100 | H6: =SUM(F6:G6) -> 3100 | I6: 0.79 | J6: =H6*ROUND(I6,2) -> 2449 | K6: NÃO | L6: - | M6: Aberto | N6: =VLOOKUP(I6,Intervalos!$B$3:$C$8,2,TRUE) -> 0.01
A7: 2 | B7: ALÇA BACTERIOLÓGICA, MATERIAL NÍQUEL CROMO, COMPONENTES COM CABO, CALIBRAGEM CALIBRADA, VOLUME 1 MCL | C7: unidade | D7: 408808 | E7: - | F7: 5 | G7: 0 | H7: =SUM(F7:G7) -> 5 | I7: 48.93 | J7: =H7*ROUND(I7,2) -> 244.65 | K7: NÃO | L7: - | M7: Aberto | N7: =VLOOKUP(I7,Intervalos!$B$3:$C$8,2,TRUE) -> 0.05
A8: 3 | B8: alça bacteriológica, material níquel cromo, componentes sem cabo, calibragem calibrada, volume 10 mcl | C8: unidade | D8: 408809 | E8: - | F8: 20 | G8: 0 | H8: =SUM(F8:G8) -> 20 | I8: 11.1 | J8: =H8*ROUND(I8,2) -> 222 | K8: NÃO | L8: - | M8: Aberto | N8: =VLOOKUP(I8,Intervalos!$B$3:$C$8,2,TRUE) -> 0.03
A9: 4 | B9: ALÇA BACTERIOLÓGICA, MATERIAL PLATINA, COMPONENTES COM CABO, CALIBRAGEM CALIBRADA, VOLUME 10 MCL | C9: unidade | D9: 408811 | E9: - | F9: 7 | G9: 0 | H9: =SUM(F9:G9) -> 7 | I9: 131.2 | J9: =H9*ROUND(I9,2) -> 918.4 | K9: NÃO | L9: - | M9: Aberto | N9: =VLOOKUP(I9,Intervalos!$B$3:$C$8,2,TRUE) -> 0,10%
A10: 5 | B10: Álcool Iodado 0,1%, antisséptico tópico, utilizado em curativos no tratamento de feridas.Iodo a 0,1% em álcool etílico 50% (v/v). Frasco 1L | C10: frasco de 1 litro | D10: 440573 | E10: Anvisa CTF/APP: FTE - Categoria: Indústria Química; Código: 15 | F10: 3 | G10: 0 | H10: =SUM(F10:G10) -> 3 | I10: 42.51 | J10: =H10*ROUND(I10,2) -> 127.53 | K10: NÃO | L10: Margem de preferência normal: 5% Margem de preferência adicional: 10% | M10: Aberto | N10: =VLOOKUP(I10,Intervalos!$B$3:$C$8,2,TRUE) -> 0.05
A11: 6 | B11: Álcool isopropílico a 70% para assepsia, swab. Fornecimento em caixa com 100 unidades (sachês). | C11: Sachê | D11: 392369 | E11: Anvisa CTF/APP: FTE - Categoria: Indústria Química; Código: 15 | F11: =53*100 -> 5300 | G11: 5 | H11: =SUM(F11:G11) -> 5305 | I11: =7.29/100 -> 0.0729 | J11: =H11*ROUND(I11,2) -> 371.35 | K11: NÃO | L11: - | M11: Aberto | N11: =VLOOKUP(I11,Intervalos!$B$3:$C$8,2,TRUE) -> 0.01
A12: 7 | B12: Algodão Ortopédico, atadura, 10cmx1,8m. Elaborada a partir de fibras 100% de algodão crú. Hidrófobo ( não absorve água ). Uso: Auxiliar de procedimentos em imobilização ortopédica, para acolchoamento e proteção entre a pele e o imobilizador. Fornecimento em pacote com 12 unidades. | C12: Unidade | D12: 448246 | E12: Anvisa | F12: =175*12 -> 2100 | G12: 0 | H12: =SUM(F12:G12) -> 2100 | I12: =13.49/12 -> 1.1241667 | J12: =H12*ROUND(I12,2) -> 2352 | K12: NÃO | L12: - | M12: Aberto | N12: =VLOOKUP(I12,Intervalos!$B$3:$C$8,2,TRUE) -> 0.01
A13: 8 | B13: ALGODÃO, HIDRÓFILO, EM BOLAS, ALVEJADO, PURIFICADO, ISENTO DE IMPUREZAS, NÃO ESTÉRIL | C13: Embalagem 100 g | D13: 279727 | E13: Anvisa | F13: 265 | G13: 100 | H13: =SUM(F13:G13) -> 365 | I13: 6 | J13: =H13*ROUND(I13,2) -> 2190 | K13: NÃO | L13: - | M13: Aberto | N13: =VLOOKUP(I13,Intervalos!$B$3:$C$8,2,TRUE) -> 0.02
A14: 9 | B14: ALGODÃO, HIDRÓFILO, EM MANTAS, ALVEJADO, PURIFICADO, ISENTO DE IMPUREZAS, ENROLADO EM PAPEL APROPRIADO, NÃO ESTÉRIL, EMBALAGEM INDIVIDUAL DE 500G | C14: embalagem 500g | D14: 279726 | E14: Anvisa | F14: 505 | G14: 25 | H14: =SUM(F14:G14) -> 530 | I14: 29.9 | J14: =H14*ROUND(I14,2) -> 15847 | K14: NÃO | L14: - | M14: Aberto | N14: =VLOOKUP(I14,Intervalos!$B$3:$C$8,2,TRUE) -> 0.05
A15: 10 | B15: Almotolia com álcool a 70%. Frasco 100ml | C15: frasco = frasco 100ml | D15: 269941 | E15: - | F15: 75 | G15: 10 | H15: =SUM(F15:G15) -> 85 | I15: 3.69 | J15: =H15*ROUND(I15,2) -> 313.65 | K15: NÃO | L15: - | M15: Aberto | N15: =VLOOKUP(I15,Intervalos!$B$3:$C$8,2,TRUE) -> 0.01
A16: 11 | B16: Antisséptico degermante a base de polivinil pirrolidona iodo (PVP-I) 10% em solução com tensoativos, equivalente a 1% de iodo ativo, frasco 1L | C16: Litro = frasco 1 l | D16: 398705 | E16: Anvisa CTF/APP: FTE - Categoria: Indústria Química; Código: 15 | F16: 28 | G16: 5 | H16: =SUM(F16:G16) -> 33 | I16: 103.9 | J16: =H16*ROUND(I16,2) -> 3428.7 | K16: NÃO | L16: Margem de preferência normal: 5% Margem de preferência adicional: 10% | M16: Aberto | N16: =VLOOKUP(I16,Intervalos!$B$3:$C$8,2,TRUE) -> 0,10%
A17: 12 | B17: Antisséptico tópico a base de polivinil pirrolidona iodo (PVP-I) 10% em solução aquosa, equivalente a 1% de iodo ativo, frasco 1L | C17: Litro = frasco 1 l | D17: 398706 | E17: Anvisa CTF/APP: FTE - Categoria: Indústria Química; Código: 15 | F17: 28 | G17: 5 | H17: =SUM(F17:G17) -> 33 | I17: 98.9 | J17: =H17*ROUND(I17,2) -> 3263.7 | K17: NÃO | L17: Margem de preferência normal: 5% Margem de preferência adicional: 10% | M17: Aberto | N17: =VLOOKUP(I17,Intervalos!$B$3:$C$8,2,TRUE) -> 0.1
A18: 13 | B18: ATADURA, CREPOM, 100% ALGODÃO, 10 CM, 180 CM, EM REPOUSO, 13 UN/CM², EMBALAGEM INDIVIDUAL | C18: Rolo | D18: 444355 | E18: Anvisa | F18: 763 | G18: 100 | H18: =SUM(F18:G18) -> 863 | I18: 1.8 | J18: =H18*ROUND(I18,2) -> 1553.4 | K18: NÃO | L18: - | M18: Aberto | N18: =VLOOKUP(I18,Intervalos!$B$3:$C$8,2,TRUE) -> 0.01
A19: 14 | B19: ATADURA, CREPOM, 100% ALGODÃO, 15 CM, 180 CM, EM REPOUSO, 13 UN/CM², EMBALAGEM INDIVIDUAL | C19: Rolo | D19: 444365 | E19: Anvisa | F19: 700 | G19: 100 | H19: =SUM(F19:G19) -> 800 | I19: 1.9 | J19: =H19*ROUND(I19,2) -> 1520 | K19: NÃO | L19: - | M19: Aberto | N19: =VLOOKUP(I19,Intervalos!$B$3:$C$8,2,TRUE) -> 0.01
A20: 15 | B20: ATADURA, CREPOM, 100% ALGODÃO, 20 CM, 180 CM, EM REPOUSO, 13 UN/CM², EMBALAGEM INDIVIDUAL | C20: Rolo | D20: 444371 | E20: Anvisa | F20: 325 | G20: 50 | H20: =SUM(F20:G20) -> 375 | I20: 3 | J20: =H20*ROUND(I20,2) -> 1125 | K20: NÃO | L20: - | M20: Aberto | N20: =VLOOKUP(I20,Intervalos!$B$3:$C$8,2,TRUE) -> 0.01
A21: 16 | B21: ATADURA, CREPOM, 100% ALGODÃO, 30 CM, 180 CM, EM REPOUSO, 13 UN/CM², EMBALAGEM INDIVIDUAL | C21: Rolo | D21: 444375 | E21: Anvisa | F21: 325 | G21: 50 | H21: =SUM(F21:G21) -> 375 | I21: 4.8 | J21: =H21*ROUND(I21,2) -> 1800 | K21: NÃO | L21: - | M21: Aberto | N21: =VLOOKUP(I21,Intervalos!$B$3:$C$8,2,TRUE) -> 0.01
A22: 17 | B22: Faixa de Esmarch 12cm x 2m. Bandagem elástica de borracha natural rosa, indicada para estancar ou bloquear o fluxo sanguíneo. Não estéril, Produto de uso único e descartável | C22: Rolo 2 Metro | D22: 477511 | E22: Anvisa | F22: 13 | G22: 13 | H22: =SUM(F22:G22) -> 26 | I22: 33.8 | J22: =H22*ROUND(I22,2) -> 878.8 | K22: NÃO | L22: - | M22: Aberto | N22: =VLOOKUP(I22,Intervalos!$B$3:$C$8,2,TRUE) -> 0.05
A23: 18 | B23: BANDAGEM ELÁSTICA, NÃO TECIDO POROSO, AUTO-ADERENTE, 100 MM, 4,5 M, COM COR, COM FIBRAS ELÁSTICAS | C23: unidade | D23: 478129 | E23: Anvisa | F23: 125 | G23: 25 | H23: =SUM(F23:G23) -> 150 | I23: 23.8 | J23: =H23*ROUND(I23,2) -> 3570 | K23: NÃO | L23: - | M23: Aberto | N23: =VLOOKUP(I23,Intervalos!$B$3:$C$8,2,TRUE) -> 0.05
A24: 19 | B24: BANDAGEM ELÁSTICA, NÃO TECIDO POROSO, AUTO-ADERENTE, 50 MM, 4,5 M, COM COR, COM FIBRAS ELÁSTICAS | C24: unidade | D24: 478130 | E24: Anvisa | F24: 129 | G24: 25 | H24: =SUM(F24:G24) -> 154 | I24: 20.48 | J24: =H24*ROUND(I24,2) -> 3153.92 | K24: NÃO | L24: - | M24: Aberto | N24: =VLOOKUP(I24,Intervalos!$B$3:$C$8,2,TRUE) -> 0.05
... A29: 24 | B29: Bolsa Coletora de Urina Diurese Horária. Diurese horária 500ml; bolsa 2.000ml; graduada; válvula anti-refluxo; pinça clamp corta fluxo; filtro hidrofóbico bacteriológico; conector universal, alça de sustentação. | C29: unidade | D29: 432133 | E29: Anvisa | F29: 4 | G29: 0 | H29: =SUM(F29:G29) -> 4 | I29: 87.6 | J29: =H29*ROUND(I29,2) -> 350.4 | K29: NÃO | L29: - | M29: Aberto | N29: =VLOOKUP(I29,Intervalos!$B$3:$C$8,2,TRUE) -> 0.1
A30: 25 | B30: Bolsa dupla para coleta de sangue e plaquetas (CPDA-1). Capacidade aproximada de 500ml. | C30: Unidade | D30: 370596 | E30: Anvisa | F30: =2*50 -> 100 | G30: 0 | H30: =SUM(F30:G30) -> 100 | I30: =2283.33/50 -> 45.6666 | J30: =H30*ROUND(I30,2) -> 4567 | K30: NÃO | L30: - | M30: Aberto | N30: =VLOOKUP(I30,Intervalos!$B$3:$C$8,2,TRUE) -> 0.05
A31: 26 | B31: BOLSA OSTOMIA, MATÉRIA PRIMA PLáSTICO, APLICAÇÃO COLOSTOMIA E ILEOSTOMIA, NÚMERO DE PEÇAS 1 PEÇA (PLACA E BOLSA ACOPLADAS), MODELO DRENÁVEL, ACESSÓRIOS 1 CLIP PARA CADA 10 BOLSAS, TIPO DE BOLSA TRANSPARENTE, TIPO DE ADESIVO ADESIVO MICROPOROSO, MATERIAL DA PLACA BASE DE KARAYA, DIÂMETRO PRÉ-CORTADA ATÉ 70 | C31: Unidade | D31: 615854 | E31: Anvisa | F31: =8*15 -> 120 | G31: 0 | H31: =SUM(F31:G31) -> 120 | I31: =381.6/15 -> 25.44 | J31: =H31*ROUND(I31,2) -> 3052.8 | K31: NÃO | L31: - | M31: Aberto | N31: =VLOOKUP(I31,Intervalos!$B$3:$C$8,2,TRUE) -> 0.05
A32: 27 | B32: BOLSA OSTOMIA, MATÉRIA PRIMA PLÁSTICO, APLICAÇÃO UROSTOMIA, NÚMERO DE PEÇAS 2 PEÇAS (PLACA E BOLSA SEPARADAS), MODELO DRENÁVEL, TIPO DE BOLSA TRANSPARENTE, TIPO DE ADESIVO ADESIVO MICROPOROSO, MATERIAL DA PLACA RESINA SINTÉTICA, DIÂMETRO RECORTÁVEL ATÉ 70, CARACTERÍSTICAS ADICIONAIS VÁLVULA ANTI-REFLUXO | C32: unidade | D32: 477422 | E32: Anvisa | F32: 32 | G32: 0 | H32: =SUM(F32:G32) -> 32 | I32: 56.4 | J32: =H32*ROUND(I32,2) -> 1804.8 | K32: NÃO | L32: - | M32: Aberto | N32: =VLOOKUP(I32,Intervalos!$B$3:$C$8,2,TRUE) -> 0.1
A33: 28 | B33: Braçadeira neonatal de pressão arterial descartável de 1 via - em silicone próprias para medição de pressão arterial não invasiva, livre de latex. Próprio para esfignomanômetro ou monitor. Circunferência entre 3.3-5.6cm | C33: unidade | D33: 443832 | E33: Anvisa | F33: 29 | G33: 0 | H33: =SUM(F33:G33) -> 29 | I33: 50 | J33: =H33*ROUND(I33,2) -> 1450 | K33: NÃO | L33: - | M33: Aberto | N33: =VLOOKUP(I33,Intervalos!$B$3:$C$8,2,TRUE) -> 0.1
A34: 29 | B34: Braçadeira neonatal de pressão arterial descartável de 1 via - em silicone próprias para medição de pressão arterial não invasiva, livre de latex. Próprio para esfignomanômetro ou monitor. Circunferência entre 4.2 - 7.1cm | C34: unidade | D34: 443832 | E34: Anvisa | F34: 42 | G34: 0 | H34: =SUM(F34:G34) -> 42 | I34: 49.42 | J34: =H34*ROUND(I34,2) -> 2075.64 | K34: NÃO | L34: - | M34: Aberto | N34: =VLOOKUP(I34,Intervalos!$B$3:$C$8,2,TRUE) -> 0.05
A35: 30 | B35: Braçadeira neonatal de pressão arterial descartável de 1 via - em silicone próprias para medição de pressão arterial não invasiva, livre de latex. Próprio para esfignomanômetro ou monitor. Circunferência entre 5.4 - 9.1cm | C35: unidade | D35: 443832 | E35: Anvisa | F35: 42 | G35: 0 | H35: =SUM(F35:G35) -> 42 | I35: 49.42 | J35: =H35*ROUND(I35,2) -> 2075.64 | K35: NÃO | L35: - | M35: Aberto | N35: =VLOOKUP(I35,Intervalos!$B$3:$C$8,2,TRUE) -> 0.05
A36: 31 | B36: Braçadeira neonatal de pressão arterial descartável de 1 via - em silicone próprias para medição de pressão arterial não invasiva, livre de latex. Próprio para esfignomanômetro ou monitor. Circunferência entre 6.9 - 11.7cm | C36: unidade | D36: 443832 | E36: Anvisa | F36: 29 | G36: 0 | H36: =SUM(F36:G36) -> 29 | I36: 69 | J36: =H36*ROUND(I36,2) -> 2001 | K36: NÃO | L36: - | M36: Aberto | N36: =VLOOKUP(I36,Intervalos!$B$3:$C$8,2,TRUE) -> 0.1
A37: 32 | B37: Braçadeira neonatal de pressão arterial descartável de 1 via - em silicone próprias para medição de pressão arterial não invasiva, livre de latex. Próprio para esfignomanômetro ou monitor. Circunferência entre 8.9 - 15.0 cm | C37: unidade | D37: 443832 | E37: Anvisa | F37: 23 | G37: 0 | H37: =SUM(F37:G37) -> 23 | I37: 70 | J37: =H37*ROUND(I37,2) -> 1610 | K37: NÃO | L37: - | M37: Aberto | N37: =VLOOKUP(I37,Intervalos!$B$3:$C$8,2,TRUE) -> 0.1
A38: 33 | B38: Caixa Térmica 5 Litros com Termômetro Digital de Máximo e Mínimo à prova d’agua -50 até 70 °C. Em plástico de alta resistência e internamente revestida de poliuretano, inclusive na tampa, facilitando o seu isolamento térmico. Com termômetro externo que mostra a temperatura atual, mínima e máxima do conteúdo. Uso para Medicamentos, Órgãos e Tecidos, Vacinas, Amostras e materiais Biológicos. | C38: unidade | D38: 472773 | E38: - | F38: 8 | G38: 3 | H38: =SUM(F38:G38) -> 11 | I38: 461.77 | J38: =H38*ROUND(I38,2) -> 5079.47 | K38: NÃO | L38: - | M38: Aberto | N38: =VLOOKUP(I38,Intervalos!$B$3:$C$8,2,TRUE) -> 0,10%
A39: 34 | B39: Cal Sodada, Absorvedor de CO2. Utilizado em circuito respiratório de aparelhos de anestesia. Uso exclusivo em anestesia. Composição: 97% de hidróxido de cálcio, 3% de hidróxido de sódio, 0,03% de indicador de cor e 16 a 18 % de umidade. Apresentado na forma de grão semi-esférico poroso de aproximadamente 3mm de diâmetro. Cor: branca a levemente amarelada ou acinzentada; Indicador pós-saturação: mudança de cor para violeta. | C39: Balde 4.3 Quilograma | D39: 301510 | E39: Anvisa | F39: 10 | G39: 0 | H39: =SUM(F39:G39) -> 10 | I39: 300.9 | J39: =H39*ROUND(I39,2) -> 3009 | K39: NÃO | L39: - | M39: Aberto | N39: =VLOOKUP(I39,Intervalos!$B$3:$C$8,2,TRUE) -> 0,10%
A40: 35 | B40: Coletor de urina sistema fechado 2000ml: Coletor de urina, sistema fechado, estéril, com conector de sonda rígido e conizado, extensor em PVC transparente cristal medindo 1,30 m e diâmetro interno entre 0,7 e 0,9 mm com dispositivo autovedante para coleta de urina. Bolsa coletora de material resistente, branco opaco na face posterior e branco transparente na anterior, graduada válvula antirefluxo e filtro de ar. Pinça para interrupção do fluxo no extensor e no sistema de drenagem. Conter alças plásticas ou cadarço para fixação na beira do leito. Capacidade de 2.000 ml, adulto. Fornecimento em embalagem com 100 unidades. | C40: Unidade | D40: 419373 | E40: Anvisa | F40: =13*100 -> 1300 | G40: 0 | H40: =SUM(F40:G40) -> 1300 | I40: =489.47/100 -> 4.8947 | J40: =H40*ROUND(I40,2) -> 6357 | K40: NÃO | L40: - | M40: Aberto | N40: =VLOOKUP(I40,Intervalos!$B$3:$C$8,2,TRUE) -> 0.01
A41: 36 | B41: COLETOR MATERIAL PÉRFURO-CORTANTE, PAPELÃO, 1,5L | C41: unidade | D41: 623106 | E41: - | F41: 438 | G41: 50 | H41: =SUM(F41:G41) -> 488 | I41: 7.99 | J41: =H41*ROUND(I41,2) -> 3899.12 | K41: NÃO | L41: - | M41: Aberto | N41: =VLOOKUP(I41,Intervalos!$B$3:$C$8,2,TRUE) -> 0.02
A42: 37 | B42: COLETOR MATERIAL PÉRFURO-CORTANTE, PAPELÃO, 13 L, ALÇAS RÍGIDAS E TAMPA, REVESTIMENTO INTERNO EM POLIETILENO ALTA DENSIDADE, DESCARTÁVEL | C42: unid. | D42: 623109 | E42: - | F42: 1928 | G42: 50 | H42: =SUM(F42:G42) -> 1978 | I42: 12.25 | J42: =H42*ROUND(I42,2) -> 24230.5 | K42: NÃO | L42: - | M42: Aberto | N42: =VLOOKUP(I42,Intervalos!$B$3:$C$8,2,TRUE) -> 0.03
A43: 38 | B43: COLETOR MATERIAL PÉRFURO-CORTANTE, PAPELÃO, 20 L, ALÇAS RÍGIDAS E TAMPA, REVESTIMENTO INTERNO EM POLIETILENO ALTA DENSIDADE, DESCARTÁVEL | C43: unid. | D43: 623110 | E43: - | F43: 453 | G43: 50 | H43: =SUM(F43:G43) -> 503 | I43: 14.9 | J43: =H43*ROUND(I43,2) -> 7494.7 | K43: NÃO | L43: - | M43: Aberto | N43: =VLOOKUP(I43,Intervalos!$B$3:$C$8,2,TRUE) -> 0.03
A44: 39 | B44: COLETOR MATERIAL PÉRFURO-CORTANTE, PAPELÃO, 7 L, ALÇAS RÍGIDAS E TAMPA, REVESTIMENTO INTERNO EM POLIETILENO ALTA DENSIDADE, DESCARTÁVEL | C44: unid. | D44: 623108 | E44: - | F44: 504 | G44: 20 | H44: =SUM(F44:G44) -> 524 | I44: 10 | J44: =H44*ROUND(I44,2) -> 5240 | K44: NÃO | L44: - | M44: Aberto | N44: =VLOOKUP(I44,Intervalos!$B$3:$C$8,2,TRUE) -> 0.03
A45: 40 | B45: Compressa campo operatório não estéril, tecido quádruplo, 100% algodão, altamente absorvente, isento de substâncias gordurosas, amido e alvejantes, 23 x 25cm. Com fio radiopaco. Pacote com 50 unidades. | C45: pacote = embalagem 50 unidades | D45: 623076 | E45: Anvisa | F45: 38 | G45: 38 | H45: =SUM(F45:G45) -> 76 | I45: 48.45 | J45: =H45*ROUND(I45,2) -> 3682.2 | K45: NÃO | L45: - | M45: Aberto | N45: =VLOOKUP(I45,Intervalos!$B$3:$C$8,2,TRUE) -> 0.05
...

Sheet Intervalos
B2: Valor Unitário Estimado (Faixa) | C2: Diferença Mínima de Valores / Percentuais de Lances | E2: Interpretação
B3: 0.01 | C3: 0.01 | E3: R$ 0,01 - R$ 5,00 => R$ 0,01
B4: 5 | C4: 0.02 | E4: R$ 5,01 - R$ 10,00 => R$ 0,02
B5: 10 | C5: 0.03 | E5: R$ 10,01 - R$ 20,00 => R$ 0,03
B6: 20 | C6: 0.05 | E6: R$ 20,01 - R$ 50,00 => R$ 0,05
B7: 50 | C7: 0.1 | E7: R$ 50,01 - R$ 100,00 => R$ 0,10
B8: 100 | C8: 0,10% | E8: Acima de R$ 100,00 => 0,10%
