Workbook

Sheet MENU PLANILHA
A1: PRÓ-REITORIA DE ADMINISTRAÇÃO
A2: COORDENAÇÃO DE CONTRATOS
A4: Contratação de empresa para prestação de serviços continuados de Apoio Logístico, com regime de dedicação exclusiva de mão de obra, com fornecimento de materiais de reposição e atendimento da Universidade Federal Fluminense
A5: LOTE 1 - MÃO DE OBRA APOIO LOGÍSTICO
E15: dos Equipamentos (preenchimento licitante)

Sheet Anexo II-A Endereço
A1: PRÓ-REITORIA DE ADMINISTRAÇÃO
A2: COORDENAÇÃO DE CONTRATOS
A4: Anexo II - A - ENDEREÇO DAS UNIDADES
A5: Contratação de empresa para prestação de serviços continuados de Apoio Logístico, com regime de dedicação exclusiva de mão de obra, com fornecimento de materiais de reposição e atendimento da Universidade Federal Fluminense
A7: Item | B7: Descrição | C7: Prédio | D7: Endereço
A8: 1 | B8: Reitoria | C8: 1 | D8: Prédio Principal: 8 andares | E8: Rua Miguel de Frias, 9 - Icaraí - Niterói - RJ
C9: 2 | D9: Perícia Médica | E9: Av. Miguel de Frias, 77 - Icaraí - Niterói
B10: Campus do Valonguinho | C10: 3 | D10: Escola de Extensão, Protocolo e outros | E10: Av. Visconde do Rio Branco s/n.º, bairro Centro, Niterói - RJ
C11: 4 | D11: Biblioteca Central e DCE
C12: 5 | D12: Facu. Administração (antiga matematica)
C13: 6 | D13: Dispensário “Mazine Bueno”
C14: 7 | D14: Núcleo de Animais de Laboratório - NAL
C15: 8 | D15: LANTE
C16: 9 | D16: Faculdades de Nutrição e Administração
C17: 10 | D17: Faculdade de Odontologia
C18: 11 | D18: Pórtico de Entrada Valonguinho
B19: Complexo Instituto de Química | C19: 12 | D19: Instituto de Química | E19: Av. Visconde do Rio Branco s/n.º, bairro Centro, Niterói - RJ
C20: 13 | D20: Instituto de Química
B21: Complexo Inst. Biomédico | C21: 14 | D21: Bloco B - DST | E21: Av. Visconde do Rio Branco s/n.º, bairro Centro, Niterói - RJ
C22: 15 | D22: Bloco C - Salas de Aula
C23: 16 | D23: Bloco D - Anatômico
C24: 17 | D24: Bloco E - Pesquisas
C25: 18 | D25: Bloco A - Prédio Central | E25: Rua Professor Hernani Mello, 101 São Domingos Niterói – RJ
B26: Complexo Inst. Biologia | C26: 19 | D26: Instituto de Biologia Bloco Principal | E26: Av. Visconde do Rio Branco s/n.º, bairro Centro, Niterói - RJ
C27: 20 | D27: Instituto de Biologia Bloco Anexo
C28: 21 | D28: Prédio Salas de Aulas Biologia (Antigo Inst. Física)
B29: Campus do Gragoatá | C29: 23 | D29: Bloco D - Faculdade de Educação | E29: Av. Visconde do Rio Branco s/n.º, bairro de São Domingos, Niterói - RJ
C30: 24 | D30: Bloco E - Escola de Serviço Social
C31: 25 | D31: Bloco F - Faculdade de Economia
C32: 26 | D32: Bloco G - Instituto de Matemática e Estatística e Faculdade de Turismo
C33: 27 | D33: Bloco H - Faculdade de Turismo e Hotelaria
C34: 28 | D34: Biologia NOVO Bloco M - Gragoatá
C35: 29 | D35: Superintendência de Documentação - SDC
C36: 30 | D36: Faculdade de Educação Física - FACDEF
C37: 31 | D37: Pórtico Faculdade de Educação Física
C38: 32 | D38: Pórtico Principal Campus Gragoatá
B39: Complexo ICHF | C39: 33 | D39: Bloco N - Instituto de Ciências Humanas e Filosofia - ICHF | E39: R. Alexandre Moura, 8 - São Domingos, Niterói - RJ, 24210-200
C40: 34 | D40: Bloco O - Instituto de Ciências Humanas e Filosofia - ICHF
C41: 35 | D41: Bloco P - Instituto de Ciências Humanas e Filosofia - ICHF
B42: Complexo Instituto de Letras | C42: 36 | D42: Bloco B - Instituto de Letras | E42: R. Alexandre Moura, 8 - São Domingos, Niterói - RJ, 24210-200
...

Sheet Anexo II-B Salários
A1: PRÓ-REITORIA DE ADMINISTRAÇÃO
A2: COORDENAÇÃO DE CONTRATOS
A4: Anexo II - B - Composição dos salários
A5: Contratação de empresa para prestação de serviços continuados de Apoio Logístico, com regime de dedicação exclusiva de mão de obra, com fornecimento de materiais de reposição e atendimento da Universidade Federal Fluminense
A7: Item | B7: Descrição/Especificação | C7: CBO | D7: Quantidade de Pessoal | E7: CCT RJ1105/2025 | F7: CCT RJ 00738/2024
A8: 1 | B8: Almoxarife | C8: 4141-05 | D8: 10 | E8: 2465.73
A9: 2 | B9: Líder de Almoxarife | C9: 4141-05 | D9: 1 | E9: 2465.73
A10: 3 | B10: Auxiliar de Logística | C10: 4140-40 | D10: 17 | E10: 1837.88
A11: 4 | B11: Líder de Auxiliar de Logística | C11: 4140-40 | D11: 1 | E11: 1837.88
A12: 5 | B12: Copeiro | C12: 5134-25 | D12: 2 | E12: 1730.75
A13: 6 | B13: Líder de Copeiro | C13: 5134-25 | D13: 1 | E13: 1730.75
A14: 7 | B14: Auxiliar de Escriturário | C14: 4110-05 | D14: 16 | E14: 2338.69
A15: 8 | B15: Guardião de Piscina | C15: 5171-15 | D15: 1 | E15: 1730.75
A16: 9 | B16: Auxiliar de Mecânica | C16: 7250-10 | D16: 1 | E16: 1730.75
A17: 10 | B17: Agente Educacional | C17: 5153-25 | D17: 18 | E17: 1917.71
A18: 11 | B18: Auxiliar de desenvolvimento infantil | C18: 2394-10 | D18: 32 | E18: 3025.66
A19: 12 | B19: Cuidador de Alunos | C19: 5162-20 | D19: 15 | E19: 2061.07
A20: 13 | B20: Orientador Educacional | C20: 2394-10 | D20: 1 | E20: 3836.52
A21: 14 | B21: Encarregado Geral | C21: 7102-05 | D21: 1 | F21: 3976.85
A22: 15 | B22: Técnico em Manutenção | C22: 3131-30 | D22: 1 | F22: 3236.16
A23: 16 | B23: Bombeiro Hidráulico | C23: 7241-10 | D23: 1 | F23: 2380.35
A24: 17 | B24: Ajudante de Manutenção | C24: 7170-20 | D24: 1 | E24: 1730.75
A25: 18 | B25: Operador de Trator | C25: 7151-25 | D25: 1 | E25: 2208.16
A26: TOTAL | D26: =SUM(D8:D25) -> 121

Sheet Anexo II-C Distribuição Postos
A1: PRÓ-REITORIA DE ADMINISTRAÇÃO
A2: COORDENAÇÃO DE CONTRATOS
A4: Anexo II - A - DISTRIBUIÇÃO DOS POSTOS POR LOCALIDADE
A5: Contratação de empresa para prestação de serviços continuados de Apoio Logístico, com regime de dedicação exclusiva de mão de obra, com fornecimento de materiais de reposição e atendimento da Universidade Federal Fluminense
A7: Custo total da mão de obra (permanente)
A8: ORDEM | B8: DISCRIMINAÇÃO DO POSTO | C8: CBO | D8: QUANT POSTOS | E8: FUNCIONÁRIOS | F8: UNIDADE | G8: MUNICÍPIO
A9: 1 | B9: Almoxarife | C9: 4141-05 | D9: 4 | E9: =D9 -> 4 | F9: CMAT/AD | G9: Niterói
A10: 2 | B10: Almoxarife | C10: 4141-05 | D10: 1 | E10: =D10 -> 1 | F10: CAP/Plan | G10: Niterói
A11: 3 | B11: Almoxarife | C11: 4141-05 | D11: 1 | E11: =D11 -> 1 | F11: STI | G11: Niterói
A12: 4 | B12: Almoxarife | C12: 4141-05 | D12: 1 | E12: =D12 -> 1 | F12: CGRU/Proaes | G12: Niterói
A13: 5 | B13: Almoxarife | C13: 4141-05 | D13: 1 | E13: =D13 -> 1 | F13: CTSL/SOMA | G13: Niterói
A14: 6 | B14: Almoxarife | C14: 4141-05 | D14: 1 | E14: =D14 -> 1 | F14: CAF/Proppi | G14: Niterói
A15: 7 | B15: Almoxarife | C15: 4141-05 | D15: 1 | E15: =D15 -> 1 | F15: IEF | G15: Niterói
A16: 8 | B16: Líder de Almoxarife | C16: 4141-05 | D16: 1 | E16: =D16 -> 1 | F16: CMAT/AD | G16: Niterói
A17: 9 | B17: Auxiliar de Logística | C17: 4141-40 | D17: 10 | E17: =D17 -> 10 | F17: CMA/SOMA | G17: Niterói
A18: 10 | B18: Auxiliar de Logística | C18: 4141-40 | D18: 2 | E18: =D18 -> 2 | F18: CGRU/Proaes | G18: Niterói
A19: 11 | B19: Auxiliar de Logística | C19: 4141-40 | D19: 2 | E19: =D19 -> 2 | F19: Coluni | G19: Niterói
A20: 12 | B20: Auxiliar de Logística | C20: 4141-40 | D20: 1 | E20: 1 | F20: Proaes Rio das Ostras | G20: Rio das Ostras
A21: 13 | B21: Auxiliar de Logística | C21: 4141-40 | D21: 1 | E21: 1 | F21: Proaes Angra | G21: Angra dos Reis
A22: 14 | B22: Auxiliar de Logística | C22: 4141-40 | D22: 1 | E22: 1 | F22: Proad | G22: Niterói
A23: 15 | B23: Líder de Aux. Logística | C23: 4141-40 | D23: 1 | E23: =D23 -> 1 | F23: CMA/SOMA | G23: Niterói
A24: 16 | B24: Copeiro | C24: 5134-25 | D24: 2 | E24: 2 | F24: Gabinete Reitor | G24: Niterói
A25: 17 | B25: Copeiro Líder | C25: 5134-25 | D25: 1 | E25: 1 | F25: Gabinete Reitor | G25: Niterói
A26: 18 | B26: Auxiliar de Escriturário | C26: 4110-05 | D26: 4 | E26: =D26 -> 4 | F26: Proger | G26: Niterói
A27: 19 | B27: Auxiliar de Escriturário | C27: 4110-05 | D27: 4 | E27: =D27 -> 4 | F27: Huvet | G27: Niterói
A28: 20 | B28: Auxiliar de Escriturário | C28: 4110-05 | D28: 3 | E28: =D28 -> 3 | F28: Eduff | G28: Niterói
A29: 21 | B29: Auxiliar de Escriturário | C29: 4110-05 | D29: 3 | E29: =D29 -> 3 | F29: CGRU/Proaes | G29: Niterói
A30: 22 | B30: Auxiliar de Escriturário | C30: 4110-05 | D30: 1 | E30: =D30 -> 1 | F30: SOMA | G30: Niterói
A31: 23 | B31: Auxiliar de Escriturário | C31: 4110-05 | D31: 1 | E31: =D31 -> 1 | F31: Proad | G31: Niterói
A32: 24 | B32: Guardião de Piscina | C32: 5171-15 | D32: 1 | E32: =D32 -> 1 | F32: IEF | G32: Niterói
A33: 25 | B33: Auxiliar de Mecânica | C33: 7250-10 | D33: 1 | E33: 1 | F33: IQ | G33: Niterói
A34: 26 | B34: Agente Educacional | C34: 5153-25 | D34: 18 | E34: 18 | F34: Coluni | G34: Niterói
A35: 27 | B35: Auxiliar de desenvolvimento infantil | C35: 2394-10 | D35: 32 | E35: 32 | F35: Coluni | G35: Niterói
A36: 28 | B36: Cuidador de Alunos | C36: 5162-20 | D36: 15 | E36: 15 | F36: Coluni e Proaes | G36: Estado RJ
A37: 29 | B37: Orientador Educacional | C37: 2394-10 | D37: 1 | E37: 1 | F37: Coluni | G37: Niterói
A38: 30 | B38: Encarregado Geral | C38: 7102-05 | D38: 1 | E38: 1 | F38: CGRU/Proaes | G38: Niterói
A39: 31 | B39: Técnico em Manutenção | C39: 3131-30 | D39: 1 | E39: 1 | F39: CGRU/Proaes | G39: Niterói
A40: 32 | B40: Bombeiro Hidráulico | C40: 7241-10 | D40: 1 | E40: 1 | F40: CGRU/Proaes | G40: Niterói
A41: 33 | B41: Ajudante de Manutenção | C41: 7170-20 | D41: 1 | E41: 1 | F41: CGRU/Proaes | G41: Niterói
A42: 34 | B42: Operador de Trator | C42: 7151-25 | D42: 1 | E42: 1 | F42: SOMA | G42: Niterói
...

Sheet Anexo III-A Equip.
A1: PRÓ-REITORIA DE ADMINISTRAÇÃO
A2: COORDENAÇÃO DE CONTRATOS
A4: Anexo III - A - PLANILHA DE COMPOSIÇÃO DE CUSTOS E FORMAÇÃO DE PREÇOS (Anexo VII da I.N. da SLTI/MPOG n.º 5 de 26/Maio/2017
A5: Contratação de empresa para prestação de serviços continuados de Apoio Logístico, com regime de dedicação exclusiva de mão de obra, com fornecimento de materiais de reposição e atendimento da Universidade Federal Fluminense
A7: Disponibilização de Equipamentos para os postos de Líder de Almoxarife
A8: Item | B8: Descrição | D8: Qnt | E8: Valor unitário | F8: Valor Total
A9: 1 | B9: Contratação de serviço para controle de ponto eletrônico, através de software, a ser instalado em computador convencional, sem necessidade de relógio físico específico, com as seguintes especificações mínimas: software de controle de ponto eletrônico, com suporte mínimo a 30 (trinta) colaboradores, controle biométrico, com solução de gestão e controle da jornada, notificações de atrasos, horas extras, alerta de suspeita de fraudes, bloqueio da batida em razão de férias, licença ou desligamento, com custódia dos arquivos de ponto em servidores na nuvem, apto à instalação em aparelho de computação com suporte ao sistema operacional Windows e celulares com sistema android e ios. Incluso treinamento, configuração e suporte. | D9: 1 | E9: 2155.67 | F9: =E9*D9 -> 2155.67
A10: Total da Solução | F10: =SUM(F9:F9) -> 2155.67
A11: Total dos equipamentos por mês posto Líder de Almoxarife | F11: =F10/12 -> 179.63917

Sheet Anexo III-B Uniformes
A1: PRÓ-REITORIA DE ADMINISTRAÇÃO
A2: COORDENAÇÃO DE CONTRATOS
A4: Anexo III - B - PLANILHA DE COMPOSIÇÃO DE CUSTOS E FORMAÇÃO DE PREÇOS
A5: Contratação de empresa para prestação de serviços continuados de Apoio Logístico, com regime de dedicação exclusiva de mão de obra, com fornecimento de materiais de reposição e atendimento da Universidade Federal Fluminense
A8: COMPOSIÇÃO DE CUSTO DE UNIFORME PARA OS CARGOS DE ALMOXARIFAE, LÍDER E AUXILIAR DE LOGÍSTICA E LÍDER (ITEM 1 A 4)
A9: ITEM | B9: DISCRIMINAÇÃO UNIFORME | C9: QUANT. ANUAL POR FUNCIONÁRIO | D9: VALOR UNITÁRIO | E9: VALOR TOTAL
A10: 1 | B10: Jalecos: operacional tradicional, em tecido Oxford, manga longa com dois bolsos inferiores, gola e manga com bico, com logomarca; | C10: 2 | D10: 44.2 | E10: =D10*C10 -> 88.4
A11: 2 | B11: Blusas/camisetas: operacional tradicional, em tecido de algodão, na cor azul manga curta, com destaque nas costas escrito A SERVIÇO DA UFF, e brasão/emblema da contratada. | C11: 4 | D11: 33.57 | E11: =D11*C11 -> 134.28
A12: 3 | B12: Calças: operacional tradicional, em tecido Oxford, com elástico e cordão, um bolso traseiro e dois dianteiros. | C12: 4 | D12: 39.66 | E12: =D12*C12 -> 158.64
A13: 4 | B13: Meias: meia adulto, em tecido poliéster na cor preta. | C13: 8 | D13: 9.64 | E13: =D13*C13 -> 77.12
A14: 5 | B14: Luva de vaqueta de couro mista, cano curto (PAR) | C14: 4 | D14: 16.96 | E14: =D14*C14 -> 67.84
A15: 6 | B15: Crachá funcional, em pvc, com foto, nome e cargo. | C15: 1 | D15: 8.96 | E15: =D15*C15 -> 8.96
A16: 7 | B16: Capacete de Segurança com jugular, tipo A | C16: 2 | D16: 18.23 | E16: =D16*C16 -> 36.46
A17: 8 | B17: Capa de chuva plástica, com faixas fluorescentes, material pvc, uso profissional. | C17: 2 | D17: 17.33 | E17: =D17*C17 -> 34.66
A18: 9 | B18: Cinta lombar ergonômica | C18: 2 | D18: 29.9 | E18: =D18*C18 -> 59.8
A19: 10 | B19: PROTETOR AURICULAR, TIPO CONCHA DUPLA, MATERIAL ABS- ACRILONITRILE/BUTADIENE/ STIRENE, MATERIAL HASTE AÇO INOXIDÁVEL, MATERIAL ALMOFADA ESPUMA, CARACTERÍSTICAS ADICIONAIS CINTA REGULÁVEL E FECHO DE VELCRO - PROTETOR AURICULAR, TIPO CONCHA DUPLA, MATERIAL ABS- ACRILONITRILE/BUTADIENE/ STIRENE, MATERIAL HASTE AÇO INOXIDÁVEL, MATERIAL ALMOFADA ESPUMA, CARACTERÍSTICAS ADICIONAIS CINTA REGULÁVEL E FECHO DE VELCRO | C19: 2 | D19: 19.33 | E19: =D19*C19 -> 38.66
A20: 11 | B20: Óculos de segurança incolor para proteção dos olhos contra impactos de partículas volantes e contra raios ultravioletas | C20: 4 | D20: 3.06 | E20: =D20*C20 -> 12.24
A21: 12 | B21: Máscara de Proteção tipo PFF2. Caixa com 100 unidades | C21: 4 | D21: 26.85 | E21: =D21*C21 -> 107.4
A22: 13 | B22: Sapatos: operacional tradicional, fechado, cor preta, solado antiderrapante | C22: 4 | D22: 45.74 | E22: =D22*C22 -> 182.96
A23: Valor anual por funcionário | E23: =SUM(E10:E22) -> 1007.42
A24: Valor mensal por funcionário | E24: =E23/12 -> 83.951667
A25: Obs.: Quantidade estimada por ano, sendo 1 conjunto composto de 1 jaleco, 2 blusas, 2 calças, 2 pares de luvas, 4 pares de meia e 1 sapato entregue na admissão e outro após 6 meses, ou quando apresentarem defeito ou desgastes, independente do prazo mínimo estabelecido, conforme Cláusula 53ª da CCT.
A27: COMPOSIÇÃO DE CUSTO DE UNIFORME PARA OS CARGOS DE COPEIRO
A28: ITEM | B28: DISCRIMINAÇÃO UNIFORME | C28: QUANT. ANUAL POR FUNCIONÁRIO | D28: VALOR UNITÁRIO | E28: VALOR TOTAL
A29: 1 | B29: Calça comprida com zíper de gabardine ou microfibra. | C29: 4 | D29: 42.6 | E29: =D29*C29 -> 170.4
A30: 2 | B30: Blusa tipo camisa com botões, em gabardine ou microfibra e emblema da empresa no lado esquerdo superior, manga curta. | C30: 4 | D30: 65.57 | E30: =D30*C30 -> 262.28
A31: 3 | B31: Touca de filó com aba (Pacote com 100 Unid) | C31: 4 | D31: 10.72 | E31: =D31*C31 -> 42.88
A32: 4 | B32: Meia social (longa) | C32: 4 | D32: 22.92 | E32: =D32*C32 -> 91.68
A33: 5 | B33: Calçado em couro, tipo mocassim, fechado, salto de até 3 cm ou sapatilha em couro, antiderrapantes. | C33: 4 | D33: 53.68 | E33: =D33*C33 -> 214.72
A34: 6 | B34: Crachá funcional, em pvc, com foto, nome e cargo. | C34: 1 | D34: 8.96 | E34: =D34*C34 -> 8.96
A35: 7 | B35: Avental, em oxford ou tergal, com amarras dos lados. | C35: 4 | D35: 20.62 | E35: =D35*C35 -> 82.48
A36: Valor anual por funcionário | E36: =SUM(E29:E35) -> 873.4
A37: Valor mensal por funcionário | E37: =E36/12 -> 72.783333
A38: Obs.: Quantidade estimada por ano, sendo 1 conjunto composto de 2 blusas, 2 calças, 2 toucas, 2 pares de meia, 2 calçados e 2 aventais entregue na admissão e outro após 6 meses, ou quando apresentarem defeito ou desgastes, independente do prazo mínimo estabelecido, conforme Cláusula 53ª da CCT.
A40: COMPOSIÇÃO DE CUSTO DE UNIFORME PARA OS CARGOS DE GUARDIÃO DE PISCINA
A41: ITEM | B41: DISCRIMINAÇÃO UNIFORME | C41: QUANT. ANUAL POR FUNCIONÁRIO | D41: VALOR UNITÁRIO | E41: VALOR TOTAL
A42: 1 | B42: REGATA GUARDA-VIDAS - ESTAMPADA NAS COSTAS E BORDADO NA FRENTE - TECIDO KACHARREL. | C42: 4 | D42: 21.82 | E42: =D42*C42 -> 87.28
A43: 2 | B43: Boné Bordado Tecido Ripstop vermelho c/ bordado guarda-vidas. | C43: 2 | D43: 26.25 | E43: =D43*C43 -> 52.5
A44: 3 | B44: Sunga c/ bordado PET guarda- vidas. Possui modelagem slip e cós elástico. Material: Poliamida Composição: 84% Poliamida e 16% elastano. Cor: Vermelho | C44: 2 | D44: 24.96 | E44: =D44*C44 -> 49.92
A45: 4 | B45: Crachá funcional, em pvc, com foto, nome e cargo. | C45: 1 | D45: 8.96 | E45: =D45*C45 -> 8.96
...

Sheet Anexo III-C Materiais
A1: PRÓ-REITORIA DE ADMINISTRAÇÃO
A2: COORDENAÇÃO DE CONTRATOS
A4: Anexo III - C - PLANILHA DE COMPOSIÇÃO DE CUSTOS E FORMAÇÃO DE PREÇOS (Anexo VII da I.N. da SLTI/MPOG n.º 5 de 26/Maio/2017
A5: Contratação de empresa para prestação de serviços continuados de Apoio Logístico, com regime de dedicação exclusiva de mão de obra, com fornecimento de materiais de reposição e atendimento da Universidade Federal Fluminense
A7: COMPOSIÇÃO DE CUSTO DE MATERIAL -COPEIRO
A8: Quantitativo mensal máximo a ser fornecido por posto
A9: ITEM | B9: DISCRIMINAÇÃO | C9: QUANT. | D9: UNIDADE | E9: VALOR UNITÁRIO | F9: PARCIAL MENSAL
A10: 1 | B10: Esponja antibactéria para limpeza, dupla face formato retangular (bucha) | C10: 1 | D10: pct 4 und | E10: 6.48 | F10: =E10*C10 -> 6.48
A11: 2 | B11: Detergente líquido neutro, desengordurante garrafa com 500 ml | C11: 6 | D11: unid. | E11: 3.93 | F11: =E11*C11 -> 23.58
A12: 3 | B12: Pano para limpeza multiuso com furos 60x33 cm | C12: 2 | D12: pct 5 und | E12: 5.1 | F12: =E12*C12 -> 10.2
A13: 4 | B13: PANO LIMPEZA, MATERIAL MICROFIBRA. COMPRIMENTO 60 CM LARGURA 40 CM CARACTERÍSTICAS ADICIONAIS ALTO GRAU ABSORÇÃO APLICAÇÃO USO GERAL TIPO TOALHA | C13: 4 | D13: unid. | E13: 10.2 | F13: =E13*C13 -> 40.8
A14: 5 | B14: Saco de lixo de plástico reforçado com alça preto, com capacidade de 100 litros. | C14: 1 | D14: pct 100 unid | E14: 29.29 | F14: =E14*C14 -> 29.29
A15: 7 | B15: Saco alvejado para limpeza de chão 90% algodão - pano de chão 42 x 72 cm | C15: 2 | D15: unid. | E15: 7.03 | F15: =E15*C15 -> 14.06
A16: 9 | B16: Alcool líquido 70º INPM com 1 litro | C16: 2 | D16: unid. | E16: 4.47 | F16: =E16*C16 -> 8.94
A17: 10 | B17: Coador de café de flanela 100% de algodão, com cabo de madeira, aro de metal, arame galvanizado, diâmetro de 130 mm - Coador para maquina indristrial de café tamanho M | C17: 2 | D17: unid. | E17: 10.96 | F17: =E17*C17 -> 21.92
A18: 11 | B18: Desinfetante pinho para limpar e desinfetar o ambiente, em recipiente de 500 ml | C18: 2 | D18: unid. | E18: 7.05 | F18: =E18*C18 -> 14.1
A19: 13 | B19: Sabão de côco em barra de 200 g | C19: 1 | D19: pct 5 und | E19: 8.19 | F19: =E19*C19 -> 8.19
A20: 14 | B20: Guardanapos de papel 33 x 30 mm, pacote com 50 unidades | C20: 10 | D20: pacote | E20: 3.25 | F20: =E20*C20 -> 32.5
A21: 15 | B21: Copo de plástico descartável para água de 200 ml, pacote com 100 unidades | C21: 5 | D21: pacote | E21: 4.48 | F21: =E21*C21 -> 22.4
A22: 16 | B22: Copo de plástico descartável para café de 50 ml, pacote com 100 unidades | C22: 5 | D22: pacote | E22: 2.15 | F22: =E22*C22 -> 10.75
A23: 17 | B23: Café em pó homogêneo, torrado e moído, de qualidade tipo “Superior”, condicionado em embalagem a vácuo puro aluminizada, validade de prazo mínimo de 1 ano, sendo extra forte. Sugestão: Melitta, Pilão ou similar | C23: 22 | D23: pct 500g | E23: =AVERAGE(39.98,37.99,39.99) -> 39.32 | F23: =E23*C23 -> 865.04
A24: 18 | B24: Açúcar, tipo refinado, origem vegetal, sacarose de cana de açúcar, aplicação adoçante, característica adicional de 1ª qualidade. | C24: 3 | D24: kilo | E24: 4.76 | F24: =E24*C24 -> 14.28
A25: 19 | B25: Adoçante, tipo sucralose, com bico dosador (100ml). | C25: 1 | D25: frasco 100 ml | E25: 9.58 | F25: =E25*C25 -> 9.58
A26: Valor total mensal por funcionário | F26: =SUM(F10:F25) -> 1132.11
A27: Valor total anual | F27: =12*F26 -> 13585.32
A28: Valor total mensal por funcionário Líder de Copeiro | F28: =F26 -> 1132.11
A30: COMPOSIÇÃO DE CUSTO DE MATERIAL -ENCARREGADO GERAL
A31: Quantitativo mensal máximo a ser fornecido por posto
A32: ITEM | B32: DISCRIMINAÇÃO | C32: QUANT. | D32: UNIDADE | E32: VALOR UNITÁRIO | F32: PARCIAL MENSAL
A33: 1 | B33: Verba para aquisição de materiais de consumo para manutenção, como fio, termostatos, capacitores, fitas, canos, ferramentas e outros. VALOR FIXO, NÃO DEVE SER REDUZIDO SOB PENA DE RECUSA DA PROPOSTA. Conforme TR o valor só será pago pela UFF, se comprovado o abastecimento mensal. | C33: 1 | D33: unid | E33: 1500 | F33: =E33*C33 -> 1500
A34: Valor total mensal por funcionário | F34: =SUM(F33:F33) -> 1500
A35: Valor total anual | F35: =12*F34 -> 18000
A36: Valor total mensal por funcionário Encarregado Geral | F36: =F34 -> 1500

Sheet An IV A Custo G1
A1: PRÓ-REITORIA DE ADMINISTRAÇÃO
A2: COORDENAÇÃO DE CONTRATOS
A4: Anexo IV-A - FORMAÇÃO CUSTOS POSTOS GRUPO 1
A5: Contratação de empresa para prestação de serviços continuados de Apoio Logístico, com regime de dedicação exclusiva de mão de obra, com fornecimento de materiais de reposição e atendimento da Universidade Federal Fluminense
A6: MÃO-DE-OBRA VINCULADA À EXECUÇÃO CONTRATUAL
A7: Dados para composição dos custos referentes a mão de obra
A8: Regime tributário da Licitante | C8: Documento Comprobatório *Anexar Comprovante
A11: ACT/CCT/DCT inclusive aditivos se houver
A12: Entidade Sindical da Empresa
A13: Entidade Sindical dos Empregados
A14: Número de Registro
A15: Início Vigência
A16: Fim Vigência
A18: Descrição Cargos
A19: Dias/Mês | B19: Posto | C19: CBO | D19: Salário
A20: 20.88 | B20: ='Anexo II-B Salários'!B8 -> Almoxarife | C20: ='Anexo II-B Salários'!C8 -> 4141-05 | D20: ='Anexo II-B Salários'!E8 -> 2465.73
A21: 20.88 | B21: ='Anexo II-B Salários'!B9 -> Líder de Almoxarife | C21: ='Anexo II-B Salários'!C9 -> 4141-05 | D21: ='Anexo II-B Salários'!E9 -> 2465.73
A22: 20.88 | B22: ='Anexo II-B Salários'!B10 -> Auxiliar de Logística | C22: ='Anexo II-B Salários'!C10 -> 4140-40 | D22: ='Anexo II-B Salários'!E10 -> 1837.88
A23: 20.88 | B23: ='Anexo II-B Salários'!B11 -> Líder de Auxiliar de Logística | C23: ='Anexo II-B Salários'!C11 -> 4140-40 | D23: ='Anexo II-B Salários'!E11 -> 1837.88
A24: 20.88 | B24: ='Anexo II-B Salários'!B12 -> Copeiro | C24: ='Anexo II-B Salários'!C12 -> 5134-25 | D24: ='Anexo II-B Salários'!E12 -> 1730.75
A25: 20.88 | B25: ='Anexo II-B Salários'!B13 -> Líder de Copeiro | C25: ='Anexo II-B Salários'!C13 -> 5134-25 | D25: ='Anexo II-B Salários'!E13 -> 1730.75
A26: 20.88 | B26: ='Anexo II-B Salários'!B14 -> Auxiliar de Escriturário | C26: ='Anexo II-B Salários'!C14 -> 4110-05 | D26: ='Anexo II-B Salários'!E14 -> 2338.69
A27: 20.88 | B27: ='Anexo II-B Salários'!B15 -> Guardião de Piscina | C27: ='Anexo II-B Salários'!C15 -> 5171-15 | D27: ='Anexo II-B Salários'!E15 -> 1730.75
A28: 20.88 | B28: ='Anexo II-B Salários'!B16 -> Auxiliar de Mecânica | C28: ='Anexo II-B Salários'!C16 -> 7250-10 | D28: ='Anexo II-B Salários'!E16 -> 1730.75
A30: MÓDULO 1 : COMPOSIÇÃO DA REMUNERAÇÃO | D30: =B20 -> Almoxarife | E30: =B21 -> Líder de Almoxarife | F30: =B22 -> Auxiliar de Logística | G30: =B23 -> Líder de Auxiliar de Logística | H30: =B24 -> Copeiro | I30: =B25 -> Líder de Copeiro | J30: =B26 -> Auxiliar de Escriturário | K30: =B27 -> Guardião de Piscina | L30: =B28 -> Auxiliar de Mecânica
A31: 1 | B31: Composição da Remuneração | D31: Valor(R$) | E31: Valor(R$) | F31: Valor(R$) | G31: Valor(R$) | H31: Valor(R$) | I31: Valor(R$) | J31: Valor(R$) | K31: Valor(R$) | L31: Valor(R$)
A32: A | B32: Salário Base | D32: =D20 -> 2465.73 | E32: =D21 -> 2465.73 | F32: =D22 -> 1837.88 | G32: =D23 -> 1837.88 | H32: =D24 -> 1730.75 | I32: =D25 -> 1730.75 | J32: =D26 -> 2338.69 | K32: =D27 -> 1730.75 | L32: =D28 -> 1730.75
A33: B | B33: Adicional de Periculosidade
A34: C | B34: Adicional de Insalubridade (20% Grau médio NR 15) | D34: =20%*D32 -> 493.146 | E34: =20%*E32 -> 493.146 | F34: =20%*F32 -> 367.576 | G34: =20%*G32 -> 367.576
A35: D | B35: Adicional Noturno
A36: E | B36: Adicional de Hora Noturna Reduzida
A37: F | B37: Gratificação Liderança (15% ou 30%) (Cláusula 16ª CCT) | E37: =15%*1610 -> 241.5 | G37: =15%*1610 -> 241.5 | I37: =15%*1610 -> 241.5
B38: Total de Remuneração | D38: =SUM(D32:D37) -> 2958.876 | E38: =SUM(E32:E37) -> 3200.376 | F38: =SUM(F32:F37) -> 2205.456 | G38: =SUM(G32:G37) -> 2446.956 | H38: =SUM(H32:H37) -> 1730.75 | I38: =SUM(I32:I37) -> 1972.25 | J38: =SUM(J32:J37) -> 2338.69 | K38: =SUM(K32:K37) -> 1730.75 | L38: =SUM(L32:L37) -> 1730.75
A40: MÓDULO 2: ENCARGOS E BENEFÍCIOS ANUAIS, MENSAIS E DIÁRIOS | D40: Almoxarife | E40: Líder de Almoxarife | F40: Auxiliar de Logística | G40: Líder de Auxiliar de Logística | H40: Copeiro | I40: Líder de Copeiro | J40: Auxiliar de Escriturário | K40: Guardião de Piscina | L40: Auxiliar de Mecânica
A41: Submódulo 2.1 - 13º (décimo terceiro) Salário, Férias e Adicional de Férias | D41: Valor(R$) | E41: Valor(R$) | F41: Valor(R$) | G41: Valor(R$) | H41: Valor(R$) | I41: Valor(R$) | J41: Valor(R$) | K41: Valor(R$) | L41: Valor(R$)
A42: A | B42: 13º (décimo terceiro) Salário | D42: =D38*8.33% -> 246.47437 | E42: =E38*8.33% -> 266.59132 | F42: =F38*8.33% -> 183.71448 | G42: =G38*8.33% -> 203.83143 | H42: =H38*8.33% -> 144.17147 | I42: =I38*8.33% -> 164.28842 | J42: =J38*8.33% -> 194.81288 | K42: =K38*8.33% -> 144.17147 | L42: =L38*8.33% -> 144.17147
A43: B | B43: Férias e Adicional de Férias | D43: =D38*12.1% -> 358.024 | E43: =E38*12.1% -> 387.2455 | F43: =F38*12.1% -> 266.86018 | G43: =G38*12.1% -> 296.08168 | H43: =H38*12.1% -> 209.42075 | I43: =I38*12.1% -> 238.64225 | J43: =J38*12.1% -> 282.98149 | K43: =K38*12.1% -> 209.42075 | L43: =L38*12.1% -> 209.42075
B44: Total | D44: =SUM(D42:D43) -> 604.49837 | E44: =SUM(E42:E43) -> 653.83682 | F44: =SUM(F42:F43) -> 450.57466 | G44: =SUM(G42:G43) -> 499.91311 | H44: =SUM(H42:H43) -> 353.59222 | I44: =SUM(I42:I43) -> 402.93068 | J44: =SUM(J42:J43) -> 477.79437 | K44: =SUM(K42:K43) -> 353.59222 | L44: =SUM(L42:L43) -> 353.59222
A45: C | B45: Incidência do Submódulo 2.2 - Encargos previdenciários (GPS), FGTS e outras contribuições (Cálculo sobre a remuneração, pois será adotada a Conta Vinculada) | D45: =D38*7.82% -> 231.3841 | E45: =E38*7.82% -> 250.2694 | F45: =F38*7.82% -> 172.46666 | G45: =G38*7.82% -> 191.35196 | H45: =H38*7.82% -> 135.34465 | I45: =I38*7.82% -> 154.22995 | J45: =J38*7.82% -> 182.88556 | K45: =K38*7.82% -> 135.34465 | L45: =L38*7.82% -> 135.34465
A47: Submódulo 2.2 - Encargos Previdenciários (GPS), Fundo de Garantia por Tempo de Serviço (FGTS) e outras contribuições | D47: Almoxarife | E47: Líder de Almoxarife | F47: Auxiliar de Logística | G47: Líder de Auxiliar de Logística | H47: Copeiro | I47: Líder de Copeiro | J47: Auxiliar de Escriturário | K47: Guardião de Piscina | L47: Auxiliar de Mecânica
...

Sheet An IV A Custo G2
A1: PRÓ-REITORIA DE ADMINISTRAÇÃO
A2: COORDENAÇÃO DE CONTRATOS
A4: Anexo IV-A - FORMAÇÃO CUSTOS POSTOS GRUPO 1
A5: Contratação de empresa para prestação de serviços continuados de Apoio Logístico, com regime de dedicação exclusiva de mão de obra, com fornecimento de materiais de reposição e atendimento da Universidade Federal Fluminense
A6: MÃO-DE-OBRA VINCULADA À EXECUÇÃO CONTRATUAL
A7: Dados para composição dos custos referentes a mão de obra
A8: Regime tributário da Licitante | C8: Documento Comprobatório *Anexar Comprovante
A11: ACT/CCT/DCT inclusive aditivos se houver
A12: Entidade Sindical da Empresa
A13: Entidade Sindical dos Empregados
A14: Número de Registro
A15: Início Vigência
A16: Fim Vigência
A18: Descrição Cargos
A19: Dias/Mês | B19: Posto | C19: CBO | D19: Salário
A20: 20.88 | B20: ='Anexo II-B Salários'!B17 -> Agente Educacional | C20: ='Anexo II-B Salários'!C17 -> 5153-25 | D20: ='Anexo II-B Salários'!E17 -> 1917.71
A21: 20.88 | B21: ='Anexo II-B Salários'!B18 -> Auxiliar de desenvolvimento infantil | C21: ='Anexo II-B Salários'!C18 -> 2394-10 | D21: ='Anexo II-B Salários'!E18 -> 3025.66
A22: 20.88 | B22: ='Anexo II-B Salários'!B19 -> Cuidador de Alunos | C22: ='Anexo II-B Salários'!C19 -> 5162-20 | D22: ='Anexo II-B Salários'!E19 -> 2061.07
A23: 20.88 | B23: ='Anexo II-B Salários'!B20 -> Orientador Educacional | C23: ='Anexo II-B Salários'!C20 -> 2394-10 | D23: ='Anexo II-B Salários'!E20 -> 3836.52
A24: 20.88 | B24: ='Anexo II-B Salários'!B21 -> Encarregado Geral | C24: ='Anexo II-B Salários'!C21 -> 7102-05 | D24: ='Anexo II-B Salários'!F21 -> 3976.85
A25: 20.88 | B25: ='Anexo II-B Salários'!B22 -> Técnico em Manutenção | C25: ='Anexo II-B Salários'!C22 -> 3131-30 | D25: ='Anexo II-B Salários'!F22 -> 3236.16
A26: 20.88 | B26: ='Anexo II-B Salários'!B23 -> Bombeiro Hidráulico | C26: ='Anexo II-B Salários'!C23 -> 7241-10 | D26: ='Anexo II-B Salários'!F23 -> 2380.35
A27: 20.88 | B27: ='Anexo II-B Salários'!B24 -> Ajudante de Manutenção | C27: ='Anexo II-B Salários'!C24 -> 7170-20 | D27: ='Anexo II-B Salários'!E24 -> 1730.75
A28: 20.88 | B28: ='Anexo II-B Salários'!B25 -> Operador de Trator | C28: ='Anexo II-B Salários'!C25 -> 7151-25 | D28: ='Anexo II-B Salários'!E25 -> 2208.16
A30: MÓDULO 1 : COMPOSIÇÃO DA REMUNERAÇÃO | D30: Agente Educacional | E30: Auxiliar de desenvolvimento infantil | F30: Cuidador de Alunos | G30: Orientador Educacional | H30: Encarregado Geral | I30: Técnico em Manutenção | J30: Bombeiro Hidráulico | K30: Ajudante de Manutenção | L30: Operador de Trator
A31: 1 | B31: Composição da Remuneração | D31: Valor(R$) | E31: Valor(R$) | F31: Valor(R$) | G31: Valor(R$) | H31: Valor(R$) | I31: Valor(R$) | J31: Valor(R$) | K31: Valor(R$) | L31: Valor(R$)
A32: A | B32: Salário Base | D32: =D20 -> 1917.71 | E32: =D21 -> 3025.66 | F32: =D22 -> 2061.07 | G32: =D23 -> 3836.52 | H32: =D24 -> 3976.85 | I32: =D25 -> 3236.16 | J32: =D26 -> 2380.35 | K32: =D27 -> 1730.75 | L32: =D28 -> 2208.16
A33: B | B33: Adicional de Periculosidade (30%) | I33: =30%*I32 -> 970.848 | L33: =30%*L32 -> 662.448
A34: C | B34: Adicional de Insalubridade (20% Grau médio NR 15)
A35: D | B35: Adicional Noturno
A36: E | B36: Adicional de Hora Noturna Reduzida
A37: F | B37: Gratificação Liderança (15% ou 30%) (Cláusula 16ª CCT)
B38: Total de Remuneração | D38: =SUM(D32:D37) -> 1917.71 | E38: =SUM(E32:E37) -> 3025.66 | F38: =SUM(F32:F37) -> 2061.07 | G38: =SUM(G32:G37) -> 3836.52 | H38: =SUM(H32:H37) -> 3976.85 | I38: =SUM(I32:I37) -> 4207.008 | J38: =SUM(J32:J37) -> 2380.35 | K38: =SUM(K32:K37) -> 1730.75 | L38: =SUM(L32:L37) -> 2870.608
A40: MÓDULO 2: ENCARGOS E BENEFÍCIOS ANUAIS, MENSAIS E DIÁRIOS | D40: Agente Educacional | E40: Auxiliar de desenvolvimento infantil | F40: Cuidador de Alunos | G40: Orientador Educacional | H40: Encarregado Geral | I40: Técnico em Manutenção | J40: Bombeiro Hidráulico | K40: Ajudante de Manutenção | L40: Operador de Trator
A41: Submódulo 2.1 - 13º (décimo terceiro) Salário, Férias e Adicional de Férias | D41: Valor(R$) | E41: Valor(R$) | F41: Valor(R$) | G41: Valor(R$) | H41: Valor(R$) | I41: Valor(R$) | J41: Valor(R$) | K41: Valor(R$) | L41: Valor(R$)
A42: A | B42: 13º (décimo terceiro) Salário | D42: =D38*8.33% -> 159.74524 | E42: =E38*8.33% -> 252.03748 | F42: =F38*8.33% -> 171.68713 | G42: =G38*8.33% -> 319.58212 | H42: =H38*8.33% -> 331.27161 | I42: =I38*8.33% -> 350.44377 | J42: =J38*8.33% -> 198.28315 | K42: =K38*8.33% -> 144.17147 | L42: =L38*8.33% -> 239.12165
A43: B | B43: Férias e Adicional de Férias | D43: =D38*12.1% -> 232.04291 | E43: =E38*12.1% -> 366.10486 | F43: =F38*12.1% -> 249.38947 | G43: =G38*12.1% -> 464.21892 | H43: =H38*12.1% -> 481.19885 | I43: =I38*12.1% -> 509.04797 | J43: =J38*12.1% -> 288.02235 | K43: =K38*12.1% -> 209.42075 | L43: =L38*12.1% -> 347.34357
B44: Total | D44: =SUM(D42:D43) -> 391.78815 | E44: =SUM(E42:E43) -> 618.14234 | F44: =SUM(F42:F43) -> 421.0766 | G44: =SUM(G42:G43) -> 783.80104 | H44: =SUM(H42:H43) -> 812.47046 | I44: =SUM(I42:I43) -> 859.49173 | J44: =SUM(J42:J43) -> 486.3055 | K44: =SUM(K42:K43) -> 353.59222 | L44: =SUM(L42:L43) -> 586.46521
A45: C | B45: Incidência do Submódulo 2.2 - Encargos previdenciários (GPS), FGTS e outras contribuições (Cálculo sobre a remuneração, pois será adotada a Conta Vinculada) | D45: =D38*7.82% -> 149.96492 | E45: =E38*7.82% -> 236.60661 | F45: =F38*7.82% -> 161.17567 | G45: =G38*7.82% -> 300.01586 | H45: =H38*7.82% -> 310.98967 | I45: =I38*7.82% -> 328.98803 | J45: =J38*7.82% -> 186.14337 | K45: =K38*7.82% -> 135.34465 | L45: =L38*7.82% -> 224.48155
A47: Submódulo 2.2 - Encargos Previdenciários (GPS), Fundo de Garantia por Tempo de Serviço (FGTS) e outras contribuições | D47: Agente Educacional | E47: Auxiliar de desenvolvimento infantil | F47: Cuidador de Alunos | G47: Orientador Educacional | H47: Encarregado Geral | I47: Técnico em Manutenção | J47: Bombeiro Hidráulico | K47: Ajudante de Manutenção | L47: Operador de Trator
...

Sheet Anexo IV B - Custo Total MDO
A1: (PLANILHA A SER FORNECIDA PELA PROPONENTE EM PAPEL TIMBRADO)
A2: EMPRESA (nome da empresa)
A3: CNPJ N.º : (n.º do CNPJ)
A4: ANEXO IV- B
A5: PLANILHA DE COMPOSIÇÃO DE CUSTOS E FORMAÇÃO DE PREÇOS (Anexo VII da I.N. da SLTI/MPOG n.º 5 de 26/Maio/2017
A6: Contratação de empresa para prestação de serviços continuados de Apoio Logístico, com regime de dedicação exclusiva de mão de obra, com fornecimento de materiais de reposição e atendimento da Universidade Federal Fluminense
A7: Processo 23069.182202/2024-57
A9: Custo total da contratação
A10: ITEM | B10: DISCRIMINAÇÃO DO POSTO | C10: POSTOS | D10: FUNCIONÁRIOS | E10: VALOR MENSAL POR POSTO | F10: TOTAL MENSAL | G10: TOTAL ANUAL | H10: TOTAL 24 MÊS
A11: 1 | B11: ='Anexo II-B Salários'!B8 -> Almoxarife | C11: ='Anexo II-B Salários'!D8 -> 10 | D11: =C11 -> 10 | E11: ='An IV A Custo G1'!D160 -> 7648.2887 | F11: =E11*D11 -> 76482.887 | G11: =12*F11 -> 917794.64 | H11: =24*F11 -> 1835589.3
A12: 2 | B12: ='Anexo II-B Salários'!B9 -> Líder de Almoxarife | C12: ='Anexo II-B Salários'!D9 -> 1 | D12: =C12 -> 1 | E12: ='An IV A Custo G1'!E160 -> 8422.408 | F12: =E12*D12 -> 8422.408 | G12: =12*F12 -> 101068.9 | H12: =24*F12 -> 202137.79
A13: 3 | B13: ='Anexo II-B Salários'!B10 -> Auxiliar de Logística | C13: ='Anexo II-B Salários'!D10 -> 17 | D13: =C13 -> 17 | E13: ='An IV A Custo G1'!F160 -> 6005.32 | F13: =E13*D13 -> 102090.44 | G13: =12*F13 -> 1225085.3 | H13: =24*F13 -> 2450170.6
A14: 4 | B14: ='Anexo II-B Salários'!B11 -> Líder de Auxiliar de Logística | C14: ='Anexo II-B Salários'!D11 -> 1 | D14: =C14 -> 1 | E14: ='An IV A Custo G1'!G160 -> 6547.2905 | F14: =E14*D14 -> 6547.2905 | G14: =12*F14 -> 78567.486 | H14: =24*F14 -> 157134.97
A15: 5 | B15: ='Anexo II-B Salários'!B12 -> Copeiro | C15: ='Anexo II-B Salários'!D12 -> 2 | D15: =C15 -> 2 | E15: ='An IV A Custo G1'!H160 -> 4933.8474 | F15: =E15*D15 -> 9867.6947 | G15: =12*F15 -> 118412.34 | H15: =24*F15 -> 236824.67
A16: 6 | B16: ='Anexo II-B Salários'!B13 -> Líder de Copeiro | C16: ='Anexo II-B Salários'!D13 -> 1 | D16: =C16 -> 1 | E16: ='An IV A Custo G1'!I160 -> 6938.8507 | F16: =E16*D16 -> 6938.8507 | G16: =12*F16 -> 83266.208 | H16: =24*F16 -> 166532.42
A17: 7 | B17: ='Anexo II-B Salários'!B14 -> Auxiliar de Escriturário | C17: ='Anexo II-B Salários'!D14 -> 16 | D17: =C17 -> 16 | E17: ='An IV A Custo G1'!J160 -> 6159.5569 | F17: =E17*D17 -> 98552.91 | G17: =12*F17 -> 1182634.9 | H17: =24*F17 -> 2365269.8
A18: 8 | B18: ='Anexo II-B Salários'!B15 -> Guardião de Piscina | C18: ='Anexo II-B Salários'!D15 -> 1 | D18: =C18 -> 1 | E18: ='An IV A Custo G1'!K160 -> 4869.709 | F18: =E18*D18 -> 4869.709 | G18: =12*F18 -> 58436.509 | H18: =24*F18 -> 116873.02
A19: 9 | B19: ='Anexo II-B Salários'!B16 -> Auxiliar de Mecânica | C19: ='Anexo II-B Salários'!D16 -> 1 | D19: =C19 -> 1 | E19: ='An IV A Custo G1'!L160 -> 4862.5536 | F19: =E19*D19 -> 4862.5536 | G19: =12*F19 -> 58350.643 | H19: =24*F19 -> 116701.29
A20: 10 | B20: ='Anexo II-B Salários'!B17 -> Agente Educacional | C20: ='Anexo II-B Salários'!D17 -> 18 | D20: =C20 -> 18 | E20: ='An IV A Custo G2'!D160 -> 5267.8792 | F20: =E20*D20 -> 94821.826 | G20: =12*F20 -> 1137861.9 | H20: =24*F20 -> 2275723.8
A21: 11 | B21: ='Anexo II-B Salários'!B18 -> Auxiliar de desenvolvimento infantil | C21: ='Anexo II-B Salários'!D18 -> 32 | D21: =C21 -> 32 | E21: ='An IV A Custo G2'!E160 -> 7668.029 | F21: =E21*D21 -> 245376.93 | G21: =12*F21 -> 2944523.1 | H21: =24*F21 -> 5889046.2
A22: 12 | B22: ='Anexo II-B Salários'!B19 -> Cuidador de Alunos | C22: ='Anexo II-B Salários'!D19 -> 15 | D22: =C22 -> 15 | E22: ='An IV A Custo G2'!F160 -> 5555.8183 | F22: =E22*D22 -> 83337.274 | G22: =12*F22 -> 1000047.3 | H22: =24*F22 -> 2000094.6
A23: 13 | B23: ='Anexo II-B Salários'!B20 -> Orientador Educacional | C23: ='Anexo II-B Salários'!D20 -> 1 | D23: =C23 -> 1 | E23: ='An IV A Custo G2'!G160 -> 9518.7738 | F23: =E23*D23 -> 9518.7738 | G23: =12*F23 -> 114225.29 | H23: =24*F23 -> 228450.57
A24: 14 | B24: ='Anexo II-B Salários'!B21 -> Encarregado Geral | C24: ='Anexo II-B Salários'!D21 -> 1 | D24: =C24 -> 1 | E24: ='An IV A Custo G2'!H160 -> 11903.732 | F24: =E24*D24 -> 11903.732 | G24: =12*F24 -> 142844.78 | H24: =24*F24 -> 285689.57
A25: 15 | B25: ='Anexo II-B Salários'!B22 -> Técnico em Manutenção | C25: ='Anexo II-B Salários'!D22 -> 1 | D25: =C25 -> 1 | E25: ='An IV A Custo G2'!I160 -> 10538.233 | F25: =E25*D25 -> 10538.233 | G25: =12*F25 -> 126458.8 | H25: =24*F25 -> 252917.59
A26: 16 | B26: ='Anexo II-B Salários'!B23 -> Bombeiro Hidráulico | C26: ='Anexo II-B Salários'!D23 -> 1 | D26: =C26 -> 1 | E26: ='An IV A Custo G2'!J160 -> 6442.0466 | F26: =E26*D26 -> 6442.0466 | G26: =12*F26 -> 77304.56 | H26: =24*F26 -> 154609.12
A27: 17 | B27: ='Anexo II-B Salários'!B24 -> Ajudante de Manutenção | C27: ='Anexo II-B Salários'!D24 -> 1 | D27: =C27 -> 1 | E27: ='An IV A Custo G2'!K160 -> 5036.3947 | F27: =E27*D27 -> 5036.3947 | G27: =12*F27 -> 60436.737 | H27: =24*F27 -> 120873.47
A28: 18 | B28: ='Anexo II-B Salários'!B25 -> Operador de Trator | C28: ='Anexo II-B Salários'!D25 -> 1 | D28: =C28 -> 1 | E28: ='An IV A Custo G2'!L160 -> 7524.7056 | F28: =E28*D28 -> 7524.7056 | G28: =12*F28 -> 90296.467 | H28: =24*F28 -> 180592.93
A29: TOTAL | C29: =SUM(C11:C28) -> 121 | D29: =SUM(D11:D28) -> 121 | F29: =SUM(F11:F28) -> 793134.66 | G29: =12*F29 -> 9517615.9 | H29: =SUM(H11:H28) -> 19035232
