Workbook

Sheet Mapa Detalhado Licitação
A1: Contratação de empresa especializada para a prestação de serviços técnicos de manutenção corretiva dos equipamentos de transporte vertical de diversas capacidades, com fornecimento total de peças, componentes, certificações de segurança e materiais de consumo, instalados em diversas Unidades da Universidade Federal Fluminense, localizadas no Estado do Rio de Janeiro, conforme o Termo de Referência e seus anexos.
A2: GRUPO | B2: ITEM | C2: EQUIP. | D2: DESCRIÇÃO | E2: UNIDADE | F2: QUANTIDADE | G2: VALOR UNITÁRIO ESTIMADO | H2: VALOR TOTAL ESTIMADO POR ITEM | I2: VALOR TOTAL ESTIMADO POR EQUIPAMENTO
B3: 1 | C3: Gragoatá - Bloco A - Elevador 2 | D3: QUADRO DE COMANDO 20KW / 75 amperes | E3: Unidade | F3: 1 | G3: 87500 | H3: =F3*G3 -> 87500 | I3: =SUM(H3:H23) -> 244940.01
D4: Fiação para instalação elétrica entre o comando e a maquina | E4: Unidade | F4: 1 | G4: 5000 | H4: =F4*G4 -> 5000
D5: Instalação de encoder na maquina | E5: Unidade | F5: 1 | G5: 7500 | H5: =F5*G5 -> 7500
D6: Revitalização do motor elétrico | E6: Unidade | F6: 1 | G6: 6000 | H6: =F6*G6 -> 6000
D7: Revisão do limitador de velocidade com troca de cabo de aço | E7: Unidade | F7: 1 | G7: 20000 | H7: =F7*G7 -> 20000
D8: Kit completo para operador de portas composto de motor com encoder, variador de freqüência, contatos elétricos, correia de tração, roldanas de nylon, corrediças de porta | E8: Unidade | F8: 1 | G8: 12500 | H8: =F8*G8 -> 12500
D9: fiação completa para instalação da cabina e iluminação | E9: Unidade | F9: 1 | G9: 1875 | H9: =F9*G9 -> 1875
D10: Botoeira completa com display matricial de 55 mm, voice e braile | E10: Unidade | F10: 1 | G10: 10000 | H10: =F10*G10 -> 10000
D11: Kit completo de barreira eletrônicA | E11: Unidade | F11: 1 | G11: 5000 | H11: =F11*G11 -> 5000
D12: Botoeira de pavimento com 2 botões coletivo seletivo | E12: Unidade | F12: 5 | G12: 1250 | H12: =F12*G12 -> 6250
D13: Display matricial 55mm / 20mm na parte superior da porta de andar | E13: Unidade | F13: 5 | G13: 950 | H13: =F13*G13 -> 4750
D14: Reparo e revisão das portas de pavimento | E14: Unidade | F14: 5 | G14: 1250 | H14: =F14*G14 -> 6250
D15: Fiação completa para instalação elétrica das botoeiras nos andares | E15: Unidade | F15: 1 | G15: 2000 | H15: =F15*G15 -> 2000
... D23: Corrediças de cabina e contrapeso. | E23: Unidade | F23: 6 | G23: 500 | H23: =F23*G23 -> 3000
C24: Gragoatá - Bloco G - Elevador 2 | D24: QUADRO DE COMANDO 20KW / 75 amperes | E24: Unidade | F24: 1 | G24: 87500 | H24: =F24*G24 -> 87500 | I24: =SUM(H24:H44) -> 244940.01
D25: Fiação para instalação elétrica entre o comando e a maquina | E25: Unidade | F25: 1 | G25: 5000 | H25: =F25*G25 -> 5000
D26: Instalação de encoder na maquina | E26: Unidade | F26: 1 | G26: 7500 | H26: =F26*G26 -> 7500
D27: Revitalização do motor elétrico | E27: Unidade | F27: 1 | G27: 6000 | H27: =F27*G27 -> 6000
D28: Revisão do limitador de velocidade com troca de cabo de aço | E28: Unidade | F28: 1 | G28: 20000 | H28: =F28*G28 -> 20000
D29: Kit completo para operador de portas composto de motor com encoder, variador de freqüência, contatos elétricos, correia de tração, roldanas de nylon, corrediças de porta | E29: Unidade | F29: 1 | G29: 12500 | H29: =F29*G29 -> 12500
D30: fiação completa para instalação da cabina e iluminação | E30: Unidade | F30: 1 | G30: 1875 | H30: =F30*G30 -> 1875
D31: Botoeira completa com display matricial de 55 mm, voice e braile | E31: Unidade | F31: 1 | G31: 10000 | H31: =F31*G31 -> 10000
D32: Kit completo de barreira eletrônica | E32: Unidade | F32: 1 | G32: 5000 | H32: =F32*G32 -> 5000
D33: Botoeira de pavimento com 2 botões coletivo seletivo | E33: Unidade | F33: 5 | G33: 1250 | H33: =F33*G33 -> 6250
B34: 2 | D34: Display matricial 55mm / 20mm na parte superior da porta de andar | E34: Unidade | F34: 5 | G34: 950 | H34: =F34*G34 -> 4750
D35: Reparo e revisão das portas de pavimento | E35: Unidade | F35: 5 | G35: 1250 | H35: =F35*G35 -> 6250
D36: Fiação completa para instalação elétrica das botoeiras nos andares | E36: Unidade | F36: 1 | G36: 2000 | H36: =F36*G36 -> 2000
D37: Cabos de manobra para conexão do quadro de comando c/ a cabina | E37: Unidade | F37: 1 | G37: 5000 | H37: =F37*G37 -> 5000
D38: Limites de segurança fim de percurso com suporte | E38: Unidade | F38: 6 | G38: 750 | H38: =F38*G38 -> 4500
D39: Revisão do sistema de freio e troca da bobina de freio | E39: Unidade | F39: 1 | G39: 11100 | H39: =F39*G39 -> 11100
D40: Escada de acesso ao poço | E40: Unidade | F40: 1 | G40: 801.67 | H40: =F40*G40 -> 801.67
D41: Redes de segurança no poço, isolando a área de cada elevador | E41: Unidade | F41: 1 | G41: 5086.67 | H41: =F41*G41 -> 5086.67
D42: Iluminação do passadiço do elevador | E42: Unidade | F42: 1 | G42: 1326.67 | H42: =F42*G42 -> 1326.67
D43: Revisão mecânica da maquina de tração | E43: Unidade | F43: 1 | G43: 39500 | H43: =F43*G43 -> 39500
D44: Corrediças de cabina e contrapeso. | E44: Unidade | F44: 6 | G44: 500 | H44: =F44*G44 -> 3000
C45: Gragoatá - Bloco H - Elevador 2 | D45: QUADRO DE COMANDO 20KW / 75 amperes | E45: Unidade | F45: 1 | G45: 87500 | H45: =F45*G45 -> 87500 | I45: =SUM(H45:H65) -> 244940.01
D46: Fiação para instalação elétrica entre o comando e a maquina | E46: Unidade | F46: 1 | G46: 5000 | H46: =F46*G46 -> 5000
D47: Instalação de encoder na maquina | E47: Unidade | F47: 1 | G47: 7500 | H47: =F47*G47 -> 7500
...

Sheet Valores Sistema
A1: Contratação de empresa especializada para a prestação de serviços técnicos de manutenção corretiva dos equipamentos de transporte vertical de diversas capacidades, com fornecimento total de peças, componentes, certificações de segurança e materiais de consumo, instalados em diversas Unidades da Universidade Federal Fluminense, localizadas no Estado do Rio de Janeiro, conforme o Termo de Referência e seus anexos.
A2: GRUPO | B2: ITEM | C2: EQUIPAMENTO | D2: UNIDADE | E2: QUANTIDADE | F2: VALOR TOTAL ESTIMADO POR EQUIPAMENTO
B3: 1 | C3: ='Mapa Detalhado Licitação'!C3 -> Gragoatá - Bloco A - Elevador 2 | D3: Unidade | E3: 1 | F3: ='Mapa Detalhado Licitação'!I3 -> 244940.01
B4: 2 | C4: ='Mapa Detalhado Licitação'!C24 -> Gragoatá - Bloco G - Elevador 2 | D4: Unidade | E4: 1 | F4: ='Mapa Detalhado Licitação'!I24 -> 244940.01
B5: 3 | C5: ='Mapa Detalhado Licitação'!C45 -> Gragoatá - Bloco H - Elevador 2 | D5: Unidade | E5: 1 | F5: ='Mapa Detalhado Licitação'!I45 -> 244940.01
A6: 1 | B6: 4 | C6: ='Mapa Detalhado Licitação'!C66 -> Gragoatá - Bloco D - Elevador 2 | D6: Unidade | E6: 1 | F6: ='Mapa Detalhado Licitação'!I66 -> 274843.35
B7: 5 | C7: ='Mapa Detalhado Licitação'!C86 -> Faculdade de Veterinária - bloco B | D7: Unidade | E7: 1 | F7: ='Mapa Detalhado Licitação'!I86 -> 308593.35
B8: 6 | C8: ='Mapa Detalhado Licitação'!C107 -> Faculdade de Direito | D8: Unidade | E8: 1 | F8: ='Mapa Detalhado Licitação'!I107 -> 292723.35
B9: 7 | C9: ='Mapa Detalhado Licitação'!C128 -> Gragoatá - Bloco O - Elevador 1 | D9: Unidade | E9: 1 | F9: ='Mapa Detalhado Licitação'!I128 -> 299843.35
B10: 8 | C10: ='Mapa Detalhado Licitação'!C148 -> Gragoatá - Bloco N - Elevador 2 | D10: Unidade | E10: 1 | F10: ='Mapa Detalhado Licitação'!I148 -> 299843.35
F11: =SUM(F3:F10) -> 2210666.8

Sheet Grupo Prioritário
C3: GRUPO PRIORITÁRIO - MODERNIZAÇÃO DE ELEVADORES
C4: bloco A - Ufasa | D4: 244940.01
C5: bloco D | D5: 274843.35
C6: bloco G | D6: 244940.01
C7: bloco H | D7: 244940.01
C8: Direito I | D8: 292723.35
C9: Veteinaria | D9: 308593.35
C10: bloco N | D10: 299843.35
C11: bloco O | D11: 299843.35
C12: TOTAL ESTIMADO | D12: =SUM(D4:D11) -> 2210666.8
