Workbook

Sheet Mapa Detalhado Licitação
A1: Contratação de empresa especializada para a prestação de serviços técnicos de manutenção corretiva dos equipamentos de transporte vertical de diversas capacidades, com fornecimento total de peças, componentes, certificações de segurança e materiais de consumo, instalados em diversas Unidades da Universidade Federal Fluminense, localizadas no Estado do Rio de Janeiro, conforme o Termo de Referência e seus anexos.
A2: GRUPO | B2: ITEM | C2: EQUIP. | D2: DESCRIÇÃO | E2: UNIDADE | F2: QUANTIDADE | G2: VALOR UNITÁRIO ESTIMADO | H2: VALOR TOTAL ESTIMADO POR ITEM | I2: VALOR TOTAL ESTIMADO POR EQUIPAMENTO
B3: 1 | C3: Gragoatá - Bloco A - Elevador 2 | D3: QUADRO DE COMANDO 20KW / 75 amperes | E3: Unidade | F3: 1 | G3: 87500 | H3: =F3*G3 -> 87500 | I3: =SUM(H3:H23) -> 244940.01
D4: Fiação para instalação elétrica entre o comando e a maquina | E4: Unidade | F4: 1 | G4: 5000 | H4: =F4*G4 -> 5000
D5: Instalação de encoder na maquina | E5: Unidade | F5: 1 | G5: 7500 | H5: =F5*G5 -> 7500
D6: Revitalização do motor elétrico | E6: Unidade | F6: 1 | G6: 6000 | H6: =F6*G6 -> 6000
D7: Revisão do limitador de velocidade com troca de cabo de aço | E7: Unidade | F7: 1 | G7: 20000 | H7: =F7*G7 -> 20000
D8: Kit completo para operador de portas composto de motor com encoder, variador de freqüência, contatos elétricos, correia de tração, roldanas de nylon, corrediças de porta | E8: Unidade | F8: 1 | G8: 12500 | H8: =F8*G8 -> 12500
D9: fiação completa para instalação da cabina e iluminação | E9: Unidade | F9: 1 | G9: 1875 | H9: =F9*G9 -> 1875
D10: Botoeira completa com display matricial de 55 mm, voice e braile | E10: Unidade | F10: 1 | G10: 10000 | H10: =F10*G10 -> 10000
D11: Kit completo de barreira eletrônicA | E11: Unidade | F11: 1 | G11: 5000 | H11: =F11*G11 -> 5000
D12: Botoeira de pavimento com 2 botões coletivo seletivo | E12: Unidade | F12: 5 | G12: 1250 | H12: =F12*G12 -> 6250
D13: Display matricial 55mm / 20mm na parte superior da porta de andar | E13: Unidade | F13: 5 | G13: 950 | H13: =F13*G13 -> 4750
D14: Reparo e revisão das portas de pavimento | E14: Unidade | F14: 5 | G14: 1250 | H14: =F14*G14 -> 6250
D15: Fiação completa para instalação elétrica das botoeiras nos andares | E15: Unidade | F15: 1 | G15: 2000 | H15: =F15*G15 -> 2000
... D23: Corrediças de cabina e contrapeso. | E23: Unidade | F23: 6 | G23: 500 | H23: =F23*G23 -> 3000
C24: Gragoatá - Bloco G - Elevador 2 | D24: QUADRO DE COMANDO 20KW / 75 amperes | E24: Unidade | F24: 1 | G24: 87500 | H24: =F24*G24 -> 87500 | I24: =SUM(H24:H44) -> 244940.01
D25: Fiação para instalação elétrica entre o comando e a maquina | E25: Unidade | F25: 1 | G25: 5000 | H25: =F25*G25 -> 5000
D26: Instalação de encoder na maquina | E26: Unidade | F26: 1 | G26: 7500 | H26: =F26*G26 -> 7500
D27: Revitalização do motor elétrico | E27: Unidade | F27: 1 | G27: 6000 | H27: =F27*G27 -> 6000
D28: Revisão do limitador de velocidade com troca de cabo de aço | E28: Unidade | F28: 1 | G28: 20000 | H28: =F28*G28 -> 20000
D29: Kit completo para operador de portas composto de motor com encoder, variador de freqüência, contatos elétricos, correia de tração, roldanas de nylon, corrediças de porta | E29: Unidade | F29: 1 | G29: 12500 | H29: =F29*G29 -> 12500
D30: fiação completa para instalação da cabina e iluminação | E30: Unidade | F30: 1 | G30: 1875 | H30: =F30*G30 -> 1875
D31: Botoeira completa com display matricial de 55 mm, voice e braile | E31: Unidade | F31: 1 | G31: 10000 | H31: =F31*G31 -> 10000
D32: Kit completo de barreira eletrônica | E32: Unidade | F32: 1 | G32: 5000 | H32: =F32*G32 -> 5000
D33: Botoeira de pavimento com 2 botões coletivo seletivo | E33: Unidade | F33: 5 | G33: 1250 | H33: =F33*G33 -> 6250
B34: 2 | D34: Display matricial 55mm / 20mm na parte superior da porta de andar | E34: Unidade | F34: 5 | G34: 950 | H34: =F34*G34 -> 4750
D35: Reparo e revisão das portas de pavimento | E35: Unidade | F35: 5 | G35: 1250 | H35: =F35*G35 -> 6250
D36: Fiação completa para instalação elétrica das botoeiras nos andares | E36: Unidade | F36: 1 | G36: 2000 | H36: =F36*G36 -> 2000
D37: Cabos de manobra para conexão do quadro de comando c/ a cabina | E37: Unidade | F37: 1 | G37: 5000 | H37: =F37*G37 -> 5000
D38: Limites de segurança fim de percurso com suporte | E38: Unidade | F38: 6 | G38: 750 | H38: =F38*G38 -> 4500
D39: Revisão do sistema de freio e troca da bobina de freio | E39: Unidade | F39: 1 | G39: 11100 | H39: =F39*G39 -> 11100
D40: Escada de acesso ao poço | E40: Unidade | F40: 1 | G40: 801.67 | H40: =F40*G40 -> 801.67
D41: Redes de segurança no poço, isolando a área de cada elevador | E41: Unidade | F41: 1 | G41: 5086.67 | H41: =F41*G41 -> 5086.67
D42: Iluminação do passadiço do elevador | E42: Unidade | F42: 1 | G42: 1326.67 | H42: =F42*G42 -> 1326.67
D43: Revisão mecânica da maquina de tração | E43: Unidade | F43: 1 | G43: 39500 | H43: =F43*G43 -> 39500
D44: Corrediças de cabina e contrapeso. | E44: Unidade | F44: 6 | G44: 500 | H44: =F44*G44 -> 3000
C45: Gragoatá - Bloco H - Elevador 2 | D45: QUADRO DE COMANDO 20KW / 75 amperes | E45: Unidade | F45: 1 | G45: 87500 | H45: =F45*G45 -> 87500 | I45: =SUM(H45:H65) -> 244940.01
D46: Fiação para instalação elétrica entre o comando e a maquina | E46: Unidade | F46: 1 | G46: 5000 | H46: =F46*G46 -> 5000
D47: Instalação de encoder na maquina | E47: Unidade | F47: 1 | G47: 7500 | H47: =F47*G47 -> 7500
D48: Revitalização do motor elétrico | E48: Unidade | F48: 1 | G48: 6000 | H48: =F48*G48 -> 6000
D49: Revisão do limitador de velocidade com troca de cabo de aço | E49: Unidade | F49: 1 | G49: 20000 | H49: =F49*G49 -> 20000
D50: Kit completo para operador de portas composto de motor com encoder, variador de freqüência, contatos elétricos, correia de tração, roldanas de nylon, corrediças de porta | E50: Unidade | F50: 1 | G50: 12500 | H50: =F50*G50 -> 12500
D51: fiação completa para instalação da cabina e iluminação | E51: Unidade | F51: 1 | G51: 1875 | H51: =F51*G51 -> 1875
D52: Botoeira completa com display matricial de 55 mm, voice e braile | E52: Unidade | F52: 1 | G52: 10000 | H52: =F52*G52 -> 10000
D53: Kit completo de barreira eletrônica | E53: Unidade | F53: 1 | G53: 5000 | H53: =F53*G53 -> 5000
D54: Botoeira de pavimento com 2 botões coletivo seletivo | E54: Unidade | F54: 5 | G54: 1250 | H54: =F54*G54 -> 6250
B55: 3 | D55: Display matricial 55mm / 20mm na parte superior da porta de andar | E55: Unidade | F55: 5 | G55: 950 | H55: =F55*G55 -> 4750
D56: Reparo e revisão das portas de pavimento | E56: Unidade | F56: 5 | G56: 1250 | H56: =F56*G56 -> 6250
D57: Fiação completa para instalação elétrica das botoeiras nos andares | E57: Unidade | F57: 1 | G57: 2000 | H57: =F57*G57 -> 2000
D58: Cabos de manobra para conexão do quadro de comando c/ a cabina | E58: Unidade | F58: 1 | G58: 5000 | H58: =F58*G58 -> 5000
D59: Limites de segurança fim de percurso com suporte | E59: Unidade | F59: 6 | G59: 750 | H59: =F59*G59 -> 4500
D60: Revisão do sistema de freio e troca da bobina de freio | E60: Unidade | F60: 1 | G60: 11100 | H60: =F60*G60 -> 11100
D61: Escada de acesso ao poço | E61: Unidade | F61: 1 | G61: 801.67 | H61: =F61*G61 -> 801.67
D62: Redes de segurança no poço, isolando a área de cada elevador | E62: Unidade | F62: 1 | G62: 5086.67 | H62: =F62*G62 -> 5086.67
D63: Iluminação do passadiço do elevador | E63: Unidade | F63: 1 | G63: 1326.67 | H63: =F63*G63 -> 1326.67
D64: Revisão mecânica da maquina de tração | E64: Unidade | F64: 1 | G64: 39500 | H64: =F64*G64 -> 39500
D65: Corrediças de cabina e contrapeso. | E65: Unidade | F65: 6 | G65: 500 | H65: =F65*G65 -> 3000
B66: 4 | C66: Gragoatá - Bloco D - Elevador 2 | D66: QUADRO DE COMANDO 20KW / 75 amperes | E66: Unidade | F66: 1 | G66: 87500 | H66: =F66*G66 -> 87500 | I66: =SUM(H66:H85) -> 274843.35
D67: Escada de acesso ao poço | E67: Unidade | F67: 1 | G67: 801.67 | H67: =F67*G67 -> 801.67
D68: Redes de segurança no poço, isolando a área de cada elevador | E68: Unidade | F68: 1 | G68: 5086.67 | H68: =F68*G68 -> 5086.67
D69: Iluminação do passadiço do elevador | E69: Unidade | F69: 1 | G69: 1326.67 | H69: =F69*G69 -> 1326.67
D70: Fiação para instalação elétrica entre o comando e a maquina | E70: Unidade | F70: 1 | G70: 5000 | H70: =F70*G70 -> 5000
D71: Instalação de encoder na maquina | E71: Unidade | F71: 1 | G71: 7500 | H71: =F71*G71 -> 7500
D72: Troca do motor elétrico | E72: Unidade | F72: 1 | G72: 62500 | H72: =F72*G72 -> 62500
D73: Revitalização da maquina de tração, com troca de cabos de aço | E73: Unidade | F73: 1 | G73: 21066.67 | H73: =F73*G73 -> 21066.67
D74: Troca do limitador de velocidade e do cabo de aço | E74: Unidade | F74: 1 | G74: 22936.67 | H74: =F74*G74 -> 22936.67
D75: Kit completo para operador de portas composto de motor com encoder, variador de freqüência, contatos elétricos, correia de tração, roldanas de nylon, corrediças de porta | E75: Unidade | F75: 1 | G75: 12500 | H75: =F75*G75 -> 12500
D76: fiação completa para instalação da cabina e iluminação | E76: Unidade | F76: 1 | G76: 1875 | H76: =F76*G76 -> 1875
D77: Botoeira completa com display matricial de 55 mm, voice e braile | E77: Unidade | F77: 1 | G77: 10000 | H77: =F77*G77 -> 10000
D78: Kit completo de barreira eletrônicA | E78: Unidade | F78: 1 | G78: 5000 | H78: =F78*G78 -> 5000
... D85: Corrediças de cabina e contrapeso. | E85: Unidade | F85: 6 | G85: 500 | H85: =F85*G85 -> 3000
B86: 5 | C86: Faculdade de Veterinária - bloco B | D86: QUADRO DE COMANDO 20KW / 75 amperes | E86: Unidade | F86: 1 | G86: 87500 | H86: =F86*G86 -> 87500 | I86: =SUM(H86:H106) -> 308593.35
D87: Escada de acesso ao poço | E87: Unidade | F87: 1 | G87: 801.67 | H87: =F87*G87 -> 801.67
D88: Redes de segurança no poço, isolando a área de cada elevador | E88: Unidade | F88: 1 | G88: 5086.67 | H88: =F88*G88 -> 5086.67
D89: Iluminação do passadiço do elevador | E89: Unidade | F89: 1 | G89: 1326.67 | H89: =F89*G89 -> 1326.67
D90: Fiação para instalação elétrica entre o comando e a maquina | E90: Unidade | F90: 1 | G90: 5000 | H90: =F90*G90 -> 5000
D91: Instalação de encoder na maquina | E91: Unidade | F91: 1 | G91: 7500 | H91: =F91*G91 -> 7500
D92: Troca do motor elétrico | E92: Unidade | F92: 1 | G92: 62500 | H92: =F92*G92 -> 62500
D93: Revitalização da maquina de tração, com troca de cabos de aço | E93: Unidade | F93: 1 | G93: 21066.67 | H93: =F93*G93 -> 21066.67
D94: Troca do limitador de velocidade e do cabo de aço | E94: Unidade | F94: 1 | G94: 22936.67 | H94: =F94*G94 -> 22936.67
D95: Kit completo para operador de portas composto de motor com encoder, variador de freqüência, contatos elétricos, correia de tração, roldanas de nylon, corrediças de porta | E95: Unidade | F95: 1 | G95: 12500 | H95: =F95*G95 -> 12500
D96: fiação completa para instalação da cabina e iluminação | E96: Unidade | F96: 1 | G96: 1875 | H96: =F96*G96 -> 1875
D97: Botoeira completa com display matricial de 55 mm, voice e braile | E97: Unidade | F97: 1 | G97: 10000 | H97: =F97*G97 -> 10000
D98: Kit completo de barreira eletrônicA | E98: Unidade | F98: 1 | G98: 5000 | H98: =F98*G98 -> 5000
... D106: Serviço de impermeabilização do poço e de proteção contra alagamentos | E106: Unidade | F106: 1 | G106: 26850 | H106: =F106*G106 -> 26850
C107: Faculdade de Direito | D107: QUADRO DE COMANDO 20KW / 75 amperes | E107: Unidade | F107: 1 | G107: 87500 | H107: =F107*G107 -> 87500 | I107: =SUM(H107:H127) -> 292723.35
D108: Escada de acesso ao poço | E108: Unidade | F108: 1 | G108: 801.67 | H108: =F108*G108 -> 801.67
D109: Redes de segurança no poço, isolando a área de cada elevador | E109: Unidade | F109: 1 | G109: 5086.67 | H109: =F109*G109 -> 5086.67
D110: Iluminação do passadiço do elevador | E110: Unidade | F110: 1 | G110: 1326.67 | H110: =F110*G110 -> 1326.67
D111: Fiação para instalação elétrica entre o comando e a maquina | E111: Unidade | F111: 1 | G111: 5000 | H111: =F111*G111 -> 5000
D112: Instalação de encoder na maquina | E112: Unidade | F112: 1 | G112: 7500 | H112: =F112*G112 -> 7500
D113: Troca do motor elétrico | E113: Unidade | F113: 1 | G113: 62500 | H113: =F113*G113 -> 62500
D114: Revitalização da maquina de tração, com troca de cabos de aço | E114: Unidade | F114: 1 | G114: 21066.67 | H114: =F114*G114 -> 21066.67
D115: Troca do limitador de velocidade e do cabo de aço | E115: Unidade | F115: 1 | G115: 22936.67 | H115: =F115*G115 -> 22936.67
D116: Kit completo para operador de portas composto de motor com encoder, variador de freqüência, contatos elétricos, correia de tração, roldanas de nylon, corrediças de porta | E116: Unidade | F116: 1 | G116: 12500 | H116: =F116*G116 -> 12500
B117: 6 | D117: fiação completa para instalação da cabina e iluminação | E117: Unidade | F117: 1 | G117: 1875 | H117: =F117*G117 -> 1875
D118: Botoeira completa com display matricial de 55 mm, voice e braile | E118: Unidade | F118: 1 | G118: 10000 | H118: =F118*G118 -> 10000
D119: Kit completo de barreira eletrônica | E119: Unidade | F119: 1 | G119: 5000 | H119: =F119*G119 -> 5000
D120: Botoeira de pavimento com 2 botões coletivo seletivo | E120: Unidade | F120: 4 | G120: 1250 | H120: =F120*G120 -> 5000
...

Sheet Valores Sistema
A1: Contratação de empresa especializada para a prestação de serviços técnicos de manutenção corretiva dos equipamentos de transporte vertical de diversas capacidades, com fornecimento total de peças, componentes, certificações de segurança e materiais de consumo, instalados em diversas Unidades da Universidade Federal Fluminense, localizadas no Estado do Rio de Janeiro, conforme o Termo de Referência e seus anexos.
A2: GRUPO | B2: ITEM | C2: EQUIPAMENTO | D2: UNIDADE | E2: QUANTIDADE | F2: VALOR TOTAL ESTIMADO POR EQUIPAMENTO
B3: 1 | C3: ='Mapa Detalhado Licitação'!C3 -> Gragoatá - Bloco A - Elevador 2 | D3: Unidade | E3: 1 | F3: ='Mapa Detalhado Licitação'!I3 -> 244940.01
B4: 2 | C4: ='Mapa Detalhado Licitação'!C24 -> Gragoatá - Bloco G - Elevador 2 | D4: Unidade | E4: 1 | F4: ='Mapa Detalhado Licitação'!I24 -> 244940.01
B5: 3 | C5: ='Mapa Detalhado Licitação'!C45 -> Gragoatá - Bloco H - Elevador 2 | D5: Unidade | E5: 1 | F5: ='Mapa Detalhado Licitação'!I45 -> 244940.01
A6: 1 | B6: 4 | C6: ='Mapa Detalhado Licitação'!C66 -> Gragoatá - Bloco D - Elevador 2 | D6: Unidade | E6: 1 | F6: ='Mapa Detalhado Licitação'!I66 -> 274843.35
B7: 5 | C7: ='Mapa Detalhado Licitação'!C86 -> Faculdade de Veterinária - bloco B | D7: Unidade | E7: 1 | F7: ='Mapa Detalhado Licitação'!I86 -> 308593.35
B8: 6 | C8: ='Mapa Detalhado Licitação'!C107 -> Faculdade de Direito | D8: Unidade | E8: 1 | F8: ='Mapa Detalhado Licitação'!I107 -> 292723.35
B9: 7 | C9: ='Mapa Detalhado Licitação'!C128 -> Gragoatá - Bloco O - Elevador 1 | D9: Unidade | E9: 1 | F9: ='Mapa Detalhado Licitação'!I128 -> 299843.35
B10: 8 | C10: ='Mapa Detalhado Licitação'!C148 -> Gragoatá - Bloco N - Elevador 2 | D10: Unidade | E10: 1 | F10: ='Mapa Detalhado Licitação'!I148 -> 299843.35
F11: =SUM(F3:F10) -> 2210666.8

Sheet Grupo Prioritário
C3: GRUPO PRIORITÁRIO - MODERNIZAÇÃO DE ELEVADORES
C4: bloco A - Ufasa | D4: 244940.01
C5: bloco D | D5: 274843.35
C6: bloco G | D6: 244940.01
C7: bloco H | D7: 244940.01
C8: Direito I | D8: 292723.35
C9: Veteinaria | D9: 308593.35
C10: bloco N | D10: 299843.35
C11: bloco O | D11: 299843.35
C12: TOTAL ESTIMADO | D12: =SUM(D4:D11) -> 2210666.8
