Workbook

Sheet MENU PLANILHA
A1: PRÓ-REITORIA DE ADMINISTRAÇÃO
A2: COORDENAÇÃO DE CONTRATOS
A5: Contratação de empresa para prestação de serviços continuados de Manutenção preventiva e corretiva de equipamentos de refrigeração Central, com fornecimento de materiais de reposição e atendimento na Universidade Federal Fluminense
E16: dos Equipamentos (preenchimento licitante)

Sheet An IIA Distribuição Postos
A1: PRÓ-REITORIA DE ADMINISTRAÇÃO
A2: COORDENAÇÃO DE CONTRATOS
A4: Anexo II - A - DISTRIBUIÇÃO DOS POSTOS
A5: Contratação de empresa para prestação de serviços continuados de Manutenção preventiva e corretiva de equipamentos de refrigeração Central, com fornecimento de materiais de reposição e atendimento na Universidade Federal Fluminense
A7: DISCRIMINAÇÃO DO POSTO
A8: Local | B8: Encarregado geral 44h | C8: Auxiliar de Refrigeração 12x36 Diurno | D8: Auxiliar de Refrigeração 12x36 Noturno | E8: Auxiliar de Refrigeração 44h | F8: Mecânico de Ar Central 44h | G8: Mecânico de Ar Central 12x36h Diurno | H8: Mecânico de Ar Central 12x36h Noturno | I8: TOTAL
A9: SOMA | B9: 1 | C9: 1 | D9: 1 | E9: 4 | F9: 4 | G9: 1 | H9: 1 | I9: =SUM(B9:H9) -> 13
A10: Campos dos Goytacazes | B10: 1 | C10: 0 | D10: 0 | E10: 2 | F10: 1 | G10: 0 | H10: 0 | I10: =SUM(B10:H10) -> 4
A11: TOTAL | B11: =SUM(B9:B10) -> 2 | C11: =SUM(C9:C10) -> 1 | D11: =SUM(D9:D10) -> 1 | E11: =SUM(E9:E10) -> 6 | F11: =SUM(F9:F10) -> 5 | G11: =SUM(G9:G10) -> 1 | H11: =SUM(H9:H10) -> 1 | I11: =SUM(B11:H11) -> 17

Sheet An IIB Relação das Unidades
A1: PRÓ-REITORIA DE ADMINISTRAÇÃO
A2: COORDENAÇÃO DE CONTRATOS
A4: Anexo II B - ENDEREÇO DAS UNIDADES UFF
A5: Contratação de empresa para prestação de serviços continuados de Manutenção preventiva e corretiva de equipamentos de refrigeração Central, com fornecimento de materiais de reposição e atendimento na Universidade Federal Fluminense
B7: Unidade | C7: Endereço
B8: Reitoria Ceart | C8: Rua Miguel de Frias, 9 - Icaraí - Niterói - RJ
B9: Faculdade de Medicina | C9: Av. Marquês de Paraná, 303 - Centro, Niterói
B10: Instituto Biomédico - Bloco E | C10: Outeiro São João Batista, s/n - Centro, Niterói
B11: Bloco D - Faculdade de Educação | C11: Rua Professor Marcos Valdemar de Freitas Reis, s/n - São Domingos, Niterói
B12: Bloco F - Faculdade de Economia
B13: Bloco G - Instituto de Matemática e Estatística e Faculdade de Turismo
B14: Bloco H - Faculdade de Turismo e Hotelaria
B15: Bloco J - IACS novo
B16: Bloco M - Instituto de Biologia
B17: Bloco P - Instituto de Ciências Humanas e Filosofia - ICHF
B18: Biblioteca Central do Gragoatá
B19: Instituto de Geociências - Blocos O e P | C19: Rua Passo da Pátria, n.º 156, bairro São Domingos, Niterói - RJ
B20: Instituto de Física - Bloco N
B21: Pólo Campos Goytacazes (incluindo SPA) | C21: Av. XV de Novembro, s/n - Centro, Campos dos Goytacazes

Sheet An IIC1 Uniformes Item 1
A1: PRÓ-REITORIA DE ADMINISTRAÇÃO
A2: COORDENAÇÃO DE CONTRATOS
A4: Anexo II - C1 - RELAÇÃO DE UNIFORMES EPIS E MATERIAIS
A5: ITEM 1 - NITERÓI/RJ
A6: Contratação de empresa para prestação de serviços continuados de Manutenção preventiva e corretiva de equipamentos de refrigeração Central, com fornecimento de materiais de reposição e atendimento na Universidade Federal Fluminense
A7: UNIFORMES ENCARREGADOS
A8: ITEM | B8: DISCRIMINAÇÃO UNIFORME | C8: QUANT. ANUAL | D8: UNIDADE | E8: VALOR | G8: Conjunto de uniforme
E9: UNITÁRIO | F9: TOTAL ANUAL POR FUNCIONÁRIO
A10: 1.1 | B10: Calça comprida jeans, modelo tradicional, com bolsos laterais e traseiros, fechamento com botão e zíper | C10: 6 | D10: unid. | E10: 53.82 | F10: =E10*C10 -> 322.92 | G10: Cada conjunto de uniforme será composto por: 3 calças, 3 camisas, 5 pares de meia, 1 capa de chuva, 1 sapato e 1 crachá.
A11: 1.2 | B11: Camisa polo, malha piquet, com emblema da empresa e os dizeres A SERVIÇO DA UFF | C11: 6 | D11: unid. | E11: 37.73 | F11: =E11*C11 -> 226.38
A12: 1.3 | B12: Par de meia, mínimo de 70% algodão, cano médio | C12: 10 | D12: par | E12: 8.6 | F12: =E12*C12 -> 86
A13: 1.4 | B13: Capa de chuva plástica, com faixas fluorescentes, material pvc, uso profissional. | C13: 2 | D13: unid. | E13: 19.05 | F13: =E13*C13 -> 38.1
A14: 1.5 | B14: Sapato fechado profissional, com cadarço, acolchoado, tipo derby, em couro preto | C14: 2 | D14: par | E14: 48.07 | F14: =E14*C14 -> 96.14
A15: 1.6 | B15: Crachá funcional, em pvc, com foto, nome e cargo. | C15: 1 | D15: unid. | E15: 2.66 | F15: =E15*C15 -> 2.66
A16: Total anual por funcionário | F16: =SUM(F10:F15) -> 772.2
A17: Total mensal UNIFORME por funcionário | F17: =F16/12 -> 64.35
A19: UNIFORMES TÉCNICO E AUXILIAR DE REFRIGERAÇÃO
A20: ITEM | B20: DISCRIMINAÇÃO UNIFORME | C20: QUANT. ANUAL | D20: UNIDADE | E20: VALOR | G20: Conjunto de uniforme
E21: UNITÁRIO | F21: TOTAL ANUAL POR FUNCIONÁRIO
A22: 2.1 | B22: Calça comprida, material brim, modelo unissex, com elástico e cordão na cintura, 2 bolsos laterais e 2 traseiros | C22: 6 | D22: unid. | E22: 45.33 | F22: =E22*C22 -> 271.98 | G22: Cada conjunto de uniforme será composto por: 3 calças, 3 camisetas, 5 pares de meia, 1 capa de chuva, 2 jalecos e 1 crachá.
A23: 2.2 | B23: Camiseta, material 100% algodão, tipo manga curta, gola redonda, identificada com logomarca da empresa os dizeres A SERVIÇO DA UFF | C23: 6 | D23: unid. | E23: 7.77 | F23: =E23*C23 -> 46.62
A24: 2.3 | B24: Par de meia, mínimo de 70% algodão, cano médio | C24: 10 | D24: par | E24: 8.6 | F24: =E24*C24 -> 86
A25: 2.4 | B25: Capa de chuva plástica, com faixas fluorescentes, material pvc, uso profissional. | C25: 2 | D25: unid. | E25: 19.05 | F25: =E25*C25 -> 38.1
A26: 2.5 | B26: Jaleco profissional em brim leve, manga curta, fechamento com botões, com um bolso frontal, gola esporte e com logomarca da empresa. | C26: 4 | D26: unid. | E26: 15.77 | F26: =E26*C26 -> 63.08
A27: 2.6 | B27: Crachá funcional, em pvc, com foto, nome e cargo. | C27: 1 | D27: unid. | E27: 2.66 | F27: =E27*C27 -> 2.66
A28: Total anual por funcionário | F28: =SUM(F22:F27) -> 508.44
A29: Total mensal UNIFORME por funcionário | F29: =F28/12 -> 42.37
A30: EPIS TÉCNICO E AUXILIAR DE REFRIGERAÇÃO
A31: Subitem | B31: Descrição | C31: QT. INICIAL | D31: QT. SEMESTRE | E31: Quantidade Anual por Funcionário | F31: Valor unitário estimado R$ | G31: Valor total anual
A32: 1 | B32: Botina de segurança com elástico coberto, cabedal confeccionado em couro curtido ao cromo, com forração em sintético, solado de PU, Bi densidade, injetado diretamente ao cabedal. Marca Marluvas ou similar. (PAR) | C32: 1 | D32: 1 | E32: 2 | F32: 52.11 | G32: =F32*E32 -> 104.22
A33: 2 | B33: Capacete de segurança classe A, com jugular (UN) | C33: 1 | D33: 1 | E33: 2 | F33: 12 | G33: =F33*E33 -> 24
A34: 3 | B34: Luva de algodão tricotada pigmentada (PAR) | C34: 1 | D34: 1 | E34: 2 | F34: 3.66 | G34: =F34*E34 -> 7.32
A35: 4 | B35: Máscara descartável Pff2 Caixa com 50 unidades | C35: 2 | D35: 2 | E35: 4 | F35: 6.17 | G35: =F35*E35 -> 24.68
A36: 5 | B36: Óculos de segurança incolor | C36: 1 | D36: 1 | E36: 2 | F36: 4.33 | G36: =F36*E36 -> 8.66
A37: 6 | B37: Protetor auricular tipo concha com haste atrás da nuca | C37: 1 | D37: 1 | E37: 2 | F37: 11.57 | G37: =F37*E37 -> 23.14
A38: 7 | B38: Avental de raspa (UN) | C38: 1 | D38: 1 | E38: 2 | F38: 31.82 | G38: =F38*E38 -> 63.64
A39: 8 | B39: Luva de látex, cano 26cm, palma antiderrapante (PAR) | C39: 2 | D39: 1 | E39: 3 | F39: 6.52 | G39: =F39*E39 -> 19.56
A40: 9 | B40: Luva nitrílica com forro cano médio | C40: 2 | D40: 1 | E40: 3 | F40: 6.32 | G40: =F40*E40 -> 18.96
A41: 10 | B41: Luva de raspa soldador (PAR) | C41: 1 | D41: 1 | E41: 2 | F41: 13.2 | G41: =F41*E41 -> 26.4
A42: 11 | B42: Luva de vaqueta de couro mista, cano curto (PAR) | C42: 2 | D42: 1 | E42: 3 | F42: 9.8 | G42: =F42*E42 -> 29.4
...

Sheet An IIC2 Uniformes Item2
A1: PRÓ-REITORIA DE ADMINISTRAÇÃO
A2: COORDENAÇÃO DE CONTRATOS
A4: Anexo II - C2 - RELAÇÃO DE UNIFORMES EPIS E MATERIAIS
A5: ITEM 2- CAMPOS DOS GOYTACAZES/RJ
A6: Contratação de empresa para prestação de serviços continuados de Manutenção preventiva e corretiva de equipamentos de refrigeração Central, com fornecimento de materiais de reposição e atendimento na Universidade Federal Fluminense
A7: UNIFORMES ENCARREGADOS
A8: ITEM | B8: DISCRIMINAÇÃO UNIFORME | C8: QUANT. ANUAL | D8: UNIDADE | E8: VALOR | G8: Conjunto de uniforme
E9: UNITÁRIO | F9: TOTAL ANUAL POR FUNCIONÁRIO
A10: 1.1 | B10: Calça comprida jeans, modelo tradicional, com bolsos laterais e traseiros, fechamento com botão e zíper | C10: 6 | D10: unid. | E10: 53.82 | F10: =E10*C10 -> 322.92 | G10: Cada conjunto de uniforme será composto por: 3 calças, 3 camisas, 5 pares de meia, 1 capa de chuva e 1 crachá.
A11: 1.2 | B11: Camisa polo, malha piquet, com emblema da empresa e os dizeres A SERVIÇO DA UFF | C11: 6 | D11: unid. | E11: 37.73 | F11: =E11*C11 -> 226.38
A12: 1.3 | B12: Par de meia, mínimo de 70% algodão, cano médio | C12: 10 | D12: par | E12: 8.6 | F12: =E12*C12 -> 86
A13: 1.4 | B13: Capa de chuva plástica, com faixas fluorescentes, material pvc, uso profissional. | C13: 2 | D13: unid. | E13: 19.05 | F13: =E13*C13 -> 38.1
A14: 1.5 | B14: Sapato fechado profissional, com cadarço, acolchoado, tipo derby, em couro preto | C14: 2 | D14: par | E14: 48.07 | F14: =E14*C14 -> 96.14
A15: 1.6 | B15: Crachá funcional, em pvc, com foto, nome e cargo. | C15: 1 | D15: unid. | E15: 2.66 | F15: =E15*C15 -> 2.66
A16: Total anual por funcionário | F16: =SUM(F10:F15) -> 772.2
A17: Total mensal UNIFORME por funcionário | F17: =F16/12 -> 64.35
A19: UNIFORMES TÉCNICO E AUXILIAR DE REFRIGERAÇÃO
A20: ITEM | B20: DISCRIMINAÇÃO UNIFORME | C20: QUANT. ANUAL | D20: UNIDADE | E20: VALOR | G20: Conjunto de uniforme
E21: UNITÁRIO | F21: TOTAL ANUAL POR FUNCIONÁRIO
A22: 2.1 | B22: Calça comprida, material brim, modelo unissex, com elástico e cordão na cintura, 2 bolsos laterais e 2 traseiros | C22: 6 | D22: unid. | E22: 45.33 | F22: =E22*C22 -> 271.98 | G22: Cada conjunto de uniforme será composto por: 3 calças, 3 camisetas, 5 pares de meia, 1 capa de chuva, 2 jalecos e 1 crachá.
A23: 2.2 | B23: Camiseta, material 100% algodão, tipo manga curta, gola redonda, identificada com logomarca da empresa os dizeres A SERVIÇO DA UFF | C23: 6 | D23: unid. | E23: 7.77 | F23: =E23*C23 -> 46.62
A24: 2.3 | B24: Par de meia, mínimo de 70% algodão, cano médio | C24: 10 | D24: par | E24: 8.6 | F24: =E24*C24 -> 86
A25: 2.4 | B25: Capa de chuva plástica, com faixas fluorescentes, material pvc, uso profissional. | C25: 2 | D25: unid. | E25: 19.05 | F25: =E25*C25 -> 38.1
A26: 2.5 | B26: Jaleco profissional em brim leve, manga curta, fechamento com botões, com um bolso frontal, gola esporte e com logomarca da empresa. | C26: 4 | D26: unid. | E26: 15.77 | F26: =E26*C26 -> 63.08
A27: 2.6 | B27: Crachá funcional, em pvc, com foto, nome e cargo. | C27: 1 | D27: unid. | E27: 2.66 | F27: =E27*C27 -> 2.66
A28: Total anual por funcionário | F28: =SUM(F22:F27) -> 508.44
A29: Total mensal UNIFORME por funcionário | F29: =F28/12 -> 42.37
A30: EPIS TÉCNICO E AUXILIAR DE REFRIGERAÇÃO
A31: Subitem | B31: Descrição | C31: QT. INICIAL | D31: QT. SEMESTRE | E31: Quantidade Anual por Funcionário | F31: Valor unitário estimado R$ | G31: Valor total anual
A32: 1 | B32: Botina de segurança com elástico coberto, cabedal confeccionado em couro curtido ao cromo, com forração em sintético, solado de PU, Bi densidade, injetado diretamente ao cabedal. Marca Marluvas ou similar. (PAR) | C32: 1 | D32: 1 | E32: 2 | F32: 52.11 | G32: =F32*E32 -> 104.22
A33: 2 | B33: Capacete de segurança classe A, com jugular (UN) | C33: 1 | D33: 1 | E33: 2 | F33: 12 | G33: =F33*E33 -> 24
A34: 3 | B34: Luva de algodão tricotada pigmentada (PAR) | C34: 1 | D34: 1 | E34: 2 | F34: 3.66 | G34: =F34*E34 -> 7.32
A35: 4 | B35: Máscara descartável Pff2 Caixa com 50 unidades | C35: 2 | D35: 2 | E35: 4 | F35: 6.17 | G35: =F35*E35 -> 24.68
A36: 5 | B36: Óculos de segurança incolor | C36: 1 | D36: 1 | E36: 2 | F36: 4.33 | G36: =F36*E36 -> 8.66
A37: 6 | B37: Protetor auricular tipo concha com haste atrás da nuca | C37: 1 | D37: 1 | E37: 2 | F37: 11.57 | G37: =F37*E37 -> 23.14
A38: 7 | B38: Avental de raspa (UN) | C38: 1 | D38: 1 | E38: 2 | F38: 31.82 | G38: =F38*E38 -> 63.64
A39: 8 | B39: Luva de látex, cano 26cm, palma antiderrapante (PAR) | C39: 2 | D39: 1 | E39: 3 | F39: 6.52 | G39: =F39*E39 -> 19.56
A40: 9 | B40: Luva nitrílica com forro cano médio | C40: 2 | D40: 1 | E40: 3 | F40: 6.32 | G40: =F40*E40 -> 18.96
A41: 10 | B41: Luva de raspa soldador (PAR) | C41: 1 | D41: 1 | E41: 2 | F41: 13.2 | G41: =F41*E41 -> 26.4
A42: 11 | B42: Luva de vaqueta de couro mista, cano curto (PAR) | C42: 2 | D42: 1 | E42: 3 | F42: 9.8 | G42: =F42*E42 -> 29.4
...

Sheet An IID Equip Item 1
A1: PRÓ-REITORIA DE ADMINISTRAÇÃO
A2: COORDENAÇÃO DE CONTRATOS
A4: Anexo II - D - RELAÇÃO DE EQUIPAMENTOS
A5: ITEM 1 - NITERÓI/RJ
A6: Contratação de empresa para prestação de serviços continuados de Manutenção preventiva e corretiva de equipamentos de refrigeração Central, com fornecimento de materiais de reposição e atendimento na Universidade Federal Fluminense
A8: ITEM | B8: DESCRIÇÃO | C8: QTDE. | D8: CUSTO UNITÁRIO | E8: CUSTO TOTAL
A9: 1 | B9: Chave de fenda 3 /16 x 6” | C9: 7 | D9: 3.87 | E9: =D9*C9 -> 27.09
A10: 2 | B10: Chave de fenda 1 /4 x 6” | C10: 7 | D10: 6.83 | E10: =D10*C10 -> 47.81
A11: 3 | B11: Chave de fenda 5 /16 x 6” | C11: 7 | D11: 8.61 | E11: =D11*C11 -> 60.27
A12: 4 | B12: Chave de fenda sindal 1 /8 | C12: 7 | D12: 3.41 | E12: =D12*C12 -> 23.87
A13: 5 | B13: Chave de Philips 3 /16 x 6“ | C13: 7 | D13: 4.35 | E13: =D13*C13 -> 30.45
A14: 6 | B14: Chave de Philips 1 /8 x 6” | C14: 7 | D14: 2.04 | E14: =D14*C14 -> 14.28
A15: 7 | B15: Chave de Philips 1 /4 x 6” | C15: 7 | D15: 4.1 | E15: =D15*C15 -> 28.7
A16: 8 | B16: Chave de Philips 5 /16 x 6” | C16: 7 | D16: 7.97 | E16: =D16*C16 -> 55.79
A17: 9 | B17: Chave inglesa (boca ajustável) 8” | C17: 7 | D17: 24.12 | E17: =D17*C17 -> 168.84
A18: 10 | B18: Chave inglesa (boca ajustável) 10” | C18: 7 | D18: 31.64 | E18: =D18*C18 -> 221.48
A19: 11 | B19: Chave inglesa (boca ajustável) 12” | C19: 7 | D19: 37.86 | E19: =D19*C19 -> 265.02
A20: 12 | B20: Alicate universal 1000v | C20: 7 | D20: 37.12 | E20: =D20*C20 -> 259.84
... A67: 59 | B67: Veículo com capacidade para 5 passageiros, 5 portas, com no máximo 1 ano de fabricação, motor 1,0 L, com ar condicionado e direção elétrica assistida. Modelo comercial de referência: ONIX SEDAN Plus LT 1.0 12V TB Flex Mec (Sem Motorista e com todas as taxas e impostos regularizadas) Tabela FIPE mês de janeiro/2025 | C67: 1 | D67: 110413 | E67: =D67*C67 -> 110413
A68: Total | E68: =SUM(E9:E67) -> 190649.95
A69: Taxa de Depreciação Anual (A taxa de depreciação utilizada de acordo com tabela da I.N. da SRF n.º 1700/2017.) | E69: 0.2
A70: Custo Utilização Anual (Valor Tx. Depreciação) | E70: =ROUND(E68*E69,2) -> 38129.99
A71: Custo Utilização Mensal Total | E71: =E70/12 -> 3177.4992
A72: Custo Utilização Mensal / 13 postos | E72: =E71/13 -> 244.42301
A74: Observações: a) A Contratada deverá disponibilizar e manter constantes, durante o período de vigência contratual, todos os quantitativos listados acima, devendo repor imediatamente qualquer ferramenta ou equipamento danificado; b) Esta relação não é exaustiva, devendo a Contratada fornecer todos os equipamentos, ferramentas e instrumentos necessários à execução dos serviços, objeto deste Termo de Referência; c) Metodologia de cálculo adotada: Acórdão 966/2010; d) A taxa de depreciação anual adotada foi retirada da IN SRF Nº162/98. e) Ao término contratual, os equipamentos e ferramentas utilizados serão de propriedade da Contratada. O valor pago pela Contratante limita-se a compensação da depreciação ocasionada pelo uso dos equipamentos, instrumentos e ferramentas nas atividades de manutenção predial. f) Deverá ser instalado um relógio de Ponto da Superintendencia de Operações e Manutenção

Sheet An IIE Equip Item 2
A1: PRÓ-REITORIA DE ADMINISTRAÇÃO
A2: COORDENAÇÃO DE CONTRATOS
A4: Anexo II - E - RELAÇÃO DE EQUIPAMENTOS ITEM 2
A5: ITEM 2- CAMPOS DOS GOYTACAZES/RJ
A6: Contratação de empresa para prestação de serviços continuados de Manutenção preventiva e corretiva de equipamentos de refrigeração Central, com fornecimento de materiais de reposição e atendimento na Universidade Federal Fluminense
A8: ITEM | B8: DESCRIÇÃO | C8: QTDE. | D8: CUSTO UNITÁRIO | E8: CUSTO TOTAL
A9: 1 | B9: Chave de fenda 3 /16 x 6” | C9: 2 | D9: 3.87 | E9: =D9*C9 -> 7.74
A10: 2 | B10: Chave de fenda 1 /4 x 6” | C10: 2 | D10: 6.83 | E10: =D10*C10 -> 13.66
A11: 3 | B11: Chave de fenda 5 /16 x 6” | C11: 2 | D11: 8.61 | E11: =D11*C11 -> 17.22
A12: 4 | B12: Chave de fenda sindal 1 /8 | C12: 2 | D12: 3.41 | E12: =D12*C12 -> 6.82
A13: 5 | B13: Chave de Philips 3 /16 x “ | C13: 2 | D13: 4.35 | E13: =D13*C13 -> 8.7
A14: 6 | B14: Chave de Philips 1 /8 x 6” | C14: 2 | D14: 2.04 | E14: =D14*C14 -> 4.08
A15: 7 | B15: Chave de Philips 1 /4 x 6” | C15: 2 | D15: 4.1 | E15: =D15*C15 -> 8.2
A16: 8 | B16: Chave de Philips 5 /16 x 6” | C16: 2 | D16: 7.97 | E16: =D16*C16 -> 15.94
A17: 9 | B17: Chave inglesa (boca ajustável) 8” | C17: 2 | D17: 24.12 | E17: =D17*C17 -> 48.24
A18: 10 | B18: Chave inglesa (boca ajustável) 10” | C18: 2 | D18: 31.64 | E18: =D18*C18 -> 63.28
A19: 11 | B19: Chave inglesa (boca ajustável) 12” | C19: 2 | D19: 37.86 | E19: =D19*C19 -> 75.72
A20: 12 | B20: Alicate universal 1000v | C20: 2 | D20: 37.12 | E20: =D20*C20 -> 74.24
... A66: 58 | B66: Relógio de ponto eletrônico | C66: 1 | D66: 1863.33 | E66: =D66*C66 -> 1863.33
A67: Total | E67: =SUM(E9:E66) -> 41672.4
A68: Taxa de Depreciação Anual (A taxa de depreciação utilizada de acordo com tabela da I.N. da SRF n.º 1700/2017.) | E68: 0.2
A69: Custo Utilização Anual (Valor Tx. Depreciação) | E69: =ROUND(E67*E68,2) -> 8334.48
A70: Custo Utilização Mensal Total | E70: =E69/12 -> 694.54
A71: Custo Utilização Mensal / 4 postos | E71: =E70/4 -> 173.635
A73: Observações: a) A Contratada deverá disponibilizar e manter constantes, durante o período de vigência contratual, todos os quantitativos listados acima, devendo repor imediatamente qualquer ferramenta ou equipamento danificado; b) Esta relação não é exaustiva, devendo a Contratada fornecer todos os equipamentos, ferramentas e instrumentos necessários à execução dos serviços, objeto deste Termo de Referência; c) Metodologia de cálculo adotada: Acórdão 966/2010; d) A taxa de depreciação anual adotada foi retirada da IN SRF Nº162/98. e) Ao término contratual, os equipamentos e ferramentas utilizados serão de propriedade da Contratada. O valor pago pela Contratante limita-se a compensação da depreciação ocasionada pelo uso dos equipamentos, instrumentos e ferramentas nas atividades de manutenção predial. f) Deverá ser instalado um relógio de Ponto na unidade de Campos dos Goytacazes

Sheet An IIF Dist. Equip.
A1: PRÓ-REITORIA DE ADMINISTRAÇÃO
A2: COORDENAÇÃO DE CONTRATOS
A4: Anexo II F - Distribuição dos Equipamentos
A5: Contratação de empresa para prestação de serviços continuados de Manutenção preventiva e corretiva de equipamentos de refrigeração Central, com fornecimento de materiais de reposição e atendimento na Universidade Federal Fluminense
A6: PLANILHAS DE EQUIPAMENTOS DE REFRIGERAÇÃO DE GRANDE PORTE DA UFF NITERÓI
A7: ITEM | B7: MÁQUINA | C7: FABRICANTE | D7: TONELADAS DE REFRIGERAÇÃO | E7: TENSÃO DE TRABALHO | F7: DUTADO | G7: EM FUNCIONAMENTO | H7: CONDENSAÇÃO
A8: REITORIA
A9: 1 | B9: CHILLER | C9: Carrier | D9: 150 | E9: 3~380V | F9: SIM | G9: SIM | H9: AR
A10: 2 | B10: CHILLER | D10: 150 | E10: 3~380V | F10: SIM | G10: SIM | H10: AR
A11: 3 | B11: CHILLER | D11: 150 | E11: 3~380V | F11: SIM | G11: NÃO | H11: AR
A12: 4 | B12: CHILLER | D12: 100 | E12: 3~380V | F12: SIM | G12: NÃO | H12: AR
A13: 5 | B13: CHILLER | D13: 100 | E13: 3~380V | F13: SIM | G13: NÃO | H13: AR
A14: 6 | B14: VRF MULT V | C14: LG | D14: 3 | E14: 3~ 220V | F14: NÃO | G14: SIM | H14: AR
A15: 7 | B15: SELF | C15: Carrier | D15: 15 | E15: 3~380V | F15: SIM | G15: SIM | H15: AR
A16: VALONGUINHO – BLOCO E
A17: 1 | B17: CHILLER | C17: Carrier | D17: 225 | E17: 3~380V | F17: SIM | G17: SIM | H17: AR
A18: 2 | B18: CHILLER | D18: 225 | E18: 3~380V | F18: SIM | G18: NÃO | H18: AR
A19: GRAGOATÁ BLOCO M
A20: 1 | B20: CHILLER | C20: Hitachi | D20: 15 | E20: 3~380V | F20: NÃO | G20: SIM | H20: AR
A21: 2 | B21: CHILLER | C21: Hitachi | D21: 15 | E21: 3~380V | F21: NÃO | G21: SIM | H21: AR
A22: 3 | B22: CHILLER | C22: Hitachi | D22: 15 | E22: 3~380V | F22: NÃO | G22: SIM | H22: AR
A23: 4 | B23: CHILLER | C23: Hitachi | D23: 15 | E23: 3~380V | F23: NÃO | G23: SIM | H23: AR
A24: 5 | B24: CHILLER | C24: Hitachi | D24: 15 | E24: 3~380V | F24: NÃO | G24: SIM | H24: AR
A25: 6 | B25: CHILLER | C25: Hitachi | D25: 15 | E25: 3~380V | F25: NÃO | G25: SIM | H25: AR
A26: 7 | B26: CHILLER | C26: Hitachi | D26: 15 | E26: 3~380V | F26: NÃO | G26: SIM | H26: AR
A27: 8 | B27: CHILLER | C27: Hitachi | D27: 15 | E27: 3~380V | F27: NÃO | G27: SIM | H27: AR
A28: 9 | B28: CHILLER | C28: Hitachi | D28: 15 | E28: 3~380V | F28: NÃO | G28: SIM | H28: AR
A29: 10 | B29: CHILLER | C29: Hitachi | D29: 15 | E29: 3~380V | F29: NÃO | G29: SIM | H29: AR
A30: 11 | B30: CHILLER | C30: Hitachi | D30: 15 | E30: 3~380V | F30: NÃO | G30: SIM | H30: AR
A31: 12 | B31: CHILLER | C31: Hitachi | D31: 15 | E31: 3~380V | F31: NÃO | G31: NÃO | H31: AR
... A59: 40 | B59: CHILLER | C59: Hitachi | D59: 15 | E59: 3~380V | F59: NÃO | G59: NÃO | H59: AR
A60: GRAGOATÁ BLOCO F, G, H e P
A61: 1 | B61: CHILLER | C61: York | D61: 150 | E61: 3~380V | F61: SIM | G61: SIM | H61: AR
A62: 2 | B62: CHILLER | D62: 150 | E62: 3~380V | F62: SIM | G62: NÃO | H62: AR
A63: 3 | B63: CHILLER | D63: 150 | E63: 3~380V | F63: SIM | G63: SIM | H63: AR
A64: 4 | B64: CHILLER | D64: 150 | E64: 3~380V | F64: SIM | G64: NÃO | H64: AR
A65: 5 | B65: CHILLER | D65: 150 | E65: 3~380V | F65: SIM | G65: SIM | H65: AR
A66: 6 | B66: CHILLER | D66: 150 | E66: 3~380V | F66: SIM | G66: NÃO | H66: AR
A67: 7 | B67: CHILLER | D67: 150 | E67: 3~380V | F67: SIM | G67: SIM | H67: AR
A68: 8 | B68: CHILLER | D68: 150 | E68: 3~380V | F68: SIM | G68: NÃO | H68: AR
...

Sheet An IIIA Item 1
A1: PRÓ-REITORIA DE ADMINISTRAÇÃO
A2: COORDENAÇÃO DE CONTRATOS
A4: Anexo III A1 - FORMAÇÃO CUSTOS POSTOS DE MANUTENÇÃO PREDIAL
A5: ITEM 1 - NITERÓI/RJ
A6: Contratação de empresa para prestação de serviços continuados de Manutenção preventiva e corretiva de equipamentos de refrigeração Central, com fornecimento de materiais de reposição e atendimento na Universidade Federal Fluminense
A7: MÃO-DE-OBRA VINCULADA À EXECUÇÃO CONTRATUAL
A8: Dados para composição dos custos referentes a mão de obra
A9: Regime tributário da Licitante | C9: Documento Comprobatório *Anexar Comprovante | F9: Descrição Cargos
C10: Obrigatório Preenchimento pela licitante | F10: Dias/Mês | G10: Posto | I10: CBO | J10: Salário
F11: 20.88 | G11: Encarregado geral 44h | I11: 9101-05 | J11: 3976.85
A12: ACT/CCT/DCT inclusive aditivos se houver | F12: 20.88 | G12: Auxiliar de Refrigeração 44h | I12: 9112-05 | J12: 1739.77
A13: Entidade Sindical da Empresa | C13: Obrigatório Preenchimento pela licitante | F13: 15.21 | G13: Auxiliar de Refrigeração 12x36h Diurno | I13: 9112-05 | J13: 1739.77
A14: Entidade Sindical dos Empregados | C14: Obrigatório Preenchimento pela licitante | F14: 15.21 | G14: Auxiliar de Refrigeração 12x36h Notuno | I14: 9112-05 | J14: 1739.77
A15: Número de Registro | C15: Obrigatório Preenchimento pela licitante | F15: 20.88 | G15: Técnico em Mecânica de Ar Central 44 h | I15: 3141-15 | J15: 3236.16
A16: Início Vigência | C16: Obrigatório Preenchimento pela licitante | F16: 15.21 | G16: Técnico em Mecânica de Ar Central 12x36h Diurno | I16: 3141-15 | J16: 3236.16
A17: Fim Vigência | C17: Obrigatório Preenchimento pela licitante | F17: 15.21 | G17: Técnico em Mecânica de Ar Central 12x36h Noturno | I17: 3141-15 | J17: 3236.16
A20: MÓDULO 1 : COMPOSIÇÃO DA REMUNERAÇÃO | D20: Encarregado geral 44h | E20: Auxiliar de Refrigeração 44h | F20: Auxiliar de Refrigeração 12x36h Diurno | G20: Auxiliar de Refrigeração 12x36h Notuno | H20: Mecânico de Ar Central 44 h | I20: Mecânico de Ar Central 12x36h Diurno | J20: Mecânico de Ar Central 12x36h Noturno
A21: 1 | B21: Composição da Remuneração | D21: Valor(R$) | E21: Valor(R$) | F21: Valor(R$) | G21: Valor(R$) | H21: Valor(R$) | I21: Valor(R$) | J21: Valor(R$)
A22: A | B22: Salário Base | D22: =J11 -> 3976.85 | E22: =J12 -> 1739.77 | F22: =J13 -> 1739.77 | G22: =J14 -> 1739.77 | H22: =J15 -> 3236.16 | I22: =J16 -> 3236.16 | J22: =J17 -> 3236.16
A23: B | B23: Adicional de Periculosidade
A24: C | B24: Adicional de Insalubridade (20% ou 40%)
A25: D | B25: Adicional Noturno | G25: =J14/220*20%*(1.1429*7)*F14 -> 192.45741 | J25: =J17/220*20%*(1.1429*7)*F17 -> 357.99156
A26: E | B26: Adicional de Hora Noturna Reduzida
A27: F | B27: Gratificação Liderança (15% ou 30%)
B28: Total de Remuneração | D28: =SUM(D22:D27) -> 3976.85 | E28: =SUM(E22:E27) -> 1739.77 | F28: =SUM(F22:F27) -> 1739.77 | G28: =SUM(G22:G27) -> 1932.2274 | H28: =SUM(H22:H27) -> 3236.16 | I28: =SUM(I22:I27) -> 3236.16 | J28: =SUM(J22:J27) -> 3594.1516
A30: MÓDULO 2: ENCARGOS E BENEFÍCIOS ANUAIS, MENSAIS E DIÁRIOS | D30: Encarregado geral 44h | E30: Auxiliar de Refrigeração 44h | F30: Auxiliar de Refrigeração 12x36h Diurno | G30: Auxiliar de Refrigeração 12x36h Notuno | H30: Mecânico de Ar Central 44 h | I30: Mecânico de Ar Central 12x36h Diurno | J30: Mecânico de Ar Central 12x36h Noturno
A31: Submódulo 2.1 - 13º (décimo terceiro) Salário, Férias e Adicional de Férias | D31: Valor(R$) | E31: Valor(R$) | F31: Valor(R$) | G31: Valor(R$) | H31: Valor(R$) | I31: Valor(R$) | J31: Valor(R$)
A32: A | B32: 13º (décimo terceiro) Salário | D32: =D28*8.33% -> 331.27161 | E32: =E28*8.33% -> 144.92284 | F32: =F28*8.33% -> 144.92284 | G32: =G28*8.33% -> 160.95454 | H32: =H28*8.33% -> 269.57213 | I32: =I28*8.33% -> 269.57213 | J32: =J28*8.33% -> 299.39282
A33: B | B33: Férias e Adicional de Férias | D33: =D28*12.1% -> 481.19885 | E33: =E28*12.1% -> 210.51217 | F33: =F28*12.1% -> 210.51217 | G33: =G28*12.1% -> 233.79952 | H33: =H28*12.1% -> 391.57536 | I33: =I28*12.1% -> 391.57536 | J33: =J28*12.1% -> 434.89234
B34: Total | D34: =SUM(D32:D33) -> 812.47046 | E34: =SUM(E32:E33) -> 355.43501 | F34: =SUM(F32:F33) -> 355.43501 | G34: =SUM(G32:G33) -> 394.75406 | H34: =SUM(H32:H33) -> 661.14749 | I34: =SUM(I32:I33) -> 661.14749 | J34: =SUM(J32:J33) -> 734.28516
A35: C | B35: Incidência do Submódulo 2.2 - Encargos previdenciários (GPS), FGTS e outras contribuições (Cálculo sobre a remuneração, pois será adotada a Conta Vinculada) | D35: =D28*7.82% -> 310.98967 | E35: =E28*7.82% -> 136.05001 | F35: =F28*7.82% -> 136.05001 | G35: =G28*7.82% -> 151.10018 | H35: =H28*7.82% -> 253.06771 | I35: =I28*7.82% -> 253.06771 | J35: =J28*7.82% -> 281.06265
A37: Submódulo 2.2 - Encargos Previdenciários (GPS), Fundo de Garantia por Tempo de Serviço (FGTS) e outras contribuições | D37: Encarregado geral 44h | E37: Auxiliar de Refrigeração 44h | F37: Auxiliar de Refrigeração 12x36h Diurno | G37: Auxiliar de Refrigeração 12x36h Notuno | H37: Mecânico de Ar Central 44 h | I37: Mecânico de Ar Central 12x36h Diurno | J37: Mecânico de Ar Central 12x36h Noturno
A38: 2.2 | B38: GPS, FGTS e outras contribuições | C38: % | D38: Valor(R$) | E38: Valor(R$) | F38: Valor(R$) | G38: Valor(R$) | H38: Valor(R$) | I38: Valor(R$) | J38: Valor(R$)
A39: A | B39: INSS | C39: 20 | D39: =(D28*($C$39/100)) -> 795.37 | E39: =(E28*($C$39/100)) -> 347.954 | F39: =(F28*($C$39/100)) -> 347.954 | G39: =(G28*($C$39/100)) -> 386.44548 | H39: =(H28*($C$39/100)) -> 647.232 | I39: =(I28*($C$39/100)) -> 647.232 | J39: =(J28*($C$39/100)) -> 718.83031
A40: B | B40: Salário Educação | C40: 2.5 | D40: =(D28*($C$40/100)) -> 99.42125 | E40: =(E28*($C$40/100)) -> 43.49425 | F40: =(F28*($C$40/100)) -> 43.49425 | G40: =(G28*($C$40/100)) -> 48.305685 | H40: =(H28*($C$40/100)) -> 80.904 | I40: =(I28*($C$40/100)) -> 80.904 | J40: =(J28*($C$40/100)) -> 89.853789
A41: C | B41: Seguro acidente do trabalho | C41: 6 | D41: =(D$28*($C$41/100)) -> 238.611 | E41: =(E$28*($C$41/100)) -> 104.3862 | F41: =(F$28*($C$41/100)) -> 104.3862 | G41: =(G$28*($C$41/100)) -> 115.93364 | H41: =(H$28*($C$41/100)) -> 194.1696 | I41: =(I$28*($C$41/100)) -> 194.1696 | J41: =(J$28*($C$41/100)) -> 215.64909
A42: D | B42: SESI ou SESC | C42: 1.5 | D42: =(D$28*($C$42/100)) -> 59.65275 | E42: =(E$28*($C$42/100)) -> 26.09655 | F42: =(F$28*($C$42/100)) -> 26.09655 | G42: =(G$28*($C$42/100)) -> 28.983411 | H42: =(H$28*($C$42/100)) -> 48.5424 | I42: =(I$28*($C$42/100)) -> 48.5424 | J42: =(J$28*($C$42/100)) -> 53.912273
A43: E | B43: SENAI ou SENAC | C43: 1 | D43: =(D$28*($C$43/100)) -> 39.7685 | E43: =(E$28*($C$43/100)) -> 17.3977 | F43: =(F$28*($C$43/100)) -> 17.3977 | G43: =(G$28*($C$43/100)) -> 19.322274 | H43: =(H$28*($C$43/100)) -> 32.3616 | I43: =(I$28*($C$43/100)) -> 32.3616 | J43: =(J$28*($C$43/100)) -> 35.941516
A44: F | B44: SEBRAE | C44: 0.6 | D44: =(D$28*($C$44/100)) -> 23.8611 | E44: =(E$28*($C$44/100)) -> 10.43862 | F44: =(F$28*($C$44/100)) -> 10.43862 | G44: =(G$28*($C$44/100)) -> 11.593364 | H44: =(H$28*($C$44/100)) -> 19.41696 | I44: =(I$28*($C$44/100)) -> 19.41696 | J44: =(J$28*($C$44/100)) -> 21.564909
A45: G | B45: INCRA | C45: 0.2 | D45: =(D$28*($C$45/100)) -> 7.9537 | E45: =(E$28*($C$45/100)) -> 3.47954 | F45: =(F$28*($C$45/100)) -> 3.47954 | G45: =(G$28*($C$45/100)) -> 3.8644548 | H45: =(H$28*($C$45/100)) -> 6.47232 | I45: =(I$28*($C$45/100)) -> 6.47232 | J45: =(J$28*($C$45/100)) -> 7.1883031
...

Sheet An IIIB Item 2
A1: PRÓ-REITORIA DE ADMINISTRAÇÃO
A2: COORDENAÇÃO DE CONTRATOS
A4: Anexo IIIB - FORMAÇÃO CUSTOS POSTOS DE MANUTENÇÃO PREDIAL
A5: ITEM 2- CAMPOS DOS GOYTACAZES/RJ
A6: Contratação de empresa para prestação de serviços continuados de Manutenção preventiva e corretiva de equipamentos de refrigeração Central, com fornecimento de materiais de reposição e atendimento na Universidade Federal Fluminense
A7: MÃO-DE-OBRA VINCULADA À EXECUÇÃO CONTRATUAL
A8: Dados para composição dos custos referentes a mão de obra
A9: Regime tributário da Licitante | C9: Documento Comprobatório *Anexar Comprovante
C10: Obrigatório Preenchimento pela licitante
A12: ACT/CCT/DCT inclusive aditivos se houver
A13: Entidade Sindical da Empresa | C13: Obrigatório Preenchimento pela licitante
A14: Entidade Sindical dos Empregados | C14: Obrigatório Preenchimento pela licitante
A15: Número de Registro | C15: Obrigatório Preenchimento pela licitante
A16: Início Vigência | C16: Obrigatório Preenchimento pela licitante
A17: Fim Vigência | C17: Obrigatório Preenchimento pela licitante
A19: Descrição Cargos
A20: Dias/Mês | B20: Posto | C20: CBO | D20: Salário
A21: 20.88 | B21: Encarregado geral 44h | C21: 9101-05 | D21: 3976.85
A22: 20.88 | B22: Auxiliar de Refrigeração 44h | C22: 9112-05 | D22: 1739.77
A23: 20.88 | B23: Técnico em Mecânica de Ar Central 44 h | C23: 3141-15 | D23: 3236.16
A25: MÓDULO 1 : COMPOSIÇÃO DA REMUNERAÇÃO | D25: Encarregado geral 44h | E25: Auxiliar de Refrigeração 44h | F25: Mecânico de Ar Central 44 h
A26: 1 | B26: Composição da Remuneração | D26: Valor(R$) | E26: Valor(R$) | F26: Valor(R$)
A27: A | B27: Salário Base | D27: =D21 -> 3976.85 | E27: =D22 -> 1739.77 | F27: =D23 -> 3236.16
A28: B | B28: Adicional de Periculosidade
A29: C | B29: Adicional de Insalubridade (20% ou 40%)
A30: D | B30: Adicional Noturno
A31: E | B31: Adicional de Hora Noturna Reduzida
A32: F | B32: Gratificação Liderança (15% ou 30%)
B33: Total de Remuneração | D33: =SUM(D27:D32) -> 3976.85 | E33: =SUM(E27:E32) -> 1739.77 | F33: =SUM(F27:F32) -> 3236.16
A35: MÓDULO 2: ENCARGOS E BENEFÍCIOS ANUAIS, MENSAIS E DIÁRIOS | D35: Encarregado geral 44h | E35: Auxiliar de Refrigeração 44h | F35: Mecânico de Ar Central 44 h
A36: Submódulo 2.1 - 13º (décimo terceiro) Salário, Férias e Adicional de Férias | D36: Valor(R$) | E36: Valor(R$) | F36: Valor(R$)
A37: A | B37: 13º (décimo terceiro) Salário | D37: =D33*8.33% -> 331.27161 | E37: =E33*8.33% -> 144.92284 | F37: =F33*8.33% -> 269.57213
A38: B | B38: Férias e Adicional de Férias | D38: =D33*12.1% -> 481.19885 | E38: =E33*12.1% -> 210.51217 | F38: =F33*12.1% -> 391.57536
B39: Total | D39: =SUM(D37:D38) -> 812.47046 | E39: =SUM(E37:E38) -> 355.43501 | F39: =SUM(F37:F38) -> 661.14749
A40: C | B40: Incidência do Submódulo 2.2 - Encargos previdenciários (GPS), FGTS e outras contribuições (Cálculo sobre a remuneração, pois será adotada a Conta Vinculada) | D40: =D33*7.82% -> 310.98967 | E40: =E33*7.82% -> 136.05001 | F40: =F33*7.82% -> 253.06771
A42: Submódulo 2.2 - Encargos Previdenciários (GPS), Fundo de Garantia por Tempo de Serviço (FGTS) e outras contribuições | D42: Encarregado geral 44h | E42: Auxiliar de Refrigeração 44h | F42: Mecânico de Ar Central 44 h
A43: 2.2 | B43: GPS, FGTS e outras contribuições | C43: % | D43: Valor(R$) | E43: Valor(R$) | F43: Valor(R$)
A44: A | B44: INSS | C44: 20 | D44: =(D33*($C$44/100)) -> 795.37 | E44: =(E33*($C$44/100)) -> 347.954 | F44: =(F33*($C$44/100)) -> 647.232
A45: B | B45: Salário Educação | C45: 2.5 | D45: =(D33*($C$45/100)) -> 99.42125 | E45: =(E33*($C$45/100)) -> 43.49425 | F45: =(F33*($C$45/100)) -> 80.904
A46: C | B46: Seguro acidente do trabalho | C46: 6 | D46: =(D$33*($C$46/100)) -> 238.611 | E46: =(E$33*($C$46/100)) -> 104.3862 | F46: =(F$33*($C$46/100)) -> 194.1696
...

Sheet Anexo IVA1 Custos DEMO Item 1
A1: PRÓ-REITORIA DE ADMINISTRAÇÃO
A2: COORDENAÇÃO DE CONTRATOS
A4: Anexo IV A1 - PLANILHA DE COMPOSIÇÃO DE CUSTOS E FORMAÇÃO DE PREÇOS (Anexo VII da I.N. da SLTI/MPOG n.º 5 de 26/Maio/2017
A5: ITEM 1 - NITERÓI/RJ
A6: Contratação de empresa para prestação de serviços continuados de Manutenção preventiva e corretiva de equipamentos de refrigeração Central, com fornecimento de materiais de reposição e atendimento na Universidade Federal Fluminense
A8: Custo total da contratação ITEM 1 - NITERÓI
A9: ITEM | B9: DISCRIMINAÇÃO DO POSTO | C9: POSTOS | D9: FUNCIONÁRIOS | E9: VALOR MENSAL POR POSTO | F9: TOTAL MENSAL | G9: TOTAL ANUAL
A10: 1 | B10: Encarregado geral 44h | C10: 1 | D10: 1 | E10: ='An IIIA Item 1'!D150 -> 10599.135 | F10: =E10*C10 -> 10599.135 | G10: =12*F10 -> 127189.62
A11: 2 | B11: Auxiliar de Refrigeração 44h | C11: 4 | D11: 4 | E11: ='An IIIA Item 1'!E150 -> 5338.715 | F11: =E11*C11 -> 21354.86 | G11: =12*F11 -> 256258.32
A12: 3 | B12: Auxiliar de Refrigeração 12x36h Diurno | C12: ='An IIA Distribuição Postos'!G11 -> 1 | D12: 2 | E12: ='An IIIA Item 1'!F151 -> 10152.94 | F12: =E12*C12 -> 10152.94 | G12: =12*F12 -> 121835.28
A13: 4 | B13: Auxiliar de Refrigeração 12x36h Noturno | C13: 1 | D13: 2 | E13: ='An IIIA Item 1'!G151 -> 11016.76 | F13: =E13*C13 -> 11016.76 | G13: =12*F13 -> 132201.12
A14: 5 | B14: Mecânico de Ar Central 44 h | C14: 4 | D14: 4 | E14: ='An IIIA Item 1'!H150 -> 8582.859 | F14: =E14*C14 -> 34331.436 | G14: =12*F14 -> 411977.23
A15: 6 | B15: Mecânico de Ar Central 12x36h Diurno | C15: 1 | D15: 2 | E15: ='An IIIA Item 1'!I151 -> 16641.228 | F15: =E15*C15 -> 16641.228 | G15: =12*F15 -> 199694.74
A16: 7 | B16: Mecânico de Ar Central 12x36h Noturno | C16: 1 | D16: 2 | E16: ='An IIIA Item 1'!J151 -> 18248.026 | F16: =E16*C16 -> 18248.026 | G16: =12*F16 -> 218976.31
A17: TOTAL | C17: =SUM(C10:C16) -> 13 | D17: =SUM(D10:D16) -> 17 | F17: =SUM(F10:F16) -> 122344.39 | G17: =12*F17 -> 1468132.6

Sheet Anexo IVA2 Custos DEMO Item 2
A1: PRÓ-REITORIA DE ADMINISTRAÇÃO
A2: COORDENAÇÃO DE CONTRATOS
A4: Anexo IV A2 - PLANILHA DE COMPOSIÇÃO DE CUSTOS E FORMAÇÃO DE PREÇOS (Anexo VII da I.N. da SLTI/MPOG n.º 5 de 26/Maio/2017
A5: ITEM 2- CAMPOS DOS GOYTACAZES/RJ
A6: Contratação de empresa para prestação de serviços continuados de Manutenção preventiva e corretiva de equipamentos de refrigeração Central, com fornecimento de materiais de reposição e atendimento na Universidade Federal Fluminense
A8: Custo total da contratação ITEM 2 - CAMPOS DOS GOYTACAZES
A9: ITEM | B9: DISCRIMINAÇÃO DO POSTO | C9: POSTOS | D9: FUNCIONÁRIOS | E9: VALOR MENSAL POR POSTO | F9: TOTAL MENSAL | G9: TOTAL ANUAL
A10: 1 | B10: Encarregado geral 44h | C10: 1 | D10: 1 | E10: ='An IIIB Item 2'!D155 -> 9593.6989 | F10: =E10*C10 -> 9593.6989 | G10: =12*F10 -> 115124.39
A11: 2 | B11: Auxiliar de Refrigeração 44h | C11: 2 | D11: 2 | E11: ='An IIIB Item 2'!E155 -> 4886.5771 | F11: =E11*C11 -> 9773.1542 | G11: =12*F11 -> 117277.85
A12: 5 | B12: Mecânico de Ar Central 44 h | C12: 1 | D12: 1 | E12: ='An IIIB Item 2'!F155 -> 8130.7211 | F12: =E12*C12 -> 8130.7211 | G12: =12*F12 -> 97568.653
A13: TOTAL | C13: =SUM(C10:C12) -> 4 | D13: =SUM(D10:D12) -> 4 | F13: =SUM(F10:F12) -> 27497.574 | G13: =12*F13 -> 329970.89

Sheet Anexo IV B BDI Serviços
A1: PRÓ-REITORIA DE ADMINISTRAÇÃO
A2: COORDENAÇÃO DE CONTRATOS
A4: Anexo IV B - PLANILHA DE COMPOSIÇÃO DE BDI Serviços
A5: Contratação de empresa para prestação de serviços continuados de Manutenção preventiva e corretiva de equipamentos de refrigeração Central, com fornecimento de materiais de reposição e atendimento na Universidade Federal Fluminense
A7: ITEM | B7: DESCRIÇÃO | D7: TAXA
A8: 1 | B8: Administração Central (AC) | D8: 0.04
A9: 2 | B9: Seguro + Garantia (S + G) | D9: 0.008
A10: 3 | B10: Risco ® | D10: 0.0127
A11: 4 | B11: Outros (especificar) (O) | D11: 0
A12: 5 | B12: Subtotal [(AC + S + G + R + O)] | D12: =SUM(D8:D11) -> 0.0607
A13: 6 | B13: Despesas Financeiras (DF) | D13: 0.0123
A14: 7 | B14: Lucro (L) | D14: 0.074
A15: 8 | B15: Outros (especificar) (O) | D15: 0
A16: 9 | B16: Subtotal [(1+DF)x(1+L)x(1+O)] | D16: =(D13+1)*(1+D14)*(1+D15)-1 -> 0.0872102
A17: Total de Benefícios e Despesas - TBD (incidência de subtotal 9 sobre subtotal 5) | D17: =((1+D$16)*(1+D$12))-1 -> 0.15320386
A18: 10 | B18: Impostos e Taxas | C18: COFINS | D18: 0.03
C19: PIS | D19: 0.0065
C20: ISS | D20: 0.05
C21: Subtotal de Impostos (COFINS+PIS+ISS) | D21: =SUM(D18:D20) -> 0.0865
C22: Contribuição Previdenciária sobre receita bruta (CPRB)
C23: Total de Tributos (COFINS+PIS+ISS+CPRB) = TT | D23: =D21+D22 -> 0.0865
A24: VALOR DO BDI = [(1+TBD) / (1-TT)]-1 | D24: =((D$17+1)/(1-D23))-1 -> 0.2624016
A25: Local e data:
A26: Responsável Técnico pelo Orçamento: | D26: CREA:
A28: Responsável legal pela empresa:
A30: OBS: A planilha deve ser assinada pelo responsável técnico pela sua confecção (Art. 14 Lei 5.194/66), identificado através de carimbo com número do CREA e pelo representante legal da empresa, com carimbo do CNPJ.
A33: Fórmula utilizada:
A34: PV = CD x (1 + BDI%/100) < > | C34: BDI = [ (1 +(AC + S + R + G)) x (1 +DF) x (1 + L) ] -1
A35: sendo: | C35: (1 -TT)
A36: PV - preço de venda
A37: CD - custo direto
A38: BDI - benefícios e despesas indiretas
A39: AC - Taxa de despesa de Administração Central
A40: S - Taxa de seguros
A41: R - Taxa de risco
A42: G - Taxa de garantias
A43: DF - Taxa de despesas financeiras
A44: L - Taxa de lucro
A45: I - Taxa de impostos
A47: Base do BDI, conforme Acórdão 2.622/2013, média das alíquotas por tipo de obra "construção de edifícios"

Sheet Anexo IV C BDI Material
A1: PRÓ-REITORIA DE ADMINISTRAÇÃO
A2: COORDENAÇÃO DE CONTRATOS
A4: Anexo IV C - PLANILHA DE COMPOSIÇÃO DE BDI Material
A5: Contratação de empresa para prestação de serviços continuados de Manutenção preventiva e corretiva de equipamentos de refrigeração Central, com fornecimento de materiais de reposição e atendimento na Universidade Federal Fluminense
A7: ITEM | B7: DESCRIÇÃO | D7: TAXA
A8: 1 | B8: Administração Central (AC) | D8: 0.0345
A9: 2 | B9: Seguro + Garantia (S + G) | D9: 0.0048
A10: 3 | B10: Risco ® | D10: 0.0085
A11: 4 | B11: Outros (especificar) (O) | D11: 0
A12: 5 | B12: Subtotal [(AC + S + G + R + O)] | D12: =SUM(D8:D11) -> 0.0478
A13: 6 | B13: Despesas Financeiras (DF) | D13: 0.0085
A14: 7 | B14: Lucro (L) | D14: 0.0511
A15: 8 | B15: Outros (especificar) (O) | D15: 0
A16: 9 | B16: Subtotal [(1+DF)x(1+L)x(1+O)] | D16: =(D13+1)*(1+D14)*(1+D15)-1 -> 0.06003435
A17: Total de Benefícios e Despesas - TBD (incidência de subtotal 9 sobre subtotal 5) | D17: =((1+D16)*(1+D12))-1 -> 0.11070399
A18: 10 | B18: Impostos e Taxas | C18: COFINS | D18: 0.03
C19: PIS | D19: 0.0065
C20: ISS
C21: Subtotal de Impostos (COFINS+PIS+ISS) | D21: =SUM(D18:D20) -> 0.0365
C22: Contribuição Previdenciária sobre receita bruta (CPRB) | D22: 0
C23: Total de Tributos (COFINS+PIS+ISS+CPRB) = TT | D23: =D21+D22 -> 0.0365
A24: VALOR DO BDI = [(1+TBD) / (1-TT)]-1 | D24: =((D$17+1)/(1-D23))-1 -> 0.15278048
A25: Local e data:
A26: Responsável Técnico pelo Orçamento: | D26: CREA:
A28: Responsável legal pela empresa:
A30: OBS: A planilha deve ser assinada pelo responsável técnico pela sua confecção (Art. 14 Lei 5.194/66), identificado através de carimbo com número do CREA e pelo representante legal da empresa, com carimbo do CNPJ.
A33: Fórmula utilizada:
A34: PV = CD x (1 + BDI%/100) < > | C34: BDI = [ (1 +(AC + S + R + G)) x (1 +DF) x (1 + L) ] -1
A35: sendo: | C35: (1 -TT)
A36: PV - preço de venda
A37: CD - custo direto
A38: BDI - benefícios e despesas indiretas
A39: AC - Taxa de despesa de Administração Central
A40: S - Taxa de seguros
A41: R - Taxa de risco
A42: G - Taxa de garantias
A43: DF - Taxa de despesas financeiras
A44: L - Taxa de lucro
A45: I - Taxa de impostos
A47: Base do BDI, conforme Acórdão 2.622/2013, média das alíquotas por tipo de obra "construção de edifícios"

Sheet Anexo IVD1 Eventuais Item 1
A1: PRÓ-REITORIA DE ADMINISTRAÇÃO
A2: COORDENAÇÃO DE CONTRATOS
A4: Anexo IV D1 - PLANILHA DE COMPOSIÇÃO DE CUSTOS E FORMAÇÃO DE PREÇOS (Anexo VII da I.N. da SLTI/MPOG n.º 5 de 26/Maio/2017
A5: ITEM 1 - NITERÓI/RJ
A6: Contratação de empresa para prestação de serviços continuados de Manutenção preventiva e corretiva de equipamentos de refrigeração Central, com fornecimento de materiais de reposição e atendimento na Universidade Federal Fluminense
A8: Custo serviços acessórios, sem DEMO ITEM 1 - NITERÓI
A9: ITEM | B9: DISCRIMINAÇÃO DO POSTO | C9: Custo Hora | D9: BDI | E9: Custo total da Hora | F9: Horas Estimado Semana | G9: Horas Estimado Mês | H9: Custo total do mês | I9: Custo total do ano
A10: 1 | B10: Mecânico de Ar Condicionado | C10: 29.55 | D10: 26,24% | E10: =(C10*D10)+C10 -> 37.30392 | F10: 16 | G10: =F10*4 -> 64 | H10: =G10*E10 -> 2387.4509 | I10: =12*H10 -> 28649.411
A11: 2 | B11: Auxiliar de Refrigeração | C11: 18.09 | D11: 26,24% | E11: =(C11*D11)+C11 -> 22.836816 | F11: 16 | G11: =F11*4 -> 64 | H11: =G11*E11 -> 1461.5562 | I11: =12*H11 -> 17538.675
A12: 3 | B12: Eletricista de manutenção 44h | C12: 29.55 | D12: 26,24% | E12: =(C12*D12)+C12 -> 37.30392 | F12: 24 | G12: =F12*4 -> 96 | H12: =G12*E12 -> 3581.1763 | I12: =12*H12 -> 42974.116
A13: 4 | B13: Engenheiro Mecânico / Automação | C13: 147.57 | D13: 26,24% | E13: =(C13*D13)+C13 -> 186.29237 | F13: 24 | G13: =F13*4 -> 96 | H13: =G13*E13 -> 17884.067 | I13: =12*H13 -> 214608.81
A14: TOTAL | F14: =SUM(F10:F13) -> 80 | G14: =12*F14 -> 960 | H14: =SUM(H10:H13) -> 25314.251 | I14: =SUM(I10:I13) -> 303771.01
A16: Custo serviços acessórios, sem DEMO - ITEM 1 - NITERÓI
A17: ITEM | B17: DISCRIMINAÇÃO DO SERVIÇO | C17: Custo Unitário | D17: BDI | E17: Custo total do Serviço | F17: Quantidade/Mês | G17: Custo total do mês | H17: Custo total do ano
A18: 1 | B18: Controle microbiológico / qualidade do ar | C18: 129.4 | D18: 0.2624 | E18: =(C18*D18)+C18 -> 163.35456 | F18: 12 | G18: =F18*E18 -> 1960.2547 | H18: =12*G18 -> 23523.057
A19: 2 | B19: Análise físico - química água | C19: 172.33 | D19: 0.2624 | E19: =(C19*D19)+C19 -> 217.54939 | F19: 6 | G19: =F19*E19 -> 1305.2964 | H19: =12*G19 -> 15663.556
A20: 3 | B20: Limpeza de dutos de ar condicionado | C20: 39.29 | D20: 0.2624 | E20: =(C20*D20)+C20 -> 49.599696 | F20: 500 | G20: =F20*E20 -> 24799.848 | H20: =12*G20 -> 297598.18
A21: TOTAL | G21: =SUM(G18:G20) -> 28065.399 | H21: =SUM(H18:H20) -> 336784.79
A23: Custo serviços acessórios, sem DEMO - ITEM 1 - NITERÓI
A24: ITEM | B24: DISCRIMINAÇÃO | C24: Custo Unitário | D24: Desconto Aplicado (Em %) | E24: BDI | F24: Custo total do mês | G24: Custo total do ano
A25: 1 | B25: Peças para manutenção (70% mão de obra DEMO) | C25: ='Anexo IVA1 Custos DEMO Item 1'!F17*70% -> 85641.07 | D25: 0 | E25: ='Anexo IV C BDI Material'!D24 -> 0.15278048 | F25: =(C25-(D25*C25))+(E25*(C25-(D25*C25))) -> 98725.353 | G25: =12*F25 -> 1184704.2
A26: 2 | B26: Gás Refrigerante | C26: ='An IIC1 Uniformes Item 1'!E69 -> 14929.73 | D26: 0 | E26: 0.1528 | F26: =(C26-(D26*C26))+(E26*(C26-(D26*C26))) -> 17210.993 | G26: =12*F26 -> 206531.91
A27: TOTAL | F27: =SUM(F25:F26) -> 115936.35 | G27: =SUM(G25:G26) -> 1391236.2

Sheet Anexo IVD2 Eventuais Item 2
A1: PRÓ-REITORIA DE ADMINISTRAÇÃO
A2: COORDENAÇÃO DE CONTRATOS
A4: Anexo IV D2 - PLANILHA DE COMPOSIÇÃO DE CUSTOS E FORMAÇÃO DE PREÇOS (Anexo VII da I.N. da SLTI/MPOG n.º 5 de 26/Maio/2017
A5: ITEM 2- CAMPOS DOS GOYTACAZES/RJ
A6: Contratação de empresa para prestação de serviços continuados de Manutenção preventiva e corretiva de equipamentos de refrigeração Central, com fornecimento de materiais de reposição e atendimento na Universidade Federal Fluminense
A8: Custo serviços acessórios, sem DEMO ITEM 2- CAMPOS DOS GOYTACAZES/RJ
A9: ITEM | B9: DISCRIMINAÇÃO DO POSTO | C9: Custo Hora | D9: BDI | E9: Custo total da Hora | F9: Horas Estimado Semana | G9: Horas Estimado Mês | H9: Custo total do mês | I9: Custo total do ano
A10: 1 | B10: Mecânico de Ar Condicionado | C10: 29.55 | D10: 26,24% | E10: =(C10*D10)+C10 -> 37.30392 | F10: 8 | G10: =F10*4 -> 32 | H10: =G10*E10 -> 1193.7254 | I10: =12*H10 -> 14324.705
A11: 2 | B11: Auxiliar de Refrigeração | C11: 18.09 | D11: 26,24% | E11: =(C11*D11)+C11 -> 22.836816 | F11: 8 | G11: =F11*4 -> 32 | H11: =G11*E11 -> 730.77811 | I11: =12*H11 -> 8769.3373
A12: 3 | B12: Eletricista de manutenção 44h | C12: 29.55 | D12: 26,24% | E12: =(C12*D12)+C12 -> 37.30392 | F12: 8 | G12: =F12*4 -> 32 | H12: =G12*E12 -> 1193.7254 | I12: =12*H12 -> 14324.705
A13: 4 | B13: Engenheiro Mecânico / Automação | C13: 147.57 | D13: 26,24% | E13: =(C13*D13)+C13 -> 186.29237 | F13: 16 | G13: =F13*4 -> 64 | H13: =G13*E13 -> 11922.712 | I13: =12*H13 -> 143072.54
A14: TOTAL | F14: =SUM(F10:F13) -> 40 | G14: =12*F14 -> 480 | H14: =SUM(H10:H13) -> 15040.941 | I14: =SUM(I10:I13) -> 180491.29
A16: Custo serviços acessórios, sem DEMO - ITEM 2- CAMPOS DOS GOYTACAZES/RJ
A17: ITEM | B17: DISCRIMINAÇÃO DO SERVIÇO | C17: Custo Unitário | D17: BDI | E17: Custo total do Serviço | F17: Quantidade Mês | G17: Custo total do mês | H17: Custo total do ano
A18: 1 | B18: Controle microbiológico / qualidade do ar | C18: 129.4 | D18: 0.2624 | E18: =(C18*D18)+C18 -> 163.35456 | F18: 2 | G18: =F18*E18 -> 326.70912 | H18: =12*G18 -> 3920.5094
A19: 2 | B19: Análise físico - química água | C19: 172.33 | D19: 0.2624 | E19: =(C19*D19)+C19 -> 217.54939 | F19: 2 | G19: =F19*E19 -> 435.09878 | H19: =12*G19 -> 5221.1854
A20: 3 | B20: Limpeza de dutos de ar condicionado | C20: 39.29 | D20: 0.2624 | E20: =(C20*D20)+C20 -> 49.599696 | F20: 200 | G20: =F20*E20 -> 9919.9392 | H20: =12*G20 -> 119039.27
A21: TOTAL | G21: =SUM(G18:G20) -> 10681.747 | H21: =SUM(H18:H20) -> 128180.97
A23: Custo serviços acessórios, sem DEMO - ITEM 2- CAMPOS DOS GOYTACAZES/RJ
A24: ITEM | B24: DISCRIMINAÇÃO | C24: Custo Unitário | D24: Desconto Aplicado (Em %) | E24: BDI | F24: Custo total do mês | G24: Custo total do ano
A25: 1 | B25: Peças para manutenção (50% mão de obra DEMO) | C25: ='Anexo IVA2 Custos DEMO Item 2'!F13*50% -> 13748.787 | D25: 0 | E25: 0.1528 | F25: =(C25-(D25*C25))+(E25*(C25-(D25*C25))) -> 15849.602 | G25: =12*F25 -> 190195.22
A26: 2 | B26: Gás Refrigerante | C26: ='An IIC2 Uniformes Item2'!E60 -> 5003 | D26: 0 | E26: 0.1528 | F26: =(C26-(D26*C26))+(E26*(C26-(D26*C26))) -> 5767.4584 | G26: =12*F26 -> 69209.501
A27: TOTAL | F27: =SUM(F25:F26) -> 21617.06 | G27: =SUM(G25:G26) -> 259404.72

Sheet Anexo IVE Custos Totais Item1
A1: PRÓ-REITORIA DE ADMINISTRAÇÃO
A2: COORDENAÇÃO DE CONTRATOS
A4: Anexo IV E1 - PLANILHA DE COMPOSIÇÃO DE CUSTOS E FORMAÇÃO DE PREÇOS (Anexo VII da I.N. da SLTI/MPOG n.º 5 de 26/Maio/2017
A5: ITEM 1 - NITERÓI/RJ
A6: Contratação de empresa para prestação de serviços continuados de Manutenção preventiva e corretiva de equipamentos de refrigeração Central, com fornecimento de materiais de reposição e atendimento na Universidade Federal Fluminense
A8: ITEM 1 - NITERÓI/RJ
A9: ITEM | B9: DESCRIÇÃO | C9: UNID | D9: MESES | E9: TOTAL MENSAL | F9: TOTAL ANUAL
A10: 1 | B10: Mão de obra permanente | C10: MÊS | D10: 30 | E10: ='Anexo IVA1 Custos DEMO Item 1'!F17 -> 122344.39 | F10: =12*E10 -> 1468132.6
A11: 2 | B11: Análise Quimica da Água | C11: UNID | D11: 30 | E11: ='Anexo IVD1 Eventuais Item 1'!G19 -> 1305.2964 | F11: =12*E11 -> 15663.556
A12: 3 | B12: Análise do Ar | C12: UNID | D12: 30 | E12: ='Anexo IVD1 Eventuais Item 1'!G18 -> 1960.2547 | F12: =12*E12 -> 23523.057
A13: 4 | B13: Limpeza de Rede de Dutos | C13: UNID | D13: 30 | E13: ='Anexo IVD1 Eventuais Item 1'!G20 -> 24799.848 | F13: =12*E13 -> 297598.18
A14: 5 | B14: Serviços eventuais sem cessão de mão de obra dedicada | C14: MÊS | D14: 30 | E14: ='Anexo IVD1 Eventuais Item 1'!H14 -> 25314.251 | F14: =12*E14 -> 303771.01
A15: 6 | B15: Gás Refrigererante | C15: MÊS | D15: 30 | E15: ='Anexo IVD1 Eventuais Item 1'!F26 -> 17210.993 | F15: =12*E15 -> 206531.91
A16: 7 | B16: Peças para manutenção (70% mão de obra) | C16: MÊS | D16: 30 | E16: ='Anexo IVD1 Eventuais Item 1'!F25 -> 98725.353 | F16: =12*E16 -> 1184704.2
A17: TOTAL GRUPO 1 (VALOR DO LANCE COMPRASNET) | E17: =SUM(E10:E16) -> 291660.38 | F17: =SUM(F10:F16) -> 3499924.6

Sheet Anexo IVE Custos Totais Item2
A1: PRÓ-REITORIA DE ADMINISTRAÇÃO
A2: COORDENAÇÃO DE CONTRATOS
A4: Anexo IV E2 - PLANILHA DE COMPOSIÇÃO DE CUSTOS E FORMAÇÃO DE PREÇOS (Anexo VII da I.N. da SLTI/MPOG n.º 5 de 26/Maio/2017
A5: ITEM 2- CAMPOS DOS GOYTACAZES/RJ
A6: Contratação de empresa para prestação de serviços continuados de Manutenção preventiva e corretiva de equipamentos de refrigeração Central, com fornecimento de materiais de reposição e atendimento na Universidade Federal Fluminense
A8: ITEM 2- CAMPOS DOS GOYTACAZES/RJ
A9: ITEM | B9: DESCRIÇÃO | C9: UNID | D9: MESES | E9: TOTAL MENSAL | F9: TOTAL ANUAL
A10: 1 | B10: Mão de obra permanente | C10: MÊS | D10: 12 | E10: ='Anexo IVA2 Custos DEMO Item 2'!F13 -> 27497.574 | F10: =12*E10 -> 329970.89
A11: 2 | B11: Análise Quimica da Água | C11: UNID | D11: 12 | E11: ='Anexo IVD2 Eventuais Item 2'!G19 -> 435.09878 | F11: =12*E11 -> 5221.1854
A12: 3 | B12: Análise do Ar | C12: UNID | D12: 12 | E12: ='Anexo IVD2 Eventuais Item 2'!G18 -> 326.70912 | F12: =12*E12 -> 3920.5094
A13: 4 | B13: Limpeza de Rede de Dutos | C13: UNID | D13: 12 | E13: ='Anexo IVD2 Eventuais Item 2'!G20 -> 9919.9392 | F13: =12*E13 -> 119039.27
A14: 4 | B14: Serviços eventuais sem cessão de mão de obra dedicada | C14: MÊS | D14: 12 | E14: ='Anexo IVD2 Eventuais Item 2'!H14 -> 15040.941 | F14: =12*E14 -> 180491.29
A15: 5 | B15: Gás Refrigerante | C15: MÊS | D15: 12 | E15: ='Anexo IVD2 Eventuais Item 2'!F26 -> 5767.4584 | F15: =12*E15 -> 69209.501
A16: 6 | B16: Peças para manutenção (50% mão de obra) | C16: MÊS | D16: 12 | E16: ='Anexo IVD2 Eventuais Item 2'!F25 -> 15849.602 | F16: =12*E16 -> 190195.22
A17: TOTAL ITEM 2 (VALOR DO LANCE COMPRASNET) | E17: =SUM(E10:E16) -> 74837.322 | F17: =SUM(F10:F16) -> 898047.86 | J17: =F17+'Anexo IVE Custos Totais Item1'!F17 -> 4397972.4
