Workbook

Sheet MENU PLANILHA
A1: PRÓ-REITORIA DE ADMINISTRAÇÃO
A2: COORDENAÇÃO DE CONTRATOS
A4: Contratação de empresa para prestação de serviços continuados de Apoio Logístico, com regime de dedicação exclusiva de mão de obra, com fornecimento de materiais de reposição e atendimento da Universidade Federal Fluminense
A5: LOTE 1 - MÃO DE OBRA APOIO LOGÍSTICO
E15: dos Equipamentos (preenchimento licitante)

Sheet Anexo II-A Endereço
A1: PRÓ-REITORIA DE ADMINISTRAÇÃO
A2: COORDENAÇÃO DE CONTRATOS
A4: Anexo II - A - ENDEREÇO DAS UNIDADES
A5: Contratação de empresa para prestação de serviços continuados de Apoio Logístico, com regime de dedicação exclusiva de mão de obra, com fornecimento de materiais de reposição e atendimento da Universidade Federal Fluminense
A7: Item | B7: Descrição | C7: Prédio | D7: Endereço
A8: 1 | B8: Reitoria | C8: 1 | D8: Prédio Principal: 8 andares | E8: Rua Miguel de Frias, 9 - Icaraí - Niterói - RJ
C9: 2 | D9: Perícia Médica | E9: Av. Miguel de Frias, 77 - Icaraí - Niterói
B10: Campus do Valonguinho | C10: 3 | D10: Escola de Extensão, Protocolo e outros | E10: Av. Visconde do Rio Branco s/n.º, bairro Centro, Niterói - RJ
C11: 4 | D11: Biblioteca Central e DCE
C12: 5 | D12: Facu. Administração (antiga matematica)
C13: 6 | D13: Dispensário “Mazine Bueno”
C14: 7 | D14: Núcleo de Animais de Laboratório - NAL
C15: 8 | D15: LANTE
C16: 9 | D16: Faculdades de Nutrição e Administração
C17: 10 | D17: Faculdade de Odontologia
C18: 11 | D18: Pórtico de Entrada Valonguinho
B19: Complexo Instituto de Química | C19: 12 | D19: Instituto de Química | E19: Av. Visconde do Rio Branco s/n.º, bairro Centro, Niterói - RJ
C20: 13 | D20: Instituto de Química
B21: Complexo Inst. Biomédico | C21: 14 | D21: Bloco B - DST | E21: Av. Visconde do Rio Branco s/n.º, bairro Centro, Niterói - RJ
C22: 15 | D22: Bloco C - Salas de Aula
C23: 16 | D23: Bloco D - Anatômico
C24: 17 | D24: Bloco E - Pesquisas
C25: 18 | D25: Bloco A - Prédio Central | E25: Rua Professor Hernani Mello, 101 São Domingos Niterói – RJ
B26: Complexo Inst. Biologia | C26: 19 | D26: Instituto de Biologia Bloco Principal | E26: Av. Visconde do Rio Branco s/n.º, bairro Centro, Niterói - RJ
C27: 20 | D27: Instituto de Biologia Bloco Anexo
C28: 21 | D28: Prédio Salas de Aulas Biologia (Antigo Inst. Física)
B29: Campus do Gragoatá | C29: 23 | D29: Bloco D - Faculdade de Educação | E29: Av. Visconde do Rio Branco s/n.º, bairro de São Domingos, Niterói - RJ
C30: 24 | D30: Bloco E - Escola de Serviço Social
C31: 25 | D31: Bloco F - Faculdade de Economia
C32: 26 | D32: Bloco G - Instituto de Matemática e Estatística e Faculdade de Turismo
C33: 27 | D33: Bloco H - Faculdade de Turismo e Hotelaria
C34: 28 | D34: Biologia NOVO Bloco M - Gragoatá
C35: 29 | D35: Superintendência de Documentação - SDC
C36: 30 | D36: Faculdade de Educação Física - FACDEF
C37: 31 | D37: Pórtico Faculdade de Educação Física
C38: 32 | D38: Pórtico Principal Campus Gragoatá
B39: Complexo ICHF | C39: 33 | D39: Bloco N - Instituto de Ciências Humanas e Filosofia - ICHF | E39: R. Alexandre Moura, 8 - São Domingos, Niterói - RJ, 24210-200
C40: 34 | D40: Bloco O - Instituto de Ciências Humanas e Filosofia - ICHF
C41: 35 | D41: Bloco P - Instituto de Ciências Humanas e Filosofia - ICHF
B42: Complexo Instituto de Letras | C42: 36 | D42: Bloco B - Instituto de Letras | E42: R. Alexandre Moura, 8 - São Domingos, Niterói - RJ, 24210-200
...

Sheet Anexo II-B Salários
A1: PRÓ-REITORIA DE ADMINISTRAÇÃO
A2: COORDENAÇÃO DE CONTRATOS
A4: Anexo II - B - Composição dos salários
A5: Contratação de empresa para prestação de serviços continuados de Apoio Logístico, com regime de dedicação exclusiva de mão de obra, com fornecimento de materiais de reposição e atendimento da Universidade Federal Fluminense
A7: Item | B7: Descrição/Especificação | C7: Quantidade de Pessoal | D7: CCT RJ1171/2024 | E7: CCT RJ 00738/2024
A8: 1 | B8: Almoxarife | C8: 11 | D8: 2293.7
A9: 2 | B9: Líder de Almoxarife | C9: 1 | D9: 2293.7
A10: 3 | B10: Auxiliar de Almoxarife | C10: 19 | D10: 1709.65
A11: 4 | B11: Líder de Aux. Almoxarife | C11: 1 | D11: 1709.65
A12: 5 | B12: Copeiro | C12: 2 | D12: 1610
A13: 6 | B13: Líder de Copeiro | C13: 1 | D13: 1610
A14: 7 | B14: Auxiliar de Escriturário | C14: 19 | D14: 2304.13
A15: 8 | B15: Guardião de Piscina | C15: 1 | D15: 1610
A16: 9 | B16: Auxiliar de Mecânica | C16: 1 | D16: 1610
A17: 10 | B17: Agente Educacional | C17: 18 | D17: 1610
A18: 11 | B18: Mediador de Alunos | C18: 32 | D18: 1610
A19: 12 | B19: Cuidador de Alunos | C19: 15 | D19: 1610
A20: 13 | B20: Orientador Educacional | C20: 1 | D20: 3568.86
A21: 14 | B21: Encarregado Geral | C21: 1 | E21: 3976.85
A22: 15 | B22: Técnico em Manutenção | C22: 1 | E22: 3236.16
A23: 16 | B23: Bombeiro Hidráulico | C23: 1 | E23: 2380.35
A24: 17 | B24: Ajudante de Manutenção | C24: 1 | D24: 1610
A25: TOTAL | C25: =SUM(C8:C24) -> 126

Sheet Anexo II-C Distribuição Postos
A1: PRÓ-REITORIA DE ADMINISTRAÇÃO
A2: COORDENAÇÃO DE CONTRATOS
A4: Anexo II - A - DISTRIBUIÇÃO DOS POSTOS POR LOCALIDADE
A5: Contratação de empresa para prestação de serviços continuados de Apoio Logístico, com regime de dedicação exclusiva de mão de obra, com fornecimento de materiais de reposição e atendimento da Universidade Federal Fluminense
A7: Custo total da mão de obra (permanente)
A8: ORDEM | B8: DISCRIMINAÇÃO DO POSTO | C8: CBO | D8: QUANT POSTOS | E8: FUNCIONÁRIOS | F8: UNIDADE | G8: MUNICÍPIO
A9: 1 | B9: Almoxarife | C9: 4141-05 | D9: 5 | E9: =D9 -> 5 | F9: CMAT/AD | G9: Niterói
A10: 2 | B10: Almoxarife | C10: 4141-05 | D10: 1 | E10: =D10 -> 1 | F10: CAP/Plan | G10: Niterói
A11: 3 | B11: Almoxarife | C11: 4141-05 | D11: 1 | E11: =D11 -> 1 | F11: STI | G11: Niterói
A12: 4 | B12: Almoxarife | C12: 4141-05 | D12: 1 | E12: =D12 -> 1 | F12: CGRU/Proaes | G12: Niterói
A13: 5 | B13: Almoxarife | C13: 4141-05 | D13: 1 | E13: =D13 -> 1 | F13: CTSL/SOMA | G13: Niterói
A14: 6 | B14: Almoxarife | C14: 4141-05 | D14: 1 | E14: =D14 -> 1 | F14: CAF/Proppi | G14: Niterói
A15: 7 | B15: Almoxarife | C15: 4141-05 | D15: 1 | E15: =D15 -> 1 | F15: IEF | G15: Niterói
A16: 8 | B16: Líder de Almoxarife | C16: 4141-05 | D16: 1 | E16: =D16 -> 1 | F16: CMAT/AD | G16: Niterói
A17: 9 | B17: Auxiliar de Almoxarife | C17: 4141-05 | D17: 10 | E17: =D17 -> 10 | F17: CMA/SOMA | G17: Niterói
A18: 10 | B18: Auxiliar de Almoxarife | C18: 4141-05 | D18: 2 | E18: =D18 -> 2 | F18: CGRU/Proaes | G18: Niterói
A19: 11 | B19: Auxiliar de Almoxarife | C19: 4141-05 | D19: 2 | E19: =D19 -> 2 | F19: Coluni | G19: Niterói
A20: 12 | B20: Auxiliar de Almoxarife | C20: 4141-05 | D20: 1 | E20: 1 | F20: Proaes Rio das Ostras | G20: Rio das Ostras
A21: 13 | B21: Auxiliar de Almoxarife | C21: 4141-05 | D21: 1 | E21: 1 | F21: Proaes Angra | G21: Angra dos Reis
A22: 14 | B22: Auxiliar de Almoxarife | C22: 4141-05 | D22: 3 | E22: 3 | F22: Proad | G22: Niterói
A23: 15 | B23: Líder de Aux. Almoxarife | C23: 4141-05 | D23: 1 | E23: =D23 -> 1 | F23: CMA/SOMA | G23: Niterói
A24: 16 | B24: Copeiro | C24: 5134-25 | D24: 2 | E24: 2 | F24: Gabinete Reitor | G24: Niterói
A25: 17 | B25: Copeiro Líder | C25: 5134-25 | D25: 1 | E25: 1 | F25: Gabinete Reitor | G25: Niterói
A26: 18 | B26: Auxiliar de Escriturário | C26: 4110-05 | D26: 4 | E26: =D26 -> 4 | F26: Proger | G26: Niterói
A27: 19 | B27: Auxiliar de Escriturário | C27: 4110-05 | D27: 4 | E27: =D27 -> 4 | F27: Huvet | G27: Niterói
A28: 20 | B28: Auxiliar de Escriturário | C28: 4110-05 | D28: 3 | E28: =D28 -> 3 | F28: Eduff | G28: Niterói
A29: 21 | B29: Auxiliar de Escriturário | C29: 4110-05 | D29: 3 | E29: =D29 -> 3 | F29: CGRU/Proaes | G29: Niterói
A30: 22 | B30: Auxiliar de Escriturário | C30: 4110-05 | D30: 1 | E30: =D30 -> 1 | F30: SOMA | G30: Niterói
A31: 23 | B31: Auxiliar de Escriturário | C31: 4110-05 | D31: 4 | E31: =D31 -> 4 | F31: Proad | G31: Niterói
A32: 24 | B32: Guardião de Piscina | C32: 5171-15 | D32: 1 | E32: =D32 -> 1 | F32: IEF | G32: Niterói
A33: 25 | B33: Auxiliar de Mecânica | C33: 7250-10 | D33: 1 | E33: 1 | F33: IQ | G33: Niterói
A34: 26 | B34: Agente Educacional | C34: 5153-25 | D34: 18 | E34: 18 | F34: Coluni | G34: Niterói
A35: 27 | B35: Mediador de Alunos | C35: 5153-25 | D35: 32 | E35: 32 | F35: Coluni | G35: Niterói
A36: 28 | B36: Cuidador de Alunos | C36: 5162-20 | D36: 15 | E36: 15 | F36: Coluni e Proaes | G36: Estado RJ
A37: 29 | B37: Orientador Educacional | C37: 2394-10 | D37: 1 | E37: 1 | F37: Coluni | G37: Niterói
A38: 30 | B38: Encarregado Geral | C38: 7102-05 | D38: 1 | E38: 1 | F38: CGRU/Proaes | G38: Niterói
A39: 31 | B39: Técnico em Manutenção | C39: 3131-30 | D39: 1 | E39: 1 | F39: CGRU/Proaes | G39: Niterói
A40: 32 | B40: Bombeiro Hidráulico | C40: 7241-10 | D40: 1 | E40: 1 | F40: CGRU/Proaes | G40: Niterói
A41: 33 | B41: Ajudante de Manutenção | C41: 7170-20 | D41: 1 | E41: 1 | F41: CGRU/Proaes | G41: Niterói
A42: TOTAL | D42: =SUM(D9:D41) -> 126 | E42: =SUM(E9:E41) -> 126

Sheet Anexo III-A Equip.
A1: PRÓ-REITORIA DE ADMINISTRAÇÃO
A2: COORDENAÇÃO DE CONTRATOS
A4: Anexo III - A - PLANILHA DE COMPOSIÇÃO DE CUSTOS E FORMAÇÃO DE PREÇOS (Anexo VII da I.N. da SLTI/MPOG n.º 5 de 26/Maio/2017
A5: Contratação de empresa para prestação de serviços continuados de Apoio Logístico, com regime de dedicação exclusiva de mão de obra, com fornecimento de materiais de reposição e atendimento da Universidade Federal Fluminense
A7: Disponibilização de Equipamentos para os postos de Almoxarife
A8: Item | B8: Descrição | D8: Qnt | E8: Valor unitário | F8: Valor Total
A9: 1 | B9: Contratação de serviço para controle de ponto eletrônico, através de software, a ser instalado em computador convencional, sem necessidade de relógio físico específico, com as seguintes especificações mínimas: software de controle de ponto eletrônico, com suporte mínimo a 30 (trinta) colaboradores, controle biométrico, com solução de gestão e controle da jornada, notificações de atrasos, horas extras, alerta de suspeita de fraudes, bloqueio da batida em razão de férias, licença ou desligamento, com custódia dos arquivos de ponto em servidores na nuvem, apto à instalação em aparelho de computação com suporte ao sistema operacional Windows e celulares com sistema android e ios. Incluso treinamento, configuração e suporte. | D9: 1 | E9: 2155.67 | F9: =E9*D9 -> 2155.67
A10: Total da Solução | F10: =SUM(F9:F9) -> 2155.67
A11: Total dos equipamentos por mês posto Auxiliar de Mecânica | F11: =F10/12 -> 179.63917

Sheet Anexo III-B Uniformes
A1: PRÓ-REITORIA DE ADMINISTRAÇÃO
A2: COORDENAÇÃO DE CONTRATOS
A4: Anexo III - B - PLANILHA DE COMPOSIÇÃO DE CUSTOS E FORMAÇÃO DE PREÇOS
A5: Contratação de empresa para prestação de serviços continuados de Apoio Logístico, com regime de dedicação exclusiva de mão de obra, com fornecimento de materiais de reposição e atendimento da Universidade Federal Fluminense
A8: COMPOSIÇÃO DE CUSTO DE UNIFORME PARA OS CARGOS DE AUXILIAR DE ALMOXARIFE E LÍDER AUXILIAR ALMOXARIFE (ITEM 3 E 4)
A9: ITEM | B9: DISCRIMINAÇÃO UNIFORME | C9: QUANT. ANUAL POR FUNCIONÁRIO | D9: VALOR UNITÁRIO | E9: VALOR TOTAL
A10: 1 | B10: Jalecos: operacional tradicional, em tecido Oxford, manga longa com dois bolsos inferiores, gola e manga com bico, com logomarca; | C10: 2 | D10: 44.2 | E10: =D10*C10 -> 88.4
A11: 2 | B11: Blusas/camisetas: operacional tradicional, em tecido de algodão, na cor azul manga curta, com destaque nas costas escrito A SERVIÇO DA UFF, e brasão/emblema da contratada. | C11: 4 | D11: 33.57 | E11: =D11*C11 -> 134.28
A12: 3 | B12: Calças: operacional tradicional, em tecido Oxford, com elástico e cordão, um bolso traseiro e dois dianteiros. | C12: 4 | D12: 39.66 | E12: =D12*C12 -> 158.64
A13: 4 | B13: Meias: meia adulto, em tecido poliéster na cor preta. | C13: 8 | D13: 9.64 | E13: =D13*C13 -> 77.12
A14: 5 | B14: Luva de vaqueta de couro mista, cano curto (PAR) | C14: 4 | D14: 16.96 | E14: =D14*C14 -> 67.84
A15: 6 | B15: Crachá funcional, em pvc, com foto, nome e cargo. | C15: 1 | D15: 8.96 | E15: =D15*C15 -> 8.96
A16: 7 | B16: Sapatos: operacional tradicional, fechado, cor preta, solado antiderrapante | C16: 2 | D16: 45.74 | E16: =D16*C16 -> 91.48
A17: Valor anual por funcionário | E17: =SUM(E10:E16) -> 626.72
A18: Valor mensal por funcionário | E18: =E17/12 -> 52.226667
A19: Obs.: Quantidade estimada por ano, sendo 1 conjunto composto de 1 jaleco, 2 blusas, 2 calças, 2 pares de luvas, 4 pares de meia e 1 sapato entregue na admissão e outro após 6 meses, ou quando apresentarem defeito ou desgastes, independente do prazo mínimo estabelecido, conforme Cláusula 53ª da CCT.
A21: COMPOSIÇÃO DE CUSTO DE UNIFORME PARA OS CARGOS DE COPEIRO
A22: ITEM | B22: DISCRIMINAÇÃO UNIFORME | C22: QUANT. ANUAL POR FUNCIONÁRIO | D22: VALOR UNITÁRIO | E22: VALOR TOTAL
A23: 1 | B23: Calça comprida com zíper de gabardine ou microfibra. | C23: 4 | D23: 42.6 | E23: =D23*C23 -> 170.4
A24: 2 | B24: Blusa tipo camisa com botões, em gabardine ou microfibra e emblema da empresa no lado esquerdo superior, manga curta. | C24: 4 | D24: 65.57 | E24: =D24*C24 -> 262.28
A25: 3 | B25: Touca de filó com aba (Pacote com 100 Unid) | C25: 4 | D25: 10.72 | E25: =D25*C25 -> 42.88
A26: 4 | B26: Meia social (longa) | C26: 4 | D26: 22.92 | E26: =D26*C26 -> 91.68
A27: 5 | B27: Calçado em couro, tipo mocassim, fechado, salto de até 3 cm ou sapatilha em couro, antiderrapantes. | C27: 4 | D27: 53.68 | E27: =D27*C27 -> 214.72
A28: 6 | B28: Crachá funcional, em pvc, com foto, nome e cargo. | C28: 1 | D28: 8.96 | E28: =D28*C28 -> 8.96
A29: 7 | B29: Avental, em oxford ou tergal, com amarras dos lados. | C29: 4 | D29: 20.62 | E29: =D29*C29 -> 82.48
A30: Valor anual por funcionário | E30: =SUM(E23:E29) -> 873.4
A31: Valor mensal por funcionário | E31: =E30/12 -> 72.783333
A32: Obs.: Quantidade estimada por ano, sendo 1 conjunto composto de 2 blusas, 2 calças, 2 toucas, 2 pares de meia, 2 calçados e 2 aventais entregue na admissão e outro após 6 meses, ou quando apresentarem defeito ou desgastes, independente do prazo mínimo estabelecido, conforme Cláusula 53ª da CCT.
A34: COMPOSIÇÃO DE CUSTO DE UNIFORME PARA OS CARGOS DE GUARDIÃO DE PISCINA
A35: ITEM | B35: DISCRIMINAÇÃO UNIFORME | C35: QUANT. ANUAL POR FUNCIONÁRIO | D35: VALOR UNITÁRIO | E35: VALOR TOTAL
A36: 1 | B36: REGATA GUARDA-VIDAS - ESTAMPADA NAS COSTAS E BORDADO NA FRENTE - TECIDO KACHARREL. | C36: 4 | D36: 21.82 | E36: =D36*C36 -> 87.28
A37: 2 | B37: Boné Bordado Tecido Ripstop vermelho c/ bordado guarda-vidas. | C37: 2 | D37: 26.25 | E37: =D37*C37 -> 52.5
A38: 3 | B38: Sunga c/ bordado PET guarda- vidas. Possui modelagem slip e cós elástico. Material: Poliamida Composição: 84% Poliamida e 16% elastano. Cor: Vermelho | C38: 2 | D38: 24.96 | E38: =D38*C38 -> 49.92
A39: 4 | B39: Crachá funcional, em pvc, com foto, nome e cargo. | C39: 1 | D39: 8.96 | E39: =D39*C39 -> 8.96
A40: 5 | B40: Short Guarda-Vidas, na cor vermelha. Tecido: Dry- Fit Bordado: Guarda vidas e seu brasão. Elástico e Cordão para melhor ajuste. | C40: 4 | D40: 18.5 | E40: =D40*C40 -> 74
A41: Valor anual por funcionário | E41: =SUM(E36:E40) -> 272.66
A42: Valor mensal por funcionário | E42: =E41/12 -> 22.721667
A43: Obs.: Quantidade estimada por ano, sendo 1 conjunto composto de 2 regatas, 1 boné, 1 sunga e 2 shorts entregue na admissão e outro após 6 meses, ou quando apresentarem defeito ou desgastes, independente do prazo mínimo estabelecido, conforme Cláusula 53ª da CCT.
A45: COMPOSIÇÃO DE CUSTO DE UNIFORME PARA OS CARGOS DE AGENTE EDUCACIONAL, MEDIADOR DE ALUNOS, CUIDADOR DE ALUNOS, Profissional Apoio Escolar na Educação Inclusiva
A46: ITEM | B46: DISCRIMINAÇÃO UNIFORME | C46: QUANT. ANUAL POR FUNCIONÁRIO | D46: VALOR UNITÁRIO | E46: VALOR TOTAL
...

Sheet Anexo III-C Materiais
A1: PRÓ-REITORIA DE ADMINISTRAÇÃO
A2: COORDENAÇÃO DE CONTRATOS
A4: Anexo III - C - PLANILHA DE COMPOSIÇÃO DE CUSTOS E FORMAÇÃO DE PREÇOS (Anexo VII da I.N. da SLTI/MPOG n.º 5 de 26/Maio/2017
A5: Contratação de empresa para prestação de serviços continuados de Apoio Logístico, com regime de dedicação exclusiva de mão de obra, com fornecimento de materiais de reposição e atendimento da Universidade Federal Fluminense
A7: COMPOSIÇÃO DE CUSTO DE MATERIAL -COPEIRO
A8: Quantitativo mensal máximo a ser fornecido por posto
A9: ITEM | B9: DISCRIMINAÇÃO | C9: QUANT. | D9: UNIDADE | E9: VALOR UNITÁRIO | F9: PARCIAL MENSAL
A10: 1 | B10: Esponja antibactéria para limpeza, dupla face formato retangular (bucha) | C10: 1 | D10: pct 4 und | E10: 6.48 | F10: =E10*C10 -> 6.48
A11: 2 | B11: Detergente líquido neutro, desengordurante garrafa com 500 ml | C11: 6 | D11: unid. | E11: 3.93 | F11: =E11*C11 -> 23.58
A12: 3 | B12: Pano para limpeza multiuso com furos 60x33 cm | C12: 2 | D12: pct 5 und | E12: 5.1 | F12: =E12*C12 -> 10.2
A13: 4 | B13: PANO LIMPEZA, MATERIAL MICROFIBRA. COMPRIMENTO 60 CM LARGURA 40 CM CARACTERÍSTICAS ADICIONAIS ALTO GRAU ABSORÇÃO APLICAÇÃO USO GERAL TIPO TOALHA | C13: 4 | D13: unid. | E13: 10.2 | F13: =E13*C13 -> 40.8
A14: 5 | B14: Saco de lixo de plástico reforçado com alça preto, com capacidade de 100 litros. | C14: 1 | D14: pct 100 unid | E14: 29.29 | F14: =E14*C14 -> 29.29
A15: 7 | B15: Saco alvejado para limpeza de chão 90% algodão - pano de chão 42 x 72 cm | C15: 2 | D15: unid. | E15: 7.03 | F15: =E15*C15 -> 14.06
A16: 9 | B16: Alcool líquido 70º INPM com 1 litro | C16: 2 | D16: unid. | E16: 4.47 | F16: =E16*C16 -> 8.94
A17: 10 | B17: Coador de café de flanela 100% de algodão, com cabo de madeira, aro de metal, arame galvanizado, diâmetro de 130 mm - Coador para maquina indristrial de café tamanho M | C17: 2 | D17: unid. | E17: 10.96 | F17: =E17*C17 -> 21.92
A18: 11 | B18: Desinfetante pinho para limpar e desinfetar o ambiente, em recipiente de 500 ml | C18: 2 | D18: unid. | E18: 7.05 | F18: =E18*C18 -> 14.1
A19: 13 | B19: Sabão de côco em barra de 200 g | C19: 1 | D19: pct 5 und | E19: 8.19 | F19: =E19*C19 -> 8.19
A20: 14 | B20: Guardanapos de papel 33 x 30 mm, pacote com 50 unidades | C20: 10 | D20: pacote | E20: 3.25 | F20: =E20*C20 -> 32.5
A21: 15 | B21: Copo de plástico descartável para água de 200 ml, pacote com 100 unidades | C21: 5 | D21: pacote | E21: 4.48 | F21: =E21*C21 -> 22.4
... A25: 19 | B25: Adoçante, tipo sucralose, com bico dosador (100ml). | C25: 1 | D25: frasco 100 ml | E25: 9.58 | F25: =E25*C25 -> 9.58
A26: Valor total mensal por funcionário | F26: =SUM(F10:F25) -> 766.03
A27: Valor total anual | F27: =12*F26 -> 9192.36
A28: Valor total mensal por funcionário Líder de Copeiro | F28: =F26 -> 766.03
A30: COMPOSIÇÃO DE CUSTO DE MATERIAL -ENCARREGADO GERAL
A31: Quantitativo mensal máximo a ser fornecido por posto
A32: ITEM | B32: DISCRIMINAÇÃO | C32: QUANT. | D32: UNIDADE | E32: VALOR UNITÁRIO | F32: PARCIAL MENSAL
A33: 1 | B33: Verba para aquisição de materiais de consumo para manutenção, como fio, termostatos, capacitores, fitas, canos, ferramentas e outros. VALOR FIXO, NÃO DEVE SER REDUZIDO SOB PENA DE RECUSA DA PROPOSTA. Conforme TR o valor só será pago pela UFF, se comprovado o abastecimento mensal. | C33: 1 | D33: unid | E33: 1500 | F33: =E33*C33 -> 1500
A34: Valor total mensal por funcionário | F34: =SUM(F33:F33) -> 1500
A35: Valor total anual | F35: =12*F34 -> 18000
A36: Valor total mensal por funcionário Encarregado Geral | F36: =F34 -> 1500

Sheet An IV A Custo G1
A1: PRÓ-REITORIA DE ADMINISTRAÇÃO
A2: COORDENAÇÃO DE CONTRATOS
A4: Anexo IV-A - FORMAÇÃO CUSTOS POSTOS GRUPO 1
A5: Contratação de empresa para prestação de serviços continuados de Apoio Logístico, com regime de dedicação exclusiva de mão de obra, com fornecimento de materiais de reposição e atendimento da Universidade Federal Fluminense
A6: MÃO-DE-OBRA VINCULADA À EXECUÇÃO CONTRATUAL
A7: Dados para composição dos custos referentes a mão de obra
A8: Regime tributário da Licitante | C8: Documento Comprobatório *Anexar Comprovante
A11: ACT/CCT/DCT inclusive aditivos se houver
A12: Entidade Sindical da Empresa
A13: Entidade Sindical dos Empregados
A14: Número de Registro
A15: Início Vigência
A16: Fim Vigência
A18: Descrição Cargos
A19: Dias/Mês | B19: Posto | C19: CBO | D19: Salário
A20: 20.88 | B20: Almoxarife | C20: 4141-05 | D20: ='Anexo II-B Salários'!D8 -> 2293.7
A21: 20.88 | B21: Líder de Almoxarife | C21: 4141-05 | D21: ='Anexo II-B Salários'!D9 -> 2293.7
A22: 20.88 | B22: Auxiliar de Almoxarife | C22: 4141-05 | D22: ='Anexo II-B Salários'!D10 -> 1709.65
A23: 20.88 | B23: Líder de Aux. Almoxarife | C23: 4141-05 | D23: ='Anexo II-B Salários'!D11 -> 1709.65
A24: 20.88 | B24: Copeiro | C24: 5134-25 | D24: ='Anexo II-B Salários'!D12 -> 1610
A25: 20.88 | B25: Líder de Copeiro | C25: 5134-25 | D25: 1610
A26: 20.88 | B26: Auxiliar de Escriturário | C26: 4110-05 | D26: ='Anexo II-B Salários'!D14 -> 2304.13
A28: MÓDULO 1 : COMPOSIÇÃO DA REMUNERAÇÃO | D28: Almoxarife | E28: Líder de Almoxarife | F28: Auxiliar de Almoxarife | G28: Líder de Aux. Almoxarife | H28: Copeiro | I28: Líder de Copeiro | J28: Auxiliar de Escriturário
A29: 1 | B29: Composição da Remuneração | D29: Valor(R$) | E29: Valor(R$) | F29: Valor(R$) | G29: Valor(R$) | H29: Valor(R$) | I29: Valor(R$) | J29: Valor(R$)
A30: A | B30: Salário Base | D30: =D20 -> 2293.7 | E30: =D21 -> 2293.7 | F30: =D22 -> 1709.65 | G30: =D23 -> 1709.65 | H30: =D24 -> 1610 | I30: =D25 -> 1610 | J30: =D26 -> 2304.13
A31: B | B31: Adicional de Periculosidade
A32: C | B32: Adicional de Insalubridade (20% Grau médio NR 15)
A33: D | B33: Adicional Noturno
A34: E | B34: Adicional de Hora Noturna Reduzida
A35: F | B35: Gratificação Liderança (15% ou 30%) (Cláusula 16ª CCT) | E35: =15%*1610 -> 241.5 | G35: =15%*1610 -> 241.5 | I35: =15%*1610 -> 241.5
B36: Total de Remuneração | D36: =SUM(D30:D35) -> 2293.7 | E36: =SUM(E30:E35) -> 2535.2 | F36: =SUM(F30:F35) -> 1709.65 | G36: =SUM(G30:G35) -> 1951.15 | H36: =SUM(H30:H35) -> 1610 | I36: =SUM(I30:I35) -> 1851.5 | J36: =SUM(J30:J35) -> 2304.13
A38: MÓDULO 2: ENCARGOS E BENEFÍCIOS ANUAIS, MENSAIS E DIÁRIOS | D38: Almoxarife | E38: Líder de Almoxarife | F38: Auxiliar de Almoxarife | G38: Líder de Aux. Almoxarife | H38: Copeiro | I38: Líder de Copeiro | J38: Auxiliar de Escriturário
A39: Submódulo 2.1 - 13º (décimo terceiro) Salário, Férias e Adicional de Férias | D39: Valor(R$) | E39: Valor(R$) | F39: Valor(R$) | G39: Valor(R$) | H39: Valor(R$) | I39: Valor(R$) | J39: Valor(R$)
A40: A | B40: 13º (décimo terceiro) Salário | D40: =D36*8.33% -> 191.06521 | E40: =E36*8.33% -> 211.18216 | F40: =F36*8.33% -> 142.41385 | G40: =G36*8.33% -> 162.5308 | H40: =H36*8.33% -> 134.113 | I40: =I36*8.33% -> 154.22995 | J40: =J36*8.33% -> 191.93403
A41: B | B41: Férias e Adicional de Férias | D41: =D36*12.1% -> 277.5377 | E41: =E36*12.1% -> 306.7592 | F41: =F36*12.1% -> 206.86765 | G41: =G36*12.1% -> 236.08915 | H41: =H36*12.1% -> 194.81 | I41: =I36*12.1% -> 224.0315 | J41: =J36*12.1% -> 278.79973
B42: Total | D42: =SUM(D40:D41) -> 468.60291 | E42: =SUM(E40:E41) -> 517.94136 | F42: =SUM(F40:F41) -> 349.2815 | G42: =SUM(G40:G41) -> 398.61994 | H42: =SUM(H40:H41) -> 328.923 | I42: =SUM(I40:I41) -> 378.26145 | J42: =SUM(J40:J41) -> 470.73376
A43: C | B43: Incidência do Submódulo 2.2 - Encargos previdenciários (GPS), FGTS e outras contribuições (Cálculo sobre a remuneração, pois será adotada a Conta Vinculada) | D43: =D36*7.82% -> 179.36734 | E43: =E36*7.82% -> 198.25264 | F43: =F36*7.82% -> 133.69463 | G43: =G36*7.82% -> 152.57993 | H43: =H36*7.82% -> 125.902 | I43: =I36*7.82% -> 144.7873 | J43: =J36*7.82% -> 180.18297
A45: Submódulo 2.2 - Encargos Previdenciários (GPS), Fundo de Garantia por Tempo de Serviço (FGTS) e outras contribuições | D45: Almoxarife | E45: Líder de Almoxarife | F45: Auxiliar de Almoxarife | G45: Líder de Aux. Almoxarife | H45: Copeiro | I45: Líder de Copeiro | J45: Auxiliar de Escriturário
A46: 2.2 | B46: GPS, FGTS e outras contribuições | C46: % | D46: Valor(R$) | E46: Valor(R$) | F46: Valor(R$) | G46: Valor(R$) | H46: Valor(R$) | I46: Valor(R$) | J46: Valor(R$)
A47: A | B47: INSS | C47: 20 | D47: =(D36*($C$47/100)) -> 458.74 | E47: =(E36*($C$47/100)) -> 507.04 | F47: =(F36*($C$47/100)) -> 341.93 | G47: =(G36*($C$47/100)) -> 390.23 | H47: =(H36*($C$47/100)) -> 322 | I47: =(I36*($C$47/100)) -> 370.3 | J47: =(J36*($C$47/100)) -> 460.826
...

Sheet An IV A Custo G2
A1: PRÓ-REITORIA DE ADMINISTRAÇÃO
A2: COORDENAÇÃO DE CONTRATOS
A4: Anexo IV-A - FORMAÇÃO CUSTOS POSTOS GRUPO 1
A5: Contratação de empresa para prestação de serviços continuados de Apoio Logístico, com regime de dedicação exclusiva de mão de obra, com fornecimento de materiais de reposição e atendimento da Universidade Federal Fluminense
A6: MÃO-DE-OBRA VINCULADA À EXECUÇÃO CONTRATUAL
A7: Dados para composição dos custos referentes a mão de obra
A8: Regime tributário da Licitante | C8: Documento Comprobatório *Anexar Comprovante
A11: ACT/CCT/DCT inclusive aditivos se houver
A12: Entidade Sindical da Empresa
A13: Entidade Sindical dos Empregados
A14: Número de Registro
A15: Início Vigência
A16: Fim Vigência
A18: Descrição Cargos
A19: Dias/Mês | B19: Posto | C19: CBO | D19: Salário
A20: 20.88 | B20: Guardião de Piscina | C20: 5171-15 | D20: 1610
A21: 20.88 | B21: Agente Educacional | C21: 5153-25 | D21: 1610
A22: 20.88 | B22: Mediador de Alunos | C22: 5153-25 | D22: 1610
A23: 20.88 | B23: Cuidador de Alunos | C23: 5162-20 | D23: 1610
A24: 20.88 | B24: Auxiliar de Mecânica | C24: 7250-10 | D24: 1610
A25: 20.88 | B25: Orientador Educacional | C25: 2394-10 | D25: 3568.86
A26: 20.88 | B26: Encarregado Geral | C26: 7102-05 | D26: 3976.85
A27: 20.88 | B27: Técnico em Manutenção | C27: 3131-30 | D27: 3236.16
A28: 20.88 | B28: Bombeiro Hidráulico | C28: 7241-10 | D28: 2380.35
A29: 20.88 | B29: Ajudante de Manutenção | C29: 7170-20 | D29: 1610
A31: MÓDULO 1 : COMPOSIÇÃO DA REMUNERAÇÃO | D31: Guardião de Piscina | E31: Agente Educacional | F31: Mediador de Alunos | G31: Cuidador de Alunos | H31: Auxiliar de Mecânica | I31: Orientador Educacional | J31: Encarregado Geral | K31: Técnico em Manutenção | L31: Bombeiro Hidráulico | M31: Ajudante de Manutenção
A32: 1 | B32: Composição da Remuneração | D32: Valor(R$) | E32: Valor(R$) | F32: Valor(R$) | G32: Valor(R$) | H32: Valor(R$) | I32: Valor(R$) | J32: Valor(R$) | K32: Valor(R$) | L32: Valor(R$) | M32: Valor(R$)
A33: A | B33: Salário Base | D33: =D20 -> 1610 | E33: =D21 -> 1610 | F33: =D22 -> 1610 | G33: =D23 -> 1610 | H33: =D24 -> 1610 | I33: =D25 -> 3568.86 | J33: =D26 -> 3976.85 | K33: =D27 -> 3236.16 | L33: =D28 -> 2380.35 | M33: =D29 -> 1610
A34: B | B34: Adicional de Periculosidade
A35: C | B35: Adicional de Insalubridade (20% Grau médio NR 15)
A36: D | B36: Adicional Noturno
A37: E | B37: Adicional de Hora Noturna Reduzida
A38: F | B38: Gratificação Liderança (15% ou 30%) (Cláusula 16ª CCT)
B39: Total de Remuneração | D39: =SUM(D33:D38) -> 1610 | E39: =SUM(E33:E38) -> 1610 | F39: =SUM(F33:F38) -> 1610 | G39: =SUM(G33:G38) -> 1610 | H39: =SUM(H33:H38) -> 1610 | I39: =SUM(I33:I38) -> 3568.86 | J39: =SUM(J33:J38) -> 3976.85 | K39: =SUM(K33:K38) -> 3236.16 | ... M39: =SUM(M33:M38) -> 1610
A41: MÓDULO 2: ENCARGOS E BENEFÍCIOS ANUAIS, MENSAIS E DIÁRIOS | D41: Guardião de Piscina | E41: Agente Educacional | F41: Mediador de Alunos | G41: Cuidador de Alunos | H41: Auxiliar de Mecânica | I41: Orientador Educacional | J41: Encarregado Geral | K41: Técnico em Manutenção | L41: Bombeiro Hidráulico | M41: Ajudante de Manutenção
A42: Submódulo 2.1 - 13º (décimo terceiro) Salário, Férias e Adicional de Férias | D42: Valor(R$) | E42: Valor(R$) | F42: Valor(R$) | G42: Valor(R$) | H42: Valor(R$) | I42: Valor(R$) | J42: Valor(R$) | K42: Valor(R$) | L42: Valor(R$) | M42: Valor(R$)
A43: A | B43: 13º (décimo terceiro) Salário | D43: =D39*8.33% -> 134.113 | E43: =E39*8.33% -> 134.113 | F43: =F39*8.33% -> 134.113 | G43: =G39*8.33% -> 134.113 | H43: =H39*8.33% -> 134.113 | I43: =I39*8.33% -> 297.28604 | J43: =J39*8.33% -> 331.27161 | K43: =K39*8.33% -> 269.57213 | ... M43: =M39*8.33% -> 134.113
A44: B | B44: Férias e Adicional de Férias | D44: =D39*12.1% -> 194.81 | E44: =E39*12.1% -> 194.81 | F44: =F39*12.1% -> 194.81 | G44: =G39*12.1% -> 194.81 | H44: =H39*12.1% -> 194.81 | I44: =I39*12.1% -> 431.83206 | J44: =J39*12.1% -> 481.19885 | K44: =K39*12.1% -> 391.57536 | ... M44: =M39*12.1% -> 194.81
B45: Total | D45: =SUM(D43:D44) -> 328.923 | E45: =SUM(E43:E44) -> 328.923 | F45: =SUM(F43:F44) -> 328.923 | G45: =SUM(G43:G44) -> 328.923 | H45: =SUM(H43:H44) -> 328.923 | I45: =SUM(I43:I44) -> 729.1181 | J45: =SUM(J43:J44) -> 812.47046 | K45: =SUM(K43:K44) -> 661.14749 | ... M45: =SUM(M43:M44) -> 328.923
A46: C | B46: Incidência do Submódulo 2.2 - Encargos previdenciários (GPS), FGTS e outras contribuições (Cálculo sobre a remuneração, pois será adotada a Conta Vinculada) | D46: =D39*7.82% -> 125.902 | E46: =E39*7.82% -> 125.902 | F46: =F39*7.82% -> 125.902 | G46: =G39*7.82% -> 125.902 | H46: =H39*7.82% -> 125.902 | I46: =I39*7.82% -> 279.08485 | J46: =J39*7.82% -> 310.98967 | K46: =K39*7.82% -> 253.06771 | ... M46: =M39*7.82% -> 125.902
...

Sheet Anexo IV B - Custo Total MDO
A1: (PLANILHA A SER FORNECIDA PELA PROPONENTE EM PAPEL TIMBRADO)
A2: EMPRESA (nome da empresa)
A3: CNPJ N.º : (n.º do CNPJ)
A4: ANEXO IV- B
A5: PLANILHA DE COMPOSIÇÃO DE CUSTOS E FORMAÇÃO DE PREÇOS (Anexo VII da I.N. da SLTI/MPOG n.º 5 de 26/Maio/2017
A6: Contratação de empresa para prestação de serviços continuados de Apoio Logístico, com regime de dedicação exclusiva de mão de obra, com fornecimento de materiais de reposição e atendimento da Universidade Federal Fluminense
A7: Processo 23069.182202/2024-57
A9: Custo total da contratação
A10: ITEM | B10: DISCRIMINAÇÃO DO POSTO | C10: POSTOS | D10: FUNCIONÁRIOS | E10: VALOR MENSAL POR POSTO | F10: TOTAL MENSAL | G10: TOTAL ANUAL | H10: TOTAL 24 MÊS
A11: 1 | B11: Almoxarife | C11: 11 | D11: =C11 -> 11 | E11: ='An IV A Custo G1'!D158 -> 6023.728 | F11: =E11*D11 -> 66261.008 | G11: =12*F11 -> 795132.09 | H11: =24*F11 -> 1590264.2
A12: 2 | B12: Líder de Almoxarife | C12: 1 | D12: =C12 -> 1 | E12: ='An IV A Custo G1'!E158 -> 6565.6985 | F12: =E12*D12 -> 6565.6985 | G12: =12*F12 -> 78788.381 | H12: =24*F12 -> 157576.76
A13: 3 | B13: Auxiliar de Almoxarife | C13: 19 | D13: =C13 -> 19 | E13: ='An IV A Custo G1'!F158 -> 4823.4746 | F13: =E13*D13 -> 91646.017 | G13: =12*F13 -> 1099752.2 | H13: =24*F13 -> 2199504.4
A14: 4 | B14: Líder de Aux. Almoxarife | C14: 1 | D14: =C14 -> 1 | E14: ='An IV A Custo G1'!G158 -> 5365.4451 | F14: =E14*D14 -> 5365.4451 | G14: =12*F14 -> 64385.341 | H14: =24*F14 -> 128770.68
A15: 5 | B15: Copeiro | C15: 2 | D15: =C15 -> 2 | E15: ='An IV A Custo G1'!H158 -> 4633.7723 | F15: =E15*D15 -> 9267.5445 | G15: =12*F15 -> 111210.53 | H15: =24*F15 -> 222421.07
A16: 6 | B16: Líder de Copeiro | C16: 1 | D16: =C16 -> 1 | E16: ='An IV A Custo G1'!I158 -> 6165.6881 | F16: =E16*D16 -> 6165.6881 | G16: =12*F16 -> 73988.257 | H16: =24*F16 -> 147976.51
A17: 7 | B17: Auxiliar de Escriturário | C17: 19 | D17: =C17 -> 19 | E17: ='An IV A Custo G1'!J158 -> 6046.34 | F17: =E17*D17 -> 114880.46 | G17: =12*F17 -> 1378565.5 | H17: =24*F17 -> 2757131
A18: 8 | B18: Guardião de Piscina | C18: 1 | D18: =C18 -> 1 | E18: ='An IV A Custo G2'!D161 -> 4569.6339 | F18: =E18*D18 -> 4569.6339 | G18: =12*F18 -> 54835.607 | H18: =24*F18 -> 109671.21
A19: 9 | B19: Agente Educacional | C19: 18 | D19: =C19 -> 18 | E19: ='An IV A Custo G2'!E161 -> 4562.4785 | F19: =E19*D19 -> 82124.613 | G19: =12*F19 -> 985495.36 | H19: =24*F19 -> 1970990.7
A20: 10 | B20: Mediador de Alunos | C20: 32 | D20: =C20 -> 32 | E20: ='An IV A Custo G2'!F161 -> 4562.4785 | F20: =E20*D20 -> 145999.31 | G20: =12*F20 -> 1751991.8 | H20: =24*F20 -> 3503983.5
A21: 11 | B21: Cuidador de Alunos | C21: 15 | D21: =C21 -> 15 | E21: ='An IV A Custo G2'!G161 -> 4562.4785 | F21: =E21*D21 -> 68437.178 | G21: =12*F21 -> 821246.13 | H21: =24*F21 -> 1642492.3
A22: 12 | B22: Auxiliar de Mecânica | C22: 1 | D22: =C22 -> 1 | E22: ='An IV A Custo G2'!H161 -> 4773.6287 | F22: =E22*D22 -> 4773.6287 | G22: =12*F22 -> 57283.544 | H22: =24*F22 -> 114567.09
A23: 13 | B23: Orientador Educacional | C23: 1 | D23: =C23 -> 1 | E23: ='An IV A Custo G2'!I161 -> 8627.735 | F23: =E23*D23 -> 8627.735 | G23: =12*F23 -> 103532.82 | H23: =24*F23 -> 207065.64
A24: 14 | B24: Encarregado Geral | C24: 1 | D24: =C24 -> 1 | E24: ='An IV A Custo G2'!J161 -> 11624.065 | F24: =E24*D24 -> 11624.065 | G24: =12*F24 -> 139488.78 | H24: =24*F24 -> 278977.57
A25: 15 | B25: Técnico em Manutenção | C25: 1 | D25: =C25 -> 1 | E25: ='An IV A Custo G2'!K161 -> 8023.3611 | F25: =E25*D25 -> 8023.3611 | G25: =12*F25 -> 96280.333 | H25: =24*F25 -> 192560.67
A26: 16 | B26: Bombeiro Hidráulico | C26: 1 | D26: =C26 -> 1 | E26: ='An IV A Custo G2'!L161 -> 6405.6191 | F26: =E26*D26 -> 6405.6191 | G26: =12*F26 -> 76867.429 | H26: =24*F26 -> 153734.86
A27: 17 | B27: Ajudante de Manutenção | C27: 1 | D27: =C27 -> 1 | E27: ='An IV A Custo G2'!M161 -> 4167.4856 | F27: =E27*D27 -> 4167.4856 | G27: =12*F27 -> 50009.828 | H27: =24*F27 -> 100019.66
A28: TOTAL | C28: =SUM(C11:C27) -> 126 | D28: =SUM(D11:D27) -> 126 | F28: =SUM(F11:F27) -> 644904.49 | G28: =12*F28 -> 7738853.9 | H28: =SUM(H11:H27) -> 15477708
