Workbook
Name _\s: #N/A
Name _01: #REF!
Name _01: #REF!
Name _01: #REF!
Name _01_4: #REF!
Name _01_4: #REF!
Name _10Excel_BuiltIn_Print_Area_1_1_1: #REF!
Name _10Excel_BuiltIn_Print_Area_1_1_1: #REF!
Name _11Excel_BuiltIn_Print_Area_1_1_1_1: #REF!
Name _12Excel_BuiltIn_Print_Area_1_1_1_1_1: #REF!
Name _13Excel_BuiltIn_Print_Area_5_1: #REF!
Name _14Excel_BuiltIn_Print_Area_5_1_1: "$#REF!.$A$1:$F$49"
Name _15Excel_BuiltIn_Print_Area_7_1: #REF!
Name _15Excel_BuiltIn_Print_Area_7_1: #REF!
Name _16ILUM_4_1: "$#REF!.$#REF!$#REF!"
Name _17INTE_4_1: "$#REF!.$#REF!$#REF!"
Name _18PARA_4_1: "$#REF!.$#REF!$#REF!"
Name _1CABO_4_1: "$#REF!.$#REF!$#REF!"
Name _2CAIX_4_1: "$#REF!.$#REF!$#REF!"
Name _3CDT_4_1: "$#REF!.$#REF!$#REF!"
Name _4COND_4_1: "$#REF!.$#REF!$#REF!"
Name _5CONE_4_1: "$#REF!.$#REF!$#REF!"
Name _6DIVE_4_1: "$#REF!.$#REF!$#REF!"
Name _7EQUI_4_1: "$#REF!.$#REF!$#REF!"
Name _8Excel_BuiltIn_Print_Area_1: #REF!
Name _8Excel_BuiltIn_Print_Area_1: #REF!
Name _9Excel_BuiltIn_Print_Area_1_1: #REF!
Name _9Excel_BuiltIn_Print_Area_1_1: #REF!
Name _A99990: '[1]Climatização Prédio DECEA'!#REF!
Name _A99990: '[1]Climatização Prédio DECEA'!#REF!
Name _A99999: '[1]Climatização Prédio DECEA'!#REF!
Name _A99999: '[1]Climatização Prédio DECEA'!#REF!
Name _s: #REF!
Name _s: #REF!
Name Á1: #REF!
Name Á1: #REF!
Name AAAA: #REF!
Name AAAA: #REF!
Name ACRES: #REF!
Name ACRES_4: #REF!
Name Área_impressão_IM: #REF!
Name Área_impressão_IM: #REF!
Name Área_impressão_IM_1: #REF!
Name Área_impressão_IM_1: #REF!
Name Área_impressão_IM_1_4: '[2]ICEA - SJC'!#REF!
Name Área_impressão_IM_1_4: '[2]ICEA - SJC'!#REF!
Name Área_impressão_IM_4: #REF!
Name Área_impressão_IM_4: #REF!
Name arredondamento: #REF!
Name arredondamento: #REF!
Name BBBB: #REF!
Name BBBB: #REF!
Name bdi: #REF!
Name BuiltIn_AutoFilter___1: #REF!
Name CABO: "PQ.$#REF!$#REF!"
Name CABO_2: #REF!
Name CABO_2: #REF!
Name CABO_3: "$#REF!.$#REF!$#REF!"
Name CABO_4: "$#REF!.$#REF!$#REF!"
Name CABO_4_1: "$#REF!.$#REF!$#REF!"

Sheet Resumo
A1: (razão social da empresa licitante)
A2: (n.º do CNPJ)
A3: ANEXO VII-A DO EDITAL DE LICITAÇÃO POR PREGÃO ELETRÔNICO N.º 90.057/2024
A4: RESUMO DE ORÇAMENTO PARA EXECUÇÃO DE OBRA POR EMPREITADA POR PREÇO UNITÁRIO
A5: =Orçamento!$A$6 -> SERVIÇO: Contratação de empresa especializada na elaboração de Anteprojeto, Projeto Legal e Executivo, em plataforma BIM (Building Information Modeling), para a execução de edificação para sediar a Moradia Estudantil da Universidade Federal Fluminense de Volta Redonda/RJ
C7: ESTIMADO PELA UFF | E7: PROPOSTO PELA EMPRESA
A8: ITEM | B8: DESCRIÇÃO DO ITEM | C8: % | D8: TOTAL DO ITEM (R$) | E8: % | F8: TOTAL DO ITEM (R$)
C9: SERVIÇO | E9: SERVIÇO
A10: 1. | B10: SERVIÇOS PRELIMINARES AO PROJETO DE ARQUITETURA | C10: =D10/$D$16 -> 0.079432887 | D10: =Orçamento!K12 -> 22417.08 | E10: =F10/$F$16 -> #DIV/0! | F10: =Orçamento!P12 -> 0
A12: 2. | B12: PROJETOS | C12: =D12/$D$16 -> 0.92056711 | D12: =Orçamento!K18 -> 259797.01 | E12: =F12/$F$16 -> #DIV/0! | F12: =Orçamento!P18 -> 0
A16: TOTAL GERAL | C16: =SUM(C10:C15) -> 1 | D16: =SUM(D10:D15) -> 282214.09 | E16: =SUM(E10:E15) -> #DIV/0! | F16: =SUM(F10:F15) -> 0
A17: Local e data: | D17: Identificação (nome e CPF) e assinatura do representante legal da empresa e carimbo com CNPJ
A18: Identificação (nome por extenso) e assinatura do Responsável Técnico pelo Orçamento: | C18: N.º do CREA/CAU/CRT
B19: OBSERVAÇÃO:
B20: A planilha deve ser assinada pelo responsável técnico pela sua confecção (Art. 14 Lei 5.194/66), (identificado pelo nome) e número do CREA/CAU/CRT e pelo representante legal da empresa (identificado pelo nome e CPF), com carimbo do CNPJ.

Sheet Orçamento
A1: (razão social da empresa licitante)
A2: (n.º do CNPJ)
A3: ANEXO VII-B DO EDITAL DE LICITAÇÃO POR PREGÃO ELETRÔNICO N.º 90.057/2024
A5: PLANILHA DE SERVIÇOS E PREÇOS UNITÁRIOS
A6: SERVIÇO: Contratação de empresa especializada na elaboração de Anteprojeto, Projeto Legal e Executivo, em plataforma BIM (Building Information Modeling), para a execução de edificação para sediar a Moradia Estudantil da Universidade Federal Fluminense de Volta Redonda/RJ
E8: VALOR ESTIMADO PELA UFF | L8: PROPOSTO PELA EMPRESA LICITANTE
A9: ITEM | B9: CÓDIGO | C9: BASE DE DADOS | D9: DESCRIÇÃO DO ITEM | E9: UNID. | F9: QUANT. (A) | G9: CUSTO UNITÁRIO (B) | H9: BDI (%) (C) | I9: PREÇO (R$) | L9: BDI (%) (G) | M9: CUSTO UNITÁRIO (H) | N9: PREÇO (R$)
I10: UNITÁRIO (D=BxC) | J10: TOTAL | N10: UNITÁRIO (I=GxH) | O10: TOTAL
J11: SUBITEM (E=AxD) | K11: SERVIÇO (F= Σ E) | O11: SUBITEM (L=JxA) | P11: SERVIÇO (N= Σ L)
A12: 1 | D12: SERVIÇOS PRELIMINARES | K12: =SUM(J13:J17) -> 22417.08 | P12: =SUM(O13:O17) -> 0
A13: 1.1 | B13: MR-VR 18 | C13: Próprio | D13: Ref. da EMOP (01.016.0012-A) - LEVANTAMENTO TOPOGRAFICO,PLANIALTIMETRICO E CADASTRAL,DE TER RENO DE OROGRAFIA NAO ACIDENTADA,VEGETACAO RALA E EDIFICACAO LEVE | E13: HA | F13: 0.0486 | G13: 5265.59 | H13: 26.39 | I13: =TRUNC(G13*(1+(H13/100)),2) -> 6655.17 | J13: =TRUNC(F13*I13,2) -> 323.44
A14: 1.2 | B14: 01.003.0001-A | C14: EMOP | D14: SONDAGEM A PERCUSSAO,EM TERRENO COMUM,COM ENSAIO DE PENETRAC AO,DIAMETRO 3",INCLUSIVE DESLOCAMENTO DENTRO DO CANTEIRO E I NSTALACAO DA SONDA EM CADA FURO | E14: M | F14: 75 | G14: 126.1 | H14: 26.39 | I14: =TRUNC(G14*(1+(H14/100)),2) -> 159.37 | J14: =TRUNC(F14*I14,2) -> 11952.75
A15: 1.3 | B15: MR-VR 19 | C15: Próprio | D15: Ref. da EMOP (01.008.0050-A) - MOBILIZACAO E DESMOBILIZACAO DE EQUIPAMENTO E EQUIPE DE SOND AGEM E PERFURACAO A PERCUSSAO,COM TRANSPORTE ATE 50KM | E15: UN | F15: 1 | G15: 6427.08 | H15: 26.39 | I15: =TRUNC(G15*(1+(H15/100)),2) -> 8123.18 | J15: =TRUNC(F15*I15,2) -> 8123.18
A16: 1.4 | B16: 01.001.0069-A | C16: EMOP | D16: ENSAIO DE INFILTRACAO EM SOLO | E16: UN | F16: 1 | G16: 442.78 | H16: 26.39 | I16: =TRUNC(G16*(1+(H16/100)),2) -> 559.62 | J16: =TRUNC(F16*I16,2) -> 559.62
A17: 1.5 | B17: MR-VR -21 | C17: Próprio | D17: Ref. da SBC (078850) - LAUDO DE RESISTIVIDADE DE SOLO PARA ATERRAMENTO | E17: UN | F17: 1 | G17: 1153.65 | H17: 26.39 | I17: =TRUNC(G17*(1+(H17/100)),2) -> 1458.09 | J17: =TRUNC(F17*I17,2) -> 1458.09
A18: 2 | D18: PROJETOS | K18: =J19+J21 -> 259797.01 | P18: =O19+O21 -> 0
A19: 2.1 | D19: PROJETO DE ARQUITETURA | J19: =J20 -> 110151.26 | O19: =O20 -> 0
A20: 2.1.1 | B20: MR-VR 03 | C20: Próprio | D20: Ref. da EMOP (01.050.0046-A) - PROJETO EXECUTIVO DE ARQUITETURA PARA HABITACAO/EDIFICIOS AT E 6.000M2,INCLUSIVE PROJETO BASICO,APRESENTADO NOS PADROES D A CONTRATANTE,INCLUSIVE AS LEGALIZACOES PERTINENTES,COORDENA CAO E COMPATIBILIZACAO COM OS PROJETOS COMPLEMENTARES | E20: m² | F20: 1719.77 | G20: 50.68 | H20: 26.39 | I20: =TRUNC(G20*(1+(H20/100)),2) -> 64.05 | J20: =TRUNC(F20*I20,2) -> 110151.26
A21: 2.2 | D21: PROJETOS COMPLEMENTARES | J21: =J22+J25+J28+J30+J32+J35+J37+J39+J42+J45 -> 149645.75 | O21: =O22+O25+O28+O30+O32+O35+O37+O39+O42+O45 -> 0
A22: 2.2.1 | D22: PROJETO ESTRUTURAL E FUNDAÇÕES | J22: =SUM(J23:J24) -> 87704.49 | O22: =SUM(O23:O24) -> 0
A23: 2.2.1.1 | B23: MR-VR 01 | C23: Próprio | D23: Ref. da EMOP (01.050.0034-A) -PROJETO EXECUTIVO ESTRUTURAL PARA PREDIOS HABITACIONAIS ATE 500M2,INCLUSIVE PROJETO BASICO,APRESENTADO NOS PADROES DA CONTRATANTE,CONSTANDO DE PLANTAS DE FORMA,ARMACA O E DETALHES | E23: m² | F23: 500 | G23: 43.94 | H23: 26.39 | I23: =TRUNC(G23*(1+(H23/100)),2) -> 55.53 | J23: =TRUNC(F23*I23,2) -> 27765
A24: 2.2.1.2 | B24: MR-VR 02 | C24: Próprio | D24: Ref. da EMOP (01.050.0035-A) PROJETO EXECUTIVO ESTRUTURAL PARA PREDIOS HABITAÇÃO DE 501 ATE 3.000M2,INCLUSIVE PROJETO BASICO,APRESE NTADO NOS PADROES DA CONTRATANTE,CONSTANDO DE PLANTAS DE FOR MA,ARMACAO E DETALHES | E24: m² | F24: 1219.77 | G24: 38.88 | H24: 26.39 | I24: =TRUNC(G24*(1+(H24/100)),2) -> 49.14 | J24: =TRUNC(F24*I24,2) -> 59939.49
A25: 2.2.2 | D25: PROJETO INSTAÇÕES HIDRÁULICAS | J25: =SUM(J26:J27) -> 14496.9 | O25: =SUM(O26:O27) -> 0
A26: 2.2.2.1 | B26: MR-VR 04 | C26: Próprio | D26: Ref. da EMOP (01.050.0104-A) - PROJETO EXECUTIVO DE INSTALACAO HIDRAULICA PARA HABITACOES/E DIFICIOS ATE 500M2,INCLUSIVE PROJETO BASICO,APRESENTADO NOS PADROES DA CONTRATANTE,INCLUSIVE AS LEGALIZACOES PERTINENTES | E26: m² | F26: 500 | G26: 8.7 | H26: 26.39 | I26: =TRUNC(G26*(1+(H26/100)),2) -> 10.99 | J26: =TRUNC(F26*I26,2) -> 5495
A27: 2.2.2.2 | B27: MR-VR 05 | C27: Próprio | D27: Ref. da EMOP (01.050.0105-A) - PROJETO EXECUTIVO DE INSTALACAO HIDRAULICA PARA HABITACOES/E DIFICIOS DE 501 ATE 3.000M2,INCLUSVE PROJETO BASICO,APRESENT ADO NOS PADROES DA CONTRATANTE,INCLUSIVE AS LEGALIZACOES PER TINENTES | E27: m² | F27: 1219.77 | G27: 5.84 | H27: 26.39 | I27: =TRUNC(G27*(1+(H27/100)),2) -> 7.38 | J27: =TRUNC(F27*I27,2) -> 9001.9
A28: 2.2.3 | D28: PROJETO INSTALAÇÕES ESGOTO / ÁGUAS PLUVIAIS | J28: =J29 -> 9407.14 | O28: =O29 -> 0
A29: 2.2.3.1 | B29: MR-VR 06 | C29: Próprio | D29: Ref. da EMOP (01.050.0095-A) - PROJETO EXECUTIVO DE INSTALACAO DE ESGOTO SANITARIO E AGUAS PLUVIAIS PARA HABITACAO/LOTEAMENTO ATE 12.000M2,INCLUSIVE PR OJETO BASICO,APRESENTADO NOS PADROES DA CONTRATANTE,INCLUSIV E AS LEGALIZACOES PERTINENTES | E29: m² | F29: 1719.77 | G29: 4.33 | H29: 26.39 | I29: =TRUNC(G29*(1+(H29/100)),2) -> 5.47 | J29: =TRUNC(F29*I29,2) -> 9407.14
A30: 2.2.4 | D30: PROJETO INSTALAÇÕES ELÉTRICAS | J30: =J31 -> 10335.81 | O30: =O31 -> 0
A31: 2.2.4.1 | B31: MR-VR 07 | C31: Próprio | D31: Ref. da EMOP (01.050.0124-A) - PROJETO EXECUTIVO DE INSTALACAO ELETRICA PARA HABITACAO/LOTE AMENTO ATE 12.000M2,INCLUSIVE PROJETO BASICO,APRESENTADO NOS PADROES DA CONTRATANTE,INCLUSIVE AS LEGALIZACOES PERTINENTE S | E31: m² | F31: 1719.77 | G31: 4.76 | H31: 26.39 | I31: =TRUNC(G31*(1+(H31/100)),2) -> 6.01 | J31: =TRUNC(F31*I31,2) -> 10335.81
A32: 2.2.5 | D32: PROJETO INSTALAÇÕES DE COMBATE A INCÊNDIO / SPDA | J32: =SUM(J33:J34) -> 7983.59 | O32: =SUM(O33:O34) -> 0
A33: 2.2.5.1 | B33: MR-VR 08 | C33: Próprio | D33: Ref. da EMOP (01.050.0055-A) - PROJETO EXECUTIVO DE INSTALACAO DE INCENDIO E SPDA PARA HABI TACOES/EDIFICIOS ATE 500M2,INCLUSIVE PROJETO BASICO,APRESENT ADO NOS PADROES DA CONTRATANTE,INCLUSIVE AS LEGALIZACOES PER TINENTES | E33: m² | F33: 500 | G33: 5.84 | H33: 26.39 | I33: =TRUNC(G33*(1+(H33/100)),2) -> 7.38 | J33: =TRUNC(F33*I33,2) -> 3690
A34: 2.2.5.2 | B34: MR-VR 09 | C34: Próprio | D34: Ref. da EMOP (01.050.0056-0) - PROJETO EXECUTIVO DE INSTALACAO DE INCENDIO E SPDA PARA HABI TACOES/EDIFICIOS DE 501 ATE 3.000M2,INCLUSIVE PROJETO BASICO ,APRESENTADO NOS PADROES DA CONTRATANTE,INCLUSIVE AS LEGALIZ ACOES PERTINENTES | E34: m² | F34: 1219.77 | G34: 2.79 | H34: 26.39 | I34: =TRUNC(G34*(1+(H34/100)),2) -> 3.52 | J34: =TRUNC(F34*I34,2) -> 4293.59
A35: 2.2.6 | D35: PROJETO INSTALAÇÕES MECÂNICAS | J35: =J36 -> 997.29 | O35: =O36 -> 0
A36: 2.2.6.1 | B36: MR-VR 10 | C36: Próprio | D36: Ref. da SCO (SE 24.50.0350) - Fornecimento de projeto executivo de instalacao de mecanica aprovado na concessionaria em habitacoes/edificios com ate 500m2 de area.(desonerado) | E36: m² | F36: 141.26 | G36: 5.59 | H36: 26.39 | I36: =TRUNC(G36*(1+(H36/100)),2) -> 7.06 | J36: =TRUNC(F36*I36,2) -> 997.29
A37: 2.2.7 | D37: PROJETO INSTALAÇÕES AR CONDICIONADO (CLIMATIZAÇÃO) | J37: =J38 -> 168.07 | O37: =O38 -> 0
A38: 2.2.7.1 | B38: MR-VR 11 | C38: Próprio | D38: Ref. da EMOP (01.050.0128-A) - PROJETO EXECUTIVO DE SISTEMA DE AR CONDICIONADO,INCLUSIVE PR OJETO BASICO,APRESENTADO NOS PADROES DA CONTRATANTE,EM PREDI OS COM AREA DE ATE 500M2 | E38: m² | F38: 18.21 | G38: 7.31 | H38: 26.39 | I38: =TRUNC(G38*(1+(H38/100)),2) -> 9.23 | J38: =TRUNC(F38*I38,2) -> 168.07
A39: 2.2.8 | D39: PROJETO CABEAMENTO ESTRUTURADO, LÓGICA E TELEFONIA | J39: =SUM(J40:J41) -> 5633.86 | O39: =SUM(O40:O41) -> 0
A40: 2.2.8.1 | B40: MR-VR 12 | C40: Próprio | D40: Ref. da EMOP (01.050.0083-A) - PROJETO EXECUTIVO DE INSTALACAO DE TELEMATICA PARA HABITACOE S/EDIFICIOS ATE 500M2,INCLUSIVE PROJETO BASICO,APRESENTADO N OS PADROES DA CONTRATANTE,INCLUSIVE AS LEGALIZACOES PERTINEN TES | E40: m² | F40: 500 | G40: 2.78 | H40: 26.39 | I40: =TRUNC(G40*(1+(H40/100)),2) -> 3.51 | J40: =TRUNC(F40*I40,2) -> 1755
A41: 2.2.8.2 | B41: MR-VR 13 | C41: Próprio | D41: Ref. da EMOP (01.050.0084-A) - PROJETO EXECUTIVO DE INSTALACAO DE TELEMATICA PARA HABITACOE S/EDIFICIOS DE 501 ATE 3.000M2,INCLUSIVE PROJETO BASICO,APRE SENTADO NOS PADROES DA CONTRATANTE,INCLUSIVE AS LEGALIZACOES PERTINENTES | E41: m² | F41: 1219.77 | G41: 2.52 | H41: 26.39 | I41: =TRUNC(G41*(1+(H41/100)),2) -> 3.18 | J41: =TRUNC(F41*I41,2) -> 3878.86
A42: 2.2.9 | D42: PROJETO CFTV (SEGURANÇA) | J42: =SUM(J43:J44) -> 5371.56 | O42: =SUM(O43:O44) -> 0
A43: 2.2.9.1 | B43: MR-VR 14 | C43: Próprio | D43: Ref. da EMOP (01.050.0150-A) - PROJETO EXECUTIVO DE INSTALACAO DE SEGURANCA (CFTV E SONORIZ ACAO),ATE 500M2,INCLUSIVE PROJETO BASICO,APRESENTADO NOS PAD ROES DA CONTRATANTE,INCLUSIVE AS LEGALIZACOES PERTINENTES | E43: m² | F43: 500 | G43: 3.18 | H43: 26.39 | I43: =TRUNC(G43*(1+(H43/100)),2) -> 4.01 | J43: =TRUNC(F43*I43,2) -> 2005
A44: 2.2.9.2 | B44: MR-VR 15 | C44: Próprio | D44: Ref. da EMOP (01.050.0151-A) - PROJETO EXECUTIVO DE INSTALACAO DE SEGURANCA (CFTV E SONORIZ ACAO),DE 501 ATE 3000M2,INCLUSIVE PROJETO BASICO,APRESENTADO NOS PADROES DA CONTRATANTE,INCLUSIVE AS LEGALIZACOES PERTIN ENTES | E44: m² | F44: 1219.77 | G44: 2.19 | H44: 26.39 | I44: =TRUNC(G44*(1+(H44/100)),2) -> 2.76 | J44: =TRUNC(F44*I44,2) -> 3366.56
A45: 2.2.10 | D45: PROJETO COMUNICAÇÃO VISUAL | J45: =SUM(J46:J47) -> 7547.04 | O45: =SUM(O46:O47) -> 0
A46: 2.2.10.1 | B46: MR-VR 16 | C46: Próprio | D46: Ref. da EMOP (01.050.0245-A) - PROJETO EXECUTIVO DE PROGRAMACAO VISUAL PARA PREDIOS ESCOLAR ES E/OU ADMINISTRATIVOS ATE 500M2,APRESENTADO NOS PADROES DA CONTRATANTE | E46: m² | F46: 500 | G46: 3.94 | H46: 26.39 | I46: =TRUNC(G46*(1+(H46/100)),2) -> 4.97 | J46: =TRUNC(F46*I46,2) -> 2485
A47: 2.2.10.2 | B47: MR-VR 17 | C47: Próprio | D47: Ref. da EMOP (01.050.0250-A) - PROJETO EXECUTIVO DE PROGRAMACAO VISUAL PARA PREDIOS ESCOLAR ES E/OU ADMINISTRATIVOS,DE 501 ATE 3000M2,APRESENTADO NOS PA DROES DA CONTRATANTE | E47: m² | F47: 1219.77 | G47: 3.29 | H47: 26.39 | I47: =TRUNC(G47*(1+(H47/100)),2) -> 4.15 | J47: =TRUNC(F47*I47,2) -> 5062.04
A48: VALOR TOTAL ESTIMADO PELA UFF | K48: =SUM(K12:K47) -> 282214.09 | L48: VALOR TOTAL PROPOSTO PELA EMPRESA | P48: =SUM(P12:P47) -> 0
A49: Local e data: | G49: Identificação (nome e CPF) e assinatura do representante legal da empresa e carimbo com CNPJ
A50: Identificação (nome por extenso) e assinatura do Responsável Técnico pelo Orçamento: | E50: CREA/CAU/CRT:
A51: OBSERVAÇÕES | B51: BASE DE DADOS: SINAPI - EMOP - SBC - SCO 06/2024 e cotação de mercado - REGIME TRIBUTÁRIO DESONERADO
B52: Incluso BDI desonerado sobre preço unitário de serviços em geral de 26,39%.
B53: A planilha deve ser assinada pelo responsável técnico pela sua confecção (Art. 14 Lei 5.194/66), identificado pelo nome e número do CREA/CAU/CRT e pelo representante legal da empresa (identificado pelo nome e CPF), com carimbo do CNPJ.

Sheet Cronograma Físico Financeiro
A1: (razão social da empresa licitante)
A2: (n.º do CNPJ)
A3: ANEXO VII-C DO EDITAL DE LICITAÇÃO POR PREGÃO ELETRÔNICO N.º 90.057/2024
A4: PLANILHA DE CRONOGRAMA FÍSICO E FINANCEIRO
A5: =Orçamento!$A$6 -> SERVIÇO: Contratação de empresa especializada na elaboração de Anteprojeto, Projeto Legal e Executivo, em plataforma BIM (Building Information Modeling), para a execução de edificação para sediar a Moradia Estudantil da Universidade Federal Fluminense de Volta Redonda/RJ
A7: DESCRIÇÃO | D7: CALENDÁRIO
A8: ITEM | B8: SERVIÇO | C8: Responsável | D8: Mês 01 | J8: Mês 02 | P8: Mês 03 | V8: Mês 04 | AB8: Mês 05 | AH8: Mês 06 | AN8: Mês 07 | AT8: Mês 08
D9: 5 Dias | E9: 10 Dias | F9: 15 Dias | G9: 20 Dias | H9: 25 Dias | I9: 30 Dias | J9: 5 Dias | K9: 10 Dias | L9: 15 Dias | M9: 20 Dias | N9: 25 Dias | O9: 30 Dias | P9: 5 Dias | Q9: 10 Dias | R9: 15 Dias | S9: 20 Dias | T9: 25 Dias | U9: 30 Dias | V9: 5 Dias | W9: 10 Dias | X9: 15 Dias | Y9: 20 Dias | Z9: 25 Dias | AA9: 30 Dias | AB9: 5 Dias | AC9: 10 Dias | AD9: 15 Dias | AE9: 20 Dias | AF9: 25 Dias | AG9: 30 Dias | AH9: 5 Dias | AI9: 10 Dias | AJ9: 15 Dias | AK9: 20 Dias | AL9: 25 Dias | AM9: 30 Dias | AN9: 5 Dias | AO9: 10 Dias | AP9: 15 Dias | AQ9: 20 Dias | AR9: 25 Dias | AS9: 30 Dias | AT9: 5 Dias | AU9: 10 Dias | AV9: 15 Dias | AW9: 20 Dias | AX9: 25 Dias | AY9: 30 Dias
A10: 1 | B10: SERVIÇOS PRELIMINARES | C10: =Orçamento!K12 -> 22417.08
C11: =C10 -> 22417.08 | D11: =D12*C11 -> 22417.08 | J11: 0 | P11: 0 | V11: 0 | AB11: 0 | AH11: 0 | AN11: 0 | AT11: 0
B12: Serviços de sondagem / Levantamento topográfico / Ensaio de infiltração em solo / Laudo de resistividade do solo para aterramento | C12: 1 | D12: 1 | J12: 0 | P12: 0 | V12: 0 | AB12: 0 | AH12: 0 | AN12: 0 | AT12: 0
C13: Contratada
B14: Relatório de análise | C14: Fiscalização
A15: 2 | B15: PROJETOS | C15: =Orçamento!K18 -> 259797.01
A16: 2.a | B16: Anteprojeto (Projeto Básico)* | C16: =C15*C17 -> 51959.402 | D16: =D15/C24 -> 0 | J16: =J15/C24 -> 0 | P16: =P15/C24 -> 0 | V16: =C16*V17 -> 51959.402 | AB16: 0 | AH16: =AH15/C24 -> 0 | AN16: =AN15/C24 -> 0 | AT16: =AT15/C24 -> 0
C17: 0.2 | D17: 0 | J17: 0 | P17: 0 | V17: 1 | AB17: 0 | AH17: 0 | AN17: 0 | AT17: 0
B18: Reunião inicial | C18: Fiscalização/ Contratada
B19: Reuniões de Acompanhamento | C19: Fiscalização/ Contratada
B20: Desenvolvimento | C20: Contratada
B21: Análise da Etapa e Relatório Preliminar | C21: Fiscalização
B22: Correção da Etapa | C22: Contratada
B23: Relatório Final | C23: Fiscalização
A24: 2.b | B24: Projeto Legal | C24: =C15*C25 -> 77939.103 | D24: =SUM(D29:I34) -> 0 | J24: =SUM(J29:O34) -> 0 | P24: =SUM(P29:U34) -> 0 | V24: =SUM(V29:AA34) -> 0 | AB24: =C24*AB25 -> 77939.103 | AH24: =SUM(AH29:AM34) -> 0 | AN24: =SUM(AN29:AS34) -> 0 | AT24: =SUM(AT29:AY34) -> 0
C25: 0.3 | D25: =D24/C24 -> 0 | J25: =J24/C24 -> 0 | P25: =P24/C24 -> 0 | V25: =V24/C24 -> 0 | AB25: 1 | AH25: 0 | AN25: =AN24/C24 -> 0 | AT25: =AT24/C24 -> 0
B26: Reunião de Acompanhamento | C26: Fiscalização e Contratada
B27: Consulta Prévia - Prefeitura | C27: Contratada
B28: Respostas Consulta Prévia | C28: Órgãos Competentes
B29: Desenvolvimento | C29: Contratada
B30: Análise pela fiscalização do PL Prefeitura Municipal antes da tramitação | C30: Fiscalização
B31: Análise pela fiscalização do PL CBMERJ antes da tramitação | C31: Fiscalização
B32: Correção do PL | C32: Contratada
B33: Tramitação Pref. Municipal ** | C33: Contratada
B34: Tramitação outros Orgãos Legais e CBMERJ** | C34: Contratada
A35: 2.c | B35: Projeto Executivo | C35: =C15*C36 -> 129898.51 | D35: =SUM(D38:I41) -> 0 | J35: =SUM(J38:O41) -> 0 | P35: =SUM(P38:U41) -> 0 | V35: =SUM(V38:AA41) -> 0 | AB35: =SUM(AB38:AG41) -> 0 | AH35: 0 | AN35: =SUM(AN38:AS41) -> 0 | AT35: =C35*AT36 -> 129898.51
C36: =1-C25-C17 -> 0.5 | D36: =D35/C35 -> 0 | J36: =J35/$C$44 -> 0 | P36: =P35/$C$44 -> 0 | V36: =V35/$C$44 -> 0 | AB36: =AB35/$C$44 -> 0 | AH36: 0 | AN36: =AN35/$C$44 -> 0 | AT36: 1
B37: Reuniões de Acompanhamento | C37: Fiscalização e Contratada
B38: Desenvolvimento | C38: Contratada
B39: Análise do PE e Relatório Preliminar | C39: Fiscalização
B40: Correção do PE | C40: Contratada
B41: Relatório Final*** | C41: Fiscalização | AM41: =C35 -> 129898.51
A42: Total Geral - Medição s/ administração | C42: =C10+C15 -> 282214.09 | D42: 22417.08 | J42: =J35+J24+J16+J11 -> 0 | P42: =P35+P24+P16+P11 -> 0 | V42: =V11+V16+V24+V35 -> 51959.402 | AB42: =AB11+AB16+AB24+AB35 -> 77939.103 | AH42: =AH35+AH24+AH16+AH11 -> 0 | AN42: =AN35+AN24+AN16+AN11 -> 0 | AT42: =AT11+AT16+AT24+AT35 -> 129898.51
A43: % mensal s/ administração | C43: 1 | D43: =D42/C42 -> 0.079432887 | J43: =J42/C42 -> 0 | P43: =P42/C42 -> 0 | V43: =V42/C42 -> 0.18411342 | AB43: =AB42/C42 -> 0.27617013 | AH43: =AH42/C42 -> 0 | AN43: =AN42/C42 -> 0 | AT43: =AT42/C42 -> 0.46028356
A44: % acumulado s/ administração | C44: 1 | D44: =D43 -> 0.079432887 | J44: =D44+J43 -> 0.079432887 | P44: =J44+P43 -> 0.079432887 | V44: =V43+P44 -> 0.26354631 | AB44: =V44+AB43 -> 0.53971644 | AH44: =AH43+AB44 -> 0.53971644 | AN44: =AN43+AH44 -> 0.53971644 | AT44: =AT43+AN44 -> 1
B46: OBSERVAÇÕES:
A47: * | B47: O termo Projeto Básico consta na Lei 14.133 de 2021 - Lei de Licitações e Contratos Administrativos. Entretanto, a NBR 16.636-2:2017, em seu item 5.2, eliminou a etapa Projeto Básico das fases de elaboração e desenvolvimento de projetos técnicos, mantendo somente a etapa de Anteprojeto. Neste documento, os termos Anteprojeto e Projeto Básico devem ser considerados como equivalentes e referem-se à mesma etapa projetual.
A48: ** | B48: A medição da etapa 2.a - Projeto Legal somente poderá ser realizada após a efetiva aprovação dos projetos nos respectivos órgãos responsáveis.
A49: *** | B49: O relatório final da Fiscalização, assim como a medição referente à etapa 2.c - Projeto Executivo somente ocorrerão após finalização completa do conjunto (Projetos, detalhes, memoriais, memórias de cálculo, lista de materiais e orçamento completo), estando vinculados às aprovações dos Projetos Legais
A51: **** | B51: Em função de possíveis exigências dos referidos órgãos, a Contratada deverá realizar a alteração do Estudo Preliminar fornecido para atendimentos a normas e legislação, desde que não alterem a volumetria do prédio, não ensejando a alteração do contrato. Quaisquer alterações que se façam necessárias deverão ser previamente aprovadas pela Fiscalização.
