Workbook

Sheet MENU PLANILHA
A1: PRÓ-REITORIA DE ADMINISTRAÇÃO
A2: COORDENAÇÃO DE CONTRATOS
A4: Contratação de empresa para prestação de serviços continuados de Apoio Operacional, com regime de dedicação exclusiva de mão de obra, para apoio EAD do CEAD/UFF (Niterói e interior do estado do RJ.)
A5: LOTE 1 - MÃO DE OBRA EAD
E15: dos Equipamentos (preenchimento licitante)

Sheet Anexo II-A Endereço
A1: PRÓ-REITORIA DE ADMINISTRAÇÃO
A2: COORDENAÇÃO DE CONTRATOS
A4: Anexo II - A - ENDEREÇO DAS UNIDADES
A5: Contratação de empresa para prestação de serviços continuados de Apoio Operacional, com regime de dedicação exclusiva de mão de obra, para apoio EAD do CEAD/UFF (Niterói e interior do estado do RJ.)
A7: ITEM | B7: LOCAL | C7: ENDEREÇO
A8: 1 | B8: Pró-Reitoria de Graduação (PROGRAD) | C8: Campus Reitoria, Icaraí, Niterói, RJ;
A9: 2 | B9: Coordenação de Educação a Distância (CEAD), | C9: Campus do Valonguinho, Niterói, RJ;
A10: 3 | B10: Coordenação do Curso de Graduação em Matemática à Distância (GMD/IME) | C10: Campus Universitário do Valonguinho, Centro, Niterói, RJ;
A11: 4 | B11: Coordenação do Curso de Graduação em Tecnologia em Sistemas de Computação | C11: Campus da Praia Vermelha, ingá, Niterói, RJ;
A12: 5 | B12: Coordenação do Curso de Graduação em Letras à Distância | C12: Campus Universitário do Gragoatá, São Domingos, Niterói, RJ;
A13: 6 | B13: Coordenação do Curso de Tecnologia em Segurança Pública | C13: Campus Universitário do Valonguinho, Centro, Niterói, RJ;
A14: 7 | B14: Coordenação do Curso de graduação em Engenharia de Produção | C14: Campus Universitário da Praia Vermelha, Ingá, Niterói, RJ;
A15: 8 | B15: Núcleo Avançado de Novas Tecnologias no Ensino (NANTE/PROEX) | C15: Campus Universitário do Valonguinho, Centro, Niterói, RJ
A16: 9 | B16: Coordenação dos Cursos de Graduação em Administração Pública e Especialização em Gestão Pública, Gestão Pública Municipal e Gestão da Saúde Pública | C16: Escola de Ciências Humanas e Sociais de Volta Redonda - Av. dos Trabalhadores, 420 – Vila Santa Cecília , Volta Redonda, RJ

Sheet Anexo II-B Salários
A1: PRÓ-REITORIA DE ADMINISTRAÇÃO
A2: COORDENAÇÃO DE CONTRATOS
A4: Anexo II - B - Composição dos salários
A5: Contratação de empresa para prestação de serviços continuados de Apoio Operacional, com regime de dedicação exclusiva de mão de obra, para apoio EAD do CEAD/UFF (Niterói e interior do estado do RJ.)
A7: Item | B7: Descrição/Especificação | C7: Quantidade de Pessoal | D7: VALOR DE MERCADO
A8: 1 | B8: Analista de Suporte Técnico em EAD | C8: 3 | D8: 1900
A9: 2 | B9: Analista de Gestão de EAD | C9: 5 | D9: 2500
A10: 3 | B10: Analista de Desenvolvimento de Sistemas com ênfase em plataforma EAD | C10: 6 | D10: 3500
A11: 4 | B11: Analista de Implementação em Soluções de EAD | C11: 3 | D11: 5500
A12: TOTAL | C12: =SUM(C8:C11) -> 17

Sheet Anexo III Uniformes
A1: PRÓ-REITORIA DE ADMINISTRAÇÃO
A2: COORDENAÇÃO DE CONTRATOS
A4: Anexo III - PLANILHA DE COMPOSIÇÃO DE CUSTOS E FORMAÇÃO DE PREÇOS
A5: Contratação de empresa para prestação de serviços continuados de Apoio Operacional, com regime de dedicação exclusiva de mão de obra, para apoio EAD do CEAD/UFF (Niterói e interior do estado do RJ.)
A9: COMPOSIÇÃO DE CUSTO DE UNIFORME PARA TODOS OS POSTOS
A10: ITEM | B10: DISCRIMINAÇÃO UNIFORME | C10: ITEM | D10: QUANT.INICIAL | E10: QT. SEMESTRE | F10: QUANT. ANUAL | G10: VALOR UNITÁRIO | H10: VALOR TOTAL
A11: 1 | B11: Camiseta Golo Polo Branco, 100% algodão, com emblema da empresa fixado no bolso, e a Informação A SERVIÇO DA UFF, na parte de trás | C11: unid. | D11: 3 | E11: 3 | F11: =D11+E11 -> 6 | G11: 42.68 | H11: =G11*F11 -> 256.08
A12: 2 | B12: Crachá com cordão e fototransparente. | C12: unid. | D12: 1 | E12: 0 | F12: =D12+E12 -> 1 | G12: 5.7 | H12: =G12*F12 -> 5.7
B13: Valor anual por funcionário | H13: =SUM(H11:H12) -> 261.78
B14: Valor mensal por funcionário | H14: =H13/12 -> 21.815

Sheet An IV A Custo G1
A1: PRÓ-REITORIA DE ADMINISTRAÇÃO
A2: COORDENAÇÃO DE CONTRATOS
A4: Anexo IV-A - FORMAÇÃO CUSTOS POSTOS GRUPO 1
A5: Contratação de empresa para prestação de serviços continuados de Apoio Operacional, com regime de dedicação exclusiva de mão de obra, para apoio EAD do CEAD/UFF (Niterói e interior do estado do RJ.)
A6: MÃO-DE-OBRA VINCULADA À EXECUÇÃO CONTRATUAL
A7: Dados para composição dos custos referentes a mão de obra
A8: Regime tributário da Licitante | C8: Documento Comprobatório *Anexar Comprovante
A11: ACT/CCT/DCT inclusive aditivos se houver
A12: Entidade Sindical da Empresa
A13: Entidade Sindical dos Empregados
A14: Número de Registro
A15: Início Vigência
A16: Fim Vigência
A18: Descrição Cargos
A19: Dias/Mês | B19: Posto | C19: CBO | D19: Salário
A20: 20.88 | B20: Analista de Suporte Técnico em EAD | C20: 3172 | D20: ='Anexo II-B Salários'!D8 -> 1900
A21: 20.88 | B21: Analista de Gestão de EAD | C21: 2124 | D21: ='Anexo II-B Salários'!D9 -> 2500
A22: 20.88 | B22: Analista de Desenvolvimento de Sistemas com ênfase em plataforma EAD | C22: 3171 | D22: ='Anexo II-B Salários'!D10 -> 3500
A23: 20.88 | B23: Analista de Implementação em Soluções de EAD | C23: 2124 | D23: ='Anexo II-B Salários'!D11 -> 5500
A25: MÓDULO 1 : COMPOSIÇÃO DA REMUNERAÇÃO | D25: Analista Suporte | E25: Analista Gestão | F25: Analista Desenvolvimento | G25: Analista de Implementação
A26: 1 | B26: Composição da Remuneração | D26: Valor(R$) | E26: Valor(R$) | F26: Valor(R$) | G26: Valor(R$)
A27: A | B27: Salário Base | D27: =D20 -> 1900 | E27: =D21 -> 2500 | F27: =D22 -> 3500 | G27: =D23 -> 5500
A28: B | B28: Adicional de Periculosidade
A29: C | B29: Adicional de Insalubridade (20% Grau médio NR 15)
A30: D | B30: Adicional Noturno
A31: E | B31: Adicional de Hora Noturna Reduzida
A32: F | B32: Gratificação Liderança (15% ou 30%) (Cláusula 16ª CCT)
B33: Total de Remuneração | D33: =SUM(D27:D32) -> 1900 | E33: =SUM(E27:E32) -> 2500 | F33: =SUM(F27:F32) -> 3500 | G33: =SUM(G27:G32) -> 5500
A35: MÓDULO 2: ENCARGOS E BENEFÍCIOS ANUAIS, MENSAIS E DIÁRIOS | D35: Analista Suporte | E35: Analista Gestão | F35: Analista Desenvolvimento | G35: Analista de Implementação
A36: Submódulo 2.1 - 13º (décimo terceiro) Salário, Férias e Adicional de Férias | D36: Valor(R$) | E36: Valor(R$) | F36: Valor(R$) | G36: Valor(R$)
A37: A | B37: 13º (décimo terceiro) Salário | D37: =D33*8.33% -> 158.27 | E37: =E33*8.33% -> 208.25 | F37: =F33*8.33% -> 291.55 | G37: =G33*8.33% -> 458.15
A38: B | B38: Férias e Adicional de Férias | D38: =D33*12.1% -> 229.9 | E38: =E33*12.1% -> 302.5 | F38: =F33*12.1% -> 423.5 | G38: =G33*12.1% -> 665.5
B39: Total | D39: =SUM(D37:D38) -> 388.17 | E39: =SUM(E37:E38) -> 510.75 | F39: =SUM(F37:F38) -> 715.05 | G39: =SUM(G37:G38) -> 1123.65
A40: C | B40: Incidência do Submódulo 2.2 - Encargos previdenciários (GPS), FGTS e outras contribuições (Cálculo sobre a remuneração, pois será adotada a Conta Vinculada) | D40: =D33*7.82% -> 148.58 | E40: =E33*7.82% -> 195.5 | F40: =F33*7.82% -> 273.7 | G40: =G33*7.82% -> 430.1
A42: Submódulo 2.2 - Encargos Previdenciários (GPS), Fundo de Garantia por Tempo de Serviço (FGTS) e outras contribuições | D42: Analista Suporte | E42: Analista Gestão | F42: Analista Desenvolvimento | G42: Analista de Implementação
A43: 2.2 | B43: GPS, FGTS e outras contribuições | C43: % | D43: Valor(R$) | E43: Valor(R$) | F43: Valor(R$) | G43: Valor(R$)
A44: A | B44: INSS | C44: 20 | D44: =(D33*($C$44/100)) -> 380 | E44: =(E33*($C$44/100)) -> 500 | F44: =(F33*($C$44/100)) -> 700 | G44: =(G33*($C$44/100)) -> 1100
A45: B | B45: Salário Educação | C45: 2.5 | D45: =(D33*($C$45/100)) -> 47.5 | E45: =(E33*($C$45/100)) -> 62.5 | F45: =(F33*($C$45/100)) -> 87.5 | G45: =(G33*($C$45/100)) -> 137.5
A46: C | B46: Seguro acidente do trabalho | C46: 6 | D46: =(D$33*($C$46/100)) -> 114 | E46: =(E$33*($C$46/100)) -> 150 | F46: =(F$33*($C$46/100)) -> 210 | G46: =(G$33*($C$46/100)) -> 330
A47: D | B47: SESI ou SESC | C47: 1.5 | D47: =(D$33*($C$47/100)) -> 28.5 | E47: =(E$33*($C$47/100)) -> 37.5 | F47: =(F$33*($C$47/100)) -> 52.5 | G47: =(G$33*($C$47/100)) -> 82.5
...

Sheet Anexo IV B - Custo Total MDO
A1: (PLANILHA A SER FORNECIDA PELA PROPONENTE EM PAPEL TIMBRADO)
A2: EMPRESA (nome da empresa)
A3: CNPJ N.º : (n.º do CNPJ)
A4: ANEXO IV- B
A5: PLANILHA DE COMPOSIÇÃO DE CUSTOS E FORMAÇÃO DE PREÇOS (Anexo VII da I.N. da SLTI/MPOG n.º 5 de 26/Maio/2017
A6: Contratação de empresa para prestação de serviços continuados de Apoio Operacional, com regime de dedicação exclusiva de mão de obra, para apoio EAD do CEAD/UFF (Niterói e interior do estado do RJ.)
A7: Processo 23069.177733/2024-28
A9: Custo total da contratação
A10: ITEM | B10: DISCRIMINAÇÃO DO POSTO | C10: POSTOS | D10: FUNCIONÁRIOS | E10: VALOR MENSAL POR POSTO | F10: TOTAL MENSAL | G10: TOTAL ANUAL | H10: TOTAL 24 MÊS
A11: 1 | B11: ='Anexo II-B Salários'!B8 -> Analista de Suporte Técnico em EAD | C11: ='Anexo II-B Salários'!C8 -> 3 | D11: =C11 -> 3 | E11: ='An IV A Custo G1'!D155 -> 5197.1866 | F11: =E11*C11 -> 15591.56 | G11: =12*F11 -> 187098.72 | H11: =24*F11 -> 374197.44
A12: 2 | B12: ='Anexo II-B Salários'!B9 -> Analista de Gestão de EAD | C12: ='Anexo II-B Salários'!C9 -> 5 | D12: =C12 -> 5 | E12: ='An IV A Custo G1'!E155 -> 6497.9748 | F12: =E12*C12 -> 32489.874 | G12: =12*F12 -> 389878.49 | H12: =24*F12 -> 779756.97
A13: 3 | B13: ='Anexo II-B Salários'!B10 -> Analista de Desenvolvimento de Sistemas com ênfase em plataforma EAD | C13: ='Anexo II-B Salários'!C10 -> 6 | D13: =C13 -> 6 | E13: ='An IV A Custo G1'!F155 -> 8479.1943 | F13: =E13*C13 -> 50875.166 | G13: =12*F13 -> 610501.99 | H13: =24*F13 -> 1221004
A14: 4 | B14: ='Anexo II-B Salários'!B11 -> Analista de Implementação em Soluções de EAD | C14: ='Anexo II-B Salários'!C11 -> 3 | D14: =C14 -> 3 | E14: ='An IV A Custo G1'!G155 -> 12967.563 | F14: =E14*C14 -> 38902.688 | G14: =12*F14 -> 466832.26 | H14: =24*F14 -> 933664.52
A15: TOTAL | C15: =SUM(C11:C14) -> 17 | D15: =SUM(D11:D14) -> 17 | F15: =SUM(F11:F14) -> 137859.29 | G15: =12*F15 -> 1654311.5 | H15: =SUM(H11:H14) -> 3308622.9
