Workbook

Sheet MENU PLANILHA
A1: PRÓ-REITORIA DE ADMINISTRAÇÃO
A2: COORDENAÇÃO DE CONTRATOS
A4: Contratação de empresa para prestação de serviços continuados de Manutenção Predial, com regime de dedicação exclusiva de mão de obra, com fornecimento de materiais de reposição e atendimento da Universidade Federal Fluminense
A5: LOTE 1 - MÃO DE OBRA MANUTENÇÃO PREDIAL
E15: dos Equipamentos (preenchimento licitante)
E22: x

Sheet Anexo II-A Endereço
A1: PRÓ-REITORIA DE ADMINISTRAÇÃO
A2: COORDENAÇÃO DE CONTRATOS
A4: Anexo II - A - ENDEREÇO DAS UNIDADES
A5: Contratação de empresa para prestação de serviços continuados de Manutenção Predial, com regime de dedicação exclusiva de mão de obra, com fornecimento de materiais de reposição e atendimento da Universidade Federal Fluminense
A7: Item | B7: Descrição | C7: Prédio | D7: Endereço
A8: 1 | B8: Reitoria | C8: 1 | D8: Prédio Principal: 8 andares | E8: Rua Miguel de Frias, 9 - Icaraí - Niterói - RJ
C9: 2 | D9: Perícia Médica | E9: Av. Miguel de Frias, 77 - Icaraí - Niterói
B10: Campus do Valonguinho | C10: 3 | D10: Escola de Extensão, Protocolo e outros | E10: Av. Visconde do Rio Branco s/n.º, bairro Centro, Niterói - RJ
C11: 4 | D11: Biblioteca Central e DCE
C12: 5 | D12: Facu. Administração (antiga matematica)
C13: 6 | D13: Dispensário “Mazine Bueno”
C14: 7 | D14: Núcleo de Animais de Laboratório - NAL
C15: 8 | D15: LANTE
C16: 9 | D16: Faculdades de Nutrição e Administração
C17: 10 | D17: Faculdade de Odontologia
C18: 11 | D18: Pórtico de Entrada Valonguinho
B19: Complexo Instituto de Química | C19: 12 | D19: Instituto de Química | E19: Av. Visconde do Rio Branco s/n.º, bairro Centro, Niterói - RJ
C20: 13 | D20: Instituto de Química
B21: Complexo Inst. Biomédico | C21: 14 | D21: Bloco B - DST | E21: Av. Visconde do Rio Branco s/n.º, bairro Centro, Niterói - RJ
C22: 15 | D22: Bloco C - Salas de Aula
C23: 16 | D23: Bloco D - Anatômico
C24: 17 | D24: Bloco E - Pesquisas
C25: 18 | D25: Bloco A - Prédio Central | E25: Rua Professor Hernani Mello, 101 São Domingos Niterói – RJ
B26: Complexo Inst. Biologia | C26: 19 | D26: Instituto de Biologia Bloco Principal | E26: Av. Visconde do Rio Branco s/n.º, bairro Centro, Niterói - RJ
C27: 20 | D27: Instituto de Biologia Bloco Anexo
C28: 21 | D28: Prédio Salas de Aulas Biologia (Antigo Inst. Física)
B29: Campus do Gragoatá | C29: 23 | D29: Bloco D - Faculdade de Educação | E29: Av. Visconde do Rio Branco s/n.º, bairro de São Domingos, Niterói - RJ
C30: 24 | D30: Bloco E - Escola de Serviço Social
C31: 25 | D31: Bloco F - Faculdade de Economia
C32: 26 | D32: Bloco G - Instituto de Matemática e Estatística e Faculdade de Turismo
C33: 27 | D33: Bloco H - Faculdade de Turismo e Hotelaria
C34: 28 | D34: Biologia NOVO Bloco M - Gragoatá
C35: 29 | D35: Superintendência de Documentação - SDC
C36: 30 | D36: Faculdade de Educação Física - FACDEF
C37: 31 | D37: Pórtico Faculdade de Educação Física
C38: 32 | D38: Pórtico Principal Campus Gragoatá
B39: Complexo ICHF | C39: 33 | D39: Bloco N - Instituto de Ciências Humanas e Filosofia - ICHF | E39: R. Alexandre Moura, 8 - São Domingos, Niterói - RJ, 24210-200
C40: 34 | D40: Bloco O - Instituto de Ciências Humanas e Filosofia - ICHF
C41: 35 | D41: Bloco P - Instituto de Ciências Humanas e Filosofia - ICHF
B42: Complexo Instituto de Letras | C42: 36 | D42: Bloco B - Instituto de Letras | E42: R. Alexandre Moura, 8 - São Domingos, Niterói - RJ, 24210-200
...

Sheet Anexo II-B Salários
A1: PRÓ-REITORIA DE ADMINISTRAÇÃO
A2: COORDENAÇÃO DE CONTRATOS
A4: Anexo II - B - Composição dos salários
A5: Contratação de empresa para prestação de serviços continuados de Manutenção Predial, com regime de dedicação exclusiva de mão de obra, com fornecimento de materiais de reposição e atendimento da Universidade Federal Fluminense
A7: Item | B7: Descrição/Especificação | C7: CCT RJ00738/2024 | D7: Quantidade | F7: Total de Postos | G7: Funcionários
D8: Niterói | E8: Interior
A9: 1 | B9: Supervisor | C9: 3976.85 | D9: 4 | E9: 2 | F9: =SUM(D9:E9) -> 6 | G9: =F9 -> 6
A10: 2 | B10: Técnico em Eletrotécnica | C10: 3236.16 | D10: 4 | E10: 0 | F10: =SUM(D10:E10) -> 4 | G10: =F10 -> 4
A11: 3 | B11: Eletricista de Manutenção | C11: 2380.35 | D11: 9 | E11: 10 | F11: =SUM(D11:E11) -> 19 | G11: =F11 -> 19
A12: 4 | B12: Meio Oficial de Elétrica | C12: 1739.77 | D12: 9 | E12: 0 | F12: =SUM(D12:E12) -> 9 | G12: =F12 -> 9
A13: 5 | B13: Eletricista de Manutenção (plantão) | C13: 2380.35 | D13: 1 | E13: 0 | F13: =SUM(D13:E13) -> 1 | G13: 2
A14: 6 | B14: Bombeiro Hidráulico | C14: 2380.35 | D14: 9 | E14: 10 | F14: =SUM(D14:E14) -> 19 | G14: =F14 -> 19
A15: 7 | B15: Bombeiro Hidráulico (plantão) | C15: 2380.35 | D15: 1 | E15: 0 | F15: =SUM(D15:E15) -> 1 | G15: 2
A16: 8 | B16: Carpinteiro | C16: 2347.34 | D16: 3 | E16: 0 | F16: =SUM(D16:E16) -> 3 | G16: =F16 -> 3
A17: 9 | B17: Pedreiro | C17: 2347.34 | D17: 6 | E17: 10 | F17: =SUM(D17:E17) -> 16 | G17: =F17 -> 16
A18: 10 | B18: Gesseiro | C18: 2347.34 | D18: 1 | E18: 0 | F18: =SUM(D18:E18) -> 1 | G18: =F18 -> 1
A19: 11 | B19: Serralheiro | C19: 2347.34 | D19: 3 | E19: 0 | F19: =SUM(D19:E19) -> 3 | G19: =F19 -> 3
A20: 12 | B20: Vidraceiro | C20: 2347.34 | D20: 1 | E20: 0 | F20: =SUM(D20:E20) -> 1 | G20: =F20 -> 1
A21: 13 | B21: Soldador | C21: 2512.05 | D21: 1 | E21: 0 | F21: =SUM(D21:E21) -> 1 | G21: =F21 -> 1
A22: 14 | B22: Mecânico de Refrigeração | C22: 2380.35 | D22: 8 | E22: 0 | F22: =SUM(D22:E22) -> 8 | G22: =F22 -> 8
A23: 15 | B23: Pintor | C23: 2347.34 | D23: 6 | E23: 0 | F23: =SUM(D23:E23) -> 6 | G23: =F23 -> 6
A24: 16 | B24: Ajudantes (serventes) | C24: 1594.67 | D24: 24 | E24: 10 | F24: =SUM(D24:E24) -> 34 | G24: =F24 -> 34
A25: 17 | B25: Motorista Cat. B | C25: 2582.08 | D25: 3 | E25: 0 | F25: =SUM(D25:E25) -> 3 | G25: =F25 -> 3
A26: 18 | B26: Assistente técnico | C26: 2553.64 | D26: 1 | E26: 0 | F26: =SUM(D26:E26) -> 1 | G26: =F26 -> 1
A27: 19 | B27: Oficial de Manutenção Predial | C27: 2347.34 | D27: 0 | E27: 3 | F27: =SUM(D27:E27) -> 3 | G27: =F27 -> 3
A28: 20 | B28: Técnico de Segurança do Trabalho | C28: 3236.16 | D28: 1 | E28: 0 | F28: =SUM(D28:E28) -> 1 | G28: =F28 -> 1
A29: TOTAL | D29: =SUM(D9:D28) -> 95 | E29: =SUM(E9:E28) -> 45 | F29: =SUM(F9:F28) -> 140 | G29: =SUM(G9:G28) -> 142

Sheet Anexo II-C Distribuição Postos
A1: PRÓ-REITORIA DE ADMINISTRAÇÃO
A2: COORDENAÇÃO DE CONTRATOS
A4: Anexo II - C - DISTRIBUIÇÃO DOS POSTOS POR LOCALIDADE
A5: Contratação de empresa para prestação de serviços continuados de Manutenção Predial, com regime de dedicação exclusiva de mão de obra, com fornecimento de materiais de reposição e atendimento da Universidade Federal Fluminense
A7: Item | B7: Discriminação do Posto | C7: Carga Horária | D7: Niterói | E7: Volta Redonda | F7: Angra dos Reis | G7: Petrópolis | H7: Nova Friburgo | I7: Rio das Ostras | J7: Macaé | K7: Campos dos Goytacazes | L7: Santo Antônio de Pádua
A9: 1 | B9: Supervisor | C9: 44h | D9: 4 | E9: 1 | F9: 0 | G9: 0 | H9: 0 | I9: 0 | J9: 0 | K9: 1 | L9: 0
A10: 2 | B10: Técnico em Eletrotécnica | C10: 44h | D10: 4 | E10: 0 | F10: 0 | G10: 0 | H10: 0 | I10: 0 | J10: 0 | K10: 0 | L10: 0
A11: 3 | B11: Eletricista de Manutenção | C11: 44h | D11: 9 | E11: 2 | F11: 1 | G11: 1 | H11: 1 | I11: 1 | J11: 1 | K11: 2 | L11: 1
A12: 4 | B12: Meio Oficial de Elétrica | C12: 44h | D12: 9 | E12: 0 | F12: 0 | G12: 0 | H12: 0 | I12: 0 | J12: 0 | K12: 0 | L12: 0
A13: 5 | B13: Eletricista de Manutenção (plantonista) | C13: 12x36h Diurno | D13: 1 | E13: 0 | F13: 0 | G13: 0 | H13: 0 | I13: 0 | J13: 0 | K13: 0 | L13: 0
A14: 6 | B14: Bombeiro Hidráulico | C14: 44h | D14: 9 | E14: 2 | F14: 1 | G14: 1 | H14: 1 | I14: 1 | J14: 1 | K14: 2 | L14: 1
A15: 7 | B15: Bombeiro Hidráulico (plantonista) | C15: 12x36h Diurno | D15: 1 | E15: 0 | F15: 0 | G15: 0 | H15: 0 | I15: 0 | J15: 0 | K15: 0 | L15: 0
A16: 8 | B16: Carpinteiro | C16: 44h | D16: 3 | E16: 0 | F16: 0 | G16: 0 | H16: 0 | I16: 0 | J16: 0 | K16: 0 | L16: 0
A17: 9 | B17: Pedreiro | C17: 44h | D17: 6 | E17: 2 | F17: 1 | G17: 1 | H17: 1 | I17: 1 | J17: 1 | K17: 2 | L17: 1
A18: 10 | B18: Gesseiro | C18: 44h | D18: 1 | E18: 0 | F18: 0 | G18: 0 | H18: 0 | I18: 0 | J18: 0 | K18: 0 | L18: 0
A19: 11 | B19: Serralheiro | C19: 44h | D19: 3 | E19: 0 | F19: 0 | G19: 0 | H19: 0 | I19: 0 | J19: 0 | K19: 0 | L19: 0
A20: 12 | B20: Vidraceiro | C20: 44h | D20: 1 | E20: 0 | F20: 0 | G20: 0 | H20: 0 | I20: 0 | J20: 0 | K20: 0 | L20: 0
... A28: 20 | B28: Técnico de Segurança do Trabalho | C28: 20h | D28: 1 | E28: 0 | F28: 0 | G28: 0 | H28: 0 | I28: 0 | J28: 0 | K28: 0 | L28: 0
A29: Total | D29: =SUM(D9:D28) -> 95 | E29: =SUM(E9:E28) -> 9 | F29: =SUM(F9:F28) -> 5 | G29: =SUM(G9:G28) -> 5 | H29: =SUM(H9:H28) -> 4 | I29: =SUM(I9:I28) -> 4 | J29: =SUM(J9:J28) -> 5 | K29: =SUM(K9:K28) -> 9 | L29: =SUM(L9:L28) -> 4

Sheet Anexo III-A Equipamentos
A1: PRÓ-REITORIA DE ADMINISTRAÇÃO
A2: COORDENAÇÃO DE CONTRATOS
A4: Anexo III - A - PLANILHA DE COMPOSIÇÃO DE CUSTOS E FORMAÇÃO DE PREÇOS
A5: Contratação de empresa para prestação de serviços continuados de Manutenção Predial, com regime de dedicação exclusiva de mão de obra, com fornecimento de materiais de reposição e atendimento da Universidade Federal Fluminense
A7: ITEM | B7: DESCRIÇÃO | C7: QTDE. | D7: CUSTO UNITÁRIO | E7: CUSTO TOTAL
A8: 1 | B8: Alavanca de Aço de 1” x 1,50m | C8: 13 | D8: 188.26 | E8: =C8*D8 -> 2447.38
A9: 2 | B9: Alicate Volt-Amperímetro Digital 1000A - Minipa, Fluke ou similar | C9: 13 | D9: 119.15 | E9: =C9*D9 -> 1548.95
A10: 3 | B10: Alicate amperimetro com função NCV | C10: 4 | D10: 61.77 | E10: =C10*D10 -> 247.08
A11: 4 | B11: Alicate Bomba d’Água 10” | C11: 16 | D11: 45 | E11: =C11*D11 -> 720
A12: 5 | B12: Alicate Cortador, Descascador e Desencapador de Fios | C12: 13 | D12: 45.01 | E12: =C12*D12 -> 585.13
A13: 6 | B13: Alicate Corta-Vergalhão | C13: 3 | D13: 86.24 | E13: =C13*D13 -> 258.72
A14: 7 | B14: Alicate de Bico Isolado 1/2” cano reto 6” | C14: =13+8 -> 21 | D14: 24.35 | E14: =C14*D14 -> 511.35
A15: 8 | B15: Alicate de Corte Isolado 1000V 8” | C15: 13 | D15: 30.66 | E15: =C15*D15 -> 398.58
A16: 9 | B16: Alicate de Corte Diagonal 6” | C16: =13+8 -> 21 | D16: 29.26 | E16: =C16*D16 -> 614.46
A17: 10 | B17: Alicate de Corte frontal 1kv | C17: 8 | D17: 26.33 | E17: =C17*D17 -> 210.64
A18: 11 | B18: Alicate de Pressão 10" | C18: =16+8 -> 24 | D18: 20.49 | E18: =C18*D18 -> 491.76
A19: 12 | B19: Alicate de pressão lacrador(cobre) | C19: 8 | D19: 29.6 | E19: =C19*D19 -> 236.8
A20: 13 | B20: Alicate Lokring Tubos Cobre E Aluminio Com Mordentes Linha Branca 1/4 A 5/16 | C20: 2 | D20: 437.5 | E20: =C20*D20 -> 875
A21: 14 | B21: Alicate para Prensar Terminais 1,5 - 16 mm² | C21: 13 | D21: 132.94 | E21: =C21*D21 -> 1728.22
A22: 15 | B22: Alicate Prensa Terminal 10 - 300mm² | C22: 1 | D22: 207.73 | E22: =C22*D22 -> 207.73
A23: 16 | B23: Alicate para Anéis Trava Externa | C23: 8 | D23: 42.74 | E23: =C23*D23 -> 341.92
A24: 17 | B24: Alicate para Anéis trava Internos | C24: 8 | D24: 20.42 | E24: =C24*D24 -> 163.36
A25: 18 | B25: Alicate Prensa Terminal Hidráulico 10-300 mm² | C25: 1 | D25: 207.73 | E25: =C25*D25 -> 207.73
A26: 19 | B26: Alicate Universal 8” | C26: =6+8 -> 14 | D26: 24.93 | E26: =C26*D26 -> 349.02
A27: 20 | B27: Alicate Universal Isolado 1000V 8” | C27: 13 | D27: 34.08 | E27: =C27*D27 -> 443.04
A28: 21 | B28: Anemometro digital | C28: 1 | D28: 133.33 | E28: =C28*D28 -> 133.33
A29: 22 | B29: Arco de Serra Manual Fixo 12” | C29: =13+8 -> 21 | D29: 19.92 | E29: =C29*D29 -> 418.32
A30: 23 | B30: Balança Digital Refrigeracao 100Kg | C30: 1 | D30: 887 | E30: =C30*D30 -> 887
A31: 24 | B31: Bandeja Grande para Pintura 23cm | C31: 24 | D31: 4.77 | E31: =C31*D31 -> 114.48
A32: 25 | B32: Bolsa de Ferramentas de Lona 33 cm x 50 cm x 27 cm | C32: 30 | D32: 82 | E32: =C32*D32 -> 2460
A33: 26 | B33: Bomba Vácuo 12 Cfm Duplo Estagio | C33: 4 | D33: 848.33 | E33: =C33*D33 -> 3393.32
A34: 27 | B34: Broca Escalonada para Chapas 5-35 mm / 6-30 mm | C34: 2 | D34: 104.67 | E34: =C34*D34 -> 209.34
A35: 28 | B35: Broxa Retangular para Pintura 190 x 76 mm | C35: 24 | D35: 6.97 | E35: =C35*D35 -> 167.28
A36: 29 | B36: Cabo Extensor Para Rolo De Pintura De 3 Metros | C36: 6 | D36: 29.11 | E36: =C36*D36 -> 174.66
A37: 30 | B37: Caixa de Ferramentas com 7 Gavetas em aço | C37: 8 | D37: 137.93 | E37: =C37*D37 -> 1103.44
A38: 31 | B38: Carrinho de Mão para Pedreiro | C38: 16 | D38: 135.67 | E38: =C38*D38 -> 2170.72
A39: 32 | B39: Carrinho Plataforma Capacidade Mínima 300 kg | C39: 1 | D39: 1260.23 | E39: =C39*D39 -> 1260.23
A40: 33 | B40: Cavadeira Articulada com Cabo de Eucalipto 110 cm | C40: 13 | D40: 29.57 | E40: =C40*D40 -> 384.41
A41: 34 | B41: Cavadeira Reta com Cabo | C41: 13 | D41: 28.8 | E41: =C41*D41 -> 374.4
... A148: 141 | B148: Marreta Oitavada 1.000 g | C148: 13 | D148: 23.59 | E148: =C148*D148 -> 306.67
...

Sheet Anexo III-B Uniformes
A1: PRÓ-REITORIA DE ADMINISTRAÇÃO
A2: COORDENAÇÃO DE CONTRATOS
A4: Anexo III - B - PLANILHA DE COMPOSIÇÃO DE CUSTOS E FORMAÇÃO DE PREÇOS
A5: Contratação de empresa para prestação de serviços continuados de Manutenção Predial, com regime de dedicação exclusiva de mão de obra, com fornecimento de materiais de reposição e atendimento da Universidade Federal Fluminense
A7: 1. UNIFORME: SUPERVISOR
A8: Item | B8: Descrição | C8: Quantidade Anual | D8: Unidade | E8: Custo | G8: Conjunto de uniforme
E9: Unitário | F9: Total Anual por Funcionário
A10: 1.1 | B10: Calça comprida jeans, modelo tradicional, com bolsos laterais e traseiros, fechamento com botão e zíper | C10: 6 | D10: unid. | E10: 55.67 | F10: =E10*C10 -> 334.02 | G10: Cada conjunto de uniforme será composto por: 3 calças, 3 camisas, 5 pares de meia, 1 capa de chuva e 1 crachá.
A11: 1.2 | B11: Camisa polo, malha piquet, com emblema da empresa e os dizeres A SERVIÇO DA UFF | C11: 6 | D11: unid. | E11: 34 | F11: =E11*C11 -> 204
A12: 1.3 | B12: Capa de chuva plástica, com faixas fluorescentes, material pvc, uso profissional. | C12: 2 | D12: unid. | E12: 17.33 | F12: =E12*C12 -> 34.66
A13: 1.4 | B13: Crachá funcional, em pvc, com foto, nome e cargo. | C13: 1 | D13: unid. | E13: 4.11 | F13: =E13*C13 -> 4.11
A14: 1.5 | B14: Par de meia, mínimo de 70% algodão, cano médio | C14: 10 | D14: par | E14: 10.55 | F14: =E14*C14 -> 105.5
A15: Custo Anual por Funcionário | F15: =SUM(F10:F14) -> 682.29
A16: Custo Mensal com Uniforme por Funcionário | F16: =F15/12 -> 56.8575
A17: 2. EPIs: SUPERVISOR
A18: Item | B18: Descrição | C18: Quantidade por Funcionário | D18: Prazo para Troca | E18: Quantidade Anual por Funcionário | F18: Valor unitário estimado | G18: Valor total anual
A19: 2.1 | B19: Boné com proteção de pescoço | C19: 1 | D19: 12 meses | E19: 1 | F19: 9.87 | G19: =E19*F19 -> 9.87
A20: 2.2 | B20: Bota de Segurança para eletricista confeccionada em couro, sem componentes metálicos, com biqueira de composite e solado em PU bidensidade injetado | C20: 1 | D20: 12 meses | E20: 1 | F20: 122.31 | G20: =E20*F20 -> 122.31
A21: 2.3 | B21: Capacete de segurança classe B aba total com jugular | C21: 1 | D21: 12 meses | E21: 1 | F21: 32.33 | G21: =E21*F21 -> 32.33
A22: 2.4 | B22: Cinto de segurança, tipo PQD, com regulagem de cintura, coxas e suspensório e com 3 argolas (UN) | C22: 1 | D22: 24 meses | E22: 1 | F22: 154.55 | G22: =E22*F22 -> 154.55
A23: 2.5 | B23: Luva de algodão tricotada pigmentada (PAR) | C23: 4 | D23: 1 mês | E23: =48 -> 48 | F23: 2.59 | G23: =E23*F23 -> 124.32
A24: 2.6 | B24: Luva de segurança de tipo cobertura, em vaqueta e raspa (PAR) | C24: 1 | D24: 12 meses | E24: 1 | F24: 10.41 | G24: =E24*F24 -> 10.41
A25: 2.7 | B25: Luva de vaqueta de couro mista, cano curto (PAR) | C25: 1 | D25: 12 meses | E25: 1 | F25: 10.41 | G25: =E25*F25 -> 10.41
A26: 2.8 | B26: Luva isolante para eletricista, classe 0, máxima tensão de uso 1.000V (PAR) | C26: 1 | D26: 12 meses | E26: 1 | F26: 215.33 | G26: =E26*F26 -> 215.33
A27: 2.9 | B27: Óculos de segurança incolor para proteção dos olhos contra impactos de partículas volantes e contra raios ultravioletas | C27: 1 | D27: 12 meses | E27: 1 | F27: 3.06 | G27: =E27*F27 -> 3.06
A28: 2.10 | B28: Protetor auditivo do tipo inserção pré-moldado, de silicone com cordão | C28: 1 | D28: 2 meses | E28: 6 | F28: 0.89 | G28: =E28*F28 -> 5.34
A29: 2.11 | B29: Protetor auditivo tipo concha com parte externa em ABS, haste de sustentação em aço inoxidável, preenchido com espumas e almofadas desmontáveis. | C29: 1 | D29: 12 meses | E29: 1 | F29: 28.05 | G29: =E29*F29 -> 28.05
A30: 2.12 | B30: Respirador purificador de ar tipo peças semifaciais filtrantes para partículas, no formato dobrável, tipo PFF2, classe S, com válvula de exalação | C30: 4 | D30: 1 mês | E30: 48 | F30: 1.61 | G30: =E30*F30 -> 77.28
A31: 2.13 | B31: Talabarte duplo para cinto de segurança com elástico e absorvedor de energia (UN) | C31: 1 | D31: 24 meses | E31: 1 | F31: R$ 125,20 | G31: =E31*F31 -> 125.2
A32: 2.14 | B32: Trava queda para corda até 12mm (UN) | C32: 1 | D32: 24 meses | E32: 1 | F32: 123.33 | G32: =E32*F32 -> 123.33
A33: Custo Anual por funcionário | G33: =SUM(G19:G32) -> 1041.79
A34: Custo Mensal com EPIs por Funcionário | G34: =G33/12 -> 86.815833
A35: Custo Mensal com Uniformes e EPIs por Funcionário | G35: =G34+F16 -> 143.67333
A38: 1. UNIFORME: ELETRICISTA E MEIO OFICIAL DE ELÉTRICA
A39: Item | B39: Descrição | C39: Quantidade Anual | D39: Unidade | E39: Custo | G39: Conjunto de uniforme
E40: Unitário | F40: Total Anual por Funcionário
A41: 1.1 | B41: Calça comprida, material brim, modelo unissex, com elástico e cordão na cintura, 2 bolsos laterais e 2 traseiros | C41: 6 | D41: unid. | E41: 40.86 | F41: =E41*C41 -> 245.16 | G41: Cada conjunto de uniforme será composto por: 3 calças, 3 camisetas, 5 pares de meia, 1 capa de chuva, 2 jalecos e 1 crachá.
A42: 1.2 | B42: Camiseta, material 100% algodão, tipo manga curta, gola redonda, identificada com logomarca da empresa os dizeres A SERVIÇO DA UFF | C42: 6 | D42: unid. | E42: 19.42 | F42: =E42*C42 -> 116.52
A43: 1.3 | B43: Capa de chuva plástica, com faixas fluorescentes, material pvc, uso profissional. | C43: 2 | D43: unid. | E43: 17.33 | F43: =E43*C43 -> 34.66
A44: 1.4 | B44: Crachá funcional, em pvc, com foto, nome e cargo. | C44: 1 | D44: unid. | E44: 4.11 | F44: =E44*C44 -> 4.11
...

Sheet An IV A Custo G1
A1: PRÓ-REITORIA DE ADMINISTRAÇÃO
A2: COORDENAÇÃO DE CONTRATOS
A4: Anexo IV-A - FORMAÇÃO CUSTOS POSTOS GRUPO 1
A5: Contratação de empresa para prestação de serviços continuados de Manutenção Predial, com regime de dedicação exclusiva de mão de obra, com fornecimento de materiais de reposição e atendimento da Universidade Federal Fluminense
A6: MÃO-DE-OBRA VINCULADA À EXECUÇÃO CONTRATUAL
A7: Dados para composição dos custos referentes a mão de obra
A8: Regime tributário da Licitante | C8: Documento Comprobatório *Anexar Comprovante
A11: ACT/CCT/DCT inclusive aditivos se houver
A12: Entidade Sindical da Empresa
A13: Entidade Sindical dos Empregados
A14: Número de Registro
A15: Início Vigência
A16: Fim Vigência
A18: Descrição Cargos
A19: Dias/Mês | B19: Posto | C19: CBO | D19: Salário
A20: 20.88 | B20: Supervisor | C20: 7102-05 | D20: ='Anexo II-B Salários'!C9 -> 3976.85
A21: 20.88 | B21: Técnico em Eletrotécnica | C21: 3131-30 | D21: ='Anexo II-B Salários'!C10 -> 3236.16
A22: 20.88 | B22: Eletricista de Manutenção | C22: 9511-05 | D22: ='Anexo II-B Salários'!C11 -> 2380.35
A23: 20.88 | B23: Meio Oficial de Elétrica | C23: 7156-15 | D23: ='Anexo II-B Salários'!C12 -> 1739.77
A24: 15.21 | B24: Eletricista de Manutenção 12x36 | C24: 9511-05 | D24: ='Anexo II-B Salários'!C13 -> 2380.35
A25: 20.88 | B25: Bombeiro Hidráulico | C25: 7241-10 | D25: 2380.35
A26: 15.21 | B26: Bombeiro Hidráulico 12x36 | C26: 7241-10 | D26: ='Anexo II-B Salários'!C14 -> 2380.35
A27: 20.88 | B27: Carpinteiro | C27: 7155-05 | D27: ='Anexo II-B Salários'!C16 -> 2347.34
A28: 20.88 | B28: Pedreiro | C28: 7152-10 | D28: ='Anexo II-B Salários'!C17 -> 2347.34
A29: 20.88 | B29: Gesseiro | C29: 7164-05 | D29: ='Anexo II-B Salários'!C18 -> 2347.34
A31: MÓDULO 1 : COMPOSIÇÃO DA REMUNERAÇÃO | D31: Supervisor | E31: Técnico em Eletrotécnica | F31: Eletricista de Manutenção | G31: Meio Oficial de Elétrica | H31: Eletricista de Manutenção 12x36 | I31: Bombeiro Hidráulico | J31: Bombeiro Hidráulico 12x36 | K31: Carpinteiro | L31: Pedreiro | M31: Gesseiro
A32: 1 | B32: Composição da Remuneração | D32: Valor(R$) | E32: Valor(R$) | F32: Valor(R$) | G32: Valor(R$) | H32: Valor(R$) | I32: Valor(R$) | J32: Valor(R$) | K32: Valor(R$) | L32: Valor(R$) | M32: Valor(R$)
A33: A | B33: Salário Base | D33: =D20 -> 3976.85 | E33: =D21 -> 3236.16 | F33: =D22 -> 2380.35 | G33: =D23 -> 1739.77 | H33: =D24 -> 2380.35 | I33: =D25 -> 2380.35 | J33: =D26 -> 2380.35 | K33: =D27 -> 2347.34 | L33: =D28 -> 2347.34 | M33: =D29 -> 2347.34
A34: B | B34: Adicional de Periculosidade (30%) | E34: =0.3*E33 -> 970.848
A35: C | B35: Adicional de Insalubridade (30% Grau máximo)
A36: D | B36: Adicional Noturno
A37: E | B37: Adicional de Hora Noturna Reduzida
A38: F | B38: Gratificação Liderança (15% ou 30%) (Cláusula 16ª CCT)
B39: Total de Remuneração | D39: =SUM(D33:D38) -> 3976.85 | E39: =SUM(E33:E38) -> 4207.008 | F39: =SUM(F33:F38) -> 2380.35 | G39: =SUM(G33:G38) -> 1739.77 | H39: =SUM(H33:H38) -> 2380.35 | I39: =SUM(I33:I38) -> 2380.35 | J39: =SUM(J33:J38) -> 2380.35 | K39: =SUM(K33:K38) -> 2347.34 | ... M39: =SUM(M33:M38) -> 2347.34
A41: MÓDULO 2: ENCARGOS E BENEFÍCIOS ANUAIS, MENSAIS E DIÁRIOS | D41: Supervisor | E41: Técnico em Eletrotécnica | F41: Eletricista de Manutenção | G41: Meio Oficial de Elétrica | H41: Eletricista de Manutenção 12x36 | I41: Bombeiro Hidráulico | J41: Bombeiro Hidráulico 12x36 | K41: Carpinteiro | L41: Pedreiro | M41: Gesseiro
A42: Submódulo 2.1 - 13º (décimo terceiro) Salário, Férias e Adicional de Férias | D42: Valor(R$) | E42: Valor(R$) | F42: Valor(R$) | G42: Valor(R$) | H42: Valor(R$) | I42: Valor(R$) | J42: Valor(R$) | K42: Valor(R$) | L42: Valor(R$) | M42: Valor(R$)
A43: A | B43: 13º (décimo terceiro) Salário | D43: =D39*8.33% -> 331.27161 | E43: =E39*8.33% -> 350.44377 | F43: =F39*8.33% -> 198.28315 | G43: =G39*8.33% -> 144.92284 | H43: =H39*8.33% -> 198.28315 | I43: =I39*8.33% -> 198.28315 | J43: =J39*8.33% -> 198.28315 | K43: =K39*8.33% -> 195.53342 | ... M43: =M39*8.33% -> 195.53342
A44: B | B44: Férias e Adicional de Férias | D44: =D39*12.1% -> 481.19885 | E44: =E39*12.1% -> 509.04797 | F44: =F39*12.1% -> 288.02235 | G44: =G39*12.1% -> 210.51217 | H44: =H39*12.1% -> 288.02235 | I44: =I39*12.1% -> 288.02235 | J44: =J39*12.1% -> 288.02235 | K44: =K39*12.1% -> 284.02814 | ... M44: =M39*12.1% -> 284.02814
B45: Total | D45: =SUM(D43:D44) -> 812.47046 | E45: =SUM(E43:E44) -> 859.49173 | F45: =SUM(F43:F44) -> 486.3055 | G45: =SUM(G43:G44) -> 355.43501 | H45: =SUM(H43:H44) -> 486.3055 | I45: =SUM(I43:I44) -> 486.3055 | J45: =SUM(J43:J44) -> 486.3055 | K45: =SUM(K43:K44) -> 479.56156 | ... M45: =SUM(M43:M44) -> 479.56156
A46: C | B46: Incidência do Submódulo 2.2 - Encargos previdenciários (GPS), FGTS e outras contribuições (Cálculo sobre a remuneração, pois será adotada a Conta Vinculada) | D46: =D39*7.82% -> 310.98967 | E46: =E39*7.82% -> 328.98803 | F46: =F39*7.82% -> 186.14337 | G46: =G39*7.82% -> 136.05001 | H46: =H39*7.82% -> 186.14337 | I46: =I39*7.82% -> 186.14337 | J46: =J39*7.82% -> 186.14337 | K46: =K39*7.82% -> 183.56199 | ... M46: =M39*7.82% -> 183.56199
...

Sheet An IV A Custo G2
A1: PRÓ-REITORIA DE ADMINISTRAÇÃO
A2: COORDENAÇÃO DE CONTRATOS
A4: Anexo IV-A - FORMAÇÃO CUSTOS POSTOS GRUPO 2
A5: Contratação de empresa para prestação de serviços continuados de Manutenção Predial, com regime de dedicação exclusiva de mão de obra, com fornecimento de materiais de reposição e atendimento da Universidade Federal Fluminense
A6: MÃO-DE-OBRA VINCULADA À EXECUÇÃO CONTRATUAL
A7: Dados para composição dos custos referentes a mão de obra
A8: Regime tributário da Licitante | C8: Documento Comprobatório *Anexar Comprovante
A11: ACT/CCT/DCT inclusive aditivos se houver
A12: Entidade Sindical da Empresa
A13: Entidade Sindical dos Empregados
A14: Número de Registro
A15: Início Vigência
A16: Fim Vigência
A18: Descrição Cargos
A19: Dias/Mês | B19: Posto | C19: CBO | D19: Salário
A20: 20.88 | B20: Serralheiro | C20: 7244-40 | D20: 2347.34
A21: 20.88 | B21: Vidraceiro | C21: 7163-05 | D21: 2347.34
A22: 20.88 | B22: Soldador | C22: 7243-15 | D22: 2512.05
A23: 20.88 | B23: Mecânico de Refrigeração | C23: 7257-05 | D23: 2380.35
A24: 20.88 | B24: Pintor | C24: 7166-10 | D24: 2347.34
A25: 20.88 | B25: Ajudantes (serventes) | C25: 7170-20 | D25: 1594.67
A26: 20.88 | B26: Motorista Cat. B | C26: 7823-10 | D26: 2582.08
A27: 20.88 | B27: Assistente técnico | C27: 3911-45 | D27: 2553.64
A28: 20.88 | B28: Oficial de Manutenção Predial | C28: 5413-25 | D28: 2347.34
A29: 20.88 | B29: Técnico de Segurança do Trabalho | C29: 3516-05 | D29: 1470.98
A31: MÓDULO 1 : COMPOSIÇÃO DA REMUNERAÇÃO | D31: Serralheiro | E31: Vidraceiro | F31: Soldador | G31: Mecânico de Refrigeração | H31: Pintor | I31: Ajudantes (serventes) | J31: Motorista Cat. B | K31: Assistente técnico | L31: Oficial de Manutenção Predial | M31: Técnico de Segurança do Trabalho
A32: 1 | B32: Composição da Remuneração | D32: Valor(R$) | E32: Valor(R$) | F32: Valor(R$) | G32: Valor(R$) | H32: Valor(R$) | I32: Valor(R$) | J32: Valor(R$) | K32: Valor(R$) | L32: Valor(R$) | M32: Valor(R$)
A33: A | B33: Salário Base | D33: =D20 -> 2347.34 | E33: =D21 -> 2347.34 | F33: =D22 -> 2512.05 | G33: =D23 -> 2380.35 | H33: =D24 -> 2347.34 | I33: =D25 -> 1594.67 | J33: =D26 -> 2582.08 | K33: =D27 -> 2553.64 | L33: =D28 -> 2347.34 | M33: =D29 -> 1470.98
A34: B | B34: Adicional de Periculosidade
A35: C | B35: Adicional de Insalubridade (20% Grau médio NR 15)
A36: D | B36: Adicional Noturno
A37: E | B37: Adicional de Hora Noturna Reduzida
A38: F | B38: Gratificação Liderança (15% ou 30%) (Cláusula 16ª CCT)
B39: Total de Remuneração | D39: =SUM(D33:D38) -> 2347.34 | E39: =SUM(E33:E38) -> 2347.34 | F39: =SUM(F33:F38) -> 2512.05 | G39: =SUM(G33:G38) -> 2380.35 | H39: =SUM(H33:H38) -> 2347.34 | I39: =SUM(I33:I38) -> 1594.67 | J39: =SUM(J33:J38) -> 2582.08 | K39: =SUM(K33:K38) -> 2553.64 | ... M39: =SUM(M33:M38) -> 1470.98
A41: MÓDULO 2: ENCARGOS E BENEFÍCIOS ANUAIS, MENSAIS E DIÁRIOS | D41: Serralheiro | E41: Vidraceiro | F41: Soldador | G41: Mecânico de Refrigeração | H41: Pintor | I41: Ajudantes (serventes) | J41: Motorista Cat. B | K41: Assistente técnico | L41: Oficial de Manutenção Predial | M41: Técnico de Segurança do Trabalho
A42: Submódulo 2.1 - 13º (décimo terceiro) Salário, Férias e Adicional de Férias | D42: Valor(R$) | E42: Valor(R$) | F42: Valor(R$) | G42: Valor(R$) | H42: Valor(R$) | I42: Valor(R$) | J42: Valor(R$) | K42: Valor(R$) | L42: Valor(R$) | M42: Valor(R$)
A43: A | B43: 13º (décimo terceiro) Salário | D43: =D39*8.33% -> 195.53342 | E43: =E39*8.33% -> 195.53342 | F43: =F39*8.33% -> 209.25376 | G43: =G39*8.33% -> 198.28315 | H43: =H39*8.33% -> 195.53342 | I43: =I39*8.33% -> 132.83601 | J43: =J39*8.33% -> 215.08726 | K43: =K39*8.33% -> 212.71821 | ... M43: =M39*8.33% -> 122.53263
A44: B | B44: Férias e Adicional de Férias | D44: =D39*12.1% -> 284.02814 | E44: =E39*12.1% -> 284.02814 | F44: =F39*12.1% -> 303.95805 | G44: =G39*12.1% -> 288.02235 | H44: =H39*12.1% -> 284.02814 | I44: =I39*12.1% -> 192.95507 | J44: =J39*12.1% -> 312.43168 | K44: =K39*12.1% -> 308.99044 | ... M44: =M39*12.1% -> 177.98858
B45: Total | D45: =SUM(D43:D44) -> 479.56156 | E45: =SUM(E43:E44) -> 479.56156 | F45: =SUM(F43:F44) -> 513.21182 | G45: =SUM(G43:G44) -> 486.3055 | H45: =SUM(H43:H44) -> 479.56156 | I45: =SUM(I43:I44) -> 325.79108 | J45: =SUM(J43:J44) -> 527.51894 | K45: =SUM(K43:K44) -> 521.70865 | ... M45: =SUM(M43:M44) -> 300.52121
A46: C | B46: Incidência do Submódulo 2.2 - Encargos previdenciários (GPS), FGTS e outras contribuições (Cálculo sobre a remuneração, pois será adotada a Conta Vinculada) | D46: =D39*7.82% -> 183.56199 | E46: =E39*7.82% -> 183.56199 | F46: =F39*7.82% -> 196.44231 | G46: =G39*7.82% -> 186.14337 | H46: =H39*7.82% -> 183.56199 | I46: =I39*7.82% -> 124.70319 | J46: =J39*7.82% -> 201.91866 | K46: =K39*7.82% -> 199.69465 | ... M46: =M39*7.82% -> 115.03064
...

Sheet Anexo IV B - Custo Total MDO
A1: (PLANILHA A SER FORNECIDA PELA PROPONENTE EM PAPEL TIMBRADO)
A2: EMPRESA (nome da empresa)
A3: CNPJ N.º : (n.º do CNPJ)
A4: ANEXO IV- B
A5: PLANILHA DE COMPOSIÇÃO DE CUSTOS E FORMAÇÃO DE PREÇOS (Anexo VII da I.N. da SLTI/MPOG n.º 5 de 26/Maio/2017
A6: Contratação de empresa para prestação de serviços continuados de Manutenção Predial, com regime de dedicação exclusiva de mão de obra, com fornecimento de materiais de reposição e atendimento da Universidade Federal Fluminense
A7: Processo 23069.167799/2024-18
A9: Custo total da contratação
A10: ITEM | B10: DISCRIMINAÇÃO DO POSTO | C10: POSTOS | D10: FUNCIONÁRIOS | E10: VALOR MENSAL POR POSTO | F10: TOTAL MENSAL | G10: TOTAL ANUAL
A11: 1 | B11: Supervisor | C11: 6 | D11: 6 | E11: ='An IV A Custo G1'!D161 -> 13183.355 | F11: =E11*C11 -> 79100.127 | G11: =12*F11 -> 949201.53
A12: 2 | B12: Técnico em Eletrotécnica | C12: 4 | D12: 4 | E12: ='An IV A Custo G1'!E161 -> 10127.424 | F12: =E12*C12 -> 40509.697 | G12: =12*F12 -> 486116.36
A13: 3 | B13: Eletricista de Manutenção | C13: 19 | D13: 19 | E13: ='An IV A Custo G1'!F161 -> 6264.0841 | F13: =E13*C13 -> 119017.6 | G13: =12*F13 -> 1428211.2
A14: 4 | B14: Meio Oficial de Elétrica | C14: 9 | D14: 9 | E14: ='An IV A Custo G1'!G161 -> 4875.3194 | F14: =E14*C14 -> 43877.874 | G14: =12*F14 -> 526534.49
A15: 5 | B15: Eletricista de Manutenção (plantão) 12x36h | C15: 1 | D15: 2 | E15: ='An IV A Custo G1'!H162 -> 12281.885 | F15: =E15*C15 -> 12281.885 | G15: =12*F15 -> 147382.62
A16: 6 | B16: Bombeiro Hidráulico | C16: 19 | D16: 19 | E16: ='An IV A Custo G1'!I161 -> 6284.928 | F16: =E16*C16 -> 119413.63 | G16: =12*F16 -> 1432963.6
A17: 7 | B17: Bombeiro Hidráulico (plantão) 12x36h | C17: 1 | D17: 2 | E17: ='An IV A Custo G1'!J162 -> 12323.572 | F17: =E17*C17 -> 12323.572 | G17: =12*F17 -> 147882.87
A18: 8 | B18: Carpinteiro | C18: 3 | D18: 3 | E18: ='An IV A Custo G1'!K161 -> 6178.1624 | F18: =E18*C18 -> 18534.487 | G18: =12*F18 -> 222413.84
A19: 9 | B19: Pedreiro | C19: 16 | D19: 16 | E19: ='An IV A Custo G1'!L161 -> 6198.7286 | F19: =E19*C19 -> 99179.658 | G19: =12*F19 -> 1190155.9
A20: 10 | B20: Gesseiro | C20: 1 | D20: 1 | E20: ='An IV A Custo G1'!M161 -> 6200.6504 | F20: =E20*C20 -> 6200.6504 | G20: =12*F20 -> 74407.805
A21: 11 | B21: Serralheiro | C21: 3 | D21: 3 | E21: ='An IV A Custo G2'!D161 -> 6195.9175 | F21: =E21*C21 -> 18587.752 | G21: =12*F21 -> 223053.03
A22: 12 | B22: Vidraceiro | C22: 1 | D22: 1 | E22: ='An IV A Custo G2'!E161 -> 6195.9175 | F22: =E22*C22 -> 6195.9175 | G22: =12*F22 -> 74351.01
A23: 13 | B23: Soldador | C23: 1 | D23: 1 | E23: ='An IV A Custo G2'!F161 -> 6553.0055 | F23: =E23*C23 -> 6553.0055 | G23: =12*F23 -> 78636.066
A24: 14 | B24: Mecânico de Refrigeração | C24: 8 | D24: 8 | E24: ='An IV A Custo G2'!G161 -> 6247.8216 | F24: =E24*C24 -> 49982.573 | G24: =12*F24 -> 599790.88
A25: 15 | B25: Pintor | C25: 6 | D25: 6 | E25: ='An IV A Custo G2'!H161 -> 6190.734 | F25: =E25*C25 -> 37144.404 | G25: =12*F25 -> 445732.85
A26: 16 | B26: Ajudantes (serventes) | C26: 34 | D26: 34 | E26: ='An IV A Custo G2'!I161 -> 4579.5916 | F26: =E26*C26 -> 155706.12 | G26: =12*F26 -> 1868473.4
A27: 17 | B27: Motorista Cat. B | C27: 3 | D27: 3 | E27: ='An IV A Custo G2'!J161 -> 6623.7546 | F27: =E27*C27 -> 19871.264 | G27: =12*F27 -> 238455.17
A28: 18 | B28: Assistente técnico | C28: 1 | D28: 1 | E28: ='An IV A Custo G2'!K161 -> 6562.0973 | F28: =E28*C28 -> 6562.0973 | G28: =12*F28 -> 78745.167
A29: 19 | B29: Oficial de Manutenção Predial | C29: 3 | D29: 3 | E29: ='An IV A Custo G2'!L161 -> 6244.7616 | F29: =E29*C29 -> 18734.285 | G29: =12*F29 -> 224811.42
A30: 20 | B30: Técnico de Segurança do Trabalho 20h | C30: 1 | D30: 1 | E30: ='An IV A Custo G2'!M161 -> 4172.3537 | F30: =E30*C30 -> 4172.3537 | G30: =12*F30 -> 50068.244
A31: TOTAL | C31: =SUM(C11:C30) -> 140 | D31: =SUM(D11:D30) -> 142 | F31: =SUM(F11:F30) -> 873948.95 | G31: =12*F31 -> 10487387

Sheet Anexo IV C BDI Serviços
A1: PRÓ-REITORIA DE ADMINISTRAÇÃO
A2: COORDENAÇÃO DE CONTRATOS
A4: Anexo IV C - PLANILHA DE COMPOSIÇÃO DE BDI Serviços
A5: Contratação de empresa para prestação de serviços continuados de Manutenção Predial, com regime de dedicação exclusiva de mão de obra, com fornecimento de materiais de reposição e atendimento da Universidade Federal Fluminense
A7: ITEM | B7: DESCRIÇÃO | D7: TAXA
A8: 1 | B8: Administração Central (AC) | D8: 0.04
A9: 2 | B9: Seguro + Garantia (S + G) | D9: 0.008
A10: 3 | B10: Risco ® | D10: 0.0127
A11: 4 | B11: Outros (especificar) (O) | D11: 0
A12: 5 | B12: Subtotal [(AC + S + G + R + O)] | D12: =SUM(D8:D11) -> 0.0607
A13: 6 | B13: Despesas Financeiras (DF) | D13: 0.0123
A14: 7 | B14: Lucro (L) | D14: 0.074
A15: 8 | B15: Outros (especificar) (O) | D15: 0
A16: 9 | B16: Subtotal [(1+DF)x(1+L)x(1+O)] | D16: =(D13+1)*(1+D14)*(1+D15)-1 -> 0.0872102
A17: Total de Benefícios e Despesas - TBD (incidência de subtotal 9 sobre subtotal 5) | D17: =((1+D$16)*(1+D$12))-1 -> 0.15320386
A18: 10 | B18: Impostos e Taxas | C18: COFINS | D18: 0.03
C19: PIS | D19: 0.0065
C20: ISS | D20: 0.05
C21: Subtotal de Impostos (COFINS+PIS+ISS) | D21: =SUM(D18:D20) -> 0.0865
C22: Contribuição Previdenciária sobre receita bruta (CPRB)
C23: Total de Tributos (COFINS+PIS+ISS+CPRB) = TT | D23: =D21+D22 -> 0.0865
A24: VALOR DO BDI = [(1+TBD) / (1-TT)]-1 | D24: =((D$17+1)/(1-D23))-1 -> 0.2624016
A25: Local e data:
A26: Responsável Técnico pelo Orçamento: | D26: CREA:
A28: Responsável legal pela empresa:
A30: OBS: A planilha deve ser assinada pelo responsável técnico pela sua confecção (Art. 14 Lei 5.194/66), identificado através de carimbo com número do CREA e pelo representante legal da empresa, com carimbo do CNPJ.
A33: Fórmula utilizada:
A34: PV = CD x (1 + BDI%/100) < > | C34: BDI = [ (1 +(AC + S + R + G)) x (1 +DF) x (1 + L) ] -1
A35: sendo: | C35: (1 -TT)
A36: PV - preço de venda
A37: CD - custo direto
A38: BDI - benefícios e despesas indiretas
A39: AC - Taxa de despesa de Administração Central
A40: S - Taxa de seguros
A41: R - Taxa de risco
A42: G - Taxa de garantias
A43: DF - Taxa de despesas financeiras
A44: L - Taxa de lucro
A45: I - Taxa de impostos
A47: Base do BDI, conforme Acórdão 2.622/2013, média das alíquotas por tipo de obra "construção de edifícios"

Sheet Anexo IV D BDI Material
A1: PRÓ-REITORIA DE ADMINISTRAÇÃO
A2: COORDENAÇÃO DE CONTRATOS
A4: Anexo IV D - PLANILHA DE COMPOSIÇÃO DE BDI Material
A5: Contratação de empresa para prestação de serviços continuados de Manutenção Predial, com regime de dedicação exclusiva de mão de obra, com fornecimento de materiais de reposição e atendimento da Universidade Federal Fluminense
A7: ITEM | B7: DESCRIÇÃO | D7: TAXA
A8: 1 | B8: Administração Central (AC) | D8: 0.0345
A9: 2 | B9: Seguro + Garantia (S + G) | D9: 0.0048
A10: 3 | B10: Risco ® | D10: 0.0085
A11: 4 | B11: Outros (especificar) (O) | D11: 0
A12: 5 | B12: Subtotal [(AC + S + G + R + O)] | D12: =SUM(D8:D11) -> 0.0478
A13: 6 | B13: Despesas Financeiras (DF) | D13: 0.0085
A14: 7 | B14: Lucro (L) | D14: 0.0511
A15: 8 | B15: Outros (especificar) (O) | D15: 0
A16: 9 | B16: Subtotal [(1+DF)x(1+L)x(1+O)] | D16: =(D13+1)*(1+D14)*(1+D15)-1 -> 0.06003435
A17: Total de Benefícios e Despesas - TBD (incidência de subtotal 9 sobre subtotal 5) | D17: =((1+D16)*(1+D12))-1 -> 0.11070399
A18: 10 | B18: Impostos e Taxas | C18: COFINS | D18: 0.03
C19: PIS | D19: 0.0065
C20: ISS
C21: Subtotal de Impostos (COFINS+PIS+ISS) | D21: =SUM(D18:D20) -> 0.0365
C22: Contribuição Previdenciária sobre receita bruta (CPRB) | D22: 0
C23: Total de Tributos (COFINS+PIS+ISS+CPRB) = TT | D23: =D21+D22 -> 0.0365
A24: VALOR DO BDI = [(1+TBD) / (1-TT)]-1 | D24: =((D$17+1)/(1-D23))-1 -> 0.15278048
A25: Local e data:
A26: Responsável Técnico pelo Orçamento: | D26: CREA:
A28: Responsável legal pela empresa:
A30: OBS: A planilha deve ser assinada pelo responsável técnico pela sua confecção (Art. 14 Lei 5.194/66), identificado através de carimbo com número do CREA e pelo representante legal da empresa, com carimbo do CNPJ.
A33: Fórmula utilizada:
A34: PV = CD x (1 + BDI%/100) < > | C34: BDI = [ (1 +(AC + S + R + G)) x (1 +DF) x (1 + L) ] -1
A35: sendo: | C35: (1 -TT)
A36: PV - preço de venda
A37: CD - custo direto
A38: BDI - benefícios e despesas indiretas
A39: AC - Taxa de despesa de Administração Central
A40: S - Taxa de seguros
A41: R - Taxa de risco
A42: G - Taxa de garantias
A43: DF - Taxa de despesas financeiras
A44: L - Taxa de lucro
A45: I - Taxa de impostos
A47: Base do BDI, conforme Acórdão 2.622/2013, média das alíquotas por tipo de obra "construção de edifícios"

Sheet Anexo IV E - Custo Total 
A1: (PLANILHA A SER FORNECIDA PELA PROPONENTE EM PAPEL TIMBRADO)
A2: EMPRESA (nome da empresa)
A3: CNPJ N.º : (n.º do CNPJ)
A4: ANEXO IV- E
A5: PLANILHA DE COMPOSIÇÃO DE CUSTOS E FORMAÇÃO DE PREÇOS (Anexo VII da I.N. da SLTI/MPOG n.º 5 de 26/Maio/2017
A6: Contratação de empresa para prestação de serviços continuados de Manutenção Predial, com regime de dedicação exclusiva de mão de obra, com fornecimento de materiais de reposição e atendimento da Universidade Federal Fluminense
A7: Processo 23069.167799/2024-18
A10: Item | B10: Descrição | C10: Unidade | D10: Quantidade | E10: Cálculo Mensal | I10: Total Estimado (Custo x 12 meses)
E11: Custo Máximo Mensal | F11: Desconto Ofertado | G11: BDI (Serviço ou Material) | H11: Total Mensal
A12: 1 | B12: Mão de obra permanente | C12: Mês | D12: 12 | E12: ='Anexo IV B - Custo Total MDO'!F31 -> 873948.95 | H12: =E12 -> 873948.95 | I12: =12*H12 -> 10487387
A13: 2 | B13: Custo de aluguel de equipamentos e/ou ferramentas para manutenção predial sem utilização recorrente (como guindauto com capacidade mínima de 6.200 kg, com operador - estimado 40 horas/mês, betoneira, andaimes, plataforma elevatória, martelo demolidor, megômetro, terrômetro, termovisor, entre outros) | C13: Hora | D13: 480 | E13: =40*302.05 -> 12082 | G13: ='Anexo IV C BDI Serviços'!D24 -> 0.2624016 | H13: =(E13-(F13*E13))+(G13*(E13-(F13*E13))) -> 15252.336 | I13: =12*H13 -> 183028.03
A14: 3 | B14: Serviços eventuais (7% da mão de obra) | C14: Mês | D14: 12 | E14: =7%*E12 -> 61176.426 | G14: ='Anexo IV C BDI Serviços'!D24 -> 0.2624016 | H14: =(E14-(F14*E14))+(G14*(E14-(F14*E14))) -> 77229.218 | I14: =12*H14 -> 926750.62
A15: 4 | B15: Peças para manutenção (7% mão de obra) | C15: Mês | D15: 12 | E15: =7%*E12 -> 61176.426 | G15: ='Anexo IV D BDI Material'!D24 -> 0.15278048 | H15: =(E15-(F15*E15))+(G15*(E15-(F15*E15))) -> 70522.99 | I15: =12*H15 -> 846275.88
A16: TOTAL GRUPO 1 (VALOR DO LANCE COMPRASNET) | H16: =SUM(H12:H15) -> 1036953.5 | I16: =SUM(I12:I15) -> 12443442
