Workbook
Name \s: #N/A
Name _01: #REF!
Name _01: #REF!
Name _01_4: #REF!
Name _01_4: #REF!
Name _10Excel_BuiltIn_Print_Area_1_1_1: #REF!
Name _10Excel_BuiltIn_Print_Area_1_1_1: #REF!
Name _11Excel_BuiltIn_Print_Area_1_1_1_1: #REF!
Name _12Excel_BuiltIn_Print_Area_1_1_1_1_1: #REF!
Name _13Excel_BuiltIn_Print_Area_5_1: #REF!
Name _14Excel_BuiltIn_Print_Area_5_1_1: "$#REF!.$A$1:$F$49"
Name _15Excel_BuiltIn_Print_Area_7_1: #REF!
Name _15Excel_BuiltIn_Print_Area_7_1: #REF!
Name _16ILUM_4_1: "$#REF!.$#REF!$#REF!"
Name _17INTE_4_1: "$#REF!.$#REF!$#REF!"
Name _18PARA_4_1: "$#REF!.$#REF!$#REF!"
Name _1CABO_4_1: "$#REF!.$#REF!$#REF!"
Name _2CAIX_4_1: "$#REF!.$#REF!$#REF!"
Name _3CDT_4_1: "$#REF!.$#REF!$#REF!"
Name _4COND_4_1: "$#REF!.$#REF!$#REF!"
Name _5CONE_4_1: "$#REF!.$#REF!$#REF!"
Name _6DIVE_4_1: "$#REF!.$#REF!$#REF!"
Name _7EQUI_4_1: "$#REF!.$#REF!$#REF!"
Name _8Excel_BuiltIn_Print_Area_1: #REF!
Name _8Excel_BuiltIn_Print_Area_1: #REF!
Name _9Excel_BuiltIn_Print_Area_1_1: #REF!
Name _9Excel_BuiltIn_Print_Area_1_1: #REF!
Name _A99990: '[1]Climatização Prédio DECEA'!#REF!
Name _A99990: '[1]Climatização Prédio DECEA'!#REF!
Name _A99999: '[1]Climatização Prédio DECEA'!#REF!
Name _A99999: '[1]Climatização Prédio DECEA'!#REF!
Name _s: #REF!
Name _s: #REF!
Name Á1: #REF!
Name Á1: #REF!
Name AAAA: #REF!
Name AAAA: #REF!
Name ACRES: #REF!
Name ACRES_4: #REF!
Name Área_impressão_IM: #REF!
Name Área_impressão_IM: #REF!
Name Área_impressão_IM_1: #REF!
Name Área_impressão_IM_1: #REF!
Name Área_impressão_IM_1_4: '[2]ICEA - SJC'!#REF!
Name Área_impressão_IM_1_4: '[2]ICEA - SJC'!#REF!
Name Área_impressão_IM_4: #REF!
Name Área_impressão_IM_4: #REF!
Name arredondamento: #REF!
Name arredondamento: #REF!
Name BBBB: #REF!
Name BBBB: #REF!
Name bdi: #REF!
Name BuiltIn_AutoFilter___1: #REF!
Name CABO: "PQ.$#REF!$#REF!"
Name CABO_2: #REF!
Name CABO_2: #REF!
Name CABO_3: "$#REF!.$#REF!$#REF!"
Name CABO_4: "$#REF!.$#REF!$#REF!"
Name CABO_4_1: "$#REF!.$#REF!$#REF!"
Name CABO_5: "$#REF!.$#REF!$#REF!"

Sheet Orçamento
A1: ANEXO V-A DO EDITAL DE LICITAÇÃO POR RDC ELETRÔNICO N.º 05/2020/AD
A2: (razão social da empresa licitante)
A3: (n.º do CNPJ)
A4: MODELO DE PLANILHA DE ORÇAMENTO PARA EXECUÇÃO DE OBRA POR EMPREITADA POR PREÇO UNITÁRIO
A5: OBRA: Demolição de obra irregular e construção de telhado no prédio onde estão localizadas as Faculdades de Administração, Nutrição e Odontologia, Rua Mário Santos Braga, s/n.º no Campus do Valonguinho,
A6: Campus do Valonguinho, Avenida Visconde do Rio Branco s/n.º, Centro, Niterói - RJ.
E8: VALOR ESTIMADO UFF | J8: VALOR PROPOSTO
A9: ITEM | B9: FONTE | C9: CÓDIGO | D9: DESCRIÇÃO DO ITEM | E9: UNID. | F9: QUANT. | G9: CUSTO UNITÁRIO | H9: BDI (%) | I9: PREÇO UNITÁRIO | J9: % DESCONTO | K9: PREÇO (R$) | N9: TOTAL DO ITEM (R$)
K10: UNITÁRIO | L10: SUBITEM | M10: SERVIÇO
A11: 1 | D11: GERENCIAMENTO DE OBRA/ FISCALIZAÇÃO E LICENCIAMENTO | N11: =SUM(M12) -> 55647.002
A12: 1.1 | D12: GERENCIAMENTO E FISCALIZAÇÃO | M12: =SUM(L13:L15) -> 55647.002
A13: 1.1.1 | B13: SINAPI | C13: 90777 | D13: ENGENHEIRO CIVIL DE OBRA JUNIOR COM ENCARGOS COMPLEMENTARES | E13: H | F13: 160 | G13: 90.68 | H13: 0.204 | I13: =G13*(1+H13) -> 109.17872 | J13: =$J$53 -> 0 | K13: =I13*(1-J13) -> 109.17872 | L13: =K13*F13 -> 17468.595
A14: 1.1.2 | B14: SINAPI | C14: 93572 | D14: ENCARREGADO GERAL DE OBRAS COM ENCARGOS COMPLEMENTARES | E14: MES | F14: 5 | G14: 6295.14 | H14: 0.204 | I14: =G14*(1+H14) -> 7579.3486 | J14: =$J$53 -> 0 | K14: =I14*(1-J14) -> 7579.3486 | L14: =K14*F14 -> 37896.743
A15: 1.1.3 | B15: CREA/RJ | C15: TABELA A, FAIXA 3 | D15: ART (ENGENHEIRO CIVIL DE OBRA) https://www.google.com/search?q=TABELA+ART+CREA+TABELA+A&rlz=1C1JZAP_pt-BRBR812BR812&oq=TABELA+ART+CREA+TABELA+A&aqs=chrome..69i57j33.8782j0j8&sourceid=chrome&ie=UTF-8 | E15: UM | F15: 1 | G15: 233.94 | H15: 0.204 | I15: =G15*(1+H15) -> 281.66376 | J15: =$J$53 -> 0 | K15: =I15*(1-J15) -> 281.66376 | L15: =K15*F15 -> 281.66376
A16: 2 | D16: SERVIÇOS TÉCNICOS PRELIMINARES | N16: =SUM(M17:M27) -> 32337.763
A17: 2.1 | D17: CANTEIRO DE OBRAS | M17: =SUM(L18:L19) -> 6504.4836
A18: 2.1.1 | B18: SCO | C18: AD 20.25.0300 (A) | D18: PLACA DE IDENTIFICAÇÃO DE OBRA PÚBLICA, INCLUSIVE PINTURA, ESTRUTURA, SUPORTE DE MADEIRA EM PEÇAS DE MADEIRA SERRADA DE 7,5 CM X 7,5 CM E TRANSPORTE. FORNECIMENTO E COLOCAÇÃO. | E18: M2 | F18: 3.15 | G18: 389.6 | H18: 0.204 | I18: =G18*(1+H18) -> 469.0784 | J18: =$J$53 -> 0 | K18: =I18*(1-J18) -> 469.0784 | L18: =K18*F18 -> 1477.597
A19: 2.1.2 | B19: SINAPI | C19: 98459 | D19: TAPUME COM TELHA METÁLICA. | E19: M2 | F19: 61.9 | G19: 67.45 | H19: 0.204 | I19: =G19*(1+H19) -> 81.2098 | J19: =$J$53 -> 0 | K19: =I19*(1-J19) -> 81.2098 | L19: =K19*F19 -> 5026.8866
A20: 2.2 | D20: DEMOLIÇÕES | M20: =SUM(L21:L26) -> 5741.0358
A21: 2.2.1 | B21: SINAPI | C21: 97647 | D21: REMOÇÃO DE TELHAS, DE FIBROCIMENTO, METÁLICA E CERÂMICA, DE FORMA MANUAL, SEM REAPROVEITAMENTO. | E21: M2 | F21: 142 | G21: 3.33 | H21: 0.204 | I21: =G21*(1+H21) -> 4.00932 | J21: =$J$53 -> 0 | K21: =I21*(1-J21) -> 4.00932 | L21: =K21*F21 -> 569.32344
A22: 2.2.2 | B22: SINAPI | C22: 97650 | D22: REMOÇÃO DE TRAMA DE MADEIRA PARA COBERTURA, DE FORMA MANUAL, SEM REAPROVEITAMENTO. | E22: M2 | F22: 142 | G22: 7.16 | H22: 0.204 | I22: =G22*(1+H22) -> 8.62064 | J22: =$J$53 -> 0 | K22: =I22*(1-J22) -> 8.62064 | L22: =K22*F22 -> 1224.1309
A23: 2.2.3 | B23: SINAPI | C23: 97661 | D23: REMOÇÃO DE CABOS ELÉTRICOS, DE FORMA MANUAL, COMREAPROVEITAMENTO (CABEAMENTO SPDA) | E23: M | F23: 20.22 | G23: 0.66 | H23: 0.204 | I23: =G23*(1+H23) -> 0.79464 | J23: =$J$53 -> 0 | K23: =I23*(1-J23) -> 0.79464 | L23: =K23*F23 -> 16.067621
A24: 2.2.4 | B24: SINAPI | C24: 97627 | D24: DEMOLIÇÃO DE PILARES E VIGAS EM CONCRETO ARMADO, DE FORMA MECANIZADA COM MARTELETE, SEM REAPROVEITAMENTO. AF_12/2017 | E24: M3 | F24: 6.55 | G24: 278.45 | H24: 0.204 | I24: =G24*(1+H24) -> 335.2538 | J24: =$J$53 -> 0 | K24: =I24*(1-J24) -> 335.2538 | L24: =K24*F24 -> 2195.9124
A25: 2.2.5 | B25: SINAPI | C25: 97625 | D25: DEMOLIÇÃO DE ALVENARIA PARA QUALQUER TIPO DE BLOCO, DE FORMA MECANIZADA, SEM REAPROVEITAMENTO. AF_12/2017 | E25: M3 | F25: 35.65 | G25: 37.39 | H25: 0.204 | I25: =G25*(1+H25) -> 45.01756 | J25: =$J$53 -> 0 | K25: =I25*(1-J25) -> 45.01756 | L25: =K25*F25 -> 1604.876
A26: 2.2.6 | B26: SCO | C26: SC 05.05.1250 | D26: DEMOLIÇÃO MANUAL DE PISO CIMENTADO, EXCLUSIVE A BASE DE CONCRETO, INCLUSIVE EMPILHAMENTO LATERAL DENTRO DO CANTEIRO DE SERVICO. | E26: M3 | F26: 10.4 | G26: 10.44 | H26: 0.204 | I26: =G26*(1+H26) -> 12.56976 | J26: =$J$53 -> 0 | K26: =I26*(1-J26) -> 12.56976 | L26: =K26*F26 -> 130.7255
A27: 2.3 | D27: RETIRADA, CARREGAMENTO, TRANSPORTE E DESCARTE DE ENTULHO | M27: =SUM(L28:L31) -> 20092.244
A28: 2.3.1 | B28: SINAPI | C28: 100197 | D28: TRANSPORTE HORIZONTAL MANUAL, DE SACOS DE 20 KG (UNIDADE: KGXKM) | E28: KGXKM | F28: 4573.35 | G28: 1.98 | H28: 0.204 | I28: =G28*(1+H28) -> 2.38392 | J28: =$J$53 -> 0 | K28: =I28*(1-J28) -> 2.38392 | L28: =K28*F28 -> 10902.501
A29: 2.3.2 | B29: SINAPI | C29: 100231 | D29: TRANSPORTE VERTICAL MANUAL, 1 PAVIMENTO, DE SACOS DE 20 KG | E29: KG | F29: 91467 | G29: 0.03 | H29: 0.204 | I29: =G29*(1+H29) -> 0.03612 | J29: =$J$53 -> 0 | K29: =I29*(1-J29) -> 0.03612 | L29: =K29*F29 -> 3303.788
A30: 2.3.3 | B30: SINAPI | C30: 72897 | D30: CARGA MANUAL DE ENTULHO EM CAMINHAO BASCULANTE 6 M3 | E30: M3 | F30: 79.2714 | G30: 25.18 | H30: 0.204 | I30: =G30*(1+H30) -> 30.31672 | J30: =$J$53 -> 0 | K30: =I30*(1-J30) -> 30.31672 | L30: =K30*F30 -> 2403.2488
A31: 2.3.4 | B31: SINAPI | C31: 97915 | D31: TRANSPORTE COM CAMINHÃO BASCULANTE DE 6 M3, EM VIA URBANA PAVIMENTADA, DMT ACIMA DE 30 KM (UNIDADE: M3XKM). AF_01/2018 | E31: M3XKM | F31: 3250.1274 | G31: 0.89 | H31: 0.204 | I31: =G31*(1+H31) -> 1.07156 | J31: =$J$53 -> 0 | K31: =I31*(1-J31) -> 1.07156 | L31: =K31*F31 -> 3482.7065
A32: 3 | D32: ALVENARIA | N32: =SUM(L33) -> 223.99216
A33: 3.1 | B33: SINAPI | C33: 87500 | D33: ALVENARIA DE VEDAÇÃO DE BLOCOS CERÂMICOS FURADOS NA HORIZONTAL DE 9X14X19CM (ESPESSURA 9CM) DE PAREDES COM ÁREA LÍQUIDA MENOR QUE 6M² SEM VÃOS E ARGAMASSA DE ASSENTAMENTO COM PREPARO MANUAL. (ALVENARIA PARA FECHAMENTO BURACO ACESSO A NÍVEL BARRILETE) | E33: M2 | F33: 2 | G33: 93.02 | H33: 0.204 | I33: =G33*(1+H33) -> 111.99608 | J33: =$J$53 -> 0 | K33: =I33*(1-J33) -> 111.99608 | L33: =K33*F33 -> 223.99216
A34: 4 | D34: COBERTURAS | N34: =SUM(L35:L39) -> 43292.58
A35: 4.1 | B35: Composição | C35: 01 | D35: Modificado SINAPI 100371 – FABRICAÇÃO E INSTALAÇÃO DE MEIA TESOURA DE MADEIRA NÃO APARELHADA, COM VÃO DE 7 M, PARA TELHA ONDULADA DE FIBROCIMENTO, ALUMÍNIO, PLÁSTICA OU TERMOACÚSTICA, INCLUSO IÇAMENTO E TERÇAS | E35: UN | F35: 11 | G35: 2337.7446 | H35: 0.204 | I35: =G35*(1+H35) -> 2814.6445 | J35: =$J$53 -> 0 | K35: =I35*(1-J35) -> 2814.6445 | L35: =K35*F35 -> 30961.09
A36: 4.2 | B36: SINAPI | C36: 94207 | D36: TELHAMENTO COM TELHA ONDULADA DE FIBROCIMENTO E = 6 MM, COM RECOBRIMENTO LATERAL DE 1/4 DE ONDA PARA TELHADO COM INCLINAÇÃO MAIOR QUE 10°, COM ATÉ 2 ÁGUAS, INCLUSO IÇAMENTO. | E36: M2 | F36: 154.83 | G36: 40.31 | H36: 0.204 | I36: =G36*(1+H36) -> 48.53324 | J36: =$J$53 -> 0 | K36: =I36*(1-J36) -> 48.53324 | L36: =K36*F36 -> 7514.4015
A37: 4.3 | B37: SINAPI | C37: 100435 | D37: RUFO EM FIBROCIMENTO PARA TELHA ONDULADA E = 6 MM, ABA DE 26 CM, INCLUSO TRANSPORTE VERTICAL, EXCETO CONTRARRUFO. AF_07/2019 | E37: M | F37: 29.76 | G37: 27.36 | H37: 0.204 | I37: =G37*(1+H37) -> 32.94144 | J37: =$J$53 -> 0 | K37: =I37*(1-J37) -> 32.94144 | L37: =K37*F37 -> 980.33725
A38: 4.4 | B38: Composição | C38: 07 | D38: Modificado – SCO CI 19.05.0150 - RETIRADA E RECOLOCACAO DE TELHAS EM FIBRO-CIMENTO, ONDULADO, TIPO CONVENCIONAL, INCLUSIVE CUMEEIRA, MEDIDA PELA AREA COBERTA EM PROJECAO.(DESONERADO) | E38: M2 | F38: 26.2125 | G38: 54.39375 | H38: 0.204 | I38: =G38*(1+H38) -> 65.490075 | J38: =$J$53 -> 0 | K38: =I38*(1-J38) -> 65.490075 | L38: =K38*F38 -> 1716.6586
A39: 4.5 | B39: Composição | C39: 05 | D39: RUFO EM CHAPA DE AÇO GALVANIZADO NÚMERO 24, CORTE DE 25 CM, INCLUSO TRANSPORTE VERTICAL. | E39: M | F39: 29.76 | G39: 59.169166 | H39: 0.204 | I39: =G39*(1+H39) -> 71.239676 | J39: =$J$53 -> 0 | K39: =I39*(1-J39) -> 71.239676 | L39: =K39*F39 -> 2120.0928
A40: 5 | D40: INSTALAÇÕES ELÉTRICAS - SPDA | N40: =SUM(L41:L42) -> 691.16704
A41: 5.1 | B41: SINAPI | C41: 96974 | D41: CORDOALHA DE COBRE NU 50 MM², NÃO ENTERRADA, COM ISOLADOR - FORNECIMENTO E INSTALAÇÃO. | E41: M | F41: 5 | G41: 56.69 | H41: 0.204 | I41: =G41*(1+H41) -> 68.25476 | J41: =$J$53 -> 0 | K41: =I41*(1-J41) -> 68.25476 | L41: =K41*F41 -> 341.2738
...

Sheet Cronograma
A1: ANEXO V-B DO EDITAL DE LICITAÇÃO POR RDC ELETRÔNICO N.º 05/2020/AD
A2: (razão social da empresa licitante)
A3: (n.º do CNPJ)
A4: MODELO DE PLANILHA DE CRONOGRAMA FÍSICO-FINANCEIRO
A5: OBRA: Demolição de obra irregular e construção de telhado no prédio onde estão localizadas as Faculdades de Administração, Nutrição e Odontologia, Rua Mário Santos Braga, s/n.º no Campus do Valonguinho,
A6: Campus do Valonguinho, Avenida Visconde do Rio Branco s/n.º, Centro, Niterói - RJ.
A8: ITEM | B8: DISCRIMINAÇÃO DO SERVIÇO | C8: VALOR (R$) | D8: % | E8: MÊS 01 | I8: MÊS 02 | M8: MÊS 03 | Q8: MÊS 04 | U8: MÊS 05 | Y8: SALDO (R$)
E9: Sem 1 | F9: Sem 2 | G9: Sem 3 | H9: Sem 4 | I9: Sem 1 | J9: Sem 2 | K9: Sem 3 | L9: Sem 4 | M9: Sem 1 | N9: Sem 2 | O9: Sem 3 | P9: Sem 4 | Q9: Sem 1 | R9: Sem 2 | S9: Sem 3 | T9: Sem 4 | U9: Sem 1 | V9: Sem 2 | W9: Sem 3 | X9: Sem 4
A10: 01 | B10: GERENCIAMENTO DE OBRA/ FISCALIZAÇÃO E LICENCIAMENTO | C10: =Orçamento!$N$11 -> 55647.002 | D10: =C10/C$26 -> 0.36370367
E11: =0.228*C10 -> 12687.516 | I11: =0.206*C10 -> 11463.282 | M11: =0.278*C10 -> 15469.866 | Q11: =0.178*C10 -> 9905.1663 | U11: =0.11*C10 -> 6121.1702 | Y11: =$C$26-(SUM(E11:X11)) -> 97353.934
A12: 02 | B12: SERVIÇOS TÉCNICOS PRELIMINARES | C12: =Orçamento!$N$16 -> 32337.763 | D12: =C12/C$26 -> 0.21135664
E13: =0.68*C12 -> 21989.679 | I13: =0.32*C12 -> 10348.084 | Y13: =Y11-(SUM(E13:X13)) -> 65016.171
A14: 03 | B14: ALVENARIA | C14: =Orçamento!$N$32 -> 223.99216 | D14: =C14/C$26 -> 0.0014639921
U15: =C14 -> 223.99216 | Y15: =Y13-(SUM(E15:X15)) -> 64792.179
A16: 04 | B16: COBERTURAS | C16: =Orçamento!$N$34 -> 43292.58 | D16: =C16/C$26 -> 0.28295631
M17: =C16*0.4 -> 17317.032 | Q17: =C16*0.4 -> 17317.032 | U17: =C16*0.2 -> 8658.516 | Y17: =Y15-(SUM(E17:X17)) -> 21499.599
A18: 05 | B18: INSTALAÇÕES ELÉTRICAS - SPDA | C18: =Orçamento!$N$40 -> 691.16704 | D18: =C18/C$26 -> 0.004517404
U19: =C18 -> 691.16704 | Y19: =Y17-(SUM(E19:X19)) -> 20808.432
A20: 06 | B20: REVESTIMENTO | C20: =Orçamento!$N$43 -> 212.24112 | D20: =C20/C$26 -> 0.0013871884
U21: =C20 -> 212.24112 | Y21: =Y19-(SUM(E21:X21)) -> 20596.191
A22: 07 | B22: IMPERMEABILIZAÇÃO | C22: =Orçamento!$N$45 -> 19531.373 | D22: =C22/C$26 -> 0.12765525
I23: =C22*0.5 -> 9765.6865 | M23: =C22*0.5 -> 9765.6865 | Y23: =Y21-(SUM(E23:X23)) -> 1064.8176
A24: 08 | B24: SERVIÇOS COMPLEMENTARES | C24: =Orçamento!$N$50 -> 1064.8176 | D24: =C24/C$26 -> 0.0069595496
U25: =C24 -> 1064.8176 | Y25: =Y23-(SUM(E25:X25)) -> -1.6143531e-11
B26: TOTAL ORÇADO | C26: =SUM(C10:C25) -> 153000.94 | D26: =SUM(D10:D25) -> 1
B27: TOTAL MENSAL | E27: =SUM(E11:H25) -> 34677.195 | I27: =SUM(I11:L25) -> 31577.053 | M27: =SUM(M11:P25) -> 42552.585 | Q27: =SUM(Q11:T25) -> 27222.198 | U27: =SUM(U11:X25) -> 16971.904
B28: VALOR ACUMULADO | E28: =E27 -> 34677.195 | I28: =I27+E28 -> 66254.249 | M28: =M27+I28 -> 108806.83 | Q28: =Q27+M28 -> 136029.03 | U28: =U27+Q28 -> 153000.94
B29: % MENSAL | E29: =E27/$C$26 -> 0.22664695 | I29: =I27/$C$26 -> 0.20638471 | M29: =M27/$C$26 -> 0.27811977 | Q29: =Q27/$C$26 -> 0.17792178 | U29: =U27/$C$26 -> 0.1109268
B30: % ACUMULADO | E30: =E29 -> 0.22664695 | I30: =I29+E30 -> 0.43303166 | M30: =M29+I30 -> 0.71115142 | Q30: =Q29+M30 -> 0.8890732 | U30: =U29+Q30 -> 1
A31: Local e data: | I31: (Assinatura do Responsável Legal da Empresa e carimbo com CGC)
A32: Responsável Técnico pelo Orçamento: | D32: (n.º CREA/CAU)
B33: OBSERVAÇÃO
B34: - A planilha deve ser assinada pelo responsável técnico pela sua confecção (Art. 14 Lei 5.194/66), identificado através de carimbo com número do CREA/CAU
