Workbook
Name _\s: #N/A
Name _01: #REF!
Name _01: #REF!
Name _01: #REF!
Name _01_4: #REF!
Name _01_4: #REF!
Name _10Excel_BuiltIn_Print_Area_1_1_1: #REF!
Name _10Excel_BuiltIn_Print_Area_1_1_1: #REF!
Name _11Excel_BuiltIn_Print_Area_1_1_1_1: #REF!
Name _12Excel_BuiltIn_Print_Area_1_1_1_1_1: #REF!
Name _13Excel_BuiltIn_Print_Area_5_1: #REF!
Name _14Excel_BuiltIn_Print_Area_5_1_1: "$#REF!.$A$1:$F$49"
Name _15Excel_BuiltIn_Print_Area_7_1: #REF!
Name _15Excel_BuiltIn_Print_Area_7_1: #REF!
Name _16ILUM_4_1: "$#REF!.$#REF!$#REF!"
Name _17INTE_4_1: "$#REF!.$#REF!$#REF!"
Name _18PARA_4_1: "$#REF!.$#REF!$#REF!"
Name _1CABO_4_1: "$#REF!.$#REF!$#REF!"
Name _2CAIX_4_1: "$#REF!.$#REF!$#REF!"
Name _3CDT_4_1: "$#REF!.$#REF!$#REF!"
Name _4COND_4_1: "$#REF!.$#REF!$#REF!"
Name _5CONE_4_1: "$#REF!.$#REF!$#REF!"
Name _6DIVE_4_1: "$#REF!.$#REF!$#REF!"
Name _7EQUI_4_1: "$#REF!.$#REF!$#REF!"
Name _8Excel_BuiltIn_Print_Area_1: #REF!
Name _8Excel_BuiltIn_Print_Area_1: #REF!
Name _9Excel_BuiltIn_Print_Area_1_1: #REF!
Name _9Excel_BuiltIn_Print_Area_1_1: #REF!
Name _A99990: '[1]Climatização Prédio DECEA'!#REF!
Name _A99990: '[1]Climatização Prédio DECEA'!#REF!
Name _A99999: '[1]Climatização Prédio DECEA'!#REF!
Name _A99999: '[1]Climatização Prédio DECEA'!#REF!
Name _s: #REF!
Name _s: #REF!
Name Á1: #REF!
Name Á1: #REF!
Name AAAA: #REF!
Name AAAA: #REF!
Name ACRES: #REF!
Name ACRES_4: #REF!
Name Área_impressão_IM: #REF!
Name Área_impressão_IM: #REF!
Name Área_impressão_IM_1: #REF!
Name Área_impressão_IM_1: #REF!
Name Área_impressão_IM_1_4: '[2]ICEA - SJC'!#REF!
Name Área_impressão_IM_1_4: '[2]ICEA - SJC'!#REF!
Name Área_impressão_IM_4: #REF!
Name Área_impressão_IM_4: #REF!
Name arredondamento: #REF!
Name arredondamento: #REF!
Name BBBB: #REF!
Name BBBB: #REF!
Name bdi: #REF!
Name BuiltIn_AutoFilter___1: #REF!
Name CABO: "PQ.$#REF!$#REF!"
Name CABO_2: #REF!
Name CABO_2: #REF!
Name CABO_3: "$#REF!.$#REF!$#REF!"
Name CABO_4: "$#REF!.$#REF!$#REF!"
Name CABO_4_1: "$#REF!.$#REF!$#REF!"

Sheet Resumo
A1: (razão social da empresa licitante)
A2: (n.º do CNPJ)
A3: ANEXO II-A DO EDITAL DE LICITAÇÃO POR RDC ELETRÔNICO N.º 04/2022
A4: RESUMO DE ORÇAMENTO PARA EXECUÇÃO DE OBRA POR EMPREITADA POR PREÇO UNITÁRIO
A5: =Orçamento!$A$6 -> OBRA: execução da rampa de acessibilidade ao prédio da Faculdade de Administração no Campus do Valonguinho- Niterói/RJ
A6: =Orçamento!$A$7 -> Local: Campus do Valonguinho - Avenida Visconde do Rio Branco s/n.º, bairro Centro - Niterói - RJ
C7: ESTIMADO PELA UFF | E7: PROPOSTO PELA EMPRESA
A8: ITEM | B8: DESCRIÇÃO DO ITEM | C8: % | D8: TOTAL DO ITEM (R$) | E8: % | F8: TOTAL DO ITEM (R$)
C9: SERVIÇO | E9: SERVIÇO
A10: 1. | B10: PROJETO | C10: =D10/$D$35 -> 0.0041902232 | D10: =Orçamento!$L$12 -> 652.3 | E10: =F10/$D$35 -> 0 | F10: 0
A12: 2. | B12: GERENCIAMENTO DA OBRA | C12: =D12/$D$35 -> 0.13443698 | D12: =Orçamento!$L$14 -> 20928.06 | E12: =F12/$D$35 -> 0 | F12: 0
A14: 3. | B14: SERVIÇOS PRELIMINARES | C14: =D14/$D$35 -> 0.039039351 | D14: =Orçamento!$L$16 -> 6077.33 | E14: =F14/$D$35 -> 0 | F14: 0
A16: 4. | B16: MOVIMENTO DE TERRA | C16: =D16/$D$35 -> 0.011847482 | D16: =Orçamento!$L$30 -> 1844.32 | E16: =F16/$D$35 -> 0 | F16: 0
A18: 5. | B18: INFRAESTRUTURA FUNDAÇÕES SIMPLES (OU DIRETAS) | C18: =D18/$D$35 -> 0.034594811 | D18: =Orçamento!$L$33 -> 5385.44 | E18: =F18/$D$35 -> 0 | F18: 0
A20: 6. | B20: SUPERETRUTURA | C20: =D20/$D$35 -> 0.29301332 | D20: =Orçamento!$L$39 -> 45613.94 | E20: =F20/$D$35 -> 0 | F20: 0
A22: 7. | B22: ALVENARIA / VEDAÇÃO / DIVISÓRIA | C22: =D22/$D$35 -> 0.0012587371 | D22: =Orçamento!$L$65 -> 195.95 | E22: =F22/$D$35 -> 0 | F22: 0
A24: 8. | B24: ESQUADRIAS | C24: =D24/$D$35 -> 0.39964367 | D24: =Orçamento!$L$67 -> 62213.29 | E24: =F24/$D$35 -> 0 | F24: 0
A26: 9. | B26: REVESTIMENTO | C26: =D26/$D$35 -> 0.024518298 | D26: =Orçamento!$L$73 -> 3816.81 | E26: =F26/$D$35 -> 0 | F26: 0
A28: 10. | B28: PISO | C28: =D28/$D$35 -> 0.038004932 | D28: =Orçamento!$L$77 -> 5916.3 | E28: =F28/$D$35 -> 0 | F28: 0
A30: 11. | B30: PINTURA | C30: =D30/$D$35 -> 0.010596517 | D30: =Orçamento!$L$82 -> 1649.58 | E30: =F30/$D$35 -> 0 | F30: 0
A32: 12. | B32: SERVIÇOS COMPLEMENTARES | C32: =D32/$D$35 -> 0.0088556766 | D32: =Orçamento!$L$85 -> 1378.58 | E32: =F32/$D$35 -> 0 | F32: 0
A35: TOTAL GERAL | C35: =SUM(C10:C34) -> 1 | D35: =SUM(D10:D33) -> 155671.9 | E35: =SUM(E10:E34) -> 0 | F35: =SUM(F10:F33) -> 0
A36: Local e data: | C36: (assinatura do representante legal da empresa e carimbo com CNPJ)
A37: Identificação e assinatura do Responsável Técnico pelo Orçamento:
B38: OBSERVAÇÃO
B39: - A planilha deve ser assinada pelo responsável técnico pela sua confecção (Art. 14 Lei 5.194/66), identificado através de carimbo com número do CREA/CAU e pelo responsável legal da empresa com o carimbo do CNPJ.

Sheet Orçamento
A1: (razão social da empresa licitante)
A2: (n.º do CNPJ)
A3: ANEXO II-B DO EDITAL DE LICITAÇÃO POR RDC ELETRÔNICO N.º 04/2022
A5: PLANILHA DE SERVIÇOS E PREÇOS UNITÁRIOS
A6: OBRA: execução da rampa de acessibilidade ao prédio da Faculdade de Administração no Campus do Valonguinho- Niterói/RJ
A7: Local: Campus do Valonguinho - Avenida Visconde do Rio Branco s/n.º, bairro Centro - Niterói - RJ
E8: VALOR ESTIMADO PELA UFF | M8: PROPOSTO PELA EMPRESA LICITANTE
A9: ITEM | B9: CÓDIGO | C9: FONTE | D9: DESCRIÇÃO DO ITEM | E9: UNID. | F9: QUANT. | G9: CUSTO UNITÁRIO | H9: BDI (%) | I9: PREÇO (R$) | M9: BDI (%) | N9: PREÇO (R$)
I10: UNITÁRIO (c/ BDI) | J10: TOTAL | N10: UNITÁRIO (c/ BDI) | O10: TOTAL
J11: SUBITEM | K11: ITEM | L11: SERVIÇO | O11: SUBITEM | P11: ITEM | Q11: SERVIÇO
A12: 1 | D12: PROJETOS | K12: =SUM(J13) -> 652.3 | L12: =K12 -> 652.3 | P12: =SUM(O13) -> 0 | Q12: =P12 -> 0
A13: 1.1 | B13: 000089 | C13: SBC | D13: PROJETO "AS BUILT" GERAL | E13: M² | F13: 55 | G13: 9.2 | H13: 0.2897 | I13: =TRUNC(G13*(1+H13),2) -> 11.86 | J13: =TRUNC(F13*I13,2) -> 652.3
A14: 2 | D14: GERENCIAMENTO DE OBRAS / FISCALIZAÇÃO | K14: =SUM(J15) -> 20928.06 | L14: =K14 -> 20928.06 | P14: =SUM(O15) -> 0 | Q14: =P14 -> 0
A15: 2.1 | B15: COMP 1 | C15: PRÓPRIO | D15: ADMINISTRAÇÃO LOCAL (02 meses) | E15: % | F15: 100 | G15: 16227.08 | H15: 0.2897 | I15: =TRUNC(G15*(1+H15),2) -> 20928.06 | J15: =TRUNC(F15*I15/100,2) -> 20928.06
A16: 3 | D16: SERVIÇOS PRELIMINARES | L16: =SUM(K17:K22) -> 6077.33 | Q16: =SUM(P17:P22) -> 0
A17: 3.1 | D17: LICENÇAS / TAXAS | K17: =SUM(J18) -> 303 | P17: =SUM(O18) -> 0
A18: 3.1.1 | B18: 016580 | C18: SBC | D18: ART TABELA CREA ACIMA DE R$15.001,00 | E18: UNID | F18: 1 | G18: 234.94 | H18: 0.2897 | I18: =TRUNC(G18*(1+H18),2) -> 303 | J18: =TRUNC(F18*I18,2) -> 303
A19: 3.2 | D19: CANTEIRO DE OBRA | K19: =SUM(J20:J21) -> 3358.11 | P19: =SUM(O20:O21) -> 0
A20: 3.2.1 | B20: 016500 | C20: SBC | D20: PLACA DE IDENTIFICACAO DE OBRA PUBLICA,INCLUSIVE PINTURA E SUPORTES DE MADEIRA.FORNECIMENTO E COLOCACAO | E20: M2 | F20: 3.12 | G20: 56.16 | H20: 0.2897 | I20: =TRUNC(G20*(1+H20),2) -> 72.42 | J20: =TRUNC(F20*I20,2) -> 225.95
A21: 3.2.2 | B21: 98459 | C21: SINAPI | D21: TAPUME COM TELHA METÁLICA. AF_05/2018 | E21: m² | F21: 19.8 | G21: 122.66 | H21: 0.2897 | I21: =TRUNC(G21*(1+H21),2) -> 158.19 | J21: =TRUNC(F21*I21,2) -> 3132.16
A22: 3.3 | D22: DEMOLIÇÕES / REMOÇÕES | K22: =SUM(J23:J29) -> 2416.22 | P22: =SUM(O23:O29) -> 0
A23: 3.3.1 | B23: 85334 | C23: SINAPI | D23: RETIRADA DE ESQUADRIAS METALICAS com aproveitamento | E23: m² | F23: =4.56*2.1 -> 9.576 | G23: 18.5 | H23: 0.2897 | I23: =TRUNC(G23*(1+H23),2) -> 23.85 | J23: =TRUNC(F23*I23,2) -> 228.38
A24: 3.3.2 | B24: 22057 | C24: SBC | D24: Retirada do guarda-corpo/ CORRIMÃO com aproveitamento | E24: m² | F24: 7.2 | G24: 6.37 | H24: 0.2897 | I24: =TRUNC(G24*(1+H24),2) -> 8.21 | J24: =TRUNC(F24*I24,2) -> 59.11
A25: 3.3.3 | B25: 98524 | C25: SINAPI | D25: LIMPEZA MANUAL DE VEGETAÇÃO EM TERRENO COM ENXADA.AF_05/2018 | E25: m² | F25: 25.22 | G25: 3.17 | H25: 0.2897 | I25: =TRUNC(G25*(1+H25),2) -> 4.08 | J25: =TRUNC(F25*I25,2) -> 102.89
A26: 3.3.4 | B26: 020766 | C26: SBC | D26: RETIRADA DE ARVORES/PALMEIRA | E26: UN | F26: 6 | G26: 58.17 | H26: 0.2897 | I26: =TRUNC(G26*(1+H26),2) -> 75.02 | J26: =TRUNC(F26*I26,2) -> 450.12
A27: 3.3.5 | B27: 97639 | C27: SINAPI | D27: REMOÇÃO DE PLACAS E PILARETES DE CONCRETO, DE FORMA MANUAL, SEM REAPROVEITAMENTO. AF_12/2017. | E27: m² | F27: 13.8 | G27: 19.75 | H27: 0.2897 | I27: =TRUNC(G27*(1+H27),2) -> 25.47 | J27: =TRUNC(F27*I27,2) -> 351.48
A28: 3.3.6 | B28: 022503 | C28: SBC | D28: ARRANCAMENTO DE MEIO-FIOS DE CONCRETO (RETOS E CURVOS | E28: M | F28: 12.75 | G28: 23.69 | H28: 0.2897 | I28: =TRUNC(G28*(1+H28),2) -> 30.55 | J28: =TRUNC(F28*I28,2) -> 389.51
A29: 3.3.7 | B29: 020025 | C29: SBC | D29: DEMOLICAO PISOS CIMENTADOS INCLUSIVE SUB-BASE | E29: m² | F29: 78.6 | G29: 8.24 | H29: 0.2897 | I29: =TRUNC(G29*(1+H29),2) -> 10.62 | J29: =TRUNC(F29*I29,2) -> 834.73
A30: 4 | D30: MOVIMENTO DE TERRA | K30: =SUM(J31:J32) -> 1844.32 | L30: =K30 -> 1844.32 | P30: =SUM(O31:O32) -> 0 | Q30: =P30 -> 0
A31: 4.1 | B31: 93358 | C31: SINAPI | D31: ESCAVAÇÃO MANUAL DE VALA COM PROFUNDIDADE MENOR OU IGUAL A 1,30 M. AF_02/202 | E31: m³ | F31: 12 | G31: 85.39 | H31: 0.2897 | I31: =TRUNC(G31*(1+H31),2) -> 110.12 | J31: =TRUNC(F31*I31,2) -> 1321.44
A32: 4.2 | B32: 96995 | C32: SINAPI | D32: REATERRO MANUAL APILOADO COM SOQUETE. AF_10/2017 | E32: m³ | F32: 8 | G32: 50.68 | H32: 0.2897 | I32: =TRUNC(G32*(1+H32),2) -> 65.36 | J32: =TRUNC(F32*I32,2) -> 522.88
A33: 5 | D33: INFRAESTRUTURA: FUNDAÇÕES SIMPLES (OU DIRETAS) | K33: =SUM(J34:J38) -> 5385.44 | L33: =K33 -> 5385.44 | P33: =SUM(O34:O38) -> 0 | Q33: =P33 -> 0
A34: 5.1 | B34: 96535 | C34: SINAPI | D34: FABRICAÇÃO, MONTAGEM E DESMONTAGEM DE FÔRMA PARA SAPATA, EM MADEIRA SERRADA, E=25 MM, 4 UTILIZAÇÕES. AF_06/2017 | E34: m² | F34: 10.6 | G34: 157.73 | H34: 0.2897 | I34: =TRUNC(G34*(1+H34),2) -> 203.42 | J34: =TRUNC(F34*I34,2) -> 2156.25
A35: 5.2 | B35: 96543 | C35: SINAPI | D35: ARMAÇÃO DE BLOCO, VIGA BALDRAME E SAPATA UTILIZANDO AÇO CA-60 DE 5 MM - MONTAGEM. AF_06/2017 | E35: KG | F35: 8.6 | G35: 20.05 | H35: 0.2897 | I35: =TRUNC(G35*(1+H35),2) -> 25.85 | J35: =TRUNC(F35*I35,2) -> 222.31
A36: 5.3 | B36: 96545 | C36: SINAPI | D36: ARMAÇÃO DE BLOCO, VIGA BALDRAME OU SAPATA UTILIZANDO AÇO CA-50 DE 8 MM - MONTAGEM. AF_06/2017 | E36: KG | F36: 46.9 | G36: 17.05 | H36: 0.2897 | I36: =TRUNC(G36*(1+H36),2) -> 21.98 | J36: =TRUNC(F36*I36,2) -> 1030.86
A37: 5.4 | B37: 96546 | C37: SINAPI | D37: ARMAÇÃO DE BLOCO, VIGA BALDRAME OU SAPATA UTILIZANDO AÇO CA-50 DE 10 MM - MONTAGEM. AF_06/2017 | E37: KG | F37: 29.2 | G37: 15.12 | H37: 0.2897 | I37: =TRUNC(G37*(1+H37),2) -> 19.5 | J37: =TRUNC(F37*I37,2) -> 569.4
A38: 5.5 | B38: 96556 | C38: SINAPI | D38: CONCRETAGEM DE SAPATAS, FCK 30 MPA, COM USO DE JERICA  LANÇAMENTO, ADENSAMENTO E ACABAMENTO. AF_06/2017 | E38: m³ | F38: 1.63 | G38: 669.12 | H38: 0.2897 | I38: =TRUNC(G38*(1+H38),2) -> 862.96 | J38: =TRUNC(F38*I38,2) -> 1406.62
A39: 6 | D39: SUPERESTRUTURA | L39: =SUM(K40:K61) -> 45613.94 | Q39: =SUM(P40:P61) -> 0
A40: 6.1 | D40: PILARES | K40: =SUM(J41:J44) -> 2790.19 | P40: =SUM(O41:O44) -> 0
A41: 6.1.1 | B41: 92263 | C41: SINAPI | D41: FABRICAÇÃO DE FÔRMA PARA PILARES E ESTRUTURAS SIMILARES, EM CHAPA DE MADEIRA COMPENSADA RESINADA, E = 17 MM. AF_09/2020 | E41: m² | F41: 10.8 | G41: 157.74 | H41: 0.2897 | I41: =TRUNC(G41*(1+H41),2) -> 203.43 | J41: =TRUNC(F41*I41,2) -> 2197.04
A42: 6.1.2 | B42: 92775 | C42: SINAPI | D42: ARMAÇÃO DE PILAR OU VIGA DE UMA ESTRUTURA CONVENCIONAL DE CONCRETO ARMADO EM UMA EDIFICAÇÃO TÉRREA OU SOBRADO UTILIZANDO AÇO CA-60 DE 5,0 MM - MONTAGEM. AF_12/2015 | E42: KG | F42: 5.2 | G42: 20.1 | H42: 0.2897 | I42: =TRUNC(G42*(1+H42),2) -> 25.92 | J42: =TRUNC(F42*I42,2) -> 134.78
A43: 6.1.3 | B43: 92778 | C43: SINAPI | D43: ARMAÇÃO DE PILAR OU VIGA DE UMA ESTRUTURA CONVENCIONAL DE CONCRETO ARMADO EM UMA EDIFICAÇÃO TÉRREA OU SOBRADO UTILIZANDO AÇO CA-50 DE 10,0 MM - MONTAGEM. AF_12/2015 | E43: KG | F43: 12.9 | G43: 15.01 | H43: 0.2897 | I43: =TRUNC(G43*(1+H43),2) -> 19.35 | J43: =TRUNC(F43*I43,2) -> 249.61
A44: 6.1.4 | B44: 103669 | C44: SINAPI | D44: CONCRETAGEM DE PILARES, FCK = 30 MPA, COM USO DE BALDES - LANÇAMENTO, ADENSAMENTO E ACABAMENTO. AF_02/2022 | E44: m³ | F44: 0.22 | G44: 735.79 | H44: 0.2897 | I44: =TRUNC(G44*(1+H44),2) -> 948.94 | J44: =TRUNC(F44*I44,2) -> 208.76
A45: 6.2 | D45: VIGAS | K45: =SUM(J46:J51) -> 14307.56 | P45: =SUM(O46:O51) -> 0
A46: 6.2.1 | B46: 92455 | C46: SINAPI | D46: MONTAGEM E DESMONTAGEM DE FÔRMA DE VIGA, ESCORAMENTO COM GARFO DE MADEIRA, PÉ-DIREITO SIMPLES, EM CHAPA DE MADEIRA RESINADA, 4 UTILIZAÇÕES. AF_09/2020 | E46: m² | F46: 44.13 | G46: 149.65 | H46: 0.2897 | I46: =TRUNC(G46*(1+H46),2) -> 193 | J46: =TRUNC(F46*I46,2) -> 8517.09
A47: 6.2.2 | B47: 92775 | C47: SINAPI | D47: ARMAÇÃO DE PILAR OU VIGA DE UMA ESTRUTURA CONVENCIONAL DE CONCRETO ARMADO EM UMA EDIFICAÇÃO TÉRREA OU SOBRADO UTILIZANDO AÇO CA-60 DE 5,0 MM - MONTAGEM. AF_12/2015 | E47: KG | F47: 43.5 | G47: 20.1 | H47: 0.2897 | I47: =TRUNC(G47*(1+H47),2) -> 25.92 | J47: =TRUNC(F47*I47,2) -> 1127.52
A48: 6.2.3 | B48: 92776 | C48: SINAPI | D48: ARMAÇÃO DE PILAR OU VIGA DE UMA ESTRUTURA CONVENCIONAL DE CONCRETO ARMADO EM UMA EDIFICAÇÃO TÉRREA OU SOBRADO UTILIZANDO AÇO CA-50 DE 6,3 MM - MONTAGEM. AF_12/2015 | E48: KG | F48: 1.1 | G48: 18.52 | H48: 0.2897 | I48: =TRUNC(G48*(1+H48),2) -> 23.88 | J48: =TRUNC(F48*I48,2) -> 26.26
A49: 6.2.4 | B49: 92777 | C49: SINAPI | D49: ARMAÇÃO DE PILAR OU VIGA DE UMA ESTRUTURA CONVENCIONAL DE CONCRETO ARMADO EM UMA EDIFICAÇÃO TÉRREA OU SOBRADO UTILIZANDO AÇO CA-50 DE 8,0 MM - MONTAGEM. AF_12/2015 | E49: KG | F49: 33.7 | G49: 17.03 | H49: 0.2897 | I49: =TRUNC(G49*(1+H49),2) -> 21.96 | J49: =TRUNC(F49*I49,2) -> 740.05
A50: 6.2.5 | B50: 92778 | C50: SINAPI | D50: ARMAÇÃO DE PILAR OU VIGA DE UMA ESTRUTURA CONVENCIONAL DE CONCRETO ARMADO EM UMA EDIFICAÇÃO TÉRREA OU SOBRADO UTILIZANDO AÇO CA-50 DE 10,0 MM - MONTAGEM. AF_12/2015 | E50: KG | F50: 64.4 | G50: 15.01 | H50: 0.2897 | I50: =TRUNC(G50*(1+H50),2) -> 19.35 | J50: =TRUNC(F50*I50,2) -> 1246.14
A51: 6.2.6 | B51: 96555 | C51: SINAPI | D51: CONCRETAGEM DE BLOCOS DE COROAMENTO E VIGAS BALDRAME, FCK 30 MPA, COM USO DE JERICA  LANÇAMENTO, ADENSAMENTO E ACABAMENTO. AF_06/2017 | E51: m³ | F51: 3.54 | G51: 580.55 | H51: 0.2897 | I51: =TRUNC(G51*(1+H51),2) -> 748.73 | J51: =TRUNC(F51*I51,2) -> 2650.5
A52: 6.3 | D52: LAJES | K52: =SUM(J53:J60) -> 25832.62 | P52: =SUM(O53:O60) -> 0
A53: 6.3.1 | B53: 97086 | C53: SINAPI | D53: FABRICAÇÃO, MONTAGEM E DESMONTAGEM DE FORMA PARA RADIER, PISO DE CONCRETO OU LAJE SOBRE SOLO, EM MADEIRA SERRADA, 4 UTILIZAÇÕES. AF_09/2021 | E53: m² | F53: 53.75 | G53: 132.98 | H53: 0.2897 | I53: =TRUNC(G53*(1+H53),2) -> 171.5 | J53: =TRUNC(F53*I53,2) -> 9218.12
A54: 6.3.2 | B54: 101792 | C54: SINAPI | D54: ESCORAMENTO DE FÔRMAS DE LAJE EM MADEIRA NÃO APARELHADA, PÉ-DIREITO SIMPLES, INCLUSO TRAVAMENTO, 4 UTILIZAÇÕES. AF_09/2020 | E54: m³ | F54: 53.75 | G54: 16.5 | H54: 0.2897 | I54: =TRUNC(G54*(1+H54),2) -> 21.28 | J54: =TRUNC(F54*I54,2) -> 1143.8
A55: 6.3.3 | B55: 92784 | C55: SINAPI | D55: ARMAÇÃO DE LAJE DE UMA ESTRUTURA CONVENCIONAL DE CONCRETO ARMADO EM UMA EDIFICAÇÃO TÉRREA OU SOBRADO UTILIZANDO AÇO CA-60 DE 5,0 MM - MONTAGEM. AF_12/2015 | E55: KG | F55: 176.8 | G55: 17.6 | H55: 0.2897 | I55: =TRUNC(G55*(1+H55),2) -> 22.69 | J55: =TRUNC(F55*I55,2) -> 4011.59
A56: 6.3.4 | B56: 92785 | C56: SINAPI | D56: ARMAÇÃO DE LAJE DE UMA ESTRUTURA CONVENCIONAL DE CONCRETO ARMADO EM UMA EDIFICAÇÃO TÉRREA OU SOBRADO UTILIZANDO AÇO CA-50 DE 6,3 MM - MONTAGEM. AF_12/2015 | E56: KG | F56: 30.1 | G56: 16.6 | H56: 0.2897 | I56: =TRUNC(G56*(1+H56),2) -> 21.4 | J56: =TRUNC(F56*I56,2) -> 644.14
A57: 6.3.5 | B57: 92786 | C57: SINAPI | D57: ARMAÇÃO DE LAJE DE UMA ESTRUTURA CONVENCIONAL DE CONCRETO ARMADO EM UMA EDIFICAÇÃO TÉRREA OU SOBRADO UTILIZANDO AÇO CA-50 DE 8,0 MM - MONTAGEM. AF_12/2015 | E57: KG | F57: 251.3 | G57: 15.57 | H57: 0.2897 | I57: =TRUNC(G57*(1+H57),2) -> 20.08 | J57: =TRUNC(F57*I57,2) -> 5046.1
A58: 6.3.6 | B58: 92787 | C58: SINAPI | D58: ARMAÇÃO DE LAJE DE UMA ESTRUTURA CONVENCIONAL DE CONCRETO ARMADO EM UMA EDIFICAÇÃO TÉRREA OU SOBRADO UTILIZANDO AÇO CA-50 DE 10,0 MM - MONTAGEM. AF_12/2015 | E58: KG | F58: 96.5 | G58: 13.87 | H58: 0.2897 | I58: =TRUNC(G58*(1+H58),2) -> 17.88 | J58: =TRUNC(F58*I58,2) -> 1725.42
A59: 6.3.7 | B59: 97096 | C59: SINAPI | D59: CONCRETAGEM DE RADIER, PISO DE CONCRETO OU LAJE SOBRE SOLO, FCK 30 MPA - LANÇAMENTO, ADENSAMENTO E ACABAMENTO. AF_09/2021 | E59: m³ | F59: 7.28 | G59: 429.88 | H59: 0.2897 | I59: =TRUNC(G59*(1+H59),2) -> 554.41 | J59: =TRUNC(F59*I59,2) -> 4036.1
A60: 6.3.8 | B60: 97114 | C60: SINAPI | D60: EXECUÇÃO DE JUNTAS DE CONTRAÇÃO PARA PAVIMENTOS DE CONCRETO. AF_04/2022 | E60: M | F60: 15 | G60: 0.38 | H60: 0.2897 | I60: =TRUNC(G60*(1+H60),2) -> 0.49 | J60: =TRUNC(F60*I60,2) -> 7.35
A61: 6.4 | D61: BALIZAMENTO | K61: =SUM(J62:J64) -> 2683.57 | P61: =SUM(O62:O64) -> 0
A62: 6.4.1 | B62: 92265 | C62: SINAPI | D62: FABRICAÇÃO DE FÔRMA PARA VIGAS, EM CHAPA DE MADEIRA COMPENSADA RESINADA, E = 17 MM. AF_09/2020 | E62: m² | F62: 10.2 | G62: 116.74 | H62: 0.2897 | I62: =TRUNC(G62*(1+H62),2) -> 150.55 | J62: =TRUNC(F62*I62,2) -> 1535.61
A63: 6.4.2 | B63: 92775 | C63: SINAPI | D63: ARMAÇÃO DE PILAR OU VIGA DE UMA ESTRUTURA CONVENCIONAL DE CONCRETO ARMADO EM UMA EDIFICAÇÃO TÉRREA OU SOBRADO UTILIZANDO AÇO CA-60 DE 5,0 MM - MONTAGEM. AF_12/2015 | E63: KG | F63: 44 | G63: 20.1 | H63: 0.2897 | I63: =TRUNC(G63*(1+H63),2) -> 25.92 | J63: =TRUNC(F63*I63,2) -> 1140.48
A64: 6.4.3 | B64: 96555 | C64: SINAPI | D64: CONCRETAGEM DE BLOCOS DE COROAMENTO E VIGAS BALDRAME, FCK 30 MPA, COM USO DE JERICA  LANÇAMENTO, ADENSAMENTO E ACABAMENTO. AF_06/2017 | E64: m³ | F64: 0.01 | G64: 580.55 | H64: 0.2897 | I64: =TRUNC(G64*(1+H64),2) -> 748.73 | J64: =TRUNC(F64*I64,2) -> 7.48
A65: 7 | D65: ALVENARIA / VEDAÇÃO / DIVISÓRIA | K65: =SUM(J66) -> 195.95 | L65: =K65 -> 195.95 | P65: =SUM(O66) -> 0 | Q65: =P65 -> 0
A66: 7.1 | B66: 89470 | C66: SINAPI | D66: ALVENARIA DE BLOCOS DE CONCRETO ESTRUTURAL 14X19X39 CM, (ESPESSURA 14 CM), FBK = 4,5 MPA, PARA PAREDES COM ÁREA LÍQUIDA MENOR QUE 6M², SEM VÃOS, UTILIZANDO COLHER DE PEDREIRO. AF_12/2014 | E66: m² | F66: =0.72*(1.5+0.82) -> 1.6704 | G66: 90.96 | H66: 0.2897 | I66: =TRUNC(G66*(1+H66),2) -> 117.31 | J66: =TRUNC(F66*I66,2) -> 195.95
A67: 8 | D67: ESQUADRIAS | L67: =SUM(K68:K71) -> 62213.29 | Q67: =SUM(P68:P71) -> 0
A68: 8.1 | D68: PORTA | K68: =SUM(J69:J70) -> 6597.43 | P68: =SUM(O69:O70) -> 0
A69: 8.1.1 | B69: COMP 2 | C69: PRÓPRIO | D69: PORTA DA ENTRADA PRINCIPAL, INCLUSIVE PCD, EM ALUMÍNIO PARA VIDRO TEMPERADO 6MM COMPLETA (4,56X2,1)M, SENDO 1 PORTA FIXA (1,2X2,1)M , 1 PORTA CORRER 2 FOLHAS (2,4X2,1)M E 1 PORTA ABRIR (0,9X2,1)M | E69: UND | F69: 1 | G69: 4800.13 | H69: 0.2897 | I69: =TRUNC(G69*(1+H69),2) -> 6190.72 | J69: =TRUNC(F69*I69,2) -> 6190.72
A70: 8.1.2 | B70: 91341 | C70: SINAPI | D70: PORTA DE ABRIR VENEZIANA EM ALUMÍNIO 0,70x0,70 COMPLETA INCLUSIVE FERRAGENS(acesso ao DML) | E70: m² | F70: 0.49 | G70: 643.59 | H70: 0.2897 | I70: =TRUNC(G70*(1+H70),2) -> 830.03 | J70: =TRUNC(F70*I70,2) -> 406.71
A71: 8.2 | D71: GUARDA-CORPO / CORRIMÃO | K71: =SUM(J72) -> 55615.86 | P71: =SUM(O72) -> 0
A72: 8.2.1 | B72: COMP 5 | C72: PRÓPRIO | D72: GUARDA-CORPO DE AÇO GALVANIZADO DE 1,10M, MONTANTES TUBULARES DE 1.1/4" ESPAÇADOS DE 1,20M, TRAVESSA SUPERIOR DE 1.1/4", CORRIMÃOS EM DUAS ALTURAS (92cm e 70cm), GRADIL FORMADO POR TUBOS HORIZONTAIS DE 1" E VERTICAIS DE 3/4", FIXADO COM CHUMBADOR MECÂNICO. AF_04/2019_P | E72: M | F72: 62 | G72: 695.54 | H72: 0.2897 | I72: =TRUNC(G72*(1+H72),2) -> 897.03 | J72: =TRUNC(F72*I72,2) -> 55615.86
A73: 9 | D73: REVESTIMENTO | K73: =SUM(J74:J76) -> 3816.81 | L73: =K73 -> 3816.81 | P73: =SUM(O74:O76) -> 0 | Q73: =P73 -> 0
A74: 9.1 | B74: 170304 | C74: SBC | D74: REVESTIMENTO EM MARMORE BRANCO NACIONAL COLADO AREA CIRCUL. SERVICO E ESCAPE, espessura= 2cm fixado com argamassa para marmores e rejunte branco | E74: m² | F74: =(1.5*0.72)+(1.1*0.72) -> 1.872 | G74: 304.08 | H74: 0.2897 | I74: =TRUNC(G74*(1+H74),2) -> 392.17 | J74: =TRUNC(F74*I74,2) -> 734.14
A75: 9.2 | B75: 87879 | C75: SINAPI | D75: CHAPISCO APLICADO EM ALVENARIAS E ESTRUTURAS DE CONCRETO INTERNAS, COM COLHER DE PEDREIRO. ARGAMASSA TRAÇO 1:3 COM PREPARO EM BETONEIRA 400L. AF_06/2014 | E75: m² | F75: 54.93 | G75: 3.87 | H75: 0.2897 | I75: =TRUNC(G75*(1+H75),2) -> 4.99 | J75: =TRUNC(F75*I75,2) -> 274.1
A76: 9.3 | B76: 87530 | C76: SINAPI | D76: MASSA ÚNICA, PARA RECEBIMENTO DE PINTURA, EM ARGAMASSA TRAÇO 1:2:8, PREPARO MANUAL, APLICADA MANUALMENTE EM FACES INTERNAS DE PAREDES, ESPESSURA DE 20MM, COM EXECUÇÃO DE TALISCAS. AF_06/2014 | E76: m² | F76: 54.93 | G76: 39.65 | H76: 0.2897 | I76: =TRUNC(G76*(1+H76),2) -> 51.13 | J76: =TRUNC(F76*I76,2) -> 2808.57
A77: 10 | D77: PISO | K77: =SUM(J78:J81) -> 5916.3 | L77: =K77 -> 5916.3 | P77: =SUM(O78:O81) -> 0 | Q77: =P77 -> 0
A78: 10.1 | B78: 101749 | C78: SINAPI | D78: PISO CIMENTADO, TRAÇO 1:3 (CIMENTO E AREIA), ACABAMENTO LISO, ESPESSURA 4,0 CM, PREPARO MECÂNICO DA ARGAMASSA. AF_09/2020 com junta de dilatação aplicada a cada metro. | E78: m² | F78: 42.15 | G78: 46.51 | H78: 0.2897 | I78: =TRUNC(G78*(1+H78),2) -> 59.98 | J78: =TRUNC(F78*I78,2) -> 2528.15
A79: 10.2 | B79: 92405 | C79: SINAPI | D79: EXECUÇÃO DE VIA EM PISO INTERTRAVADO, COM BLOCO 16 FACES DE 22 X 11 CM, ESPESSURA 8 CM. AF_12/2015 | E79: m² | F79: 17.8 | G79: 79.42 | H79: 0.2897 | I79: =TRUNC(G79*(1+H79),2) -> 102.42 | J79: =TRUNC(F79*I79,2) -> 1823.07
A80: 10.3 | B80: COMP 3 | C80: PRÓPRIO | D80: PISO PODOTATIL DE CONCRETO - DIRECIONAL E ALERTA, *40 X 40 X 2,5* CM - FORNECIMENTO E APLICAÇÃO], cores e modelo de acordo com o projeto. | E80: m | F80: 8.4 | G80: 42.68 | H80: 0.2897 | I80: =TRUNC(G80*(1+H80),2) -> 55.04 | J80: =TRUNC(F80*I80,2) -> 462.33
A81: 10.4 | B81: 172882 | C81: SBC | D81: RAMPA PARA DEFICIENTE FISICO EM CIMENTADO INCLUSIVE BASE | E81: M2 | F81: 7.2 | G81: 118.76 | H81: 0.2897 | I81: =TRUNC(G81*(1+H81),2) -> 153.16 | J81: =TRUNC(F81*I81,2) -> 1102.75
A82: 11 | D82: PINTURA | K82: =SUM(J83:J84) -> 1649.58 | L82: =K82 -> 1649.58 | P82: =SUM(O83:O84) -> 0 | Q82: =P82 -> 0
A83: 11.1 | B83: 88489 | C83: SINAPI | D83: APLICAÇÃO MANUAL DE PINTURA COM TINTA LÁTEX ACRÍLICA EM PAREDES, DUAS DEMÃOS. AF_06/2014 ,acabamento acetinado, na cor concreto, Marca SHERVIN WILLIANS metalatex ou equivalente tecnico | E83: m² | F83: 74.75 | G83: 14.85 | H83: 0.2897 | I83: =TRUNC(G83*(1+H83),2) -> 19.15 | J83: =TRUNC(F83*I83,2) -> 1431.46
A84: 11.2 | B84: 17.017.0320-A | C84: EMOP 04/2022 | D84: PINTURA INTERNA OU EXTERNA SOBRE FERRO,COM ESMALTE SINTETICO BRILHANTE OU ACETINADO APOS LIXAMENTO,LIMPEZA,DESENGORDURAM ENTO,UMA DEMAO DE FUNDO ANTICORROSIVO NA COR LARANJA DE SECA GEM RAPIDA E DUAS DEMAOS DE ACABAMENTO | E84: m² | F84: 9.27 | G84: 18.25 | H84: 0.2897 | I84: =TRUNC(G84*(1+H84),2) -> 23.53 | J84: =TRUNC(F84*I84,2) -> 218.12
A85: 12 | D85: SERVIÇOS COMPLEMENTARES | L85: =SUM(K86:K88) -> 1378.58 | Q85: =SUM(P86:P88) -> 0
A86: 12.1 | D86: TRANSPORTE DE MATERIAIS | K86: =SUM(J87) -> 1001.55 | P86: =SUM(O87) -> 0
A87: 12.1.1 | B87: 04.014.0095-A | C87: EMOP 04/2022 | D87: RETIRADA DE ENTULHO DE OBRA COM CACAMBA DE ACO TIPO CONTAINER COM 5M3 DE CAPACIDADE,INCLUSIVE CARREGAMENTO,TRANSPORTE EDESCARREGAMENTO.CUSTO POR UNIDADE DE CACAMBA E INCLUI A TAXA PARA DESCARGA EM LOCAIS AUTORIZADOS | E87: UNID | F87: 3 | G87: 258.86 | H87: 0.2897 | I87: =TRUNC(G87*(1+H87),2) -> 333.85 | J87: =TRUNC(F87*I87,2) -> 1001.55
A88: 12.2 | D88: SERVIÇOS FINAIS | K88: =SUM(J89:J90) -> 377.03 | P88: =SUM(O89:O90) -> 0
A89: 12.2.1 | B89: 97637 | C89: SINAPI | D89: REMOÇÃO DE TAPUME/ CHAPAS METÁLICAS E DE MADEIRA, DE FORMA MANUAL, SEM REAPROVEITAMENTO. AF_12/2017 | E89: M2 | F89: 19.8 | G89: 2.83 | H89: 0.2897 | I89: =TRUNC(G89*(1+H89),2) -> 3.64 | J89: =TRUNC(F89*I89,2) -> 72.07
A90: 12.2.2 | B90: COMP 4 | C90: PRÓPRIO | D90: LIMPEZA FINAL DA OBRA | E90: M2 | F90: 78.6 | G90: 3.01 | H90: 0.2897 | I90: =TRUNC(G90*(1+H90),2) -> 3.88 | J90: =TRUNC(F90*I90,2) -> 304.96
A92: VALOR TOTAL ESTIMADO PELA UFF | L92: =SUM(L12:L91) -> 155671.9 | M92: VALOR TOTAL PROPOSTO PELA EMPRESA | Q92: =SUM(Q12:Q91) -> 0
A93: Local e data: | G93: (assinatura do representante legal da empresa e carimbo com CNPJ)
A94: Identificação e assinatura do Responsável Técnico pelo Orçamento: | E94: CREA/CAU:
A95: OBSERVAÇÃO | B95: Orçamento realizado em Jun/2022;
B96: Incluso BDI desonerado sobre preço unitário de: 28,97 %
B97: A referência utilizada como base de custos é o SINAPI, SBC e EMOP de Abr/2022;
B98: Planilha protegida por senha, com exceção de partes editáveis como cabeçalho (A1:A2), colunas M em diante e linhas inferiores a 92;
B99: A licitante deverá preencher as colunas M em diante com seus valores, de forma a que o valor total proposto não ultrapasse o valor do seu ultimo lance e de acordo com as condições do edital;
B100: As composições que não constam no SINAPI, procedeu-se a obtenção da composição em outra fonte (SBC/EMOP) e utilizou-se como base de cálculo os insumos do SINAPI.
B101: No caso em que não houve o insumo no SINAPI, foi mantido a referência de valor indicada na cotação de mercado;
B102: A planilha deve ser assinada pelo responsável técnico pela sua confecção (Art. 14 Lei 5.194/66), identificado através de carimbo com número do CREA/CAU e pelo representante legal da empresa, com carimbo do CNPJ.

Sheet Cronograma
A1: (razão social da empresa licitante)
A2: (n.º do CNPJ)
A3: ANEXO II-C DO EDITAL DE LICITAÇÃO POR RDC ELETRÔNICO N.º 04/2022
A4: PLANILHA DE CRONOGRAMA FÍSICO E FINANCEIRO
A5: =Orçamento!$A$6 -> OBRA: execução da rampa de acessibilidade ao prédio da Faculdade de Administração no Campus do Valonguinho- Niterói/RJ
A7: =Orçamento!$A$7 -> Local: Campus do Valonguinho - Avenida Visconde do Rio Branco s/n.º, bairro Centro - Niterói - RJ
A8: ITEM | B8: DISCRIMINAÇÃO DO SERVIÇO | C8: VALOR (R$) | D8: % | E8: PERÍODO | G8: TOTAL DO ITEM
E9: MÊS 1 | F9: MÊS 2
A10: 1 | B10: =Resumo!B10 -> PROJETO | C10: =Resumo!D10 -> 652.3 | D10: =C10/C$35 -> 0.0041902232 | F10: 1 | G10: =SUM(E10:F10) -> 1
F11: =$C10*F10 -> 652.3 | G11: =SUM(E11:F11) -> 652.3
A12: 2 | B12: =Resumo!B12 -> GERENCIAMENTO DA OBRA | C12: =Resumo!D12 -> 20928.06 | D12: =C12/C$35 -> 0.13443698 | E12: =E38 -> 0.23562202 | F12: =F38 -> 0.76437798 | G12: =SUM(E12:F12) -> 1
E13: =$C12*E12 -> 4931.1118 | F13: =$C12*F12 -> 15996.948 | G13: =SUM(E13:F13) -> 20928.06
A14: 3 | B14: =Resumo!$B$14 -> SERVIÇOS PRELIMINARES | C14: =Resumo!D14 -> 6077.33 | D14: =C14/C$35 -> 0.039039351 | E14: 1 | G14: =SUM(E14:F14) -> 1
E15: =$C14*E14 -> 6077.33 | G15: =SUM(E15:F15) -> 6077.33
A16: 4 | B16: =Resumo!$B$16 -> MOVIMENTO DE TERRA | C16: =Resumo!D16 -> 1844.32 | D16: =C16/C$35 -> 0.011847482 | E16: 1 | G16: =SUM(E16:F16) -> 1
E17: =$C16*E16 -> 1844.32 | G17: =SUM(E17:F17) -> 1844.32
A18: 5 | B18: =Resumo!$B$18 -> INFRAESTRUTURA FUNDAÇÕES SIMPLES (OU DIRETAS) | C18: =Resumo!D18 -> 5385.44 | D18: =C18/C$35 -> 0.034594811 | E18: 1 | G18: =SUM(E18:F18) -> 1
E19: =$C18*E18 -> 5385.44 | G19: =SUM(E19:F19) -> 5385.44
A20: 6 | B20: =Resumo!$B$20 -> SUPERETRUTURA | C20: =Resumo!D20 -> 45613.94 | D20: =C20/C$35 -> 0.29301332 | E20: 0.4 | F20: 0.6 | G20: =SUM(E20:F20) -> 1
E21: =$C20*E20 -> 18245.576 | F21: =$C20*F20 -> 27368.364 | G21: =SUM(E21:F21) -> 45613.94
A22: 7 | B22: =Resumo!$B$22 -> ALVENARIA / VEDAÇÃO / DIVISÓRIA | C22: =Resumo!D22 -> 195.95 | D22: =C22/C$35 -> 0.0012587371 | E22: 1 | G22: =SUM(E22:F22) -> 1
E23: =$C22*E22 -> 195.95 | G23: =SUM(E23:F23) -> 195.95
A24: 8 | B24: =Resumo!$B$24 -> ESQUADRIAS | C24: =Resumo!D24 -> 62213.29 | D24: =C24/C$35 -> 0.39964367 | F24: 1 | G24: =SUM(E24:F24) -> 1
F25: =$C24*F24 -> 62213.29 | G25: =SUM(E25:F25) -> 62213.29
A26: 9 | B26: =Resumo!$B$26 -> REVESTIMENTO | C26: =Resumo!D26 -> 3816.81 | D26: =C26/C$35 -> 0.024518298 | F26: 1 | G26: =SUM(E26:F26) -> 1
F27: =$C26*F26 -> 3816.81 | G27: =SUM(E27:F27) -> 3816.81
A28: 10 | B28: =Resumo!$B$28 -> PISO | C28: =Resumo!D28 -> 5916.3 | D28: =C28/C$35 -> 0.038004932 | F28: 1 | G28: =SUM(E28:F28) -> 1
F29: =$C28*F28 -> 5916.3 | G29: =SUM(E29:F29) -> 5916.3
A30: 11 | B30: =Resumo!$B$30 -> PINTURA | C30: =Resumo!D30 -> 1649.58 | D30: =C30/C$35 -> 0.010596517 | F30: 1 | G30: =SUM(E30:F30) -> 1
F31: =$C30*F30 -> 1649.58 | G31: =SUM(E31:F31) -> 1649.58
A32: 12 | B32: =Resumo!$B$32 -> SERVIÇOS COMPLEMENTARES | C32: =Resumo!D32 -> 1378.58 | D32: =C32/C$35 -> 0.0088556766 | F32: 1 | G32: =SUM(E32:F32) -> 1
F33: =$C32*F32 -> 1378.58 | G33: =SUM(E33:F33) -> 1378.58
A35: Total do orçamento | C35: =SUM(C10:C33) -> 155671.9 | D35: =SUM(D10:D33) -> 1 | G35: =G33+G31+G29+G27+G25+G23+G21+G19+G17+G15+G13+G11 -> 155671.9
A36: Total do orçamento sem Administração | C36: =C35-C12 -> 134743.84 | D36: =D35-D12 -> 0.86556302
A37: Total mensal executado sem Administração | E37: =E11+E15+E17+E19+E21+E23+E25+E27+E29+E31+E33 -> 31748.616 | F37: =F11+F15+F17+F19+F21+F23+F25+F27+F29+F31+F33 -> 102995.22
A38: Percentual correspondente à Administração | E38: =E37/$C$36 -> 0.23562202 | F38: =F37/$C$36 -> 0.76437798
A39: Total mensal excutado com Administração | E39: =E37+E13 -> 36679.728 | F39: =F37+F13 -> 118992.17
A40: Total acumulado | E40: =E39 -> 36679.728 | F40: =E40+F39 -> 155671.9
A41: Percentual Acumulado | E41: =E38 -> 0.23562202 | F41: =F38 -> 0.76437798
A42: Local e data: | E42: assinatura representante legal da empresa e carimbro CNPJ
A43: Identificação e assinatura do Responsável Técnico pelo Orçamento: | D43: CREA/CAU:
A44: OBSERVAÇÃO
B45: - A planilha deve ser assinada pelo responsável técnico pela sua confecção (Art. 14 Lei 5.194/66), identificado através de carimbo com número do CREA/CAU e pelo responsável legal da empresa com carimbo do CNPJ.
