Workbook
Name _\s: #N/A
Name _01: #REF!
Name _01: #REF!
Name _01: #REF!
Name _01_4: #REF!
Name _01_4: #REF!
Name _10Excel_BuiltIn_Print_Area_1_1_1: #REF!
Name _10Excel_BuiltIn_Print_Area_1_1_1: #REF!
Name _11Excel_BuiltIn_Print_Area_1_1_1_1: #REF!
Name _12Excel_BuiltIn_Print_Area_1_1_1_1_1: #REF!
Name _13Excel_BuiltIn_Print_Area_5_1: #REF!
Name _14Excel_BuiltIn_Print_Area_5_1_1: "$#REF!.$A$1:$F$49"
Name _15Excel_BuiltIn_Print_Area_7_1: #REF!
Name _15Excel_BuiltIn_Print_Area_7_1: #REF!
Name _16ILUM_4_1: "$#REF!.$#REF!$#REF!"
Name _17INTE_4_1: "$#REF!.$#REF!$#REF!"
Name _18PARA_4_1: "$#REF!.$#REF!$#REF!"
Name _1CABO_4_1: "$#REF!.$#REF!$#REF!"
Name _2CAIX_4_1: "$#REF!.$#REF!$#REF!"
Name _3CDT_4_1: "$#REF!.$#REF!$#REF!"
Name _4COND_4_1: "$#REF!.$#REF!$#REF!"
Name _5CONE_4_1: "$#REF!.$#REF!$#REF!"
Name _6DIVE_4_1: "$#REF!.$#REF!$#REF!"
Name _7EQUI_4_1: "$#REF!.$#REF!$#REF!"
Name _8Excel_BuiltIn_Print_Area_1: #REF!
Name _8Excel_BuiltIn_Print_Area_1: #REF!
Name _9Excel_BuiltIn_Print_Area_1_1: #REF!
Name _9Excel_BuiltIn_Print_Area_1_1: #REF!
Name _A99990: '[1]Climatização Prédio DECEA'!#REF!
Name _A99990: '[1]Climatização Prédio DECEA'!#REF!
Name _A99999: '[1]Climatização Prédio DECEA'!#REF!
Name _A99999: '[1]Climatização Prédio DECEA'!#REF!
Name _s: #REF!
Name _s: #REF!
Name Á1: #REF!
Name Á1: #REF!
Name AAAA: #REF!
Name AAAA: #REF!
Name ACRES: #REF!
Name ACRES_4: #REF!
Name Área_impressão_IM: #REF!
Name Área_impressão_IM: #REF!
Name Área_impressão_IM_1: #REF!
Name Área_impressão_IM_1: #REF!
Name Área_impressão_IM_1_4: '[2]ICEA - SJC'!#REF!
Name Área_impressão_IM_1_4: '[2]ICEA - SJC'!#REF!
Name Área_impressão_IM_4: #REF!
Name Área_impressão_IM_4: #REF!
Name arredondamento: #REF!
Name arredondamento: #REF!
Name BBBB: #REF!
Name BBBB: #REF!
Name bdi: #REF!
Name BuiltIn_AutoFilter___1: #REF!
Name CABO: "PQ.$#REF!$#REF!"
Name CABO_2: #REF!
Name CABO_2: #REF!
Name CABO_3: "$#REF!.$#REF!$#REF!"
Name CABO_4: "$#REF!.$#REF!$#REF!"
Name CABO_4_1: "$#REF!.$#REF!$#REF!"

Sheet Resumo
A1: (razão social da empresa licitante)
A2: (n.º do CNPJ)
A3: ANEXO II-A DO EDITAL DE LICITAÇÃO POR RDC ELETRÔNICO N.º 04/2022
A4: RESUMO DE ORÇAMENTO PARA EXECUÇÃO DE OBRA POR EMPREITADA POR PREÇO UNITÁRIO
A5: =Orçamento!$A$6 -> OBRA: execução da rampa de acessibilidade ao prédio da Faculdade de Administração no Campus do Valonguinho- Niterói/RJ
A6: =Orçamento!$A$7 -> Local: Campus do Valonguinho - Avenida Visconde do Rio Branco s/n.º, bairro Centro - Niterói - RJ
C7: ESTIMADO PELA UFF | E7: PROPOSTO PELA EMPRESA
A8: ITEM | B8: DESCRIÇÃO DO ITEM | C8: % | D8: TOTAL DO ITEM (R$) | E8: % | F8: TOTAL DO ITEM (R$)
C9: SERVIÇO | E9: SERVIÇO
A10: 1. | B10: PROJETO | C10: =D10/$D$35 -> 0.0041902232 | D10: =Orçamento!$L$12 -> 652.3 | E10: =F10/$D$35 -> 0 | F10: 0
A12: 2. | B12: GERENCIAMENTO DA OBRA | C12: =D12/$D$35 -> 0.13443698 | D12: =Orçamento!$L$14 -> 20928.06 | E12: =F12/$D$35 -> 0 | F12: 0
A14: 3. | B14: SERVIÇOS PRELIMINARES | C14: =D14/$D$35 -> 0.039039351 | D14: =Orçamento!$L$16 -> 6077.33 | E14: =F14/$D$35 -> 0 | F14: 0
A16: 4. | B16: MOVIMENTO DE TERRA | C16: =D16/$D$35 -> 0.011847482 | D16: =Orçamento!$L$30 -> 1844.32 | E16: =F16/$D$35 -> 0 | F16: 0
A18: 5. | B18: INFRAESTRUTURA FUNDAÇÕES SIMPLES (OU DIRETAS) | C18: =D18/$D$35 -> 0.034594811 | D18: =Orçamento!$L$33 -> 5385.44 | E18: =F18/$D$35 -> 0 | F18: 0
A20: 6. | B20: SUPERETRUTURA | C20: =D20/$D$35 -> 0.29301332 | D20: =Orçamento!$L$39 -> 45613.94 | E20: =F20/$D$35 -> 0 | F20: 0
A22: 7. | B22: ALVENARIA / VEDAÇÃO / DIVISÓRIA | C22: =D22/$D$35 -> 0.0012587371 | D22: =Orçamento!$L$65 -> 195.95 | E22: =F22/$D$35 -> 0 | F22: 0
A24: 8. | B24: ESQUADRIAS | C24: =D24/$D$35 -> 0.39964367 | D24: =Orçamento!$L$67 -> 62213.29 | E24: =F24/$D$35 -> 0 | F24: 0
A26: 9. | B26: REVESTIMENTO | C26: =D26/$D$35 -> 0.024518298 | D26: =Orçamento!$L$73 -> 3816.81 | E26: =F26/$D$35 -> 0 | F26: 0
A28: 10. | B28: PISO | C28: =D28/$D$35 -> 0.038004932 | D28: =Orçamento!$L$77 -> 5916.3 | E28: =F28/$D$35 -> 0 | F28: 0
A30: 11. | B30: PINTURA | C30: =D30/$D$35 -> 0.010596517 | D30: =Orçamento!$L$82 -> 1649.58 | E30: =F30/$D$35 -> 0 | F30: 0
A32: 12. | B32: SERVIÇOS COMPLEMENTARES | C32: =D32/$D$35 -> 0.0088556766 | D32: =Orçamento!$L$85 -> 1378.58 | E32: =F32/$D$35 -> 0 | F32: 0
A35: TOTAL GERAL | C35: =SUM(C10:C34) -> 1 | D35: =SUM(D10:D33) -> 155671.9 | E35: =SUM(E10:E34) -> 0 | F35: =SUM(F10:F33) -> 0
A36: Local e data: | C36: (assinatura do representante legal da empresa e carimbo com CNPJ)
A37: Identificação e assinatura do Responsável Técnico pelo Orçamento:
B38: OBSERVAÇÃO
B39: - A planilha deve ser assinada pelo responsável técnico pela sua confecção (Art. 14 Lei 5.194/66), identificado através de carimbo com número do CREA/CAU e pelo responsável legal da empresa com o carimbo do CNPJ.

Sheet Orçamento
A1: (razão social da empresa licitante)
A2: (n.º do CNPJ)
A3: ANEXO II-B DO EDITAL DE LICITAÇÃO POR RDC ELETRÔNICO N.º 04/2022
A5: PLANILHA DE SERVIÇOS E PREÇOS UNITÁRIOS
A6: OBRA: execução da rampa de acessibilidade ao prédio da Faculdade de Administração no Campus do Valonguinho- Niterói/RJ
A7: Local: Campus do Valonguinho - Avenida Visconde do Rio Branco s/n.º, bairro Centro - Niterói - RJ
E8: VALOR ESTIMADO PELA UFF | M8: PROPOSTO PELA EMPRESA LICITANTE
A9: ITEM | B9: CÓDIGO | C9: FONTE | D9: DESCRIÇÃO DO ITEM | E9: UNID. | F9: QUANT. | G9: CUSTO UNITÁRIO | H9: BDI (%) | I9: PREÇO (R$) | M9: BDI (%) | N9: PREÇO (R$)
I10: UNITÁRIO (c/ BDI) | J10: TOTAL | N10: UNITÁRIO (c/ BDI) | O10: TOTAL
J11: SUBITEM | K11: ITEM | L11: SERVIÇO | O11: SUBITEM | P11: ITEM | Q11: SERVIÇO
A12: 1 | D12: PROJETOS | K12: =SUM(J13) -> 652.3 | L12: =K12 -> 652.3 | P12: =SUM(O13) -> 0 | Q12: =P12 -> 0
A13: 1.1 | B13: 000089 | C13: SBC | D13: PROJETO "AS BUILT" GERAL | E13: M² | F13: 55 | G13: 9.2 | H13: 0.2897 | I13: =TRUNC(G13*(1+H13),2) -> 11.86 | J13: =TRUNC(F13*I13,2) -> 652.3
A14: 2 | D14: GERENCIAMENTO DE OBRAS / FISCALIZAÇÃO | K14: =SUM(J15) -> 20928.06 | L14: =K14 -> 20928.06 | P14: =SUM(O15) -> 0 | Q14: =P14 -> 0
A15: 2.1 | B15: COMP 1 | C15: PRÓPRIO | D15: ADMINISTRAÇÃO LOCAL (02 meses) | E15: % | F15: 100 | G15: 16227.08 | H15: 0.2897 | I15: =TRUNC(G15*(1+H15),2) -> 20928.06 | J15: =TRUNC(F15*I15/100,2) -> 20928.06
A16: 3 | D16: SERVIÇOS PRELIMINARES | L16: =SUM(K17:K22) -> 6077.33 | Q16: =SUM(P17:P22) -> 0
A17: 3.1 | D17: LICENÇAS / TAXAS | K17: =SUM(J18) -> 303 | P17: =SUM(O18) -> 0
A18: 3.1.1 | B18: 016580 | C18: SBC | D18: ART TABELA CREA ACIMA DE R$15.001,00 | E18: UNID | F18: 1 | G18: 234.94 | H18: 0.2897 | I18: =TRUNC(G18*(1+H18),2) -> 303 | J18: =TRUNC(F18*I18,2) -> 303
A19: 3.2 | D19: CANTEIRO DE OBRA | K19: =SUM(J20:J21) -> 3358.11 | P19: =SUM(O20:O21) -> 0
A20: 3.2.1 | B20: 016500 | C20: SBC | D20: PLACA DE IDENTIFICACAO DE OBRA PUBLICA,INCLUSIVE PINTURA E SUPORTES DE MADEIRA.FORNECIMENTO E COLOCACAO | E20: M2 | F20: 3.12 | G20: 56.16 | H20: 0.2897 | I20: =TRUNC(G20*(1+H20),2) -> 72.42 | J20: =TRUNC(F20*I20,2) -> 225.95
A21: 3.2.2 | B21: 98459 | C21: SINAPI | D21: TAPUME COM TELHA METÁLICA. AF_05/2018 | E21: m² | F21: 19.8 | G21: 122.66 | H21: 0.2897 | I21: =TRUNC(G21*(1+H21),2) -> 158.19 | J21: =TRUNC(F21*I21,2) -> 3132.16
A22: 3.3 | D22: DEMOLIÇÕES / REMOÇÕES | K22: =SUM(J23:J29) -> 2416.22 | P22: =SUM(O23:O29) -> 0
A23: 3.3.1 | B23: 85334 | C23: SINAPI | D23: RETIRADA DE ESQUADRIAS METALICAS com aproveitamento | E23: m² | F23: =4.56*2.1 -> 9.576 | G23: 18.5 | H23: 0.2897 | I23: =TRUNC(G23*(1+H23),2) -> 23.85 | J23: =TRUNC(F23*I23,2) -> 228.38
A24: 3.3.2 | B24: 22057 | C24: SBC | D24: Retirada do guarda-corpo/ CORRIMÃO com aproveitamento | E24: m² | F24: 7.2 | G24: 6.37 | H24: 0.2897 | I24: =TRUNC(G24*(1+H24),2) -> 8.21 | J24: =TRUNC(F24*I24,2) -> 59.11
A25: 3.3.3 | B25: 98524 | C25: SINAPI | D25: LIMPEZA MANUAL DE VEGETAÇÃO EM TERRENO COM ENXADA.AF_05/2018 | E25: m² | F25: 25.22 | G25: 3.17 | H25: 0.2897 | I25: =TRUNC(G25*(1+H25),2) -> 4.08 | J25: =TRUNC(F25*I25,2) -> 102.89
A26: 3.3.4 | B26: 020766 | C26: SBC | D26: RETIRADA DE ARVORES/PALMEIRA | E26: UN | F26: 6 | G26: 58.17 | H26: 0.2897 | I26: =TRUNC(G26*(1+H26),2) -> 75.02 | J26: =TRUNC(F26*I26,2) -> 450.12
A27: 3.3.5 | B27: 97639 | C27: SINAPI | D27: REMOÇÃO DE PLACAS E PILARETES DE CONCRETO, DE FORMA MANUAL, SEM REAPROVEITAMENTO. AF_12/2017. | E27: m² | F27: 13.8 | G27: 19.75 | H27: 0.2897 | I27: =TRUNC(G27*(1+H27),2) -> 25.47 | J27: =TRUNC(F27*I27,2) -> 351.48
A28: 3.3.6 | B28: 022503 | C28: SBC | D28: ARRANCAMENTO DE MEIO-FIOS DE CONCRETO (RETOS E CURVOS | E28: M | F28: 12.75 | G28: 23.69 | H28: 0.2897 | I28: =TRUNC(G28*(1+H28),2) -> 30.55 | J28: =TRUNC(F28*I28,2) -> 389.51
A29: 3.3.7 | B29: 020025 | C29: SBC | D29: DEMOLICAO PISOS CIMENTADOS INCLUSIVE SUB-BASE | E29: m² | F29: 78.6 | G29: 8.24 | H29: 0.2897 | I29: =TRUNC(G29*(1+H29),2) -> 10.62 | J29: =TRUNC(F29*I29,2) -> 834.73
A30: 4 | D30: MOVIMENTO DE TERRA | K30: =SUM(J31:J32) -> 1844.32 | L30: =K30 -> 1844.32 | P30: =SUM(O31:O32) -> 0 | Q30: =P30 -> 0
A31: 4.1 | B31: 93358 | C31: SINAPI | D31: ESCAVAÇÃO MANUAL DE VALA COM PROFUNDIDADE MENOR OU IGUAL A 1,30 M. AF_02/202 | E31: m³ | F31: 12 | G31: 85.39 | H31: 0.2897 | I31: =TRUNC(G31*(1+H31),2) -> 110.12 | J31: =TRUNC(F31*I31,2) -> 1321.44
A32: 4.2 | B32: 96995 | C32: SINAPI | D32: REATERRO MANUAL APILOADO COM SOQUETE. AF_10/2017 | E32: m³ | F32: 8 | G32: 50.68 | H32: 0.2897 | I32: =TRUNC(G32*(1+H32),2) -> 65.36 | J32: =TRUNC(F32*I32,2) -> 522.88
A33: 5 | D33: INFRAESTRUTURA: FUNDAÇÕES SIMPLES (OU DIRETAS) | K33: =SUM(J34:J38) -> 5385.44 | L33: =K33 -> 5385.44 | P33: =SUM(O34:O38) -> 0 | Q33: =P33 -> 0
A34: 5.1 | B34: 96535 | C34: SINAPI | D34: FABRICAÇÃO, MONTAGEM E DESMONTAGEM DE FÔRMA PARA SAPATA, EM MADEIRA SERRADA, E=25 MM, 4 UTILIZAÇÕES. AF_06/2017 | E34: m² | F34: 10.6 | G34: 157.73 | H34: 0.2897 | I34: =TRUNC(G34*(1+H34),2) -> 203.42 | J34: =TRUNC(F34*I34,2) -> 2156.25
A35: 5.2 | B35: 96543 | C35: SINAPI | D35: ARMAÇÃO DE BLOCO, VIGA BALDRAME E SAPATA UTILIZANDO AÇO CA-60 DE 5 MM - MONTAGEM. AF_06/2017 | E35: KG | F35: 8.6 | G35: 20.05 | H35: 0.2897 | I35: =TRUNC(G35*(1+H35),2) -> 25.85 | J35: =TRUNC(F35*I35,2) -> 222.31
A36: 5.3 | B36: 96545 | C36: SINAPI | D36: ARMAÇÃO DE BLOCO, VIGA BALDRAME OU SAPATA UTILIZANDO AÇO CA-50 DE 8 MM - MONTAGEM. AF_06/2017 | E36: KG | F36: 46.9 | G36: 17.05 | H36: 0.2897 | I36: =TRUNC(G36*(1+H36),2) -> 21.98 | J36: =TRUNC(F36*I36,2) -> 1030.86
A37: 5.4 | B37: 96546 | C37: SINAPI | D37: ARMAÇÃO DE BLOCO, VIGA BALDRAME OU SAPATA UTILIZANDO AÇO CA-50 DE 10 MM - MONTAGEM. AF_06/2017 | E37: KG | F37: 29.2 | G37: 15.12 | H37: 0.2897 | I37: =TRUNC(G37*(1+H37),2) -> 19.5 | J37: =TRUNC(F37*I37,2) -> 569.4
A38: 5.5 | B38: 96556 | C38: SINAPI | D38: CONCRETAGEM DE SAPATAS, FCK 30 MPA, COM USO DE JERICA  LANÇAMENTO, ADENSAMENTO E ACABAMENTO. AF_06/2017 | E38: m³ | F38: 1.63 | G38: 669.12 | H38: 0.2897 | I38: =TRUNC(G38*(1+H38),2) -> 862.96 | J38: =TRUNC(F38*I38,2) -> 1406.62
A39: 6 | D39: SUPERESTRUTURA | L39: =SUM(K40:K61) -> 45613.94 | Q39: =SUM(P40:P61) -> 0
A40: 6.1 | D40: PILARES | K40: =SUM(J41:J44) -> 2790.19 | P40: =SUM(O41:O44) -> 0
A41: 6.1.1 | B41: 92263 | C41: SINAPI | D41: FABRICAÇÃO DE FÔRMA PARA PILARES E ESTRUTURAS SIMILARES, EM CHAPA DE MADEIRA COMPENSADA RESINADA, E = 17 MM. AF_09/2020 | E41: m² | F41: 10.8 | G41: 157.74 | H41: 0.2897 | I41: =TRUNC(G41*(1+H41),2) -> 203.43 | J41: =TRUNC(F41*I41,2) -> 2197.04
...

Sheet Cronograma
A1: (razão social da empresa licitante)
A2: (n.º do CNPJ)
A3: ANEXO II-C DO EDITAL DE LICITAÇÃO POR RDC ELETRÔNICO N.º 04/2022
A4: PLANILHA DE CRONOGRAMA FÍSICO E FINANCEIRO
A5: =Orçamento!$A$6 -> OBRA: execução da rampa de acessibilidade ao prédio da Faculdade de Administração no Campus do Valonguinho- Niterói/RJ
A7: =Orçamento!$A$7 -> Local: Campus do Valonguinho - Avenida Visconde do Rio Branco s/n.º, bairro Centro - Niterói - RJ
A8: ITEM | B8: DISCRIMINAÇÃO DO SERVIÇO | C8: VALOR (R$) | D8: % | E8: PERÍODO | G8: TOTAL DO ITEM
E9: MÊS 1 | F9: MÊS 2
A10: 1 | B10: =Resumo!B10 -> PROJETO | C10: =Resumo!D10 -> 652.3 | D10: =C10/C$35 -> 0.0041902232 | F10: 1 | G10: =SUM(E10:F10) -> 1
F11: =$C10*F10 -> 652.3 | G11: =SUM(E11:F11) -> 652.3
A12: 2 | B12: =Resumo!B12 -> GERENCIAMENTO DA OBRA | C12: =Resumo!D12 -> 20928.06 | D12: =C12/C$35 -> 0.13443698 | E12: =E38 -> 0.23562202 | F12: =F38 -> 0.76437798 | G12: =SUM(E12:F12) -> 1
E13: =$C12*E12 -> 4931.1118 | F13: =$C12*F12 -> 15996.948 | G13: =SUM(E13:F13) -> 20928.06
A14: 3 | B14: =Resumo!$B$14 -> SERVIÇOS PRELIMINARES | C14: =Resumo!D14 -> 6077.33 | D14: =C14/C$35 -> 0.039039351 | E14: 1 | G14: =SUM(E14:F14) -> 1
E15: =$C14*E14 -> 6077.33 | G15: =SUM(E15:F15) -> 6077.33
A16: 4 | B16: =Resumo!$B$16 -> MOVIMENTO DE TERRA | C16: =Resumo!D16 -> 1844.32 | D16: =C16/C$35 -> 0.011847482 | E16: 1 | G16: =SUM(E16:F16) -> 1
E17: =$C16*E16 -> 1844.32 | G17: =SUM(E17:F17) -> 1844.32
A18: 5 | B18: =Resumo!$B$18 -> INFRAESTRUTURA FUNDAÇÕES SIMPLES (OU DIRETAS) | C18: =Resumo!D18 -> 5385.44 | D18: =C18/C$35 -> 0.034594811 | E18: 1 | G18: =SUM(E18:F18) -> 1
E19: =$C18*E18 -> 5385.44 | G19: =SUM(E19:F19) -> 5385.44
A20: 6 | B20: =Resumo!$B$20 -> SUPERETRUTURA | C20: =Resumo!D20 -> 45613.94 | D20: =C20/C$35 -> 0.29301332 | E20: 0.4 | F20: 0.6 | G20: =SUM(E20:F20) -> 1
E21: =$C20*E20 -> 18245.576 | F21: =$C20*F20 -> 27368.364 | G21: =SUM(E21:F21) -> 45613.94
A22: 7 | B22: =Resumo!$B$22 -> ALVENARIA / VEDAÇÃO / DIVISÓRIA | C22: =Resumo!D22 -> 195.95 | D22: =C22/C$35 -> 0.0012587371 | E22: 1 | G22: =SUM(E22:F22) -> 1
E23: =$C22*E22 -> 195.95 | G23: =SUM(E23:F23) -> 195.95
A24: 8 | B24: =Resumo!$B$24 -> ESQUADRIAS | C24: =Resumo!D24 -> 62213.29 | D24: =C24/C$35 -> 0.39964367 | F24: 1 | G24: =SUM(E24:F24) -> 1
F25: =$C24*F24 -> 62213.29 | G25: =SUM(E25:F25) -> 62213.29
A26: 9 | B26: =Resumo!$B$26 -> REVESTIMENTO | C26: =Resumo!D26 -> 3816.81 | D26: =C26/C$35 -> 0.024518298 | F26: 1 | G26: =SUM(E26:F26) -> 1
F27: =$C26*F26 -> 3816.81 | G27: =SUM(E27:F27) -> 3816.81
A28: 10 | B28: =Resumo!$B$28 -> PISO | C28: =Resumo!D28 -> 5916.3 | D28: =C28/C$35 -> 0.038004932 | F28: 1 | G28: =SUM(E28:F28) -> 1
F29: =$C28*F28 -> 5916.3 | G29: =SUM(E29:F29) -> 5916.3
A30: 11 | B30: =Resumo!$B$30 -> PINTURA | C30: =Resumo!D30 -> 1649.58 | D30: =C30/C$35 -> 0.010596517 | F30: 1 | G30: =SUM(E30:F30) -> 1
F31: =$C30*F30 -> 1649.58 | G31: =SUM(E31:F31) -> 1649.58
A32: 12 | B32: =Resumo!$B$32 -> SERVIÇOS COMPLEMENTARES | C32: =Resumo!D32 -> 1378.58 | D32: =C32/C$35 -> 0.0088556766 | F32: 1 | G32: =SUM(E32:F32) -> 1
F33: =$C32*F32 -> 1378.58 | G33: =SUM(E33:F33) -> 1378.58
A35: Total do orçamento | C35: =SUM(C10:C33) -> 155671.9 | D35: =SUM(D10:D33) -> 1 | G35: =G33+G31+G29+G27+G25+G23+G21+G19+G17+G15+G13+G11 -> 155671.9
A36: Total do orçamento sem Administração | C36: =C35-C12 -> 134743.84 | D36: =D35-D12 -> 0.86556302
A37: Total mensal executado sem Administração | E37: =E11+E15+E17+E19+E21+E23+E25+E27+E29+E31+E33 -> 31748.616 | F37: =F11+F15+F17+F19+F21+F23+F25+F27+F29+F31+F33 -> 102995.22
A38: Percentual correspondente à Administração | E38: =E37/$C$36 -> 0.23562202 | F38: =F37/$C$36 -> 0.76437798
A39: Total mensal excutado com Administração | E39: =E37+E13 -> 36679.728 | F39: =F37+F13 -> 118992.17
A40: Total acumulado | E40: =E39 -> 36679.728 | F40: =E40+F39 -> 155671.9
A41: Percentual Acumulado | E41: =E38 -> 0.23562202 | F41: =F38 -> 0.76437798
A42: Local e data: | E42: assinatura representante legal da empresa e carimbro CNPJ
...
