Workbook
Name \s: #N/A
Name _01: #REF!
Name _01: #REF!
Name _01: #REF!
Name _01_4: #REF!
Name _01_4: #REF!
Name _10Excel_BuiltIn_Print_Area_1_1_1: #REF!
Name _10Excel_BuiltIn_Print_Area_1_1_1: #REF!
Name _11Excel_BuiltIn_Print_Area_1_1_1_1: #REF!
Name _12Excel_BuiltIn_Print_Area_1_1_1_1_1: #REF!
Name _13Excel_BuiltIn_Print_Area_5_1: #REF!
Name _14Excel_BuiltIn_Print_Area_5_1_1: "$#REF!.$A$1:$F$49"
Name _15Excel_BuiltIn_Print_Area_7_1: #REF!
Name _15Excel_BuiltIn_Print_Area_7_1: #REF!
Name _16ILUM_4_1: "$#REF!.$#REF!$#REF!"
Name _17INTE_4_1: "$#REF!.$#REF!$#REF!"
Name _18PARA_4_1: "$#REF!.$#REF!$#REF!"
Name _1CABO_4_1: "$#REF!.$#REF!$#REF!"
Name _2CAIX_4_1: "$#REF!.$#REF!$#REF!"
Name _3CDT_4_1: "$#REF!.$#REF!$#REF!"
Name _4COND_4_1: "$#REF!.$#REF!$#REF!"
Name _5CONE_4_1: "$#REF!.$#REF!$#REF!"
Name _6DIVE_4_1: "$#REF!.$#REF!$#REF!"
Name _7EQUI_4_1: "$#REF!.$#REF!$#REF!"
Name _8Excel_BuiltIn_Print_Area_1: #REF!
Name _8Excel_BuiltIn_Print_Area_1: #REF!
Name _9Excel_BuiltIn_Print_Area_1_1: #REF!
Name _9Excel_BuiltIn_Print_Area_1_1: #REF!
Name _A99990: '[1]Climatização Prédio DECEA'!#REF!
Name _A99990: '[1]Climatização Prédio DECEA'!#REF!
Name _A99999: '[1]Climatização Prédio DECEA'!#REF!
Name _A99999: '[1]Climatização Prédio DECEA'!#REF!
Name _s: #REF!
Name _s: #REF!
Name Á1: #REF!
Name Á1: #REF!
Name AAAA: #REF!
Name AAAA: #REF!
Name ACRES: #REF!
Name ACRES_4: #REF!
Name Área_impressão_IM: #REF!
Name Área_impressão_IM: #REF!
Name Área_impressão_IM_1: #REF!
Name Área_impressão_IM_1: #REF!
Name Área_impressão_IM_1_4: '[2]ICEA - SJC'!#REF!
Name Área_impressão_IM_1_4: '[2]ICEA - SJC'!#REF!
Name Área_impressão_IM_4: #REF!
Name Área_impressão_IM_4: #REF!
Name arredondamento: #REF!
Name arredondamento: #REF!
Name BBBB: #REF!
Name BBBB: #REF!
Name bdi: #REF!
Name BuiltIn_AutoFilter___1: #REF!
Name CABO: "PQ.$#REF!$#REF!"
Name CABO_2: #REF!
Name CABO_2: #REF!
Name CABO_3: "$#REF!.$#REF!$#REF!"
Name CABO_4: "$#REF!.$#REF!$#REF!"
Name CABO_4_1: "$#REF!.$#REF!$#REF!"

Sheet Resumo
A1: (razão social da empresa licitante)
A2: (n.º do CNPJ)
A3: ANEXO III-A DO EDITAL DE LICITAÇÃO POR PREGÃO ELETRÔNICO N.º 69/2022
A4: RESUMO DE ORÇAMENTO PARA EXECUÇÃO DE OBRA POR EMPREITADA POR PREÇO UNITÁRIO
A5: OBRA: Execução de drenos na encosta existente em área situada atrás do Laboratório de Biomateriais no prédio da Faculdade de Odontologia, com elaboração de projeto executivo.
A6: Local: Rua São Pedro, 30 - Campus do Valonguinho, na Visconde do Rio Branco s/n.º, Centro - Niterói - RJ
C7: ESTIMADO PELA UFF | E7: PROPOSTO PELA EMPRESA
A8: ITEM | B8: DESCRIÇÃO DO ITEM | C8: % | D8: TOTAL DO ITEM (R$) | E8: % | F8: TOTAL DO ITEM (R$)
C9: SERVIÇO | E9: SERVIÇO
A10: 1. | B10: PROJETO | C10: =D10/$D$20 -> 0.017007815 | D10: =Cronograma!$C$10 -> 1920.59 | E10: =F10/$F$20 -> #DIV/0!
A12: 2. | B12: GERENCIAMENTO DA OBRA | C12: =D12/$D$20 -> 0.3027537 | D12: =Cronograma!$C$12 -> 34188.15 | E12: =F12/$F$20 -> #DIV/0!
A14: 3. | B14: SERVIÇOS PRELIMINARES | C14: =D14/$D$20 -> 0.057853882 | D14: =Cronograma!$C$14 -> 6533.09 | E14: =F14/$F$20 -> #DIV/0!
A16: 4. | B16: MOVIMENTO DE TERRA | C16: =D16/$D$20 -> 0.61280169 | D16: =Cronograma!$C$16 -> 69200 | E16: =F16/$F$20 -> #DIV/0!
A18: 25. | B18: SERVIÇOS COMPLEMENTARES | C18: =D18/$D$20 -> 0.0095829079 | D18: =Cronograma!$C$18 -> 1082.14 | E18: =F18/$F$20 -> #DIV/0!
A20: TOTAL GERAL | C20: =SUM(C10:C19) -> 1 | D20: =SUM(D10:D18) -> 112923.97 | E20: =SUM(E10:E19) -> #DIV/0! | F20: =SUM(F10:F18) -> 0
A21: Local e data: | C21: (assinatura do representante legal da empresa e carimbo com CNPJ)
A22: Identificação e assinatura do Responsável Técnico pelo Orçamento:
B23: OBSERVAÇÃO
B24: - A planilha deve ser assinada pelo responsável técnico pela sua confecção (Art. 14 Lei 5.194/66), identificado através de carimbo com número do CREA/CAU e pelo responsável legal da empresa.

Sheet Orçamento
A1: (razão social da empresa licitante)
A2: (n.º do CNPJ)
A3: ANEXO III-B DO EDITAL DE LICITAÇÃO POR PREGÃO ELETRÔNICO N.º 69/2022
A5: PLANILHA DE SERVIÇOS E CUSTOS
A6: OBRA: Execução de drenos na encosta existente em área situada atrás do Laboratório de Biomateriais no prédio da Faculdade de Odontologia, com elaboração de projeto executivo.
A7: Local: Rua São Pedro, 30 - Campus do Valonguinho, na Visconde do Rio Branco s/n.º, Centro - Niterói - RJ
E8: VALOR ESTIMADO PELA UFF | M8: PROPOSTO PELA EMPRESA LICITANTE
A9: ITEM | B9: CÓDIGO | C9: FONTE | D9: DESCRIÇÃO DO ITEM | E9: UNID. | F9: QUANT. | G9: CUSTO UNITÁRIO | H9: BDI (%) | I9: PREÇO (R$) | M9: BDI (%) | N9: PREÇO (R$)
I10: UNITÁRIO C/ BDI | J10: TOTAL | N10: UNITÁRIO C/ BDI | O10: TOTAL
J11: SUBITEM | K11: ITEM | L11: SERVIÇO | O11: SUBITEM | P11: ITEM | Q11: SERVIÇO
A12: 1 | D12: PROJETOS | K12: =SUM(J13:J14) -> 1920.59 | L12: =K12 -> 1920.59 | P12: =SUM(O13:O14) -> 0 | Q12: =P12 -> 0
A13: 01.01 | B13: SCO/RJ | C13: SE 24.05.0150 | D13: Projeto executivo de sistema de drenagem, em Autocad, em area de ate 20.000m2.(desonerado) | E13: M² | F13: 1000 | G13: 0.97 | H13: 0.2807 | I13: =TRUNC(G13*(1+H13),2) -> 1.24 | J13: =TRUNC(F13*I13,2) -> 1240
A14: 01.02 | B14: SCO/RJ | C14: SE 19.10.0150 | D14: Levantamento topografico, planialtimetrico e cadastral, executado de acordo com as especificacoes da Prefeitura da Cidade do Rio de Janeiro, em terreno de orografia acidentada, vegetacao rala e edificacao leve, com area de ate 4 ha (escala 1:500).(desonerado) | E14: HA | F14: 0.1 | G14: 5314.27 | H14: 0.2807 | I14: =TRUNC(G14*(1+H14),2) -> 6805.98 | J14: =TRUNC(F14*I14,2) -> 680.59
A16: 2 | D16: GERENCIAMENTO DE OBRA | K16: =SUM(J17) -> 34188.15 | L16: =K16 -> 34188.15 | P16: =O17 -> 0 | Q16: =P16 -> 0
A17: 02.01 | B17: PRÓPRIO | C17: COMP 01 | D17: ADMINISTRAÇÃO LOCAL | E17: 1 | F17: 1 | G17: 26694.9 | H17: 0.2807 | I17: =TRUNC(G17*(1+H17),2) -> 34188.15 | J17: =TRUNC(F17*I17,2) -> 34188.15
A19: 3 | D19: SERVIÇOS PRELIMINARES | L19: =SUM(K20:K22) -> 6533.09 | Q19: =SUM(P20:P22) -> 0
A20: 03.01 | D20: TAXAS E LICENÇAS | K20: =SUM(J21) -> 299.6 | P20: =O21 -> 0
A21: 03.01.01 | B21: CREA-RJ | D21: ART - OBRA | E21: UN | F21: 1 | G21: 233.94 | H21: 0.2807 | I21: =TRUNC(G21*(1+H21),2) -> 299.6 | J21: =TRUNC(F21*I21,2) -> 299.6
A22: 03.02 | D22: CANTEIRO DE OBRA | K22: =SUM(J23:J26) -> 6233.49 | P22: =SUM(O23:O26) -> 0
A23: 03.02.01 | B23: SCO/RJ | C23: AD 19.25.0300 | D23: PLACA DE IDENTIFICACAO DE OBRA PUBLICA, INCLUSIVE PINTURA, ESTRUTURA, SUPORTE DE MADEIRA EM PECAS DE MADEIRA SERRADA DE (7,5 X 7,5)CM E TRANSPORTE. FORNECIMENTO E COLOCACAO. | E23: M² | F23: 3.15 | G23: 466.32 | H23: 0.2807 | I23: =TRUNC(G23*(1+H23),2) -> 597.21 | J23: =TRUNC(F23*I23,2) -> 1881.21
A24: 03.02.02 | B24: SINAPI-I | C24: 10777 | D24: LOCACAO DE CONTAINER 2,30 X 4,30 M, ALT. 2,50 M, PARA SANITARIO, COM 3 BACIAS, 4 CHUVEIROS, 1 LAVATORIO E 1 MICTORIO (NAO INCLUI MOBILIZACAO/DESMOBILIZACAO) | E24: UN | F24: 2 | G24: 858.37 | H24: 0.2807 | I24: =TRUNC(G24*(1+H24),2) -> 1099.31 | J24: =TRUNC(F24*I24,2) -> 2198.62
A25: 03.02.03 | B25: SINAPI-I | C25: 10776 | D25: LOCACAO DE CONTAINER 2,30 X 6,00 M, ALT. 2,50 M, PARA ESCRITORIO, SEM DIVISORIAS INTERNAS E SEM SANITARIO (NAO INCLUI MOBILIZACAO/DESMOBILIZACAO) | E25: UN | F25: 2 | G25: 590.62 | H25: 0.2807 | I25: =TRUNC(G25*(1+H25),2) -> 756.4 | J25: =TRUNC(F25*I25,2) -> 1512.8
A26: 03.02.04 | B26: PRÓPRIO | C26: UFF-003-CAN-007 | D26: MOBILIZAÇÃO DE CONTAINER | E26: UN | F26: 2 | G26: 250.2 | H26: 0.2807 | I26: =TRUNC(G26*(1+H26),2) -> 320.43 | J26: =TRUNC(F26*I26,2) -> 640.86
A28: 4 | D28: MOVIMENTO DE TERRA | K28: =SUM(J29:J31) -> 69200 | L28: =K28 -> 69200 | P28: =SUM(O29:O31) -> 0 | Q28: =P28 -> 0
A29: 04.01 | B29: EMOP | C29: 01.002.0024-0 | D29: Perfuração rotativa com coroa de widia, em solo, diâmetro BX, horizontal, inclusive deslocamento dentro do canteiro e instalação da sonda em cada furo | E29: M | F29: 160 | G29: 147.49 | H29: 0.2807 | I29: =TRUNC(G29*(1+H29),2) -> 188.89 | J29: =TRUNC(F29*I29,2) -> 30222.4
A30: 04.02 | B30: SCO/RJ | C30: DR 54.05.0200 (A) | D30: Dreno ou Barbaca em tubo de PVC rigido, diametro de 2", inclusive fornecimento do tubo e material drenante.(desonerado) | E30: M | F30: 160 | G30: 88.43 | H30: 0.2807 | I30: =TRUNC(G30*(1+H30),2) -> 113.25 | J30: =TRUNC(F30*I30,2) -> 18120
A31: 04.03 | B31: SINAPI | C31: 90999 | D31: Compressor de ar, portátil e rebocável, pressão de trabalho de 102 PSI, descarga livre efetiva de 400PCM, motor diesel, exclusive operador | E31: H | F31: 160 | G31: 101.79 | H31: 0.2807 | I31: =TRUNC(G31*(1+H31),2) -> 130.36 | J31: =TRUNC(F31*I31,2) -> 20857.6
A33: 5 | D33: SERVIÇOS COMPLEMENTARES | K33: =SUM(J34:J35) -> 1082.14 | L33: =K33 -> 1082.14 | P33: =SUM(O34:O35) -> 0 | Q33: =P33 -> 0
A34: 05.01 | B34: PRÓPRIO | C34: UFF-025-DVS-003 | D34: DESMOBILIZAÇÃO DE CONTAINER | E34: UN | F34: 2 | G34: 250.2 | H34: 0.2807 | I34: =TRUNC(G34*(1+H34),2) -> 320.43 | J34: =TRUNC(F34*I34,2) -> 640.86
A35: 05.02 | B35: SINAPI | C35: 88316 | D35: Limpeza de folhas, raízes, entulho e desobstrução de drenagem - (horas homem de servente) | E35: H | F35: 16 | G35: 21.54 | H35: 0.2807 | I35: =TRUNC(G35*(1+H35),2) -> 27.58 | J35: =TRUNC(F35*I35,2) -> 441.28
A37: VALOR TOTAL ESTIMADO PELA UFF | L37: =SUM(L12:L36) -> 112923.97 | M37: VALOR TOTAL PROPOSTO PELA EMPRESA | Q37: =SUM(Q12:Q36) -> 0
A38: Local e data: | G38: (assinatura do representante legal da empresa e carimbo com CNPJ)
A39: Identificação e assinatura do Responsável Técnico pelo Orçamento: | E39: CREA/CAU:
A40: OBSERVAÇÃO | B40: Orçamento realizado em Abr/2022;
B41: Incluso BDI desonerado sobre preço unitário de: 28,07 %
B42: A referência utilizada como base de custos é o SINAPI, SCO, SBC de Mar/2022;
B43: Planilha protegida por senha, com exceção de partes editáveis como cabeçalho (A1:A2), colunas M em diante e linhas inferiores a 37;
B44: A licitante deverá preencher as colunas M em diante com seus valores, de forma a que o valor total proposto não ultrapasse o valor do seu ultimo lance e de acordo com as condições do edital;
B45: As composições que não constam no SINAPI, procedeu-se a obtenção da composição em outra fonte (SBC) e utilizou-se como base de cálculo os insumos do SINAPI.
B46: No caso em que não houve o insumo no SINAPI, foi mantido a referência de valor indicada na cotação de mercado;
B47: A planilha deve ser assinada pelo responsável técnico pela sua confecção (Art. 14 Lei 5.194/66), identificado através de carimbo com número do CREA e pelo representante legal da empresa, com carimbo do CNPJ.

Sheet Cronograma
A1: (razão social da empresa licitante)
A2: (n.º do CNPJ)
A3: ANEXO III-C DO EDITAL DE LICITAÇÃO POR PREGÃO ELETRÔNICO N.º 69/2022
A4: PLANILHA DE CRONOGRAMA FÍSICO E FINANCEIRO
A5: OBRA: Execução de drenos na encosta existente em área situada atrás do Laboratório de Biomateriais no prédio da Faculdade de Odontologia, com elaboração de projeto executivo.
A7: Local: Rua São Pedro, 30 - Campus do Valonguinho, na Visconde do Rio Branco s/n.º, Centro - Niterói - RJ
A8: ITEM | B8: DISCRIMINAÇÃO DO SERVIÇO | C8: VALOR (R$) | D8: % | E8: PERÍODO | H8: TOTAL DO ITEM
E9: MÊS 1 | F9: MÊS 2 | G9: MÊS 3
A10: 1 | B10: PROJETO | C10: =Orçamento!$L$12 -> 1920.59 | D10: =C10/C$21 -> 0.017007815 | E10: 1 | H10: =SUM(E10:G10) -> 1
E11: =$C10*E10 -> 1920.59 | H11: =SUM(E11:G11) -> 1920.59
A12: 2 | B12: GERENCIAMENTO DA OBRA | C12: =Orçamento!$L$16 -> 34188.15 | D12: =C12/C$21 -> 0.3027537 | F12: =E24+F24 -> 0.45892302 | G12: =G24 -> 0.54107698 | H12: =SUM(E12:G12) -> 1
F13: =$C12*F12 -> 15689.729 | G13: =$C12*G12 -> 18498.421 | H13: =SUM(E13:G13) -> 34188.15
A14: 3 | B14: SERVIÇOS PRELIMINARES | C14: =Orçamento!$L$19 -> 6533.09 | D14: =C14/C$21 -> 0.057853882 | F14: 1 | H14: =SUM(E14:G14) -> 1
F15: =$C14*F14 -> 6533.09 | H15: =SUM(E15:G15) -> 6533.09
A16: 4 | B16: MOVIMENTO DE TERRA | C16: =Orçamento!$L$28 -> 69200 | D16: =C16/C$21 -> 0.61280169 | F16: 0.4 | G16: 0.6 | H16: =SUM(E16:G16) -> 1
F17: =F16*$C16 -> 27680 | G17: =G16*$C16 -> 41520 | H17: =SUM(E17:G17) -> 69200
A18: 5 | B18: SERVIÇOS COMPLEMENTARES | C18: =Orçamento!$L$33 -> 1082.14 | D18: =C18/C$21 -> 0.0095829079 | G18: 1 | H18: =SUM(E18:G18) -> 1
G19: =G18*$C18 -> 1082.14 | H19: =SUM(E19:G19) -> 1082.14
A21: Total do orçamento | C21: =SUM(C10:C19) -> 112923.97 | D21: =SUM(D10:D19) -> 1 | H21: =H19+H17+H15+H13+H11 -> 112923.97
A22: Total do orçamento sem Administração | C22: =C21-C12 -> 78735.82 | D22: =D21-D12 -> 0.6972463
A23: Total mensal executado sem Administração | E23: =E11+E15+E17+E19 -> 1920.59 | F23: =F11+F15+F17+F19 -> 34213.09 | G23: =G11+G15+G17+G19 -> 42602.14
A24: Percentual correspondente à Administração | E24: =E23/$C$22 -> 0.024392837 | F24: =F23/$C$22 -> 0.43453018 | G24: =G23/$C$22 -> 0.54107698
A25: Total mensal excutado com Administração | E25: =E23+E13 -> 1920.59 | F25: =F23+F13 -> 49902.819 | G25: =G23+G13 -> 61100.561
A26: Total acumulado | E26: =E25 -> 1920.59 | F26: =E26+F25 -> 51823.409 | G26: =F26+G25 -> 112923.97
A27: Percentual Acumulado | E27: =E24 -> 0.024392837 | F27: =F24+E27 -> 0.45892302 | G27: =F27+G24 -> 1
A28: Local e data: | E28: assinatura representante legal da empresa e carimbro CNPJ
A29: Identificação e assinatura do Responsável Técnico pelo Orçamento: | D29: CREA/CAU:
A30: OBSERVAÇÃO
B31: - A planilha deve ser assinada pelo responsável técnico pela sua confecção (Art. 14 Lei 5.194/66), identificado através de carimbo com número do CREA/CAU e pelo responsável legal da empresa.
