Workbook
Name \s: #N/A
Name _01: #REF!
Name _01: #REF!
Name _01: #REF!
Name _01_4: #REF!
Name _01_4: #REF!
Name _10Excel_BuiltIn_Print_Area_1_1_1: #REF!
Name _10Excel_BuiltIn_Print_Area_1_1_1: #REF!
Name _11Excel_BuiltIn_Print_Area_1_1_1_1: #REF!
Name _12Excel_BuiltIn_Print_Area_1_1_1_1_1: #REF!
Name _13Excel_BuiltIn_Print_Area_5_1: #REF!
Name _14Excel_BuiltIn_Print_Area_5_1_1: "$#REF!.$A$1:$F$49"
Name _15Excel_BuiltIn_Print_Area_7_1: #REF!
Name _15Excel_BuiltIn_Print_Area_7_1: #REF!
Name _16ILUM_4_1: "$#REF!.$#REF!$#REF!"
Name _17INTE_4_1: "$#REF!.$#REF!$#REF!"
Name _18PARA_4_1: "$#REF!.$#REF!$#REF!"
Name _1CABO_4_1: "$#REF!.$#REF!$#REF!"
Name _2CAIX_4_1: "$#REF!.$#REF!$#REF!"
Name _3CDT_4_1: "$#REF!.$#REF!$#REF!"
Name _4COND_4_1: "$#REF!.$#REF!$#REF!"
Name _5CONE_4_1: "$#REF!.$#REF!$#REF!"
Name _6DIVE_4_1: "$#REF!.$#REF!$#REF!"
Name _7EQUI_4_1: "$#REF!.$#REF!$#REF!"
Name _8Excel_BuiltIn_Print_Area_1: #REF!
Name _8Excel_BuiltIn_Print_Area_1: #REF!
Name _9Excel_BuiltIn_Print_Area_1_1: #REF!
Name _9Excel_BuiltIn_Print_Area_1_1: #REF!
Name _A99990: '[1]Climatização Prédio DECEA'!#REF!
Name _A99990: '[1]Climatização Prédio DECEA'!#REF!
Name _A99999: '[1]Climatização Prédio DECEA'!#REF!
Name _A99999: '[1]Climatização Prédio DECEA'!#REF!
Name _s: #REF!
Name _s: #REF!
Name Á1: #REF!
Name Á1: #REF!
Name AAAA: #REF!
Name AAAA: #REF!
Name ACRES: #REF!
Name ACRES_4: #REF!
Name Área_impressão_IM: #REF!
Name Área_impressão_IM: #REF!
Name Área_impressão_IM_1: #REF!
Name Área_impressão_IM_1: #REF!
Name Área_impressão_IM_1_4: '[2]ICEA - SJC'!#REF!
Name Área_impressão_IM_1_4: '[2]ICEA - SJC'!#REF!
Name Área_impressão_IM_4: #REF!
Name Área_impressão_IM_4: #REF!
Name arredondamento: #REF!
Name arredondamento: #REF!
Name BBBB: #REF!
Name BBBB: #REF!
Name bdi: #REF!
Name BuiltIn_AutoFilter___1: #REF!
Name CABO: "PQ.$#REF!$#REF!"
Name CABO_2: #REF!
Name CABO_2: #REF!
Name CABO_3: "$#REF!.$#REF!$#REF!"
Name CABO_4: "$#REF!.$#REF!$#REF!"
Name CABO_4_1: "$#REF!.$#REF!$#REF!"

Sheet Resumo
A1: (razão social da empresa licitante)
A2: (n.º do CNPJ)
A3: ANEXO III-A DO EDITAL DE LICITAÇÃO POR PREGÃO ELETRÔNICO N.º | F3: =Orçamento!$M$3 -> 136/2022
A4: RESUMO DE ORÇAMENTO PARA EXECUÇÃO DE OBRA POR EMPREITADA POR PREÇO UNITÁRIO
A5: =Orçamento!$A$6 -> OBRA: reforma e adequação de ambientes no pavimento térreo do Bloco E (Escola de Serviço Social) no Campus Universitário do Gragoatá da UFF.
A6: =Orçamento!$A$7 -> Local: Av. Visconde do Rio Branco, s/n.º, bairro de São Domingos, Niterói- RJ
C7: ESTIMADO PELA UFF | E7: PROPOSTO PELA EMPRESA
A8: ITEM | B8: DESCRIÇÃO DO ITEM | C8: % | D8: TOTAL DO ITEM (R$) | E8: % | F8: TOTAL DO ITEM (R$)
C9: SERVIÇO | E9: SERVIÇO
A11: 1. | B11: SERVIÇOS PRELIMINARES | C11: =D11/$D$29 -> 0.0060867686 | D11: =Orçamento!$K$12 -> 708.22 | E11: =F11/$F$29 -> #DIV/0! | F11: =Orçamento!$P$12 -> 0
A13: 2. | B13: DEMOLIÇÕES | C13: =D13/$D$29 -> 0.018614999 | D13: =Orçamento!$K$14 -> 2165.93 | E13: =F13/$F$29 -> #DIV/0! | F13: =Orçamento!$P$14 -> 0
A15: 3. | B15: ALVENARIA | C15: =D15/$D$29 -> 0.44354772 | D15: =Orçamento!$K$19 -> 51608.56 | E15: =F15/$F$29 -> #DIV/0! | F15: =Orçamento!$P$19 -> 0
A17: 4. | B17: REVESTIMENTOS | C17: =D17/$D$29 -> 0.1033434 | D17: =Orçamento!$K$28 -> 12024.42 | E17: =F17/$F$29 -> #DIV/0! | F17: =Orçamento!$P$28 -> 0
A19: 5. | B19: ESQUADRIAS | C19: =D19/$D$29 -> 0.12353901 | D19: =Orçamento!$K$33 -> 14374.26 | E19: =F19/$F$29 -> #DIV/0! | F19: =Orçamento!$P$33 -> 0
A21: 6. | B21: PISO | C21: =D21/$D$29 -> 0.0066099994 | D21: =Orçamento!$K$36 -> 769.1 | E21: =F21/$F$29 -> #DIV/0! | F21: =Orçamento!$P$36 -> 0
A23: 7. | B23: INSTALAÇÕES HIDROSANITÁRIAS | C23: =D23/$D$29 -> 0.064623466 | D23: =Orçamento!$K$38 -> 7519.2 | E23: =F23/$F$29 -> #DIV/0! | F23: =Orçamento!$P$38 -> 0
A25: 8. | B25: INSTALAÇÕES ELÉTRICAS | C25: =D25/$D$29 -> 0.016836204 | D25: =Orçamento!$K$49 -> 1958.96 | E25: =F25/$F$29 -> #DIV/0! | F25: =Orçamento!$P$49 -> 0
A27: 9. | B27: SERVIÇOS FINAIS | C27: =D27/$D$29 -> 0.21679844 | D27: =Orçamento!$K$52 -> 25225.37 | E27: =F27/$F$29 -> #DIV/0! | F27: =Orçamento!$P$52 -> 0
A29: TOTAL GERAL | C29: =SUM(C10:C28) -> 1 | D29: =SUM(D10:D28) -> 116354.02 | E29: =SUM(E10:E28) -> #DIV/0! | F29: =SUM(F10:F28) -> 0
A30: Local e data: | D30: Identificação (nome e CPF) e assinatura do representante legal da empresa e carimbo com CNPJ
A31: Identificação (nome por extenso) e assinatura do Responsável Técnico pelo Orçamento: | C31: N.º do CREA/CAU/CRT
B32: OBSERVAÇÃO:
B33: A planilha deve ser assinada pelo responsável técnico pela sua confecção (Art. 14 Lei 5.194/66), (identificado pelo nome) e número do CREA/CAU/CRT e pelo representante legal da empresa (identificado pelo nome e CPF), com carimbo do CNPJ.

Sheet Orçamento
A1: (razão social da empresa licitante)
A2: (n.º do CNPJ)
A3: ANEXO III-B DO EDITAL DE LICITAÇÃO POR PREGÃO ELETRÔNICO N.º | M3: 136/2022
A5: PLANILHA DE SERVIÇOS E PREÇOS UNITÁRIOS
A6: OBRA: reforma e adequação de ambientes no pavimento térreo do Bloco E (Escola de Serviço Social) no Campus Universitário do Gragoatá da UFF.
A7: Local: Av. Visconde do Rio Branco, s/n.º, bairro de São Domingos, Niterói- RJ
E8: VALOR ESTIMADO PELA UFF | L8: PROPOSTO PELA EMPRESA LICITANTE
A9: ITEM | B9: CÓDIGO | C9: FONTE | D9: DESCRIÇÃO DO ITEM | E9: UNID. | F9: QUANT. (A) | G9: CUSTO UNITÁRIO (B) | H9: BDI (%) (C) | I9: PREÇO (R$) | L9: BDI (%) (H) | M9: CUSTO UNITÁRIO (I) | N9: PREÇO (R$)
I10: UNITÁRIO (D=BxC) | J10: TOTAL | N10: UNITÁRIO (J=HxI) | O10: TOTAL
J11: SUBITEM (E=AxD) | K11: SERVIÇO (G= Σ E) | O11: SUBITEM (L=JxA) | P11: SERVIÇO (N= Σ L)
A12: 1 | D12: SERVIÇOS PRELIMINARES | K12: =SUM(J13) -> 708.22 | P12: =SUM(O13) -> 0
A13: 1.1 | B13: 74209/001 | C13: SINAPI | D13: PLACA DE OBRA EM CHAPA DE ACO GALVANIZADO | E13: m² | F13: 1 | G13: 549.14 | H13: 0.2897 | I13: =TRUNC(G13*(1+H13),2) -> 708.22 | J13: =TRUNC(F13*I13,2) -> 708.22
A14: 2 | D14: DEMOLIÇÕES | K14: =SUM(J15:J18) -> 2165.93 | P14: =SUM(O15:O18) -> 0
A15: 2.1 | B15: 97625 | C15: SINAPI | D15: DEMOLIÇÃO DE ALVENARIA PARA QUALQUER TIPO DE BLOCO, DE FORMA MECANIZADA, SEM REAPROVEITAMENTO. AF_12/2017 (BANHEIRO DO HALL DE ENTRADA)) | E15: m³ | F15: 15 | G15: 65.08 | H15: 0.2897 | I15: =TRUNC(G15*(1+H15),2) -> 83.93 | J15: =TRUNC(F15*I15,2) -> 1258.95
A16: 2.2 | B16: COMP 20 InEAC | C16: Próprio | D16: REMOÇÃO DE DIVISÓRIAS DE MADEIRA [ADAPTADA SCO/RJ - SC 04.05.2500] (ESPAÇO DE ATIVIDADES DOS IDOSOS). | E16: m² | F16: 35 | G16: 11.52 | H16: 0.2897 | I16: =TRUNC(G16*(1+H16),2) -> 14.85 | J16: =TRUNC(F16*I16,2) -> 519.75
A17: 2.3 | B17: 97664 | C17: SINAPI | D17: REMOÇÃO DE GRADES NAS PARTES INTERNAS DAS JANELAS SEM REAPROVEITAMENTO. AF_12/2017 | E17: UN | F17: 13 | G17: 1.61 | H17: 0.2897 | I17: =TRUNC(G17*(1+H17),2) -> 2.07 | J17: =TRUNC(F17*I17,2) -> 26.91
A18: 2.4 | B18: 04.014.0095-A | C18: EMOP | D18: RETIRADA DE ENTULHO DE OBRA COM CACAMBA DE ACO TIPO CONTAINER COM 5M3 DE CAPACIDADE,INCLUSIVE CARREGAMENTO,TRANSPORTE E DESCARREGAMENTO.CUSTO POR UNIDADE DE CACAMBA E INCLUI A TAXA PARA DESCARGA EM LOCAIS AUTORIZADOS | E18: UN | F18: 1 | G18: 279.39 | H18: 0.2897 | I18: =TRUNC(G18*(1+H18),2) -> 360.32 | J18: =TRUNC(F18*I18,2) -> 360.32
A19: 3 | D19: ALVENARIA | K19: =SUM(J20:J27) -> 51608.56 | P19: =SUM(O20:O27) -> 0
A20: 3.1 | B20: 87500 | C20: SINAPI | D20: ALVENARIA DE VEDAÇÃO DE BLOCOS CERÂMICOS FURADOS NA HORIZONTAL DE 9X14X19CM (ESPESSURA 9CM) DE PAREDES COM ÁREA LÍQUIDA MENOR QUE 6M² SEM VÃOS E ARGAMASSA DE ASSENTAMENTO COM PREPARO MANUAL. AF_06/2014 | E20: m² | F20: 15 | G20: 116.45 | H20: 0.2897 | I20: =TRUNC(G20*(1+H20),2) -> 150.18 | J20: =TRUNC(F20*I20,2) -> 2252.7
A21: 3.2 | B21: PRÓPRIO - 001 | C21: Próprio | D21: PAREDE COM PLACAS DE GESSO ACARTONADO (DRYWALL), PARA USO INTERNO, COM DUAS FACES SIMPLES E ESTRUTURA METÁLICA COM GUIAS SIMPLES, SEM VÃOS COM ISOLAMENTO ACUSTICO EM LÃ DE ROCHA (substituição das esquadrias existentes e fechamento de vãos de porta segundo planta de demolir x construir. | E21: m² | F21: 3 | G21: 166.71 | H21: 0.2897 | I21: =TRUNC(G21*(1+H21),2) -> 215 | J21: =TRUNC(F21*I21,2) -> 645
A22: 3.3 | B22: 12.012.0001-0 | C22: EMOP | D22: PAREDE DIVISORIA EM PAINEL CEGO DE CHAPA DE FIBRA DE MADEIRA DE DENSIDADE MEDIA,TIPO MDF 15MM DE ESPESSURA,ARMADA SOBRE TARUGAMENTO DE SARRAFO,INCLUSIVE MATA-JUNTAS,MEDIDA PELA ARE A REAL,FAZENDO AS PORTAS PARTE DO CONJUNTO,EXCLUSIVE SUAS FERRAGENS E PINTURA | E22: M2 | F22: 50 | G22: 450.22 | H22: 0.2897 | I22: =TRUNC(G22*(1+H22),2) -> 580.64 | J22: =TRUNC(F22*I22,2) -> 29032
A23: 3.4 | B23: 12.015.0041-0 | C23: EMOP | D23: PAREDE DIVISORIA COM 35MM ESPESSURA,CONSTITUIDA DE PAINEL E VIDRO NA PARTE SUPERIOR(EXCLUSIVE ESTE),SENDO O PAINEL CHAPA FIBRA MADEIRA PRENSADA,REVESTIDA EM CHAPA LAMINADA(COMPOSTA DE CELULOSE COM RESINA,PRENSADA EM AUTOCLAVE),COM MIOLO EM COLMEIA ESTRUTURADO C/MONTANTES ACO COR PRETA,EM "L","T" OU "X",FAZENDO AS PORTAS PARTE CONJUNTO,EXCL.SUAS FERRAGENS | E23: M2 | F23: 50 | G23: 109.29 | H23: 0.2897 | I23: =TRUNC(G23*(1+H23),2) -> 140.95 | J23: =TRUNC(F23*I23,2) -> 7047.5
A24: 3.5 | B24: 07956 | C24: EMOP | D24: CHAPA DE FIBRA DE MADEIRA DE MEDIA DENSI DADE, CRU, TIPO MDF, DE (1830X2750X15)MM composição de prateleiras e estantes | E24: UN | F24: 30 | G24: 224.44 | H24: 0.2897 | I24: =TRUNC(G24*(1+H24),2) -> 289.46 | J24: =TRUNC(F24*I24,2) -> 8683.8
A25: 3.6 | B25: 20090 | C25: EMOP | D25: MAO DE OBRA DE MARCENEIRO, INCLUSIVE ENC ARGOS SOCIAIS DESONERADOS | E25: H | F25: 30 | G25: 29.04 | H25: 0.2897 | I25: =TRUNC(G25*(1+H25),2) -> 37.45 | J25: =TRUNC(F25*I25,2) -> 1123.5
A26: 3.7 | B26: 102253 | C26: SINAPI | D26: DIVISORIA SANITÁRIA, TIPO CABINE, EM GRANITO CINZA POLIDO, ESP = 3CM, ASSENTADO COM ARGAMASSA COLANTE AC III-E, EXCLUSIVE FERRAGENS. AF_01/2021 | E26: m² | F26: 1.8 | G26: 892.23 | H26: 0.2897 | I26: =TRUNC(G26*(1+H26),2) -> 1150.7 | J26: =TRUNC(F26*I26,2) -> 2071.26
A27: 3.8 | B27: 21.004.0150-0 | C27: EMOP | D27: RETIRADA DE LUMINARIA,INSTALADA EM CORDOALHA,TETO OU PAREDE | E27: UN | F27: 20 | G27: 29.19 | H27: 0.2897 | I27: =TRUNC(G27*(1+H27),2) -> 37.64 | J27: =TRUNC(F27*I27,2) -> 752.8
A28: 4 | D28: REVESTIMENTOS | K28: =SUM(J29:J32) -> 12024.42 | P28: =SUM(O29:O32) -> 0
A29: 4.1 | B29: 94224 | C29: SINAPI | D29: EMBOÇAMENTO COM ARGAMASSA TRAÇO 1:2:9 (CIMENTO, CAL E AREIA). AF_07/2019 | E29: M | F29: 30 | G29: 27.37 | H29: 0.2897 | I29: =TRUNC(G29*(1+H29),2) -> 35.29 | J29: =TRUNC(F29*I29,2) -> 1058.7
A30: 4.2 | B30: 87264 | C30: SINAPI | D30: REVESTIMENTO CERÂMICO PARA PAREDES INTERNAS COM PLACAS TIPO ESMALTADA EXTRA DE DIMENSÕES 20X20 CM APLICADAS EM AMBIENTES DE ÁREA MENOR QUE 5 M² NA ALTURA INTEIRA DAS PAREDES. AF_06/2014 (parede construídas nos banheios) | E30: m² | F30: 6 | G30: 73.06 | H30: 0.2897 | I30: =TRUNC(G30*(1+H30),2) -> 94.22 | J30: =TRUNC(F30*I30,2) -> 565.32
A31: 4.3 | B31: 100754 | C31: SINAPI | D31: PINTURA COM TINTA ACRÍLICA DE ACABAMENTO APLICADA A ROLO OU PINCEL SOBRE SUPERFÍCIES METÁLICAS (EXCETO PERFIL) EXECUTADO EM OBRA (02 DEMÃOS). AF_01/2020 (salão do trabalho com idosos e hall do edifícil) | E31: m² | F31: 230 | G31: 31.27 | H31: 0.2897 | I31: =TRUNC(G31*(1+H31),2) -> 40.32 | J31: =TRUNC(F31*I31,2) -> 9273.6
A32: 4.4 | B32: 102214 | C32: SINAPI | D32: PINTURA VERNIZ (INCOLOR) ALQUÍDICO EM MADEIRA, USO INTERNO, 2 DEMÃOS. AF_01/2021 (todas as portas e o tablado de madeira) | E32: m² | F32: 40 | G32: 21.85 | H32: 0.2897 | I32: =TRUNC(G32*(1+H32),2) -> 28.17 | J32: =TRUNC(F32*I32,2) -> 1126.8
A33: 5 | D33: ESQUADRIAS | K33: =SUM(J34:J35) -> 14374.26 | P33: =SUM(O34:O35) -> 0
A34: 5.1 | B34: 102170 | C34: SINAPI | D34: INSTALAÇÃO DE VIDRO IMPRESSO, E = 4 MM, EM ESQUADRIA DE ALUMÍNIO OU PVC, FIXADO COM BAGUETE. AF_01/2021_PS | E34: m² | F34: 1.5 | G34: 256.58 | H34: 0.2897 | I34: =TRUNC(G34*(1+H34),2) -> 330.91 | J34: =TRUNC(F34*I34,2) -> 496.36
A35: 5.2 | B35: 91016 | C35: SINAPI | D35: KIT DE PORTA DE MADEIRA PARA VERNIZ, SEMI-OCA (LEVE OU MÉDIA), PADRÃO MÉDIO, 90X210CM, ESPESSURA DE 3,5CM, ITENS INCLUSOS: DOBRADIÇAS, MONTAGEM E INSTALAÇÃO DO BATENTE, SEM FECHADURA - FORNECIMENTO E INSTALAÇÃO. AF_12/2019 | E35: UN | F35: 10 | G35: 1076.06 | H35: 0.2897 | I35: =TRUNC(G35*(1+H35),2) -> 1387.79 | J35: =TRUNC(F35*I35,2) -> 13877.9
A36: 6 | D36: PISO | K36: =SUM(J37) -> 769.1 | P36: =SUM(O37) -> 0
A37: 6.1 | B37: 89171 | C37: SINAPI | D37: (COMPOSIÇÃO REPRESENTATIVA) DO SERVIÇO DE REVESTIMENTO CERÂMICO PARA PISO COM PLACAS TIPO ESMALTADA EXTRA DE DIMENSÕES 35X35 CM, PARA EDIFICAÇÃO HABITACIONAL UNIFAMILIAR (CASA) E EDIFICAÇÃO PÚBLICA PADRÃO. AF_11/2014 | E37: m² | F37: 10 | G37: 59.64 | H37: 0.2897 | I37: =TRUNC(G37*(1+H37),2) -> 76.91 | J37: =TRUNC(F37*I37,2) -> 769.1
A38: 7 | D38: INSTALAÇÕES HIDROSANITÁRIAS | K38: =SUM(J39:J48) -> 7519.2 | P38: =SUM(O39:O48) -> 0
A39: 7.1 | B39: 100849 | C39: SINAPI | D39: ASSENTO SANITÁRIO PARA BANHEIROS ACESSÍVEIS FORNECIMENTO E INSTALACAO. AF_01/2020 | E39: UN | F39: 2 | G39: 37.92 | H39: 0.2897 | I39: =TRUNC(G39*(1+H39),2) -> 48.9 | J39: =TRUNC(F39*I39,2) -> 97.8
A40: 7.2 | B40: 100868 | C40: SINAPI | D40: BARRA DE APOIO RETA, EM ACO INOX POLIDO, COMPRIMENTO 80 CM, FIXADA NA PAREDE - FORNECIMENTO E INSTALAÇÃO. AF_01/2020 | E40: UN | F40: 2 | G40: 287.78 | H40: 0.2897 | I40: =TRUNC(G40*(1+H40),2) -> 371.14 | J40: =TRUNC(F40*I40,2) -> 742.28
A41: 7.3 | B41: 100854 | C41: SINAPI | D41: TORNEIRA CROMADA DE MESA PARA LAVATÓRIO COM SENSOR DE PRESENCA. AF_01/2020 | E41: UN | F41: 1 | G41: 1555.59 | H41: 0.2897 | I41: =TRUNC(G41*(1+H41),2) -> 2006.24 | J41: =TRUNC(F41*I41,2) -> 2006.24
...

Sheet Cronograma
A1: (razão social da empresa licitante)
A2: (n.º do CNPJ)
A3: ANEXO V-C DO EDITAL DE LICITAÇÃO POR PREGÃO ELETRÔNICO N.º | H3: 136/2022
A4: PLANILHA DE CRONOGRAMA FÍSICO E FINANCEIRO
A5: =Orçamento!$A$6 -> OBRA: reforma e adequação de ambientes no pavimento térreo do Bloco E (Escola de Serviço Social) no Campus Universitário do Gragoatá da UFF.
A7: =Orçamento!$A$7 -> Local: Av. Visconde do Rio Branco, s/n.º, bairro de São Domingos, Niterói- RJ
A8: ITEM | B8: DISCRIMINAÇÃO DO SERVIÇO | C8: VALOR (R$) | D8: % | E8: PERÍODO | H8: TOTAL DO ITEM
E9: MÊS 1 | F9: MÊS 2 | G9: MÊS 3
A10: 1 | B10: SERVIÇOS PRELIMINARES | C10: =Resumo!D11 -> 708.22 | D10: =C10/C$29 -> 0.0060867686 | E10: 1 | H10: =SUM(E10:G10) -> 1
E11: =E10*$C10 -> 708.22 | H11: =SUM(E11:G11) -> 708.22
A12: 2 | B12: DEMOLIÇÕES | C12: =Resumo!D13 -> 2165.93 | D12: =C12/C$29 -> 0.018614999 | E12: 1 | H12: =SUM(E12:G12) -> 1
E13: =E12*$C12 -> 2165.93 | H13: =SUM(E13:G13) -> 2165.93
A14: 3 | B14: ALVENARIA | C14: =Resumo!D15 -> 51608.56 | D14: =C14/C$29 -> 0.44354772 | E14: 0.5 | F14: 0.5 | H14: =SUM(E14:G14) -> 1
E15: =E14*$C14 -> 25804.28 | F15: =F14*$C14 -> 25804.28 | H15: =SUM(E15:G15) -> 51608.56
A16: 4 | B16: REVESTIMENTOS | C16: =Resumo!D17 -> 12024.42 | D16: =C16/C$29 -> 0.1033434 | F16: 1 | H16: =SUM(E16:G16) -> 1
F17: =F16*$C16 -> 12024.42 | H17: =SUM(E17:G17) -> 12024.42
A18: 5 | B18: ESQUADRIAS | C18: =Resumo!D19 -> 14374.26 | D18: =C18/C$29 -> 0.12353901 | F18: 0.5 | G18: 0.5 | H18: =SUM(E18:G18) -> 1
F19: =F18*$C18 -> 7187.13 | G19: =G18*$C18 -> 7187.13 | H19: =SUM(E19:G19) -> 14374.26
A20: 6 | B20: PISO | C20: =Resumo!D21 -> 769.1 | D20: =C20/C$29 -> 0.0066099994 | G20: 1 | H20: =SUM(E20:G20) -> 1
G21: =G20*$C20 -> 769.1 | H21: =SUM(E21:G21) -> 769.1
A22: 7 | B22: INSTALAÇÕES HIDROSANITÁRIAS | C22: =Resumo!D23 -> 7519.2 | D22: =C22/C$29 -> 0.064623466 | F22: 0.5 | G22: 0.5 | H22: =SUM(E22:G22) -> 1
F23: =F22*$C22 -> 3759.6 | G23: =G22*$C22 -> 3759.6 | H23: =SUM(E23:G23) -> 7519.2
A24: 8 | B24: INSTALAÇÕES ELÉTRICAS | C24: =Resumo!D25 -> 1958.96 | D24: =C24/C$29 -> 0.016836204 | F24: 0.5 | G24: 0.5 | H24: =SUM(E24:G24) -> 1
F25: =F24*$C24 -> 979.48 | G25: =G24*$C24 -> 979.48 | H25: =SUM(E25:G25) -> 1958.96
A26: 9 | B26: SERVIÇOS FINAIS | C26: =Resumo!D27 -> 25225.37 | D26: =C26/C$29 -> 0.21679844 | G26: 1 | H26: =SUM(E26:G26) -> 1
G27: =G26*$C26 -> 25225.37 | H27: =SUM(E27:G27) -> 25225.37
A29: Total do orçamento | C29: =SUM(C10:C27) -> 116354.02 | D29: =SUM(D10:D27) -> 1 | H29: =H27+H25+H23+H21+H19+H17+H15+H13+H11 -> 116354.02
A30: Total mensal executado | E30: =E11+E13+E15+E17+E19+E21+E23+E25+E27 -> 28678.43 | F30: =F11+F13+F15+F17+F19+F21+F23+F25+F27 -> 49754.91 | G30: =G11+G13+G15+G17+G19+G21+G23+G25+G27 -> 37920.68
A31: % mensal excutado | E31: =E30/$C$29 -> 0.24647563 | F31: =F30/$C$29 -> 0.4276166 | G31: =G30/$C$29 -> 0.32590778
A32: Total acumulado | E32: =E30 -> 28678.43 | F32: =E32+F30 -> 78433.34 | G32: =F32+G30 -> 116354.02
A33: Percentual Acumulado | E33: =E31 -> 0.24647563 | F33: =E33+F31 -> 0.67409222 | G33: =F33+G31 -> 1
A34: Local e data: | E34: Identificação (nome e CPF) e assinatura do representante legal da empresa e carimbo com CNPJ
A35: Identificação (nome por extenso) e assinatura do Responsável Técnico pelo Orçamento: | D35: CREA/CAU/CRT:
A36: OBSERVAÇÃO
B37: A planilha deve ser assinada pelo responsável técnico pela sua confecção (Art. 14 Lei 5.194/66), (identificado pelo nome) e número do CREA/CAU/CRT e pelo representante legal da empresa (identificado pelo nome e CPF), com carimbo do CNPJ.
