Workbook
Name \s: #N/A
Name _01: #REF!
Name _01: #REF!
Name _01_4: #REF!
Name _01_4: #REF!
Name _10Excel_BuiltIn_Print_Area_1_1_1: #REF!
Name _10Excel_BuiltIn_Print_Area_1_1_1: #REF!
Name _11Excel_BuiltIn_Print_Area_1_1_1_1: #REF!
Name _12Excel_BuiltIn_Print_Area_1_1_1_1_1: #REF!
Name _13Excel_BuiltIn_Print_Area_5_1: #REF!
Name _14Excel_BuiltIn_Print_Area_5_1_1: "$#REF!.$A$1:$F$49"
Name _15Excel_BuiltIn_Print_Area_7_1: #REF!
Name _15Excel_BuiltIn_Print_Area_7_1: #REF!
Name _16ILUM_4_1: "$#REF!.$#REF!$#REF!"
Name _17INTE_4_1: "$#REF!.$#REF!$#REF!"
Name _18PARA_4_1: "$#REF!.$#REF!$#REF!"
Name _1CABO_4_1: "$#REF!.$#REF!$#REF!"
Name _2CAIX_4_1: "$#REF!.$#REF!$#REF!"
Name _3CDT_4_1: "$#REF!.$#REF!$#REF!"
Name _4COND_4_1: "$#REF!.$#REF!$#REF!"
Name _5CONE_4_1: "$#REF!.$#REF!$#REF!"
Name _6DIVE_4_1: "$#REF!.$#REF!$#REF!"
Name _7EQUI_4_1: "$#REF!.$#REF!$#REF!"
Name _8Excel_BuiltIn_Print_Area_1: #REF!
Name _8Excel_BuiltIn_Print_Area_1: #REF!
Name _9Excel_BuiltIn_Print_Area_1_1: #REF!
Name _9Excel_BuiltIn_Print_Area_1_1: #REF!
Name _A99990: '[1]Climatização Prédio DECEA'!#REF!
Name _A99990: '[1]Climatização Prédio DECEA'!#REF!
Name _A99999: '[1]Climatização Prédio DECEA'!#REF!
Name _A99999: '[1]Climatização Prédio DECEA'!#REF!
Name _s: #REF!
Name _s: #REF!
Name Á1: #REF!
Name Á1: #REF!
Name AAAA: #REF!
Name AAAA: #REF!
Name ACRES: #REF!
Name ACRES_4: #REF!
Name Área_impressão_IM: #REF!
Name Área_impressão_IM: #REF!
Name Área_impressão_IM_1: #REF!
Name Área_impressão_IM_1: #REF!
Name Área_impressão_IM_1_4: '[2]ICEA - SJC'!#REF!
Name Área_impressão_IM_1_4: '[2]ICEA - SJC'!#REF!
Name Área_impressão_IM_4: #REF!
Name Área_impressão_IM_4: #REF!
Name arredondamento: #REF!
Name arredondamento: #REF!
Name BBBB: #REF!
Name BBBB: #REF!
Name bdi: #REF!
Name BuiltIn_AutoFilter___1: #REF!
Name CABO: "PQ.$#REF!$#REF!"
Name CABO_2: #REF!
Name CABO_2: #REF!
Name CABO_3: "$#REF!.$#REF!$#REF!"
Name CABO_4: "$#REF!.$#REF!$#REF!"
Name CABO_4_1: "$#REF!.$#REF!$#REF!"
Name CABO_5: "$#REF!.$#REF!$#REF!"

Sheet Orçamento
A1: (razão social da empresa licitante)
A2: (n.º do CNPJ)
A3: ANEXO III-A DO EDITAL DE LICITAÇÃO POR RDC ELETRÔNICO N.º 12/2020
A4: MODELO DE PLANILHA DE ORÇAMENTO PARA EXECUÇÃO DE OBRA POR EMPREITADA POR PREÇO UNITÁRIO
A5: OBRA: execução de obra para adequação de espaço dos pilotis do Bloco A, localizado no Campus do Gragoatá da Universidade Federal Fluminense.
A6: LOCAL: Avenida Visconde do Rio Branco s/n.º, bairro de São Domingos, Niterói - RJ
D8: VALOR ESTIMADO UFF | I8: VALOR PROPOSTO
A9: ITEM | B9: FONTE/ CÓDIGO | C9: DESCRIÇÃO DO ITEM | D9: UNID. | E9: QUANT. | F9: CUSTO UNITÁRIO | G9: BDI (%) | H9: PREÇO UNITÁRIO | I9: % DESCONTO | J9: PREÇO (R$) | M9: TOTAL DO ITEM (R$)
J10: UNITÁRIO | K10: SUBITEM | L10: SERVIÇO
A11: 1 | C11: SERVIÇOS PRELIMINARES | L11: =SUM(K12:K16) -> 24556.256 | M11: =L11 -> 24556.256
A12: 1.1 | B12: TABELA CREA | C12: RECOLHIMENTO ART | D12: UN. | E12: 1 | F12: 226.5 | G12: 0.2212 | H12: =F12*(1+G12) -> 276.6018 | I12: =$I$245 -> 0 | J12: =H12*(1-I12) -> 276.6018 | K12: =J12*E12 -> 276.6018
A13: 1.2 | B13: SINAPI - 04813 | C13: PLACA DE OBRA (PARA CONSTRUCAO CIVIL) EM CHAPA GALVANIZADA *N. 22*, ADESIVADA, M2 AS DE *2,0 X 1,125* M | D13: m2 | E13: =2*1.125 -> 2.25 | F13: 300 | G13: 0.2212 | H13: =F13*(1+G13) -> 366.36 | I13: =$I$245 -> 0 | J13: =H13*(1-I13) -> 366.36 | K13: =J13*E13 -> 824.31
A14: 1.3 | B14: SINAPI - 93584 | C14: EXECUÇÃO DE DEPÓSITO EM CANTEIRO DE OBRA EM CHAPA DE MADEIRA COMPENSADA, NÃO INCLUSO MOBILIÁRIO | D14: m2 | E14: 20 | F14: 639.97 | G14: 0.2212 | H14: =F14*(1+G14) -> 781.53136 | I14: =$I$245 -> 0 | J14: =H14*(1-I14) -> 781.53136 | K14: =J14*E14 -> 15630.627
A15: 1.4 | B15: SBC - 89 | C15: PROJETO "AS BUILT" ARQUITETURA | D15: m² | E15: 354 | F15: 9 | G15: 0.2212 | H15: =F15*(1+G15) -> 10.9908 | I15: =$I$245 -> 0 | J15: =H15*(1-I15) -> 10.9908 | K15: =J15*E15 -> 3890.7432
A16: 1.5 | B16: SBC - 64 | C16: PROJETO "AS BUILT" DEMAIS INSTALAÇÕES | D16: m² | E16: 354 | F16: 9.1 | G16: 0.2212 | H16: =F16*(1+G16) -> 11.11292 | I16: =$I$245 -> 0 | J16: =H16*(1-I16) -> 11.11292 | K16: =J16*E16 -> 3933.9737
A17: 2 | C17: ADMINISTRAÇÃO LOCAL DE OBRA | L17: =SUM(K18) -> 107811.6 | M17: =L17 -> 107811.6
A18: 2.1 | B18: COMPOSIÇÃO 1 FINAL PLANILHA | C18: COMPOSIÇÃO MENSAL DE MÃO DE OBRA ESPECIALIZADA (ENGENHEIRO E MESTRE DE OBRAS) | D18: % | E18: 1 | F18: =14713.887569*6 -> 88283.325 | G18: 0.2212 | H18: =F18*(1+G18) -> 107811.6 | I18: =$I$245 -> 0 | J18: =H18*(1-I18) -> 107811.6 | K18: =J18*E18 -> 107811.6
A20: 3 | C20: DEMOLIÇÃO | L20: =SUM(K21:K23) -> 1776.0622 | M20: =L20 -> 1776.0622
A21: 3.1 | B21: SINAPI - 97635 (REF.) | C21: DEMOLIÇÃO DE PAVIMENTO INTERTRAVADO, DE FORMA MANUAL, COM REAPROVEITAMENTO | D21: m² | E21: 12.61 | F21: 16.42 | G21: 0.2212 | H21: =F21*(1+G21) -> 20.052104 | I21: =$I$245 -> 0 | J21: =H21*(1-I21) -> 20.052104 | K21: =J21*E21 -> 252.85703
A22: 3.2 | B22: SINAPI - 97622 (REF.) | C22: DEMOLIÇÃO DE JARDINEIRAS EM BLOCO FURADO, DE FORMA MANUAL, SEM REAPROVEITAMENTO | D22: m³ | E22: 9.42 | F22: 58.1 | G22: 0.2212 | H22: =F22*(1+G22) -> 70.95172 | I22: =$I$245 -> 0 | J22: =H22*(1-I22) -> 70.95172 | K22: =J22*E22 -> 668.3652
A23: 3.3 | B23: PESQUISA DE MERCADO | C23: REMOÇÃO DE ENTULHO (CAÇAMBA DE 5m³) | D23: un. | E23: 2 | F23: 350 | G23: 0.2212 | H23: =F23*(1+G23) -> 427.42 | I23: =$I$245 -> 0 | J23: =H23*(1-I23) -> 427.42 | K23: =J23*E23 -> 854.84
A25: 4 | C25: ESTRUTURAS | L25: =SUM(K26:K32) -> 95178.71 | M25: =L25 -> 95178.71
A26: 4.1 | B26: SINAPI - 96527 | C26: ESCAVAÇÃO MANUAL DE VALA PARA VIGA BALDRAME, COM PREVISÃO DE FÔRMA | D26: M3 | E26: 35 | F26: 133.31 | G26: 0.2212 | H26: =F26*(1+G26) -> 162.79817 | I26: =$I$245 -> 0 | J26: =H26*(1-I26) -> 162.79817 | K26: =J26*E26 -> 5697.936
A27: 4.2 | B27: SINAPI - 96536 | C27: FABRICAÇÃO, MONTAGEM E DESMONTAGEM DE FÔRMA PARA VIGA BALDRAME, EM MADEIRA SERRADA, E=25 MM, 4 UTILIZAÇÕES | D27: M2 | E27: 260 | F27: 59.67 | G27: 0.2212 | H27: =F27*(1+G27) -> 72.869004 | I27: =$I$245 -> 0 | J27: =H27*(1-I27) -> 72.869004 | K27: =J27*E27 -> 18945.941
A28: 4.3 | B28: SINAPI - 96546 | C28: ARMAÇÃO DE BLOCO, VIGA BALDRAME OU SAPATA UTILIZANDO AÇO CA-50 DE 10 MM - MONTAGEM. | D28: KG | E28: 605 | F28: 9.7 | G28: 0.2212 | H28: =F28*(1+G28) -> 11.84564 | I28: =$I$245 -> 0 | J28: =H28*(1-I28) -> 11.84564 | K28: =J28*E28 -> 7166.6122
A29: 4.4 | B29: SINAPI - 96557 | C29: CONCRETAGEM DE BLOCOS DE COROAMENTO E VIGAS BALDRAMES, FCK 30 MPA, COM USO DE BOMBA LANÇAMENTO, ADENSAMENTO E ACABAMENTO | D29: M3 | E29: 8.5 | F29: 386.95 | G29: 0.2212 | H29: =F29*(1+G29) -> 472.54334 | I29: =$I$245 -> 0 | J29: =H29*(1-I29) -> 472.54334 | K29: =J29*E29 -> 4016.6184
A30: 4.5 | B30: SINAPI - 98557 | C30: IMPERMEABILIZAÇÃO DE SUPERFÍCIE COM EMULSÃO ASFÁLTICA, 2 DEMÃOS AF_06/2018 | D30: M2 | E30: 285 | F30: 33.53 | G30: 0.2212 | H30: =F30*(1+G30) -> 40.946836 | I30: =$I$245 -> 0 | J30: =H30*(1-I30) -> 40.946836 | K30: =J30*E30 -> 11669.848
A31: 4.6 | B31: SINAPI - 92784 | C31: ARMAÇÃO DE LAJE DE UMA ESTRUTURA CONVENCIONAL DE CONCRETO ARMADO EM UMA EDIFICAÇÃO TÉRREA OU SOBRADO UTILIZANDO AÇO CA-60 DE 5,6 MM - MONTAGEM. | D31: KG | E31: 1620 | F31: 12.7 | G31: 0.2212 | H31: =F31*(1+G31) -> 15.50924 | I31: =$I$245 -> 0 | J31: =H31*(1-I31) -> 15.50924 | K31: =J31*E31 -> 25124.969
A32: 4.7 | B32: SINAPI - 97095 | C32: CONCRETAGEM DE RADIER, PISO OU LAJE SOBRE SOLO, FCK 30 MPA, PARA ESPESSURA DE 15 CM - LANÇAMENTO, ADENSAMENTO E ACABAMENTO | D32: M3 | E32: 50 | F32: 369.42 | G32: 0.2212 | H32: =F32*(1+G32) -> 451.1357 | I32: =$I$245 -> 0 | J32: =H32*(1-I32) -> 451.1357 | K32: =J32*E32 -> 22556.785
A34: 5 | C34: PISOS | L34: =SUM(K35:K39) -> 65997.028 | M34: =L34 -> 65997.028
A35: 5.1 | B35: SINAPI - 87642 | C35: CONTRAPISO EM ARGAMASSA TRAÇO 1:4 (CIMENTO E AREIA), PREPARO MANUAL, APLICADO EM ÁREAS SECAS SOBRE LAJE, ADERIDO, ESPESSURA 4CM. | D35: m² | E35: 367.3 | F35: 45.71 | G35: 0.2212 | H35: =F35*(1+G35) -> 55.821052 | I35: =$I$245 -> 0 | J35: =H35*(1-I35) -> 55.821052 | K35: =J35*E35 -> 20503.072
A36: 5.2 | B36: SINAPI - 36155 | C36: FORNECIMENTO DE BLOQUETE/PISO INTERTRAVADO DE CONCRETO - MODELO ONDA/16 FACES/RETANGULAR/TIJOLINHO/PAVER/HOLANDES/PARALELEPIPEDO, 20 CM X 10 CM, E = CM, RESISTENCIA DE 35 MPA (NBR 9781), COR NATURAL | D36: m² | E36: 26.3 | F36: 30.87 | G36: 0.2212 | H36: =F36*(1+G36) -> 37.698444 | I36: =$I$245 -> 0 | J36: =H36*(1-I36) -> 37.698444 | K36: =J36*E36 -> 991.46908
A37: 5.3 | B37: SINAPI - 92396 | C37: EXECUÇÃO DE PASSEIO EM PISO INTERTRAVADO, COM BLOCO RETANGULAR COR NATURAL DE 20 X 10 CM, ESPESSURA 6 CM. | D37: m² | E37: 26.3 | F37: 56.87 | G37: 0.2212 | H37: =F37*(1+G37) -> 69.449644 | I37: =$I$245 -> 0 | J37: =H37*(1-I37) -> 69.449644 | K37: =J37*E37 -> 1826.5256
A38: 5.4 | B38: SINAPI - 87263 | C38: FORNECIMENTO E INSTALAÇÃO DE PISO EM PORCELANATO ESMALTADO ACETINADO, 60x60cm, COM 9,5mm DE ESPESSURA, NÃO RETIFICADO, TEXTURIZADO, SEM RELEVO, COM JUNTA DE ASSENTAMENTO DE 3mm. • REF.: "Sensitive Fendi" da "ELIANE" • COR.: "Bege" | D38: m² | E38: 315.35 | F38: 109.78 | G38: 0.2212 | H38: =F38*(1+G38) -> 134.06334 | I38: =$I$245 -> 0 | J38: =H38*(1-I38) -> 134.06334 | K38: =J38*E38 -> 42276.873
A39: 5.5 | B39: SINAPI - 36178 | C39: PISO PODOTATIL DE CONCRETO - DIRECIONAL E ALERTA, *40 X 40 X 2,5* CM | D39: UN. | E39: 40 | F39: 8.17 | G39: 0.2212 | H39: =F39*(1+G39) -> 9.977204 | I39: =$I$245 -> 0 | J39: =H39*(1-I39) -> 9.977204 | K39: =J39*E39 -> 399.08816
A41: 6 | C41: PAREDES E PAINÉIS | L41: =SUM(K42:K50) -> 181436.78 | M41: =L41 -> 181436.78
A42: 6.1 | B42: SINAPI - 87490 | C42: ALVENARIA DE VEDAÇÃO DE BLOCOS CERÂMICOS FURADOS NA VERTICAL DE 9X19X39CM (ESPESSURA 9CM) DE PAREDES COM ÁREA LÍQUIDA MAIOR OU IGUAL A 6M2 COM VÃOS E ARGAMASSA DE ASSENTAMENTO COM PREPARO MANUAL. | D42: m² | E42: 611 | F42: 44.37 | G42: 0.2212 | H42: =F42*(1+G42) -> 54.184644 | I42: =$I$245 -> 0 | J42: =H42*(1-I42) -> 54.184644 | K42: =J42*E42 -> 33106.817
A43: 6.2 | B43: SINAPI - 87878 | C43: CHAPISCO APLICADO EM ALVENARIAS E ESTRUTURAS DE CONCRETO INTERNAS, COM COLHER DE PEDREIRO. ARGAMASSA TRAÇO 1:3 COM PREPARO MANUAL | D43: m² | E43: 1222 | F43: 4.15 | G43: 0.2212 | H43: =F43*(1+G43) -> 5.06798 | I43: =$I$245 -> 0 | J43: =H43*(1-I43) -> 5.06798 | K43: =J43*E43 -> 6193.0716
A44: 6.3 | B44: SINAPI - 87548 | C44: MASSA ÚNICA, PARA RECEBIMENTO DE PINTURA, EM ARGAMASSA TRAÇO 1:2:8, PREPARO MANUAL, APLICADA MANUALMENTE EM FACES INTERNAS DE PAREDES, ESPESSURA DE 10MM, COM EXECUÇÃO DE TALISCAS. AF_06/2014 | D44: m² | E44: 661 | F44: 23.76 | G44: 0.2212 | H44: =F44*(1+G44) -> 29.015712 | I44: =$I$245 -> 0 | J44: =H44*(1-I44) -> 29.015712 | K44: =J44*E44 -> 19179.386
A45: 6.4 | B45: SINAPI - 87532 | C45: EMBOÇO, PARA RECEBIMENTO DE CERÂMICA, EM ARGAMASSA TRAÇO 1:2:8, PREPARO MANUAL, APLICADO MANUALMENTE EM FACES INTERNAS DE PAREDES, PARA AMBIENTE COM ÁREA ENTRE 5M2 E 10M2, ESPESSURA DE 20MM, COM EXECUÇÃO DE TALISCAS | D45: m² | E45: 561 | F45: 35.15 | G45: 0.2212 | H45: =F45*(1+G45) -> 42.92518 | I45: =$I$245 -> 0 | J45: =H45*(1-I45) -> 42.92518 | K45: =J45*E45 -> 24081.026
...

Sheet Cronograma
A1: (razão social da empresa licitante)
A2: (n.º do CNPJ)
A3: ANEXO III-B DO EDITAL DE LICITAÇÃO POR RDC ELETRÔNICO N.º 12/2020
A4: MODELO DE PLANILHA DE CRONOGRAMA FÍSICO FINANCEIRO
A5: OBRA: execução de obra para adequação de espaço dos pilotis do Bloco A, localizado no Campus do Gragoatá da Universidade Federal Fluminense.
A6: LOCAL: Avenida Visconde do Rio Branco s/n.º, bairro de São Domingos, Niterói - RJ
A8: ITEM | B8: DISCRIMINAÇÃO DO SERVIÇO | C8: VALOR (R$) | D8: % | E8: MÊS | AC8: SALDO (R$)
E9: MÊS 1 | I9: MÊS 2 | M9: MÊS 3 | Q9: MÊS 4 | U9: MÊS 5 | Y9: MÊS 6
A10: 1 | B10: SERVIÇOS PRELIMINARES | C10: =Orçamento!$M$11 -> 24556.256 | D10: =C10/C$52 -> 0.030824028 | E10: 0.68 | U10: 0.16 | Y10: 0.16 | AC10: =$C$52-SUM(E11:AB11) -> 772103.29
E11: =C10*E10 -> 16698.254 | U11: =U10*C10 -> 3929.001 | Y11: =Y10*C10 -> 3929.001
A12: 2 | B12: ADMINISTRAÇÃO LOCAL DE OBRA | C12: =Orçamento!$M$17 -> 107811.6 | D12: =C12/C$52 -> 0.13532957 | E12: =E$56 -> 0.10926578 | I12: =I$56 -> 0.22849785 | M12: =M$56 -> 0.17232499 | Q12: =Q$56 -> 0.20323116 | U12: =U$56 -> 0.2407747 | Y12: =Y$56 -> 0.045905528 | AC12: =AC10-SUM(E13:AB13) -> 664291.69
E13: =E12*$C$12 -> 11780.118 | I13: =I12*$C$12 -> 24634.718 | M13: =M12*$C$12 -> 18578.632 | Q13: =Q12*$C$12 -> 21910.676 | U13: =U12*$C$12 -> 25958.305 | Y13: =Y12*$C$12 -> 4949.1483
A14: 3 | B14: DEMOLIÇÃO | C14: =Orçamento!$M$20 -> 1776.0622 | D14: =C14/C$52 -> 0.0022293868 | F14: 1 | AC14: =AC12-SUM(E15:AB15) -> 662515.63
E15: =C14 -> 1776.0622
A16: 4 | B16: ESTRUTURAS | C16: =Orçamento!$M$25 -> 95178.71 | D16: =C16/C$52 -> 0.11947225 | H16: 0.25 | I16: 0.75 | AC16: =AC14-SUM(E17:AB17) -> 567336.92
E17: =C16*H16 -> 23794.677 | I17: =I16*C16 -> 71384.032
A18: 5 | B18: PISOS | C18: =Orçamento!$M$34 -> 65997.028 | D18: =C18/C$52 -> 0.082842199 | G18: 0.5 | I18: 0.5 | AC18: =AC16-SUM(E19:AB19) -> 501339.89
E19: =C18*G18 -> 32998.514 | I19: =C18*I18 -> 32998.514
A20: 6 | B20: PAREDES E PAINÉIS | C20: =Orçamento!$M$41 -> 181436.78 | D20: =C20/C$52 -> 0.22774695 | K20: 0.2 | M20: 0.3 | Q20: 0.3 | W20: 0.2 | AC20: =AC18-SUM(E21:AB21) -> 319903.11
I21: =K20*C20 -> 36287.356 | M21: =M20*C20 -> 54431.034 | Q21: =C20*Q20 -> 54431.034 | U21: =C20*W20 -> 36287.356
A22: 7 | B22: PINTURA | C22: =Orçamento!$M$52 -> 19975.901 | D22: =C22/C$52 -> 0.025074577 | Y22: 1 | AC22: =AC20-SUM(E23:AB23) -> 299927.21
Y23: =Y22*C22 -> 19975.901
A24: 8 | B24: IMPERMEABILIZAÇÃO | C24: =Orçamento!$M$56 -> 6147.8261 | D24: =C24/C$52 -> 0.0077170055 | K24: 0.5 | M24: 0.5 | AC24: =AC22-SUM(E25:AB25) -> 293779.38
I25: =C24*K24 -> 3073.9131 | M25: =C24*M24 -> 3073.9131
A26: 9 | B26: TETOS E FORROS | C26: =Orçamento!$M$61 -> 24273.195 | D26: =C26/C$52 -> 0.030468718 | T26: 0.25 | U26: 0.75 | AC26: =AC24-SUM(E27:AB27) -> 269506.19
Q27: =C26*T26 -> 6068.2987 | U27: =C26*U26 -> 18204.896
A28: 10 | B28: RODAPÉ | C28: =Orçamento!$M$64 -> 3705.9512 | D28: =C28/C$52 -> 0.0046518632 | T28: 0.25 | U28: 0.75 | AC28: =AC26-SUM(E29:AB29) -> 265800.24
Q29: =C28*T28 -> 926.4878 | U29: =C28*U28 -> 2779.4634
A30: 11 | B30: SOLEIRA | C30: =Orçamento!$M$67 -> 2472.6552 | D30: =C30/C$52 -> 0.0031037791 | K30: 0.65 | M30: 0.35 | AC30: =AC28-SUM(E31:AB31) -> 263327.58
I31: =K30*C30 -> 1607.2259 | M31: =M30*C30 -> 865.42933
A32: 12 | B32: BANCADAS | C32: =Orçamento!$M$70 -> 1800.9769 | D32: =C32/C$52 -> 0.0022606607 | P32: 0.5 | Q32: 0.5 | AC32: =AC30-SUM(E33:AB33) -> 261526.6
M33: =C32*P32 -> 900.48846 | Q33: =C32*Q32 -> 900.48846
A34: 13 | B34: ESQUADRIAS - PORTAS | C34: =Orçamento!$M$74 -> 25396.051 | D34: =C34/C$52 -> 0.031878173 | U34: 1 | AC34: =AC32-SUM(E35:AB35) -> 236130.55
U35: =C34*U34 -> 25396.051
A36: 14 | B36: ESQUADRIAS - JANELAS | C36: =Orçamento!$M$83 -> 42449.801 | D36: =C36/C$52 -> 0.053284745 | N36: 0.5 | Q36: 0.5 | AC36: =AC34-SUM(E37:AB37) -> 193680.75
M37: =C36*N36 -> 21224.901 | Q37: =C36*Q36 -> 21224.901
A38: 15 | B38: VIDROS | C38: =Orçamento!$M$89 -> 17776.931 | D38: =C38/C$52 -> 0.022314339 | U38: 1 | AC38: =AC36-SUM(E39:AB39) -> 175903.82
U39: =C38*U38 -> 17776.931
A40: 16 | B40: LOUÇAS E METAIS (SANITÁRIOS/COPA) | C40: =Orçamento!$M$96 -> 13088.284 | D40: =C40/C$52 -> 0.016428956 | W40: 0.5 | Y40: 0.5 | AC40: =AC38-SUM(E41:AB41) -> 162815.54
U41: =C40*W40 -> 6544.1421 | Y41: =C40*Y40 -> 6544.1421
...
