Workbook
Name \s: #N/A
Name _01: #REF!
Name _01: #REF!
Name _01_4: #REF!
Name _10Excel_BuiltIn_Print_Area_1_1_1: #REF!
Name _11Excel_BuiltIn_Print_Area_1_1_1_1: #REF!
Name _12Excel_BuiltIn_Print_Area_1_1_1_1_1: #REF!
Name _13Excel_BuiltIn_Print_Area_5_1: #REF!
Name _14Excel_BuiltIn_Print_Area_5_1_1: "$#REF!.$A$1:$F$49"
Name _15Excel_BuiltIn_Print_Area_7_1: #REF!
Name _16ILUM_4_1: "$#REF!.$#REF!$#REF!"
Name _17INTE_4_1: "$#REF!.$#REF!$#REF!"
Name _18PARA_4_1: "$#REF!.$#REF!$#REF!"
Name _1CABO_4_1: "$#REF!.$#REF!$#REF!"
Name _2CAIX_4_1: "$#REF!.$#REF!$#REF!"
Name _3CDT_4_1: "$#REF!.$#REF!$#REF!"
Name _4COND_4_1: "$#REF!.$#REF!$#REF!"
Name _5CONE_4_1: "$#REF!.$#REF!$#REF!"
Name _6DIVE_4_1: "$#REF!.$#REF!$#REF!"
Name _7EQUI_4_1: "$#REF!.$#REF!$#REF!"
Name _8Excel_BuiltIn_Print_Area_1: #REF!
Name _9Excel_BuiltIn_Print_Area_1_1: #REF!
Name _A99990: '[1]Climatização Prédio DECEA'!#REF!
Name _A99999: '[1]Climatização Prédio DECEA'!#REF!
Name _s: #REF!
Name Á1: #REF!
Name AAAA: #REF!
Name ACRES: #REF!
Name ACRES_4: #REF!
Name Área_impressão_IM: #REF!
Name Área_impressão_IM_1: #REF!
Name Área_impressão_IM_1_4: '[2]ICEA - SJC'!#REF!
Name Área_impressão_IM_4: #REF!
Name arredondamento: #REF!
Name BBBB: #REF!
Name bdi: #REF!
Name BuiltIn_AutoFilter___1: #REF!
Name CABO: "PQ.$#REF!$#REF!"
Name CABO_2: #REF!
Name CABO_3: "$#REF!.$#REF!$#REF!"
Name CABO_4: "$#REF!.$#REF!$#REF!"
Name CABO_4_1: "$#REF!.$#REF!$#REF!"
Name CABO_5: "$#REF!.$#REF!$#REF!"
Name CABO_6: "$#REF!.$#REF!$#REF!"
Name CAIX: "PQ.$#REF!$#REF!"
Name CAIX_2: #REF!
Name CAIX_3: "$#REF!.$#REF!$#REF!"
Name CAIX_4: "$#REF!.$#REF!$#REF!"
Name CAIX_4_1: "$#REF!.$#REF!$#REF!"
Name CAIX_5: "$#REF!.$#REF!$#REF!"
Name CAIX_6: "$#REF!.$#REF!$#REF!"
Name ccc: '[3]Parte Externa'!#REF!
Name CDT: "PQ.$#REF!$#REF!"
Name CDT_2: #REF!
Name CDT_3: "$#REF!.$#REF!$#REF!"
Name CDT_4: "$#REF!.$#REF!$#REF!"
Name CDT_4_1: "$#REF!.$#REF!$#REF!"
Name CDT_5: "$#REF!.$#REF!$#REF!"
Name CDT_6: "$#REF!.$#REF!$#REF!"
Name COND: "PQ.$#REF!$#REF!"

Sheet Resumo
A1: (razão social da empresa licitante)
A2: (n.º do CNPJ)
A3: ANEXO II-A DO EDITAL DE LICITAÇÃO POR PREGÃO ELETRÔNICO N.º 97/2022
A4: RESUMO DE ORÇAMENTO PARA EXECUÇÃO DE OBRA POR EMPREITADA POR PREÇO UNITÁRIO
A5: =Orçamento!$A$6 -> SERVIÇO: Elaboração de projeto básico., legal e complementares para possibilitar a construção de uma edificação para o Instituto de Educação de Angra dos Reis da UFF
A6: =Orçamento!$A$7 -> Local: Avenida Vereador Benedito Avelino, s/n.º, bairro do Retiro, Angra dos Reis - RJ
C7: ESTIMADO PELA UFF | E7: PROPOSTO PELA EMPRESA
A8: ITEM | B8: DESCRIÇÃO DO ITEM | C8: % | D8: TOTAL DO ITEM (R$) | E8: % | F8: TOTAL DO ITEM (R$)
C9: SERVIÇO | E9: SERVIÇO
A10: 1. | B10: =Orçamento!$D$12 -> SERVIÇOS PRELIMINARES AO PROJETO DE ARQUITETURA | C10: =D10/$D$14 -> 0.18620933 | D10: =Orçamento!$L$12 -> 15823.7 | E10: =F10/$F$14 -> #DIV/0!
A12: 2. | B12: =Orçamento!$D$17 -> PROJETOS | C12: =D12/$D$14 -> 0.81379067 | D12: =Orçamento!$L$17 -> 69154.317 | E12: =F12/$F$14 -> #DIV/0!
A14: TOTAL GERAL | C14: =SUM(C10:C13) -> 1 | D14: =SUM(D10:D12) -> 84978.017 | E14: =SUM(E10:E13) -> #DIV/0! | F14: =SUM(F10:F13) -> 0
A15: Local e data: | C15: (assinatura do representante legal da empresa e carimbo com CNPJ)
A16: Identificação e assinatura do Responsável Técnico pelo Orçamento:

Sheet Orçamento
A1: (razão social da empresa licitante)
A2: (n.º do CNPJ)
A3: ANEXO II-B DO EDITAL DE LICITAÇÃO POR PREGÃO ELETRÔNICO N.º 97/2022
A5: PLANILHA DE SERVIÇOS E PREÇOS UNITÁRIOS
A6: SERVIÇO: Elaboração de projeto básico., legal e complementares para possibilitar a construção de uma edificação para o Instituto de Educação de Angra dos Reis da UFF
A7: Local: Avenida Vereador Benedito Avelino, s/n.º, bairro do Retiro, Angra dos Reis - RJ
E8: VALOR ESTIMADO PELA UFF | M8: PROPOSTO PELA EMPRESA LICITANTE
A9: ITEM | B9: CÓDIGO | C9: FONTE | D9: DESCRIÇÃO DO ITEM | E9: UNID. | F9: QUANT. | G9: CUSTO UNITÁRIO | H9: BDI (%) | I9: PREÇO (R$) | M9: BDI (%) | N9: PREÇO (R$)
I10: UNITÁRIO (c/ BDI) | J10: TOTAL | N10: UNITÁRIO (c/ BDI) | O10: TOTAL
J11: SUBITEM | K11: ITEM | L11: SERVIÇO | O11: SUBITEM | P11: ITEM | Q11: SERVIÇO
A12: 1 | D12: SERVIÇOS PRELIMINARES AO PROJETO DE ARQUITETURA | L12: =K13 -> 15823.7 | Q12: =P13 -> 0
A13: 1.1 | D13: SONDAGEM | K13: =SUM(J14:J16) -> 15823.7 | P13: =SUM(O14:O16) -> 0
A14: 1.1.1 | B14: AD.05.20.0050 (/) | C14: SCO RJ | D14: Sondagem a percussao com diametro ate 3", com ensaio de penetracao (SPT) a cada metro, incluindo relatorio contendo classificacao tatil visual das amostras, perfis individuais dos furos, planta de localizacao e respectivas cotas das sondagens. Inclui deslocamento ate 50m de distancia e instalacao do tripe em cada furo dentro do canteiro, excluindo mobilizacao e desmobilizacao. | E14: M | F14: 150 | G14: 85 | H14: 22.47 | I14: =TRUNC(G14*(1+(H14/100)),2) -> 104.09 | J14: =F14*I14 -> 15613.5
A15: 1.1.2 | B15: 97918 | C15: SINAPI | D15: TRANSPORTE COM CAMINHÃO BASCULANTE DE 6 M³, EM VIA URBANA PAVIMENTADA, DMT ATÉ 30 KM (UNIDADE: TXKM). AF_07/2020 | E15: TxKm | F15: 30 | G15: 1.85 | H15: 22.47 | I15: =TRUNC(G15*(1+(H15/100)),2) -> 2.26 | J15: =F15*I15 -> 67.8
A16: 1.1.3 | B16: 97919 | C16: SINAPI | D16: TRANSPORTE COM CAMINHÃO BASCULANTE DE 6 M³, EM VIA URBANA PAVIMENTADA, ADICIONAL PARA DMT EXCEDENTE A 30 KM (UNIDADE: TXKM). AF_07/2020 | E16: TxKm | F16: 160 | G16: 0.73 | H16: 22.47 | I16: =TRUNC(G16*(1+(H16/100)),2) -> 0.89 | J16: =F16*I16 -> 142.4
A17: 2 | D17: PROJETOS | L17: =SUM(K18:K20) -> 69154.317 | Q17: =SUM(P18:P20) -> 0
A18: 2.1 | D18: PROJETO DE ARQUITETURA | K18: =SUM(J19) -> 31720.613 | P18: =SUM(O19) -> 0
A19: 2.1.1 | B19: COMPOSIÇÃO 01 | C19: UFF | D19: PROJETO BASICO DE ARQUITETURA, APRESENTADO EM AUTOCAD NOS PADROES DA CONTRATANTE, INCLUSIVE AS LEGALIZACOES PERTINENTES E A COORDENACAO DOS PROJETOS | E19: m2 | F19: 587.31 | G19: 44.10686 | H19: 22.47 | I19: =TRUNC(G19*(1+(H19/100)),2) -> 54.01 | J19: =F19*I19 -> 31720.613
A20: 2.2 | D20: PROJETOS COMPLEMENTARES | K20: =SUM(J22:J39) -> 37433.704 | P20: =SUM(O22:O39) -> 0
A21: 2.2.1 | D21: PROJETO DE ESTRUTURAS
A22: 2.2.1.1 | B22: 000038 | C22: SBC | D22: PROJETO ESTRUTURAL BASICO PARA PREDIOS ESCOLARES E/OU ADMINISTRATIVOS,APRESENTADO EM AUTOCAD NOS PADROES DA CO NTRATANTE,DE ACORDO COM A ABNT | E22: m2 | F22: 587.31 | G22: 15.1 | H22: 22.47 | I22: =TRUNC(G22*(1+(H22/100)),2) -> 18.49 | J22: =F22*I22 -> 10859.362
A23: 2.2.2 | D23: PROJETO DE INSTALAÇÃO HIDRÁULICA
A24: 2.2.2.1 | B24: COMPOSIÇÃO 02 | C24: UFF | D24: PROJETO BASICO DE INSTALAÇÃO HIDRAÚLICA PARA PREDIOS ESCOLARES E/OU ADMINISTRATIVOS,APRESENTADO EM AUTOCAD NOS PADROES DA CO NTRATANTE,DE ACORDO COM A ABNT | E24: m2 | F24: 587.31 | G24: 6.6063067 | H24: 22.47 | I24: =TRUNC(G24*(1+(H24/100)),2) -> 8.09 | J24: =F24*I24 -> 4751.3379
A25: 2.2.3 | D25: PROJETO DE INSTALAÇÕES SANITÁRIAS / ÁGUAS PLUVIAIS
A26: 2.2.3.1 | B26: COMPOSIÇÃO 03 | C26: UFF | D26: PROJETO BÁSICO DE INSTALACAO DE ESGOTO SANITARIO E AGUAS PLUVIAIS PARA PREDIOS ESCOLARES E/OU ADMINISTRATIVOS, APRESENTADO EM AUTOCAD,INCLUSIVE AS LEGALIZACOES PERTINENTES | E26: m2 | F26: 587.31 | G26: 4.1264749 | H26: 22.47 | I26: =TRUNC(G26*(1+(H26/100)),2) -> 5.05 | J26: =F26*I26 -> 2965.9155
A27: 2.2.4 | D27: PROJETO DE INSTALAÇÕES ELÉTRICAS
A28: 2.2.4.1 | B28: COMPOSIÇÃO 04 | C28: UFF | D28: PROJETO BÁSICO DE INSTALACAO ELETRICA PARA PREDIOS ESCOLA RES E/OU ADMINISTRATIVOS, APRESENTADO EM AUTOCAD,INCLUSIVE AS LEGALIZACOES PERTINENTES | E28: m2 | F28: 587.31 | G28: 8.1878054 | H28: 22.47 | I28: =TRUNC(G28*(1+(H28/100)),2) -> 10.02 | J28: =F28*I28 -> 5884.8462
A29: 2.2.4.2 | B29: COMPOSIÇÃO 09 | C29: UFF | D29: PROJETO BÁSICO DE INSTALACAO DE SPDA PARA PREDIOS ESCOLA RES E/OU ADMINISTRATIVOS, APRESENTADO EM AUTOCAD,INCLUSIVE AS LEGALIZACOES PERTINENTES – (CONVENCIONADO O VALOR UNITÁRIO EM 30% DO PROJETO EXECUTIVO DE MESMA NATUREZA – ITENS SBC 000336 | E29: m2 | F29: 587.31 | G29: 2.7 | H29: 22.47 | I29: =TRUNC(G29*(1+(H29/100)),2) -> 3.3 | J29: =F29*I29 -> 1938.123
A30: 2.2.5 | D30: PROJETO DE INSTALAÇÕES DE COMBATE A INCÊNDIO
A31: 2.2.5.1 | B31: COMPOSIÇÃO 05 | C31: UFF | D31: PROJETO BÁSICO DE INSTALACAO DE INCENDIO PARA PREDIOS ESC OLARES E/OU ADMINISTRATIVOS, APRESENTADO EM AUTOCAD,INCLUSIVE AS LEGALIZACOES PERTINENTES | E31: m2 | F31: 587.31 | G31: 3.8919991 | H31: 22.47 | I31: =TRUNC(G31*(1+(H31/100)),2) -> 4.76 | J31: =F31*I31 -> 2795.5956
A32: 2.2.7 | D32: PROJETO DE INSTALAÇÕES DE AR CONDICIONADO
A33: 2.2.7.1 | B33: COMPOSIÇÃO 06 | C33: UFF | D33: PROJETO BASICO DE SISTEMA DE AR CONDICIONADO,EM AUTOCAD,PARA PREDIOS ESCOLARES E ADMINISTRATIVOS | E33: m2 | F33: 420.01 | G33: 6.4299898 | H33: 22.47 | I33: =TRUNC(G33*(1+(H33/100)),2) -> 7.87 | J33: =F33*I33 -> 3305.4787
A34: 2.2.8 | D34: CABEAMENTO ESTRUTURADO - LÓGICA - TELEFONIA
A35: 2.2.8.1 | B35: COMPOSIÇÃO 07 | C35: UFF | D35: PROJETO BÁSICO DE REDE LOGICA (COMPUTADORES) EM AUTOCAD, EM PREDIOS – (CONVENCIONADO O VALOR UNITÁRIO EM 30% DO PROJETO EXECUTIVO DE MESMA NATUREZA – ITENS SE 25.70.0950 (/), SE 25.70.1000 (/) - SCO/RJ) E SE 25.70.1050 | E35: m2 | F35: 587.31 | G35: 3.9157583 | H35: 22.47 | I35: =TRUNC(G35*(1+(H35/100)),2) -> 4.79 | J35: =F35*I35 -> 2813.2149
A36: 2.2.9 | D36: CFTV / CATV
A37: 2.2.9.1 | B37: COMPOSIÇÃO 08 | C37: UFF | D37: PROJETO BASICO DE INSTALACAO DE SEGURANCA (CFTV E SONORIZACAO), APRESENTADO EM AUTOCAD, INCLUSIVE AS LEGALIZACOES PERTINENTES | E37: m2 | F37: 587.31 | G37: 2.6636359 | H37: 22.47 | I37: =TRUNC(G37*(1+(H37/100)),2) -> 3.26 | J37: =F37*I37 -> 1914.6306
A38: 2.2.10 | D38: COMUNICAÇÃO VISUAL
A39: 2.2.10.1 | B39: 01.050.0245-0 | C39: EMOP RJ | D39: PROJETO EXECUTIVO DE PROGRAMACAO VISUAL PARA PREDIOS ESCOLAR ES E/OU ADMINISTRATIVOS ATE 500M2,APRESENTADO EM AUTOCAD NOS PADROES DA CONTRATANTE - PAGOS PELA ÁREA REAL DE PLACA PROJETADA | E39: m2 | F39: 20 | G39: 8.38 | H39: 22.47 | I39: =TRUNC(G39*(1+(H39/100)),2) -> 10.26 | J39: =F39*I39 -> 205.2
A41: VALOR TOTAL ESTIMADO PELA UFF | L41: =SUM(L12:L40) -> 84978.017 | M41: VALOR TOTAL PROPOSTO PELA EMPRESA | Q41: =SUM(Q12:Q40) -> 0
A42: Local e data: | G42: (assinatura do representante legal da empresa e carimbo com CNPJ)
...

Sheet Cronograma
A1: (razão social da empresa licitante)
A2: (n.º do CNPJ)
A3: ANEXO II-C DO EDITAL DE LICITAÇÃO POR PREGÃO ELETRÔNICO N.º 97/2022
A4: PLANILHA DE CRONOGRAMA FÍSICO E FINANCEIRO
A6: =Orçamento!$A$6 -> SERVIÇO: Elaboração de projeto básico., legal e complementares para possibilitar a construção de uma edificação para o Instituto de Educação de Angra dos Reis da UFF
A9: =Orçamento!$A$7 -> Local: Avenida Vereador Benedito Avelino, s/n.º, bairro do Retiro, Angra dos Reis - RJ
A11: DESCRIÇÃO | D11: CALENDÁRIO
A12: ITEM | B12: SERVIÇO | C12: Responsável | D12: Mês 01 | J12: Mês 02 | P12: Mês 03 | V12: Mês 04 | AN12: Mês 09 | AT12: Mês 10 | AZ12: Mês 11 | BF12: Mês 12
D13: 5 Dias | E13: 10 Dias | F13: 15 Dias | G13: 20 Dias | H13: 25 Dias | I13: 30 Dias | J13: 5 Dias | K13: 10 Dias | L13: 15 Dias | M13: 20 Dias | N13: 25 Dias | O13: 30 Dias | P13: 5 Dias | Q13: 10 Dias | R13: 15 Dias | S13: 20 Dias | T13: 25 Dias | U13: 30 Dias | V13: 5 Dias | W13: 10 Dias | X13: 15 Dias | Y13: 20 Dias | Z13: 25 Dias | AA13: 30 Dias | AN13: 5 Dias | AO13: 10 Dias | AP13: 15 Dias | AQ13: 20 Dias | AR13: 25 Dias | AS13: 30 Dias | AT13: 5 Dias | AU13: 10 Dias | AV13: 15 Dias | AW13: 20 Dias | AX13: 25 Dias | AY13: 30 Dias | AZ13: 5 Dias | BA13: 10 Dias | BB13: 15 Dias | BC13: 20 Dias | BD13: 25 Dias | BE13: 30 Dias | BF13: 5 Dias | BG13: 10 Dias | BH13: 15 Dias | BI13: 20 Dias | BJ13: 25 Dias | BK13: 30 Dias
A14: 1 | B14: Serviços Preliminares | C14: 15823.7
B15: Serviço de sondagem de 03 furos, à percussão | C15: =C14 -> 15823.7 | D15: =D16*C15 -> 15823.7 | AN15: 0 | AT15: 0 | AZ15: 0 | BF15: 0
C16: 1 | D16: 1 | AN16: 0 | AT16: 0 | AZ16: 0 | BF16: 0
C17: Contratada
A18: 2 | B18: PROJETOS | C18: 69154.315
A19: 2.1 | B19: Projeto Básico | C19: =$C$18*C20 -> 55323.452 | J19: =$C$19*J20 -> 44258.762 | V19: =$C$19*V20 -> 11064.69 | AN19: =$C$18*AN20 -> 0 | AT19: =$C$18*AT20 -> 0 | AZ19: =$C$18*AZ20 -> 0 | BF19: =$C$18*BF20 -> 0
C20: 0.8 | J20: 0.8 | V20: 0.2 | AN20: 0 | AT20: 0 | AZ20: 0 | BF20: 0
B21: Desenvolvimento | C21: Contratada
B22: Análise do PB e Relatório Preliminar | C22: Fiscal
B23: Correção do PB | C23: Contratada
B24: Relatório Final | C24: Fiscal
A25: 2.2 | B25: Projeto Legal | C25: =$C$18*C26 -> 13830.863 | V25: =$C$25*V26 -> 13830.863 | AN25: =$C$18*AN26 -> 0 | AT25: =$C$18*AT26 -> 0 | AZ25: =$C$18*AZ26 -> 0 | BF25: =$C$18*BF26 -> 0
C26: 0.2 | V26: 1 | AN26: 0 | AT26: 0 | AZ26: 0 | BF26: 0
B27: Desenvolvimento | C27: Contratada
B28: Tramitação do PL | C28: Contratada
A29: Total Geral - Medição s/ administração | C29: =SUM(C14,C18) -> 84978.015 | D29: =SUM(D15,D19,D25) -> 15823.7 | J29: =SUM(J15,J19,J25,) -> 44258.762 | P29: =SUM(P15,P19,P25,) -> 0 | V29: =SUM(V15,V19,V25,) -> 24895.554 | AN29: =SUM(AN19,#REF!,AN25,#REF!) -> #REF! | AT29: =SUM(AT19,#REF!,AT25,#REF!) -> #REF! | AZ29: =SUM(AZ19,#REF!,AZ25,#REF!) -> #REF! | BF29: =SUM(BF19,#REF!,BF25,#REF!) -> #REF!
A30: % mensal s/ administração | D30: =D29/C29 -> 0.18620934 | J30: =J29/C29 -> 0.52082602 | P30: =P29/C29 -> 0 | V30: =V29/C29 -> 0.29296464 | AN30: 0 | AT30: 0 | AZ30: 0 | BF30: 0
A31: % acumulado s/ administração | D31: =D30 -> 0.18620934 | J31: =D31+J30 -> 0.70703536 | P31: =J31+P30 -> 0.70703536 | V31: =P31+V30 -> 1 | AN31: =#REF!+AN30 -> #REF! | AT31: =AN31+AT30 -> #REF! | AZ31: =AT31+AZ30 -> #REF! | BF31: =AZ31+BF30 -> #REF!
A32: Local e data: | G32: assinatura representante legal da empresa e carimbro CNPJ
A33: Identificação e assinatura do Responsável Técnico pelo Orçamento: | D33: CREA/CAU:
A34: OBSERVAÇÃO
B35: O VALOR CORRESPONDENTE A 20% DO PROJETO BÁSICO SERÁ PAGO NO RECEBIMENTO DA APROVAÇÃO DO PROJETO LEGAL
B36: O PROJETO LEGAL SOMENTE SERÁ PAGO NA ENTREGA DO DOCUMENTO DEVIDAMENTE APROVADO PELOS ÓRGÃOS COMPETENTES
B37: - A planilha deve ser assinada pelo responsável técnico pela sua confecção (Art. 14 Lei 5.194/66), identificado através de carimbo com número do CREA/CAU e pelo representante legal da empresa.
